{"text_format":"1","workbook":"xlsx","n_sheets":24,"sheets":["Open","I","II","III","IV","V","VI","VII","UnitMixDump","UnitInspectionDump","Section1 DD","Section1 DD Cont","Section 3 DD","Section 3 DD Structure","Section 3 DD ME","Section 3 DD DU","Section 3 DD Op","Section 4 DD","Section 5 DD","Parse JSON","RawData Site","RawData SFFE","RawData mechanicalAndElectrical","RawData dwellingUnits"],"not_rendered":{"charts":0,"images":36,"macros":1,"external_links":0,"defined_names":255,"comments":0,"pivot_tables":0},"unopened":[],"bounds":{"document_bytes":16777216,"sheet_cells":100000,"rows_first":2000,"rows_last":500,"rows_between":2000,"halvings":0,"cell_chars":16384,"cell_head_chars":4096},"cells_cut":0,"cells_raw":0,"read":"whole","date_system":"1900"}

{"sheet":"Open","index":0,"n_rows":18,"n_cols":6,"rows_kept":18,"cut":false,"hidden":false,"merged":[[2,1,2,20],[10,5,10,10]]}
[]
[]
[null,"In order to properly use this form, macros must be enabled.  Please press the button below.  If you are not taken to the form, please enable your macros."]
[]
[]
[]
[]
[]
[null,null,null,null,null,"Go to Form"]
[]
[null,null,null,null,null,"Please ensure you are filling out the latest version of Form 1105. Click here to find the latest version"]
[]
[]
[]
[]
[]
[null,"Form 1105"]
[null,{"$f":"\" Released \"&TEXT(rngReleaseDate,\"mmmm, yyyy\")","v":" Released December, 2024"}]

{"sheet":"I","index":1,"n_rows":239,"n_cols":143,"rows_kept":239,"cut":false,"hidden":false,"merged":[[178,35,178,140],[180,8,180,25],[165,6,165,17],[165,18,165,72],[165,73,165,85],[165,86,165,140],[166,1,166,140],[167,1,167,140],[164,1,165,5],[164,6,164,17],[164,18,164,72],[164,73,164,85],[164,86,164,140],[160,73,160,85],[160,86,160,140],[162,1,162,140],[161,6,161,17],[161,18,161,72],[163,1,163,140],[160,1,161,5],[161,86,161,140],[160,6,160,17],[160,18,160,72],[157,1,157,140],[182,8,182,25],[182,35,182,140],[184,35,184,140],[131,98,131,120],[131,123,131,134],[124,117,124,128],[124,129,124,140],[147,134,148,138],[147,118,148,132],[145,134,146,138],[140,1,140,140],[141,1,141,140],[143,112,144,116],[143,118,144,132],[143,134,144,138],[151,72,152,76],[149,48,150,62],[149,64,150,68],[171,1,171,140],[176,1,176,140],[178,1,178,32],[158,1,159,140],[161,73,161,85],[132,123,132,134],[132,98,132,120],[137,98,137,120],[137,123,137,134],[133,98,134,120],[145,118,146,132],[133,123,134,134],[135,8,135,77],[135,79,135,90],[135,98,135,120],[135,123,135,134],[136,8,136,77],[136,79,136,90],[136,98,136,120],[136,123,136,134],[143,7,144,11],[143,29,144,33],[143,13,144,27],[145,112,146,116],[137,8,137,77],[137,79,137,90],[132,79,132,90],[129,4,129,90],[131,67,131,78],[131,79,131,90],[132,4,132,40],[132,43,132,54],[132,55,132,66],[132,67,132,78],[118,105,119,116],[120,43,121,54],[124,93,124,104],[124,105,124,116],[124,43,124,54],[124,55,124,66],[124,67,124,78],[124,79,124,90],[131,4,131,40],[131,43,131,54],[131,55,131,66],[129,97,129,136],[130,43,130,54],[130,55,130,66],[130,67,130,78],[130,79,130,90],[130,123,130,134],[114,43,114,90],[120,67,121,78],[114,93,114,140],[116,26,116,40],[116,43,116,54],[116,55,116,66],[116,67,116,78],[116,79,116,90],[116,93,116,104],[116,105,116,116],[116,117,116,128],[116,129,116,140],[120,93,121,104],[120,105,121,116],[120,117,121,128],[120,129,121,140],[120,55,121,66],[120,79,121,90],[118,26,119,40],[118,43,119,54],[118,55,119,66],[118,67,119,78],[118,79,119,90],[118,93,119,104],[118,117,119,128],[118,129,119,140],[120,26,121,40],[116,4,116,9],[116,11,116,16],[54,119,54,140],[22,72,22,140],[56,87,56,103],[109,1,109,140],[28,2,28,69],[25,2,25,69],[110,1,110,140],[112,4,112,140],[33,1,33,140],[25,72,25,140],[28,72,28,140],[31,72,31,140],[31,2,31,69],[22,37,22,69],[116,18,116,24],[120,4,121,9],[120,11,121,16],[106,83,106,103],[114,4,114,40],[225,2,225,68],[225,72,225,140],[223,72,223,140],[213,1,213,140],[216,2,216,3],[216,5,216,139],[219,2,219,3],[219,5,219,139],[217,5,217,139],[221,2,221,68],[223,2,223,68],[218,2,218,3],[218,5,218,139],[217,2,217,3],[2,1,2,140],[5,1,5,140],[7,1,7,140],[16,2,16,34],[16,37,16,69],[10,2,10,34],[10,37,10,69],[10,72,10,140],[16,72,16,140],[6,115,6,140],[98,47,98,67],[60,47,60,67],[66,56,66,61],[67,58,68,67],[52,11,52,31],[54,88,54,103],[62,89,62,94],[68,38,68,39],[86,119,86,140],[76,83,76,103],[19,2,19,34],[19,37,19,69],[13,2,13,69],[22,2,22,34],[13,72,13,140],[19,72,19,104],[19,107,19,140],[76,11,76,31],[90,11,90,31],[145,2,146,6],[145,7,146,11],[145,13,146,27],[145,29,146,33],[143,107,144,111],[143,72,144,76],[143,77,144,81],[143,83,144,97],[143,99,144,103],[143,2,144,6],[145,37,146,41],[145,42,146,46],[145,48,146,62],[145,64,146,68],[145,72,146,76],[145,77,146,81],[143,37,144,41],[143,42,144,46],[143,48,144,62],[143,64,144,68],[145,83,146,97],[145,99,146,103],[145,107,146,111],[147,2,148,6],[147,7,148,11],[147,13,148,27],[147,29,148,33],[147,37,148,41],[147,42,148,46],[147,48,148,62],[147,64,148,68],[147,72,148,76],[149,2,150,6],[149,7,150,11],[149,13,150,27],[149,29,150,33],[149,37,150,41],[149,42,150,46],[151,2,152,6],[151,7,152,11],[151,13,152,27],[151,29,152,33],[151,37,152,41],[151,42,152,46],[153,48,154,62],[153,64,154,68],[147,107,148,111],[147,112,148,116],[186,35,186,140],[151,77,152,81],[151,83,152,97],[151,118,152,132],[151,134,152,138],[151,48,152,62],[149,72,150,76],[149,118,150,132],[149,134,150,138],[151,99,152,103],[180,35,180,140],[151,64,152,68],[149,77,150,81],[149,83,150,97],[149,99,150,103],[149,107,150,111],[149,112,150,116],[147,77,148,81],[147,83,148,97],[147,99,148,103],[211,35,211,140],[183,35,183,140],[210,35,210,140],[191,8,191,25],[193,8,193,25],[197,8,197,25],[198,35,198,140],[200,8,200,25],[201,35,201,140],[203,8,203,25],[205,8,205,25],[206,35,206,140],[208,8,208,25],[208,35,208,140],[210,8,210,25],[200,35,200,140],[191,35,191,140],[193,35,193,140],[197,35,197,140],[189,8,189,25],[189,35,189,140],[187,35,187,140],[203,35,203,140],[205,35,205,140],[153,72,154,76],[186,8,186,25],[195,8,195,25],[195,35,195,140],[120,18,121,24],[118,4,119,9],[118,11,119,16],[118,18,119,24],[151,107,152,111],[151,112,152,116],[153,77,154,81],[153,83,154,97],[153,99,154,103],[153,107,154,111],[153,112,154,116],[153,118,154,132],[153,134,154,138],[173,1,174,109],[153,2,154,6],[153,7,154,11],[153,13,154,27],[153,29,154,33],[153,37,154,41],[153,42,154,46]]}
[]
[]
[null,"Property Condition Assessment "]
[]
[]
[null,"Section I: Summary"]
[null,null,null,null,null,null,null,null,null,null,null,null,null,null,null,null,null,null,null,null,null,null,null,null,null,null,null,null,null,null,null,null,null,null,null,null,null,null,null,null,null,null,null,null,null,null,null,null,null,null,null,null,null,null,null,null,null,null,null,null,null,null,null,null,null,null,null,null,null,null,null,null,null,null,null,null,null,null,null,null,null,null,null,null,null,null,null,null,null,null,null,null,null,null,null,null,null,null,null,null,null,null,null,null,null,null,null,null,null,null,null,null,null,null,null,"2024-12-12"]
[null," Mortgage, Consultant and Property Information"]
[]
[null,null,"Freddie Mac loan number",null,null,null,null,null,null,null,null,null,null,null,null,null,null,null,null,null,null,null,null,null,null,null,null,null,null,null,null,null,null,null,null,null,null,"Report date",null,null,null,null,null,null,null,null,null,null,null,null,null,null,null,null,null,null,null,null,null,null,null,null,null,null,null,null,null,null,null,null,null,null,"Property name"]
[]
[]
[null,null,"Seller/Servicer name",null,null,null,null,null,null,null,null,null,null,null,null,null,null,null,null,null,null,null,null,null,null,null,null,null,null,null,null,null,null,null,null,null,null,null,null,null,null,null,null,null,null,null,null,null,null,null,null,null,null,null,null,null,null,null,null,null,null,null,null,null,null,null,null,null,null,null,null,null,"Address"]
[]
[]
[null,null,"Seller/Servicer number",null,null,null,null,null,null,null,null,null,null,null,null,null,null,null,null,null,null,null,null,null,null,null,null,null,null,null,null,null,null,null,null,null,null,"Inspection date",null,null,null,null,null,null,null,null,null,null,null,null,null,null,null,null,null,null,null,null,null,null,null,null,null,null,null,null,null,null,null,null,null,null,"City, State, Zip"]
[]
[]
[null,null,"Number of apartment buildings",null,null,null,null,null,null,null,null,null,null,null,null,null,null,null,null,null,null,null,null,null,null,null,null,null,null,null,null,null,null,null,null,null,null,"Number of other buildings",null,null,null,null,null,null,null,null,null,null,null,null,null,null,null,null,null,null,null,null,null,null,null,null,null,null,null,null,null,null,null,null,null,null,"On-site contact name",null,null,null,null,null,null,null,null,null,null,null,null,null,null,null,null,null,null,null,null,null,null,null,null,null,null,null,null,null,null,null,null,null,null,"On-site contact telephone number"]
[]
[]
[null,null,"Number of stories",null,null,null,null,null,null,null,null,null,null,null,null,null,null,null,null,null,null,null,null,null,null,null,null,null,null,null,null,null,null,null,null,null,null,"Year(s) of construction",null,null,null,null,null,null,null,null,null,null,null,null,null,null,null,null,null,null,null,null,null,null,null,null,null,null,null,null,null,null,null,null,null,null,"Weather at time of inspection (clear, rain, snow cover, etc.)"]
[]
[]
[null,null,"Property condition consultant (firm name)",null,null,null,null,null,null,null,null,null,null,null,null,null,null,null,null,null,null,null,null,null,null,null,null,null,null,null,null,null,null,null,null,null,null,null,null,null,null,null,null,null,null,null,null,null,null,null,null,null,null,null,null,null,null,null,null,null,null,null,null,null,null,null,null,null,null,null,null,null,"Inspector's name"]
[]
[]
[null,null,"Address",null,null,null,null,null,null,null,null,null,null,null,null,null,null,null,null,null,null,null,null,null,null,null,null,null,null,null,null,null,null,null,null,null,null,null,null,null,null,null,null,null,null,null,null,null,null,null,null,null,null,null,null,null,null,null,null,null,null,null,null,null,null,null,null,null,null,null,null,null,"Title"]
[]
[]
[null,null,"City, State, Zip",null,null,null,null,null,null,null,null,null,null,null,null,null,null,null,null,null,null,null,null,null,null,null,null,null,null,null,null,null,null,null,null,null,null,null,null,null,null,null,null,null,null,null,null,null,null,null,null,null,null,null,null,null,null,null,null,null,null,null,null,null,null,null,null,null,null,null,null,null,"Telephone number"]
[]
[]
[null,"Building and Material Characteristics"]
[null,"Put an \"x\" in the appropriate boxes below and furnish additional information when requested"]
[]
[null,"Building type",null,null,null,null,null,null,null,null,null,null,null,null,null,null,null,null,null,null,null,null,null,null,null,null,null,null,null,null,null,null,null,null,null,null,null,"Envelope",null,null,null,null,null,null,null,null,null,null,null,null,null,null,null,null,null,null,null,null,null,null,null,null,null,null,null,null,null,null,null,null,null,null,null,"Mechanicals (HVAC)",null,null,null,null,null,null,null,null,null,null,null,null,null,null,null,null,null,null,null,null,null,null,null,null,null,null,null,null,null,null,null,null,null,null,null,"Amenities (site)"]
[]
[null,null,null,null,null,"Garden",null,null,null,null,null,null,null,null,null,null,null,null,null,null,null,null,null,null,null,null,null,null,null,null,null,null,null,null,null,null,null,null,null,null,null,"Stucco",null,null,null,null,null,null,null,null,null,null,null,null,null,null,null,null,null,null,null,null,null,null,null,null,null,null,null,null,null,null,null,null,null,null,null,"Central boiler steam heat",null,null,null,null,null,null,null,null,null,null,null,null,null,null,null,null,null,null,null,null,null,null,null,null,null,null,null,null,null,null,null,null,null,null,null,"Club building/room"]
[]
[null,null,null,null,null,"Walk-up",null,null,null,null,null,null,null,null,null,null,null,null,null,null,null,null,null,null,null,null,null,null,null,null,null,null,null,null,null,null,null,null,null,null,null,"Wood siding",null,null,null,null,null,null,null,null,null,null,null,null,null,null,null,null,null,null,null,null,null,null,null,null,null,null,null,null,null,null,null,null,null,null,null,"Hydronic system",null,null,null,null,null,null,null,null,null,null,null,null,null,null,null,null,null,null,null,null,null,null,null,null,null,null,null,null,null,null,null,null,null,null,null,"Swimming pool"]
[]
[null,null,null,null,null,"Elevator",null,null,null,null,null,null,null,null,null,null,null,null,null,null,null,null,null,null,null,null,null,null,null,null,null,null,null,null,null,null,null,null,null,null,null,null,null,null,"T1-11",null,null,null,null,null,null,null,null,null,null,null,null,null,null,null,null,null,null,null,null,null,null,null,null,null,null,null,null,null,null,null,null,"Gas FAU, central",null,null,null,null,null,null,null,null,null,null,null,null,null,null,null,null,null,null,null,null,null,null,null,null,null,null,null,null,null,null,null,null,null,null,null,"Spa and/or sauna"]
[]
[null,null,null,null,null,null,null,null,"Lowrise",null,null,null,null,null,null,null,null,null,null,null,null,null,null,null,null,null,null,null,null,null,null,null,null,null,null,null,null,null,null,null,null,null,null,null,"Masonite",null,null,null,null,null,null,null,null,null,null,null,null,null,null,null,null,null,null,null,null,null,null,null,null,null,null,null,null,null,null,null,null,"Electric FAU, central",null,null,null,null,null,null,null,null,null,null,null,null,null,null,null,null,null,null,null,null,null,null,null,null,null,null,null,null,null,null,null,null,null,null,null,"Fitness center"]
[]
[null,null,null,null,null,null,null,null,"Midrise",null,null,null,null,null,null,null,null,null,null,null,null,null,null,null,null,null,null,null,null,null,null,null,null,null,null,null,null,null,null,null,null,null,null,null,"Planking",null,null,null,null,null,null,null,null,null,null,null,null,null,null,null,null,null,null,null,null,null,null,null,null,null,null,null,null,null,null,null,null,"Electric baseboard heat",null,null,null,null,null,null,null,null,null,null,null,null,null,null,null,null,null,null,null,null,null,null,null,null,null,null,null,null,null,null,null,null,null,null,null,"Barbecue"]
[]
[null,null,null,null,null,null,null,null,"High rise",null,null,null,null,null,null,null,null,null,null,null,null,null,null,null,null,null,null,null,null,null,null,null,null,null,null,null,null,null,null,null,null,"Vinyl siding",null,null,null,null,null,null,null,null,null,null,null,null,null,null,null,null,null,null,null,null,null,null,null,null,null,null,null,null,null,null,null,null,null,null,null,"Wall-mounted AC unit",null,null,null,null,null,null,null,null,null,null,null,null,null,null,null,null,null,null,null,null,null,null,null,null,null,null,null,null,null,null,null,null,null,null,null,"Tennis courts"]
[]
[null,null,null,null,null,"Townhouse",null,null,null,null,null,null,null,null,null,null,null,null,null,null,null,null,null,null,null,null,null,null,null,null,null,null,null,null,null,null,null,null,null,null,null,"Brick veneer",null,null,null,null,null,null,null,null,null,null,null,null,null,null,null,null,null,null,null,null,null,null,null,null,null,null,null,null,null,null,null,null,null,null,null,"AC condenser units",null,null,null,null,null,null,null,null,null,null,null,null,null,null,null,null,null,null,null,null,null,null,null,null,null,null,null,null,null,null,null,null,null,null,null,"Playground equipment"]
[]
[null,null,null,null,null,"Other",null,null,null,null,null,null,null,null,null,null,null,null,null,null,null,null,null,null,null,null,null,null,null,null,null,null,null,null,null,null,null,null,null,null,null,"Metal doors",null,null,null,null,null,null,null,null,null,null,null,null,null,null,null,null,null,null,null,null,null,null,null,null,null,null,null,null,null,null,null,null,null,null,null,"Evaporative cooler unit",null,null,null,null,null,null,null,null,null,null,null,null,null,null,null,null,null,null,null,null,null,null,null,null,null,null,null,null,null,null,null,null,null,null,null,"Storage"]
[]
[null,null,null,null,null,null,null,null,null,null,null,null,null,null,null,null,null,null,null,null,null,null,null,null,null,null,null,null,null,null,null,null,null,null,null,null,null,null,null,null,null,"Wood doors",null,null,null,null,null,null,null,null,null,null,null,null,null,null,null,null,null,null,null,null,null,null,null,null,null,null,null,null,null,null,null,null,null,null,null,"Other (heat)",null,null,null,null,null,null,null,null,null,null,null,null,null,null,null,null,null,null,null,null,null,null,null,null,null,null,null,null,null,null,null,null,null,null,null,"Other"]
[]
[null,"Construction type",null,null,null,null,null,null,null,null,null,null,null,null,null,null,null,null,null,null,null,null,null,null,null,null,null,null,null,null,null,null,null,null,null,null,null,null,null,null,null,"Wood sash windows",null,null,null,null,null,null,null,null,null,null,null,null,null,null,null,null,null,null,null,null,null,null,null,null,null,null,null,null,null,null,null,null,null,null,null,"Other (AC)"]
[]
[null,null,null,null,null,"Wood frame",null,null,null,null,null,null,null,null,null,null,null,null,null,null,null,null,null,null,null,null,null,null,null,null,null,null,null,null,null,null,null,null,null,null,null,"Aluminum windows",null,null,null,null,null,null,null,null,null,null,null,null,null,null,null,null,null,null,null,null,null,null,null,null,null,null,null,null,null,null,null,null,null,null,null,null,null,null,null,null,null,null,null,null,null,null,null,null,null,null,null,null,null,null,null,null,null,null,null,null,null,null,null,null,null,null,null,"Mold"]
[]
[null,null,null,null,null,"Metal frame",null,null,null,null,null,null,null,null,null,null,null,null,null,null,null,null,null,null,null,null,null,null,null,null,null,null,null,null,null,null,null,null,null,null,null,"Other",null,null,null,null,null,null,null,null,null,null,null,null,null,null,null,null,null,null,null,null,null,null,null,null,null,null,null,null,null,null,null,"Electrical",null,null,null,null,null,null,null,null,null,null,null,null,null,null,null,null,null,null,null,null,null,null,null,null,null,null,null,null,null,null,null,null,null,null,null,null,null,null,null,"Mold evidence observed"]
[]
[null,null,null,null,null,"Structural steel",null,null,null,null,null,null,null,null,null,null,null,null,null,null,null,null,null,null,null,null,null,null,null,null,null,null,null,null,null,null,null,null,null,null,null,null,null,null,null,null,null,null,null,null,null,null,null,null,null,null,null,null,null,null,null,null,null,null,null,null,null,null,null,null,null,null,null,null,null,null,null,"Unit capacity ",null,null,null,null,null,null,null,null,null,null,null,null,null,null,null,null,null,null,"amps",null,null,null,null,null,null,null,null,null,null,null,null,null,null,null,null,"Large areas of mold that are beyond"]
[]
[null,null,null,null,null,"Masonry",null,null,null,null,null,null,null,null,null,null,null,null,null,null,null,null,null,null,null,null,null,null,null,null,null,null,null,null,null,null,null,"Elevators",null,null,null,null,null,null,null,null,null,null,null,null,null,null,null,null,null,null,null,null,null,null,null,null,null,null,null,null,null,null,null,null,null,null,null,null,null,null,null,"Aluminum branch wiring",null,null,null,null,null,null,null,null,null,null,null,null,null,null,null,null,null,null,null,null,null,null,null,null,null,null,null,null,null,null,null,null,null,null,null,"typical housekeeping observed"]
[]
[null,null,null,null,null,"Structural concrete",null,null,null,null,null,null,null,null,null,null,null,null,null,null,null,null,null,null,null,null,null,null,null,null,null,null,null,null,null,null,null,null,null,null,null,"Number of cabs",null,null,null,null,null,null,null,null,null,null,null,null,null,null,null,null,null,null,null,null,null,null,null,null,null,null,null,null,null,null,null,null,null,null,null,"Edison base/T-type fuses",null,null,null,null,null,null,null,null,null,null,null,null,null,null,null,null,null,null,null,null,null,null,null,null,null,null,null,null,null,null,null,null,null,null,null,"Areas impacted by water"]
[]
[null,null,null,null,null,"Flat roof",null,null,null,null,null,null,null,null,null,null,null,null,null,null,null,null,null,null,null,null,null,null,null,null,null,null,null,null,null,null,null,null,null,null,null,"Last inspection date",null,null,null,null,null,null,null,null,null,null,null,null,null,null,null,null,null,null,null,null,null,null,null,null,null,null,null,null,null,null,null,null,null,null,null,"Tamper proof fuses",null,null,null,null,null,null,null,null,null,null,null,null,null,null,null,null,null,null,null,null,null,null,null,null,null,null,null,null,null,null,null,null,null,null,null,"intrusions observed"]
[]
[null,null,null,null,null,"Pitched roof",null,null,null,null,null,null,null,null,null,null,null,null,null,null,null,null,null,null,null,null,null,null,null,null,null,null,null,null,null,null,null,null,null,null,null,null,null,null,null,null,null,null,null,null,null,null,null,null,null,null,null,null,null,null,null,null,null,null,null,null,null,null,null,null,null,null,null,null,null,null,null,"Breakers",null,null,null,null,null,null,null,null,null,null,null,null,null,null,null,null,null,null,null,null,null,null,null,null,null,null,null,null,null,null,null,null,null,null,null,"Defective building conditions"]
[]
[null,null,null,null,null,"Flat roof with mansards",null,null,null,null,null,null,null,null,null,null,null,null,null,null,null,null,null,null,null,null,null,null,null,null,null,null,null,null,null,null,null,"Mechanicals (plumbing)",null,null,null,null,null,null,null,null,null,null,null,null,null,null,null,null,null,null,null,null,null,null,null,null,null,null,null,null,null,null,null,null,null,null,null,null,null,null,null,"Stab-Lok breakers",null,null,null,null,null,null,null,null,null,null,null,null,null,null,null,null,null,null,null,null,null,null,null,null,null,null,null,null,null,null,null,null,null,null,null,"likely to lead to future water"]
[]
[null,null,null,null,null,"Fire-treated plywood",null,null,null,null,null,null,null,null,null,null,null,null,null,null,null,null,null,null,null,null,null,null,null,null,null,null,null,null,null,null,null,null,null,null,null,"Galvanized water piping",null,null,null,null,null,null,null,null,null,null,null,null,null,null,null,null,null,null,null,null,null,null,null,null,null,null,null,null,null,null,null,null,null,null,null,"GFI outlets",null,null,null,null,null,null,null,null,null,null,null,null,null,null,null,null,null,null,null,null,null,null,null,null,null,null,null,null,null,null,null,null,null,null,null,"intrusions observed"]
[]
[null,null,null,null,null,"Other",null,null,null,null,null,null,null,null,null,null,null,null,null,null,null,null,null,null,null,null,null,null,null,null,null,null,null,null,null,null,null,null,null,null,null,"Copper water piping",null,null,null,null,null,null,null,null,null,null,null,null,null,null,null,null,null,null,null,null,null,null,null,null,null,null,null,null,null,null,null,null,null,null,null,"Other",null,null,null,null,null,null,null,null,null,null,null,null,null,null,null,null,null,null,null,null,null,null,null,null,null,null,null,null,null,null,null,null,null,null,null,"Past/current water intrusions"]
[]
[null,null,null,null,null,null,null,null,null,null,null,null,null,null,null,null,null,null,null,null,null,null,null,null,null,null,null,null,null,null,null,null,null,null,null,null,null,null,null,null,null,"Polybutylene water piping",null,null,null,null,null,null,null,null,null,null,null,null,null,null,null,null,null,null,null,null,null,null,null,null,null,null,null,null,null,null,null,null,null,null,null,null,null,null,null,null,null,null,null,null,null,null,null,null,null,null,null,null,null,null,null,null,null,null,null,null,null,null,null,null,null,null,null,null,null,null,null,"or leaks reported"]
[]
[null,"Foundation type",null,null,null,null,null,null,null,null,null,null,null,null,null,null,null,null,null,null,null,null,null,null,null,null,null,null,null,null,null,null,null,null,null,null,null,null,null,null,null,"Cast iron waste",null,null,null,null,null,null,null,null,null,null,null,null,null,null,null,null,null,null,null,null,null,null,null,null,null,null,null,null,null,null,null,"Interior",null,null,null,null,null,null,null,null,null,null,null,null,null,null,null,null,null,null,null,null,null,null,null,null,null,null,null,null,null,null,null,null,null,null,null,null,null,null,null,"Tenant complaints reported"]
[]
[null,null,null,null,null,"Slab on grade",null,null,null,null,null,null,null,null,null,null,null,null,null,null,null,null,null,null,null,null,null,null,null,null,null,null,null,null,null,null,null,null,null,null,null,"ABS/PVC waste",null,null,null,null,null,null,null,null,null,null,null,null,null,null,null,null,null,null,null,null,null,null,null,null,null,null,null,null,null,null,null,null,null,null,null,"Drywall walls"]
[]
[null,null,null,null,null,"Concrete pier (drilled)",null,null,null,null,null,null,null,null,null,null,null,null,null,null,null,null,null,null,null,null,null,null,null,null,null,null,null,null,null,null,null,null,null,null,null,"Central water heater",null,null,null,null,null,null,null,null,null,null,null,null,null,null,null,null,null,null,null,null,null,null,null,null,null,null,null,null,null,null,null,null,null,null,null,"Plaster walls",null,null,null,null,null,null,null,null,null,null,null,null,null,null,null,null,null,null,null,null,null,null,null,null,null,null,null,null,null,null,null,null,"Problem materials/equipment"]
[]
[null,null,null,null,null,"Spread, raised foundation",null,null,null,null,null,null,null,null,null,null,null,null,null,null,null,null,null,null,null,null,null,null,null,null,null,null,null,null,null,null,null,null,null,null,null,null,null,null,"Gas",null,null,null,null,null,null,null,null,null,null,null,null,null,null,null,null,null,null,null,null,null,null,null,null,null,null,null,null,null,null,null,null,"Wood paneling",null,null,null,null,null,null,null,null,null,null,null,null,null,null,null,null,null,null,null,null,null,null,null,null,null,null,null,null,null,null,null,null,null,null,null,"Other"]
[]
[null,null,null,null,null,"Underground parking structure",null,null,null,null,null,null,null,null,null,null,null,null,null,null,null,null,null,null,null,null,null,null,null,null,null,null,null,null,null,null,null,null,null,null,null,null,null,null,"Electric",null,null,null,null,null,null,null,null,null,null,null,null,null,null,null,null,null,null,null,null,null,null,null,null,null,null,null,null,null,null,null,null,"Carpeting"]
[]
[null,null,null,null,null,"Other",null,null,null,null,null,null,null,null,null,null,null,null,null,null,null,null,null,null,null,null,null,null,null,null,null,null,null,null,null,null,null,null,null,null,null,"Individual water heaters",null,null,null,null,null,null,null,null,null,null,null,null,null,null,null,null,null,null,null,null,null,null,null,null,null,null,null,null,null,null,null,null,null,null,null,"Wood flooring",null,null,null,null,null,null,null,null,null,null,null,null,null,null,null,null,null,null,null,null,null,null,null,null,null,null,null,null,null,null,null,null,"Life/Safety devices"]
[]
[null,null,null,null,null,null,null,null,null,null,null,null,null,null,null,null,null,null,null,null,null,null,null,null,null,null,null,null,null,null,null,null,null,null,null,null,null,null,null,null,null,null,null,null,"Gas",null,null,null,null,null,null,null,null,null,null,null,null,null,null,null,null,null,null,null,null,null,null,null,null,null,null,null,null,null,null,null,null,"Ceramic floor tile",null,null,null,null,null,null,null,null,null,null,null,null,null,null,null,null,null,null,null,null,null,null,null,null,null,null,null,null,null,null,null,null,null,null,null,"Smoke detectors"]
[]
[null,"Parking",null,null,null,null,null,null,null,null,null,null,null,null,null,null,null,null,null,null,null,null,null,null,null,null,null,null,null,null,null,null,null,null,null,null,null,null,null,null,null,null,null,null,"Electric",null,null,null,null,null,null,null,null,null,null,null,null,null,null,null,null,null,null,null,null,null,null,null,null,null,null,null,null,null,null,null,null,"Vinyl flooring",null,null,null,null,null,null,null,null,null,null,null,null,null,null,null,null,null,null,null,null,null,null,null,null,null,null,null,null,null,null,null,null,null,null,null,"Carbon monoxide detectors"]
[]
[null,null,null,null,null,"Surface (uncovered)",null,null,null,null,null,null,null,null,null,null,null,null,null,null,null,null,null,null,null,null,null,null,null,null,null,null,null,null,null,null,null,null,null,null,null,"Circulating hot water",null,null,null,null,null,null,null,null,null,null,null,null,null,null,null,null,null,null,null,null,null,null,null,null,null,null,null,null,null,null,null,null,null,null,null,"Wood doors",null,null,null,null,null,null,null,null,null,null,null,null,null,null,null,null,null,null,null,null,null,null,null,null,null,null,null,null,null,null,null,null,null,null,null,"Fire extinguishers"]
[]
[null,null,null,null,null,"Structured",null,null,null,null,null,null,null,null,null,null,null,null,null,null,null,null,null,null,null,null,null,null,null,null,null,null,null,null,null,null,null,null,null,null,null,"Other",null,null,null,null,null,null,null,null,null,null,null,null,null,null,null,null,null,null,null,null,null,null,null,null,null,null,null,null,null,null,null,null,null,null,null,"Metal doors",null,null,null,null,null,null,null,null,null,null,null,null,null,null,null,null,null,null,null,null,null,null,null,null,null,null,null,null,null,null,null,null,null,null,null,"Emergency lighting"]
[]
[null,null,null,null,null,null,null,null,"Carports",null,null,null,null,null,null,null,null,null,null,null,null,null,null,null,null,null,null,null,null,null,null,null,null,null,null,null,null,null,null,null,null,null,null,null,null,null,null,null,null,null,null,null,null,null,null,null,null,null,null,null,null,null,null,null,null,null,null,null,null,null,null,null,null,null,null,null,null,"Spray-tex ceiling",null,null,null,null,null,null,null,null,null,null,null,null,null,null,null,null,null,null,null,null,null,null,null,null,null,null,null,null,null,null,null,null,null,null,null,"Emergency escapes"]
[]
[null,null,null,null,null,null,null,null,"Garages",null,null,null,null,null,null,null,null,null,null,null,null,null,null,null,null,null,null,null,null,null,null,null,null,null,null,null,null,null,null,null,null,null,null,null,null,null,null,null,null,null,null,null,null,null,null,null,null,null,null,null,null,null,null,null,null,null,null,null,null,null,null,null,null,null,null,null,null,"Smooth ceiling",null,null,null,null,null,null,null,null,null,null,null,null,null,null,null,null,null,null,null,null,null,null,null,null,null,null,null,null,null,null,null,null,null,null,null,"Pull stations/cords"]
[]
[null,null,null,null,null,null,null,null,"Underground",null,null,null,null,null,null,null,null,null,null,null,null,null,null,null,null,null,null,null,null,null,null,null,null,null,null,null,null,null,null,null,null,null,null,null,null,null,null,null,null,null,null,null,null,null,null,null,null,null,null,null,null,null,null,null,null,null,null,null,null,null,null,null,null,null,null,null,null,"Orange peel/textured",null,null,null,null,null,null,null,null,null,null,null,null,null,null,null,null,null,null,null,null,null,null,null,null,null,null,null,null,null,null,null,null,null,null,null,"Fire alarm"]
[]
[null,null,null,null,null,null,null,null,null,null,null,null,null,null,null,null,null,null,null,null,null,null,null,null,null,null,null,null,null,null,null,null,null,null,null,null,null,null,null,null,null,null,null,null,null,null,null,null,null,null,null,null,null,null,null,null,null,null,null,null,null,null,null,null,null,null,null,null,null,null,null,null,null,null,null,null,null,"Other",null,null,null,null,null,null,null,null,null,null,null,null,null,null,null,null,null,null,null,null,null,null,null,null,null,null,null,null,null,null,null,null,null,null,null,"Sprinklers"]
[]
[]
[null,"Unit Mix"]
[null,"Complete Table 1 for residential units only.  Commercial units, both spaces that are purpose-built and dwelling units converted to commercial use will be accounted for in Table 2.  If \"Other\" dwelling units have been indicated, Table 3 will need to be completed as indicated."]
[]
[null,null,null,null,"Table 1 - below, indicate the unit type and occupancy at the time of the visit and the number of units inspected of each type",null,null,null,null,null,null,null,null,null,null,null,null,null,null,null,null,null,null,null,null,null,null,null,null,null,null,null,null,null,null,null,null,null,null,null,null,null,null,null,null,null,null,null,null,null,null,null,null,null,null,null,null,null,null,null,null,null,null,null,null,null,null,null,null,null,null,null,null,null,null,null,null,null,null,null,null,null,null,null,null,null,null,null,null,null,null,null,null,null,null,null,null,null,null,null,null,null,null,null,null,null,null,null,null,null,null,null,null,null,null,null,null,null,null,null,null,null,null,null,null,null,null,null,null,null,null,null,null,null,null,null,null,null,null,null,null,null,{"$f":"IF(CB125>0,1,0)","v":0}]
[]
[null,null,null,null,"Unit Type",null,null,null,null,null,null,null,null,null,null,null,null,null,null,null,null,null,null,null,null,null,null,null,null,null,null,null,null,null,null,null,null,null,null,null,null,null,null,"Number of units",null,null,null,null,null,null,null,null,null,null,null,null,null,null,null,null,null,null,null,null,null,null,null,null,null,null,null,null,null,null,null,null,null,null,null,null,null,null,null,null,null,null,null,null,null,null,null,null,null,"Number of units inspected",null,null,null,null,null,null,null,null,null,null,null,null,null,null,null,null,null,null,null,null,null,null,null,null,null,null,null,null,null,null,null,null,null,null,null,null,null,null,null,null,null,null,null,null,null,null,null,null,{"$f":"SUM(EM119:EM122)+100","v":102}]
[null,null,null,null,null,null,null,null,null,null,null,null,null,null,null,null,null,null,null,null,null,null,null,null,null,null,null,null,null,null,null,null,null,null,null,null,null,null,null,null,null,null,null,0,null,null,null,null,null,null,null,null,null,null,null,0,null,null,null,null,null,null,null,null,null,null,null,0,null,null,null,null,null,null,null,null,null,null,null,0]
[null,null,null,null,"BR",null,null,null,null,null,null,"BA",null,null,null,null,null,null,"SF",null,null,null,null,null,null,null,"Style",null,null,null,null,null,null,null,null,null,null,null,null,null,null,null,null,"Occupied",null,null,null,null,null,null,null,null,null,null,null,"Vacant",null,null,null,null,null,null,null,null,null,null,null,"Down",null,null,null,null,null,null,null,null,null,null,null,{"$f":"IF(SUM(CB119:CM120)>0,\"Other *\",\"Other\")","v":"Other"},null,null,null,null,null,null,null,null,null,null,null,null,null,"Occupied",null,null,null,null,null,null,null,null,null,null,null,"Vacant",null,null,null,null,null,null,null,null,null,null,null,"Down",null,null,null,null,null,null,null,null,null,null,null,"Other"]
[null,null,null,null,null,null,null,null,null,null,null,null,null,null,null,null,null,null,null,null,null,null,null,null,null,null,null,null,null,null,null,null,null,null,null,null,null,null,null,null,null,null,null,0,null,null,null,null,null,null,null,null,null,null,null,0,null,null,null,null,null,null,null,null,null,null,null,0,null,null,null,null,null,null,null,null,null,null,null,0,null,null,null,null,null,null,null,null,null,null,null,null,null,null,null,null,null,null,null,null,null,null,null,null,null,null,null,null,null,null,null,null,null,null,null,null,null,null,null,null,null,null,null,null,null,null,null,null,null,null,null,null,null,null,null,null,null,null,null,null,null,null," "]
[null,null,null,null,null,null,null,null,null,null,null,null,null,null,null,null,null,null,null,null,null,null,null,null,null,null,null,null,null,null,null,null,null,null,null,null,null,null,null,null,null,null,null,null,null,null,null,null,null,null,null,null,null,null,null,null,null,null,null,null,null,null,null,null,null,null,null,null,null,null,null,null,null,null,null,null,null,null,null,null,null,null,null,null,null,null,null,null,null,null,null,null,null,null,null,null,null,null,null,null,null,null,null,null,null,null,null,null,null,null,null,null,null,null,null,null,null,null,null,null,null,null,null,null,null,null,null,null,null,null,null,null,null,null,null,null,null,null,null,null,null,null,1]
[]
[null,null,null,null,null,null,null,null,null,null,null,null,null,null,null,null,null,null,null,null,null,null,null,null,null,null,null,null,null,null,null,null,null,null,null,null,null,null,null,null,null,null,null,null,null,null,null,null,null,null,null,null,null,null,null,null,null,null,null,null,null,null,null,null,null,null,null,null,null,null,null,null,null,null,null,null,null,null,null,null,null,null,null,null,null,null,null,null,null,null,null,null,null,null,null,null,null,null,null,null,null,null,null,null,null,null,null,null,null,null,null,null,null,null,null,null,null,null,null,null,null,null,null,null,null,null,null,null,null,null,null,null,null,null,null,null,null,null,null,null,null,null,1]
[]
[]
[]
[null,null,null,null,null,null,null,null,null,null,null,null,null,null,null,null,null,null,null,null,null,null,null,null,null,null,null,null,null,null,null,null,null,null,"Totals:",null,null,null,null,null,null,null,null,{"$f":"SUM(AR119:BC122)","v":0},null,null,null,null,null,null,null,null,null,null,null,{"$f":"SUM(BD119:BO122)","v":0},null,null,null,null,null,null,null,null,null,null,null,{"$f":"SUM(BP119:CA122)","v":0},null,null,null,null,null,null,null,null,null,null,null,{"$f":"SUM(CB119:CM122)","v":0},null,null,null,null,null,null,null,null,null,null,null,null,null,{"$f":"SUM(CP119:DA122)","v":0},null,null,null,null,null,null,null,null,null,null,null,{"$f":"SUM(DB119:DM122)","v":0},null,null,null,null,null,null,null,null,null,null,null,{"$f":"SUM(DN119:DY122)","v":0},null,null,null,null,null,null,null,null,null,null,null,{"$f":"SUM(DZ119:EK122)","v":0}]
[]
[]
[null,null,null,null,"Table 2",null,null,null,null,null,null,null,null,null,null,null,null,null,null,null,null,null,null,null,null,null,null,null,null,null,null,null,null,null,null,null,null,null,null,null,null,null,null,0,null,null,null,null,null,null,null,null,null,null,null,0,null,null,null,null,null,null,null,null,null,null,null,0,null,null,null,null,null,null,null,null,null,null,null,0,null,null,null,null,null,null,null,null,null,null,null,null,null,null,null,null,null,"Table 3"]
[]
[null,null,null,null,"Detail of Commercial Units",null,null,null,null,null,null,null,null,null,null,null,null,null,null,null,null,null,null,null,null,null,null,null,null,null,null,null,null,null,null,null,null,null,null,null,null,null,null,null,null,null,null,null,null,null,null,null,null,null,null,null,null,null,null,null,null,null,null,null,null,null,null,null,null,null,null,null,null,null,null,null,null,null,null,null,null,null,null,null,null,null,null,null,null,null,null,null,null,null,null,null,null,"* Detail of \"Other\" noted above"]
[{"$f":"ROW()","v":131},null,null,null,null,null,null,null,null,null,null,null,null,null,null,null,null,null,null,null,null,null,null,null,null,null,null,null,null,null,null,null,null,null,null,null,null,null,null,null,null,null,null,"Occupied",null,null,null,null,null,null,null,null,null,null,null,"Vacant",null,null,null,null,null,null,null,null,null,null,null,"Down",null,null,null,null,null,null,null,null,null,null,null,"Total",null,null,null,null,null,null,null,null,null,null,null,null,null,null,null,null,null,null,null,null,null,null,null,null,null,null,null,null,null,null,null,null,null,null,null,null,null,null,null,null,null,null,null,"Total units"]
[null,null,null,null,"Number of purpose-built spaces",null,null,null,null,null,null,null,null,null,null,null,null,null,null,null,null,null,null,null,null,null,null,null,null,null,null,null,null,null,null,null,null,null,null,null,null,null,null,null,null,null,null,null,null,null,null,null,null,null,null,null,null,null,null,null,null,null,null,null,null,null,null,null,null,null,null,null,null,null,null,null,null,null,null,{"$f":"SUM(AR132:CA132)","v":0},null,null,null,null,null,null,null,null,null,null,null,null,null,null,null,null,null,null,"Management office"]
[null,null,null,null,"Number of converted residential units",null,null,null,null,null,null,null,null,null,null,null,null,null,null,null,null,null,null,null,null,null,null,null,null,null,null,null,null,null,null,null,null,null,null,null,null,null,null,null,null,null,null,null,null,null,null,null,null,null,null,null,null,null,null,null,null,null,null,null,null,null,null,null,null,null,null,null,null,null,null,null,null,null,null,{"$f":"SUM(AR133:CA133)","v":0},null,null,null,null,null,null,null,null,null,null,null,null,null,null,null,null,null,null,"Model"]
[null,null,null,null,null,null,null,null,null,null,null,null,null,null,null,null,null,null,null,null,null,null,null,null,null,null,null,null,null,null,null,null,null,null,null,null,null,null,null,null,null,null,null,null,null,null,null,null,null,null,null,null,null,null,null,null,null,null,null,null,null,null,null,null,null,null,null,null,null,null,null,null,null,null,null,null,null,null,null,null,null,null,null,null,null,null,null,null,null,null,null,null,null,null,null,null,null,null,"Maintenance shop"]
[]
[null,null,null,null,null,null,null,null,"Total residential units",null,null,null,null,null,null,null,null,null,null,null,null,null,null,null,null,null,null,null,null,null,null,null,null,null,null,null,null,null,null,null,null,null,null,null,null,null,null,null,null,null,null,null,null,null,null,null,null,null,null,null,null,null,null,null,null,null,null,null,null,null,null,null,null,null,null,null,null,null,null,{"$f":"SUM(AR119:CM122)","v":0},null,null,null,null,null,null,null,null,null,null,null,null,null,null,null,null,null,null,"Storage"]
[null,null,null,null,null,null,null,null,"Total commercial units/spaces",null,null,null,null,null,null,null,null,null,null,null,null,null,null,null,null,null,null,null,null,null,null,null,null,null,null,null,null,null,null,null,null,null,null,null,null,null,null,null,null,null,null,null,null,null,null,null,null,null,null,null,null,null,null,null,null,null,null,null,null,null,null,null,null,null,null,null,null,null,null,{"$f":"SUM(CB132:CM133)","v":0},null,null,null,null,null,null,null,null,null,null,null,null,null,null,null,null,null,null,"Hospitality suite"]
[null,null,null,null,null,null,null,null,"Total ALL units",null,null,null,null,null,null,null,null,null,null,null,null,null,null,null,null,null,null,null,null,null,null,null,null,null,null,null,null,null,null,null,null,null,null,null,null,null,null,null,null,null,null,null,null,null,null,null,null,null,null,null,null,null,null,null,null,null,null,null,null,null,null,null,null,null,null,null,null,null,null,{"$f":"CB136+CB137","v":0},null,null,null,null,null,null,null,null,null,null,null,null,null,null,null,null,null,null,"Other"]
[]
[]
[null,"Unit Inspection Information",null,null,null,null,null,null,null,null,null,null,null,null,null,null,null,null,null,null,null,null,null,null,null,null,null,null,null,null,null,null,null,null,null,null,null,null,null,null,null,null,null,null,null,null,null,null,null,null,null,null,null,null,null,null,null,null,null,null,null,null,null,null,null,null,null,null,null,null,null,null,null,null,null,null,null,null,null,null,null,null,null,null,null,null,null,null,null,null,null,null,null,null,null,null,null,null,null,null,null,null,null,null,null,null,null,null,null,null,null,null,null,null,null,null,null,null,null,null,null,null,null,null,null,null,null,null,null,null,null,null,null,null,null,null,null,null,null,null,null,null,{"$f":"SUM(EM144:EM155)+100","v":106}]
[null,"Indicate the type of unit, using the following abbreviations: 0BR, 1BR, 2BR, 3BR, 4BR, 5BR.  Give the unit number and status, using the following status codes: O = occupied, V = vacant, D = down and R = Other.  (For example, an occupied one-bedroom unit numbered 101 should be listed as 1BR/101/O.)"]
[]
[null,null,1,null,null,null,null,null,null,null,null,null,null,null,null,null,null,null,null,null,null,null,null,null,null,null,null,null,null,null,null,null,null,null,null,null,null,{"$f":"C144+1","v":2},null,null,null,null,null,null,null,null,null,null,null,null,null,null,null,null,null,null,null,null,null,null,null,null,null,null,null,null,null,null,null,null,null,null,{"$f":"AL144+1","v":3},null,null,null,null,null,null,null,null,null,null,null,null,null,null,null,null,null,null,null,null,null,null,null,null,null,null,null,null,null,null,null,null,null,null,{"$f":"BU144+1","v":4},null,null,null,null,null,null,null,null,null,null,null,null,null,null,null,null,null,null,null,null,null,null,null,null,null,null,null,null,null,null,null,null,null,null,1]
[]
[null,null,{"$f":"DD144+1","v":5},null,null,null,null,null,null,null,null,null,null,null,null,null,null,null,null,null,null,null,null,null,null,null,null,null,null,null,null,null,null,null,null,null,null,{"$f":"C146+1","v":6},null,null,null,null,null,null,null,null,null,null,null,null,null,null,null,null,null,null,null,null,null,null,null,null,null,null,null,null,null,null,null,null,null,null,{"$f":"AL146+1","v":7},null,null,null,null,null,null,null,null,null,null,null,null,null,null,null,null,null,null,null,null,null,null,null,null,null,null,null,null,null,null,null,null,null,null,{"$f":"BU146+1","v":8},null,null,null,null,null,null,null,null,null,null,null,null,null,null,null,null,null,null,null,null,null,null,null,null,null,null,null,null,null,null,null,null,null,null,1]
[]
[null,null,{"$f":"DD146+1","v":9},null,null,null,null,null,null,null,null,null,null,null,null,null,null,null,null,null,null,null,null,null,null,null,null,null,null,null,null,null,null,null,null,null,null,{"$f":"C148+1","v":10},null,null,null,null,null,null,null,null,null,null,null,null,null,null,null,null,null,null,null,null,null,null,null,null,null,null,null,null,null,null,null,null,null,null,{"$f":"AL148+1","v":11},null,null,null,null,null,null,null,null,null,null,null,null,null,null,null,null,null,null,null,null,null,null,null,null,null,null,null,null,null,null,null,null,null,null,{"$f":"BU148+1","v":12},null,null,null,null,null,null,null,null,null,null,null,null,null,null,null,null,null,null,null,null,null,null,null,null,null,null,null,null,null,null,null,null,null,null,1]
[]
[null,null,{"$f":"DD148+1","v":13},null,null,null,null,null,null,null,null,null,null,null,null,null,null,null,null,null,null,null,null,null,null,null,null,null,null,null,null,null,null,null,null,null,null,{"$f":"C150+1","v":14},null,null,null,null,null,null,null,null,null,null,null,null,null,null,null,null,null,null,null,null,null,null,null,null,null,null,null,null,null,null,null,null,null,null,{"$f":"AL150+1","v":15},null,null,null,null,null,null,null,null,null,null,null,null,null,null,null,null,null,null,null,null,null,null,null,null,null,null,null,null,null,null,null,null,null,null,{"$f":"BU150+1","v":16},null,null,null,null,null,null,null,null,null,null,null,null,null,null,null,null,null,null,null,null,null,null,null,null,null,null,null,null,null,null,null,null,null,null,1]
[]
[null,null,{"$f":"DD150+1","v":17},null,null,null,null,null,null,null,null,null,null,null,null,null,null,null,null,null,null,null,null,null,null,null,null,null,null,null,null,null,null,null,null,null,null,{"$f":"C152+1","v":18},null,null,null,null,null,null,null,null,null,null,null,null,null,null,null,null,null,null,null,null,null,null,null,null,null,null,null,null,null,null,null,null,null,null,{"$f":"AL152+1","v":19},null,null,null,null,null,null,null,null,null,null,null,null,null,null,null,null,null,null,null,null,null,null,null,null,null,null,null,null,null,null,null,null,null,null,{"$f":"BU152+1","v":20},null,null,null,null,null,null,null,null,null,null,null,null,null,null,null,null,null,null,null,null,null,null,null,null,null,null,null,null,null,null,null,null,null,null,1]
[]
[null,null,null,null,null,null,null,null,null,null,null,null,null,null,null,null,null,null,null,null,null,null,null,null,null,null,null,null,null,null,null,null,null,null,null,null,null,{"$f":"C154+1","v":1},null,null,null,null,null,null,null,null,null,null,null,null,null,null,null,null,null,null,null,null,null,null,null,null,null,null,null,null,null,null,null,null,null,null,{"$f":"AL154+1","v":2},null,null,null,null,null,null,null,null,null,null,null,null,null,null,null,null,null,null,null,null,null,null,null,null,null,null,null,null,null,null,null,null,null,null,{"$f":"BU154+1","v":3},null,null,null,null,null,null,null,null,null,null,null,null,null,null,null,null,null,null,null,null,null,null,null,null,null,null,null,null,null,null,null,null,null,null,1]
[]
[]
[]
[null,"List of Parties Present"]
[null,"Provide a listing of parties involved in the site visit (including the consultants)."]
[]
[null,{"$f":"IF(OFFSET(B161,-4,0)=0,1,OFFSET(B161,-4,0)+1)","v":1},null,null,null,null,"Name",null,null,null,null,null,null,null,null,null,null,null,null,null,null,null,null,null,null,null,null,null,null,null,null,null,null,null,null,null,null,null,null,null,null,null,null,null,null,null,null,null,null,null,null,null,null,null,null,null,null,null,null,null,null,null,null,null,null,null,null,null,null,null,null,null,null,"Title",null,null,null,null,null,null,null,null,null,null,null,null,null,null,null,null,null,null,null,null,null,null,null,null,null,null,null,null,null,null,null,null,null,null,null,null,null,null,null,null,null,null,null,null,null,null,null,null,null,null,null,null,null,null,null,null,null,null,null,null,null,null,null,null,null,null,null,1]
[null,null,null,null,null,null,"Company",null,null,null,null,null,null,null,null,null,null,null,null,null,null,null,null,null,null,null,null,null,null,null,null,null,null,null,null,null,null,null,null,null,null,null,null,null,null,null,null,null,null,null,null,null,null,null,null,null,null,null,null,null,null,null,null,null,null,null,null,null,null,null,null,null,null,"Affiliation"]
[null,"Comments"]
[]
[null,{"$f":"IF(OFFSET(B165,-4,0)=0,1,OFFSET(B165,-4,0)+1)","v":2},null,null,null,null,"Name",null,null,null,null,null,null,null,null,null,null,null,null,null,null,null,null,null,null,null,null,null,null,null,null,null,null,null,null,null,null,null,null,null,null,null,null,null,null,null,null,null,null,null,null,null,null,null,null,null,null,null,null,null,null,null,null,null,null,null,null,null,null,null,null,null,null,"Title",null,null,null,null,null,null,null,null,null,null,null,null,null,null,null,null,null,null,null,null,null,null,null,null,null,null,null,null,null,null,null,null,null,null,null,null,null,null,null,null,null,null,null,null,null,null,null,null,null,null,null,null,null,null,null,null,null,null,null,null,null,null,null,null,null,null,null,1]
[null,null,null,null,null,null,"Company",null,null,null,null,null,null,null,null,null,null,null,null,null,null,null,null,null,null,null,null,null,null,null,null,null,null,null,null,null,null,null,null,null,null,null,null,null,null,null,null,null,null,null,null,null,null,null,null,null,null,null,null,null,null,null,null,null,null,null,null,null,null,null,null,null,null,"Affiliation"]
[null,"Comments"]
[]
[null,null,null,null,null,null,null,null,null,null,null,null,null,null,null,null,null,null,null,null,null,null,null,null,null,null,null,null,null,null,null,null,null,null,null,null,null,null,null,null,null,null,null,null,null,null,null,null,null,null,null,null,null,null,null,null,null,null,null,null,null,null,null,null,null,null,null,null,null,null,null,null,null,null,null,null,null,null,null,null,null,null,null,null,null,null,null,null,null,null,null,null,null,null,null,null,null,null,null,null,null,null,null,null,null,null,null,null,null,null,null,null,null,null,null,null,null,null,null,null,null,null,null,null,null,null,null,null,null,null,null,null,null,null,null,null,null,null,null,null,null,{"$f":"SUM(EL161:EL168)","v":2}]
[]
[]
[null,"Seismic Checklist"]
[]
[null,"Is the property located within an Elevated Seismic Hazard Region as defined in Section 64.2 of the Freddie Mac Multifamily Seller/Servicer Guide?",null,null,null,null,null,null,null,null,null,null,null,null,null,null,null,null,null,null,null,null,null,null,null,null,null,null,null,null,null,null,null,null,null,null,null,null,null,null,null,null,null,null,null,null,null,null,null,null,null,null,null,null,null,null,null,null,null,null,null,null,null,null,null,null,null,null,null,null,null,null,null,null,null,null,null,null,null,null,null,null,null,null,null,null,null,null,null,null,null,null,null,null,null,null,null,null,null,null,null,null,null,null,null,null,null,null,null,null,null,null,null,null,null,null,null,null,null,null,null,null,null,null,"Yes",null,null,null,null,null,null,null,null,null,null,"No",null,null,null,null,null,null,false]
[]
[]
[null,"Indicate if any of the following high-risk factors from Section 64.2(c) of the Guide were identified at the Property:"]
[]
[null,"Present/Not Present",null,null,null,null,null,null,null,null,null,null,null,null,null,null,null,null,null,null,null,null,null,null,null,null,null,null,null,null,null,null,null,null,null,"Risk factor"]
[]
[null,null,null,null,null,null,null,null,null,null,null,null,null,null,null,null,null,null,null,null,null,null,null,null,null,null,null,null,null,null,null,null,null,null,null,"Buildings with a weak or soft story (as defined by the International Building Code) at any floor level"]
[]
[null,null,null,null,null,null,null,null,null,null,null,null,null,null,null,null,null,null,null,null,null,null,null,null,null,null,null,null,null,null,null,null,null,null,null,"Buildings constructed with direct contact to adjacent buildings, including buildings that are part of the same"]
[null,null,null,null,null,null,null,null,null,null,null,null,null,null,null,null,null,null,null,null,null,null,null,null,null,null,null,null,null,null,null,null,null,null,null,"Property, as well as those in contact with buildings on a separate property (this does not include buildings"]
[null,null,null,null,null,null,null,null,null,null,null,null,null,null,null,null,null,null,null,null,null,null,null,null,null,null,null,null,null,null,null,null,null,null,null,"that are a continuous structure with fire separation walls)"]
[]
[null,null,null,null,null,null,null,null,null,null,null,null,null,null,null,null,null,null,null,null,null,null,null,null,null,null,null,null,null,null,null,null,null,null,null,"Buildings that have sustained previous structural earthquake damage with documented evidence of damage "]
[null,null,null,null,null,null,null,null,null,null,null,null,null,null,null,null,null,null,null,null,null,null,null,null,null,null,null,null,null,null,null,null,null,null,null,"and repairs"]
[]
[null,null,null,null,null,null,null,null,null,null,null,null,null,null,null,null,null,null,null,null,null,null,null,null,null,null,null,null,null,null,null,null,null,null,null,"High-rise buildings (8-stories or greater above grade)"]
[]
[null,null,null,null,null,null,null,null,null,null,null,null,null,null,null,null,null,null,null,null,null,null,null,null,null,null,null,null,null,null,null,null,null,null,null,"Reinforced concrete buildings constructed prior to 2000, including cast-in-place and precast structures"]
[]
[null,null,null,null,null,null,null,null,null,null,null,null,null,null,null,null,null,null,null,null,null,null,null,null,null,null,null,null,null,null,null,null,null,null,null,"Reinforced concrete masonry bearing wall buildings constructed prior to 2000"]
[]
[null,null,null,null,null,null,null,null,null,null,null,null,null,null,null,null,null,null,null,null,null,null,null,null,null,null,null,null,null,null,null,null,null,null,null,"Retrofitted, unreinforced masonry (URM) buildings"]
[]
[null,null,null,null,null,null,null,null,null,null,null,null,null,null,null,null,null,null,null,null,null,null,null,null,null,null,null,null,null,null,null,null,null,null,null,"Non-retrofitted URM buildings (SRA report shall provide discussion of typical retrofit schemes and budget"]
[null,null,null,null,null,null,null,null,null,null,null,null,null,null,null,null,null,null,null,null,null,null,null,null,null,null,null,null,null,null,null,null,null,null,null,"estimates for consideration)"]
[]
[null,null,null,null,null,null,null,null,null,null,null,null,null,null,null,null,null,null,null,null,null,null,null,null,null,null,null,null,null,null,null,null,null,null,null,"Wood-framed buildings that exhibit conspicuous physical deterioration (e.g., water damage, dry rot,"]
[null,null,null,null,null,null,null,null,null,null,null,null,null,null,null,null,null,null,null,null,null,null,null,null,null,null,null,null,null,null,null,null,null,null,null,"corrosion, physical distress) to the primary lateral load resisting elements"]
[]
[null,null,null,null,null,null,null,null,null,null,null,null,null,null,null,null,null,null,null,null,null,null,null,null,null,null,null,null,null,null,null,null,null,null,null,"Wood-framed buildings constructed prior to 1960"]
[]
[null,null,null,null,null,null,null,null,null,null,null,null,null,null,null,null,null,null,null,null,null,null,null,null,null,null,null,null,null,null,null,null,null,null,null,"Wood-framed buildings constructed prior to 2000, with ground-level parking (tuck-under parking) or"]
[null,null,null,null,null,null,null,null,null,null,null,null,null,null,null,null,null,null,null,null,null,null,null,null,null,null,null,null,null,null,null,null,null,null,null,"commercial retail units under dwelling units, regardless of retrofit"]
[]
[null,null,null,null,null,null,null,null,null,null,null,null,null,null,null,null,null,null,null,null,null,null,null,null,null,null,null,null,null,null,null,null,null,null,null,"Buildings with wood-frame construction over a concrete podium structure constructed prior to 2000"]
[]
[null,null,null,null,null,null,null,null,null,null,null,null,null,null,null,null,null,null,null,null,null,null,null,null,null,null,null,null,null,null,null,null,null,null,null,"A building located within 50 feet of a mapped earthquake fault trace or located within an Alquist-Priolo"]
[null,null,null,null,null,null,null,null,null,null,null,null,null,null,null,null,null,null,null,null,null,null,null,null,null,null,null,null,null,null,null,null,null,null,null,"Earthquake Fault Zone (APEFZ) in California"]
[]
[null,"Consultant's Certification"]
[]
[null,"On behalf of the property condition consultant, the undersigned hereby certifies that:"]
[null,null," •",null,null,"The attached property condition report was prepared by the consultant in accordance with all applicable requirements in the Freddie Mac Multifamily Seller/Servicer Guide"]
[null,null," •",null,null,"The report was prepared in a manner consistent with generally accepted industry practices and standards"]
[null,null," •",null,null,"All information is true and correct, to the best of the undersigned's knowledge, and reflects the consultant's best professional opinion and judgment"]
[null,null," •",null,null,"No changes or additions have been made to the standard provisions of this form other than those expressly approved in writing by Freddie Mac"]
[null,null,"Consulting firm name"]
[null,null,{"$f":"IF(C26=\"\",\"\",C26)","v":""}]
[null,null,"Signature of authorized representative",null,null,null,null,null,null,null,null,null,null,null,null,null,null,null,null,null,null,null,null,null,null,null,null,null,null,null,null,null,null,null,null,null,null,null,null,null,null,null,null,null,null,null,null,null,null,null,null,null,null,null,null,null,null,null,null,null,null,null,null,null,null,null,null,null,null,null,null,null,"Date"]
[]
[null,null,"Name (typed or printed)",null,null,null,null,null,null,null,null,null,null,null,null,null,null,null,null,null,null,null,null,null,null,null,null,null,null,null,null,null,null,null,null,null,null,null,null,null,null,null,null,null,null,null,null,null,null,null,null,null,null,null,null,null,null,null,null,null,null,null,null,null,null,null,null,null,null,null,null,null,"Title"]
[]
[]
[]
[]
[]
[null,null,null,null,null,null,null,null,null,null,null,null,null,null,null,null,null,null,null,null,null,null,null,null,null,null,null,null,null,null,null,null,null,null,null,null,null,null,null,null,null,null,null,null,null,null,null,null,null,null,null,null,null,null,null,null,null,null,null,null,null,null,null,null,null,null,null,null,null,null,null,null,null,null,null,null,null,null,null,null,null,null,null,null,null,null,null,null,null,null,null,null,null,null,null,null,null,null,null,null,null,null,null,null,null,null,null,null,null,null,null,null,null,null,null,null,null,null,null,null,null,null,null,null,null,null,null,null,null,null,null,null,null,null,null,null,null,null,null,null,null,null,"SIGNATURE ANCHOR"]
[]
[]
[]
[]
[]
[null,null,null,null,null,null,null,null,null,null,null,null,null,null,null,null,null,null,null,null,null,null,null,null,null,null,null,null,null,null,null,null,null,null,null,null,null,null,null,null,null,null,null,null,null,null,null,null,null,null,null,null,null,null,null,null,null,null,null,null,null,null,null,null,null,null,null,null,null,null,null,null,null,null,null,null,null,null,null,null,null,null,null,null,null,null,null,null,null,null,null,null,null,null,null,null,null,null,null,null,null,null,null,null,null,null,null,null,null,null,null,null,null,null,null,null,null,null,null,null,null,null,null,null,null,null,null,null,null,null,null,null,null,null,null,null,null,null,null,null,null,null,{"$f":"C26","v":0}]
[]
[null,{"$f":"\"Freddie Mac Multifamily Form 1105 (\"&TEXT(rngReleaseDate,\"mm/yyyy\")&\")\"","v":"Freddie Mac Multifamily Form 1105 (12/2024)"}]

{"sheet":"II","index":2,"n_rows":235,"n_cols":146,"rows_kept":235,"cut":false,"hidden":false,"merged":[[161,1,162,140],[25,109,25,140],[26,91,26,108],[31,1,31,18],[30,1,30,36],[30,37,30,54],[30,55,30,72],[26,1,26,36],[26,37,26,54],[60,109,61,140],[27,37,27,54],[27,55,27,72],[31,37,31,54],[31,55,31,72],[32,109,32,140],[31,19,31,36],[33,37,33,54],[33,55,33,72],[33,73,33,90],[33,91,33,108],[30,73,30,90],[33,109,33,140],[32,1,32,36],[32,37,32,54],[62,1,62,36],[62,37,62,54],[28,91,28,108],[28,73,28,90],[30,109,30,140],[31,109,31,140],[25,1,25,36],[25,37,25,54],[28,37,28,54],[28,55,28,72],[32,91,32,108],[31,73,31,90],[31,91,31,108],[28,1,28,36],[26,109,26,140],[27,73,27,90],[27,91,27,108],[27,109,27,140],[26,55,26,72],[26,73,26,90],[33,1,33,36],[40,91,40,108],[55,1,55,36],[27,1,27,36],[2,1,2,140],[5,1,5,140],[7,1,7,140],[10,2,10,34],[10,37,10,69],[10,72,10,140],[13,2,13,69],[13,72,13,140],[16,2,16,34],[16,72,16,140],[16,37,16,69],[21,109,22,140],[18,1,18,140],[19,1,19,140],[58,1,58,140],[23,73,23,90],[23,91,23,108],[23,109,23,140],[24,91,24,108],[24,109,24,140],[28,109,28,140],[29,1,29,36],[29,37,29,54],[29,55,29,72],[29,73,29,90],[29,91,29,108],[29,109,29,140],[25,55,25,72],[25,73,25,90],[25,91,25,108],[24,1,24,36],[24,37,24,54],[24,55,24,72],[24,73,24,90],[23,1,23,36],[23,37,23,54],[23,55,23,72],[32,73,32,90],[30,91,30,108],[34,109,34,140],[35,1,35,36],[35,37,35,54],[35,55,35,72],[35,73,35,90],[35,91,35,108],[35,109,35,140],[34,1,34,36],[34,37,34,54],[34,55,34,72],[34,73,34,90],[34,91,34,108],[32,55,32,72],[37,1,37,36],[37,37,37,54],[37,55,37,72],[37,73,37,90],[37,91,37,108],[37,109,37,140],[36,1,36,36],[38,109,38,140],[39,1,39,36],[39,37,39,54],[39,55,39,72],[39,73,39,90],[39,91,39,108],[36,37,36,54],[36,55,36,72],[39,109,39,140],[38,1,38,36],[38,37,38,54],[38,55,38,72],[38,73,38,90],[38,91,38,108],[36,91,36,108],[36,73,36,90],[36,109,36,140],[40,109,40,140],[41,1,41,36],[41,37,41,54],[41,55,41,72],[41,73,41,90],[41,91,41,108],[40,1,40,36],[40,37,40,54],[40,55,40,72],[40,73,40,90],[41,109,41,140],[42,91,42,108],[42,109,42,140],[43,1,43,36],[43,37,43,54],[43,55,43,72],[43,73,43,90],[43,91,43,108],[43,109,43,140],[42,1,42,36],[42,37,42,54],[42,55,42,72],[42,73,42,90],[44,91,44,108],[44,109,44,140],[45,1,45,36],[45,37,45,54],[45,55,45,72],[45,73,45,90],[45,91,45,108],[45,109,45,140],[44,1,44,36],[44,37,44,54],[44,55,44,72],[44,73,44,90],[46,91,46,108],[46,109,46,140],[47,1,47,36],[47,37,47,54],[47,55,47,72],[47,73,47,90],[47,91,47,108],[47,109,47,140],[46,1,46,36],[46,37,46,54],[46,55,46,72],[46,73,46,90],[48,91,48,108],[48,109,48,140],[49,1,49,36],[49,37,49,54],[49,55,49,72],[49,73,49,90],[49,91,49,108],[49,109,49,140],[48,1,48,36],[48,37,48,54],[48,55,48,72],[48,73,48,90],[50,91,50,108],[50,109,50,140],[51,1,51,36],[51,37,51,54],[51,55,51,72],[51,73,51,90],[51,91,51,108],[51,109,51,140],[50,1,50,36],[50,37,50,54],[50,55,50,72],[50,73,50,90],[55,73,55,90],[55,91,55,108],[55,109,55,140],[57,1,57,140],[52,91,52,108],[52,109,52,140],[53,1,53,36],[53,37,53,54],[53,55,53,72],[53,73,53,90],[53,91,53,108],[53,109,53,140],[52,1,52,36],[52,37,52,54],[52,55,52,72],[52,73,52,90],[54,91,54,108],[55,37,55,54],[55,55,55,72],[54,1,54,36],[54,37,54,54],[54,55,54,72],[54,73,54,90],[54,109,54,140],[62,55,62,72],[62,73,62,90],[62,91,62,108],[62,109,62,140],[64,91,64,108],[64,109,64,140],[63,91,63,108],[63,109,63,140],[64,55,64,72],[64,73,64,90],[65,91,65,108],[65,109,65,140],[66,1,66,36],[66,37,66,54],[66,55,66,72],[66,73,66,90],[66,91,66,108],[66,109,66,140],[63,1,63,36],[63,37,63,54],[63,55,63,72],[63,73,63,90],[65,1,65,36],[65,37,65,54],[65,55,65,72],[65,73,65,90],[64,1,64,36],[64,37,64,54],[67,91,67,108],[67,109,67,140],[69,1,69,36],[69,37,69,54],[69,55,69,72],[69,73,69,90],[69,91,69,108],[69,109,69,140],[67,1,67,36],[67,37,67,54],[67,55,67,72],[67,73,67,90],[70,91,70,108],[70,109,70,140],[71,1,71,36],[71,37,71,54],[71,55,71,72],[71,73,71,90],[71,91,71,108],[71,109,71,140],[70,1,70,36],[70,37,70,54],[70,55,70,72],[70,73,70,90],[72,91,72,108],[72,109,72,140],[73,1,73,36],[73,37,73,54],[73,55,73,72],[73,73,73,90],[73,91,73,108],[73,109,73,140],[72,1,72,36],[72,37,72,54],[72,55,72,72],[72,73,72,90],[74,91,74,108],[74,109,74,140],[75,1,75,36],[75,37,75,54],[75,55,75,72],[75,73,75,90],[75,91,75,108],[75,109,75,140],[74,1,74,36],[74,37,74,54],[74,55,74,72],[74,73,74,90],[76,91,76,108],[76,109,76,140],[77,1,77,36],[77,37,77,54],[77,55,77,72],[77,73,77,90],[77,91,77,108],[77,109,77,140],[76,1,76,36],[76,37,76,54],[76,55,76,72],[76,73,76,90],[78,91,78,108],[78,109,78,140],[79,1,79,36],[79,37,79,54],[79,55,79,72],[79,73,79,90],[79,91,79,108],[79,109,79,140],[78,1,78,36],[78,37,78,54],[78,55,78,72],[78,73,78,90],[80,91,80,108],[80,109,80,140],[81,1,81,36],[81,37,81,54],[81,55,81,72],[81,73,81,90],[81,91,81,108],[81,109,81,140],[80,1,80,36],[80,37,80,54],[80,55,80,72],[80,73,80,90],[82,91,82,108],[82,109,82,140],[83,1,83,36],[83,37,83,54],[83,55,83,72],[83,73,83,90],[83,91,83,108],[83,109,83,140],[82,1,82,36],[82,37,82,54],[82,55,82,72],[82,73,82,90],[84,91,84,108],[84,109,84,140],[85,1,85,36],[85,37,85,54],[85,55,85,72],[85,73,85,90],[85,91,85,108],[85,109,85,140],[84,1,84,36],[84,37,84,54],[84,55,84,72],[84,73,84,90],[86,91,86,108],[86,109,86,140],[87,1,87,36],[87,37,87,54],[87,55,87,72],[87,73,87,90],[87,91,87,108],[87,109,87,140],[86,1,86,36],[86,37,86,54],[86,55,86,72],[86,73,86,90],[93,109,94,140],[95,1,95,36],[95,37,95,54],[95,55,95,72],[95,73,95,90],[95,91,95,108],[95,109,95,140],[88,91,88,108],[88,109,88,140],[90,1,90,140],[91,1,91,140],[88,1,88,36],[88,37,88,54],[88,55,88,72],[88,73,88,90],[96,91,96,108],[96,109,96,140],[98,109,98,140],[97,1,97,36],[97,37,97,54],[97,55,97,72],[97,73,97,90],[97,91,97,108],[97,109,97,140],[98,1,98,36],[96,1,96,36],[96,37,96,54],[96,55,96,72],[96,73,96,90],[98,37,98,54],[98,55,98,72],[98,73,98,90],[98,91,98,108],[105,109,105,140],[104,37,104,54],[104,55,104,72],[104,73,104,90],[104,91,104,108],[104,109,104,140],[105,91,105,108],[99,109,99,140],[102,91,102,108],[102,109,102,140],[101,91,101,108],[101,109,101,140],[99,55,99,72],[99,73,99,90],[100,1,100,36],[100,37,100,54],[100,55,100,72],[100,73,100,90],[100,91,100,108],[100,109,100,140],[99,1,99,36],[99,37,99,54],[103,1,103,20],[102,1,102,36],[102,37,102,54],[101,1,101,36],[101,37,101,54],[103,91,103,108],[103,109,103,140],[103,55,103,72],[101,55,101,72],[101,73,101,90],[99,91,99,108],[104,1,104,20],[104,21,104,36],[102,55,102,72],[102,73,102,90],[105,1,105,36],[105,37,105,54],[105,55,105,72],[105,73,105,90],[103,37,103,54],[103,21,103,36],[103,73,103,90],[106,91,106,108],[106,109,106,140],[107,1,107,36],[107,37,107,54],[107,55,107,72],[107,73,107,90],[107,91,107,108],[107,109,107,140],[106,1,106,36],[106,37,106,54],[106,55,106,72],[106,73,106,90],[108,91,108,108],[108,109,108,140],[109,1,109,36],[109,37,109,54],[109,55,109,72],[109,73,109,90],[109,91,109,108],[109,109,109,140],[108,1,108,36],[108,37,108,54],[108,55,108,72],[108,73,108,90],[110,91,110,108],[110,109,110,140],[111,1,111,36],[111,37,111,54],[111,55,111,72],[111,73,111,90],[111,91,111,108],[111,109,111,140],[110,1,110,36],[110,37,110,54],[110,55,110,72],[110,73,110,90],[112,91,112,108],[112,109,112,140],[113,1,113,36],[113,37,113,54],[113,55,113,72],[113,73,113,90],[113,91,113,108],[113,109,113,140],[112,1,112,36],[112,37,112,54],[112,55,112,72],[112,73,112,90],[114,91,114,108],[114,109,114,140],[115,1,115,36],[115,37,115,54],[115,55,115,72],[115,73,115,90],[115,91,115,108],[115,109,115,140],[114,1,114,36],[114,37,114,54],[114,55,114,72],[114,73,114,90],[116,91,116,108],[116,109,116,140],[118,1,118,36],[118,37,118,54],[118,55,118,72],[118,73,118,90],[118,91,118,108],[118,109,118,140],[116,1,116,36],[116,37,116,54],[116,55,116,72],[116,73,116,90],[117,1,117,36],[117,37,117,54],[117,55,117,72],[117,73,117,90],[117,91,117,108],[117,109,117,140],[120,1,120,140],[121,1,121,140],[123,109,124,140],[125,1,125,36],[125,37,125,54],[125,55,125,72],[125,73,125,90],[125,91,125,108],[125,109,125,140],[126,91,126,108],[126,109,126,140],[127,1,127,36],[127,37,127,54],[127,55,127,72],[127,73,127,90],[127,91,127,108],[127,109,127,140],[126,1,126,36],[126,37,126,54],[126,55,126,72],[126,73,126,90],[128,91,128,108],[128,109,128,140],[129,1,129,36],[129,37,129,54],[129,55,129,72],[129,73,129,90],[129,91,129,108],[129,109,129,140],[128,1,128,36],[128,37,128,54],[128,55,128,72],[128,73,128,90],[130,91,130,108],[130,109,130,140],[131,1,131,36],[131,37,131,54],[131,55,131,72],[131,73,131,90],[131,91,131,108],[131,109,131,140],[130,1,130,36],[130,37,130,54],[130,55,130,72],[130,73,130,90],[132,91,132,108],[132,109,132,140],[133,1,133,36],[133,37,133,54],[133,55,133,72],[133,73,133,90],[133,91,133,108],[133,109,133,140],[132,1,132,36],[132,37,132,54],[132,55,132,72],[132,73,132,90],[134,91,134,108],[134,109,134,140],[135,1,135,36],[135,37,135,54],[135,55,135,72],[135,73,135,90],[135,91,135,108],[135,109,135,140],[134,1,134,36],[134,37,134,54],[134,55,134,72],[134,73,134,90],[136,91,136,108],[136,109,136,140],[137,1,137,36],[137,37,137,54],[137,55,137,72],[137,73,137,90],[137,91,137,108],[137,109,137,140],[136,1,136,36],[136,37,136,54],[136,55,136,72],[136,73,136,90],[138,91,138,108],[138,109,138,140],[139,1,139,36],[139,37,139,54],[139,55,139,72],[139,73,139,90],[139,91,139,108],[139,109,139,140],[138,1,138,36],[138,37,138,54],[138,55,138,72],[138,73,138,90],[140,91,140,108],[140,109,140,140],[141,1,141,36],[141,37,141,54],[141,55,141,72],[141,73,141,90],[141,91,141,108],[141,109,141,140],[140,1,140,36],[140,37,140,54],[140,55,140,72],[140,73,140,90],[142,91,142,108],[142,109,142,140],[143,1,143,36],[143,37,143,54],[143,55,143,72],[143,73,143,90],[143,91,143,108],[143,109,143,140],[142,1,142,36],[142,37,142,54],[142,55,142,72],[142,73,142,90],[144,91,144,108],[144,109,144,140],[145,1,145,36],[145,37,145,54],[145,55,145,72],[145,73,145,90],[145,91,145,108],[145,109,145,140],[144,1,144,36],[144,37,144,54],[144,55,144,72],[144,73,144,90],[146,91,146,108],[146,109,146,140],[147,1,147,36],[147,37,147,54],[147,55,147,72],[147,73,147,90],[147,91,147,108],[147,109,147,140],[146,1,146,36],[146,37,146,54],[146,55,146,72],[146,73,146,90],[148,91,148,108],[148,109,148,140],[149,1,149,36],[149,37,149,54],[149,55,149,72],[149,73,149,90],[149,91,149,108],[149,109,149,140],[148,1,148,36],[148,37,148,54],[148,55,148,72],[148,73,148,90],[150,91,150,108],[150,109,150,140],[151,1,151,36],[151,37,151,54],[151,55,151,72],[151,73,151,90],[151,91,151,108],[151,109,151,140],[150,1,150,36],[150,37,150,54],[150,55,150,72],[150,73,150,90],[154,55,154,72],[154,73,154,90],[152,91,152,108],[152,109,152,140],[153,1,153,36],[153,37,153,54],[153,55,153,72],[153,73,153,90],[153,91,153,108],[153,109,153,140],[152,1,152,36],[152,37,152,54],[152,55,152,72],[152,73,152,90],[158,1,158,140],[164,124,164,140],[156,91,156,108],[156,109,156,140],[68,1,68,36],[68,37,68,54],[68,55,68,72],[68,73,68,90],[68,91,68,108],[68,109,68,140],[156,1,156,36],[156,37,156,54],[156,55,156,72],[156,73,156,90],[154,91,154,108],[154,109,154,140],[155,1,155,36],[155,37,155,54],[155,55,155,72],[155,73,155,90],[155,91,155,108],[155,109,155,140],[154,1,154,36],[154,37,154,54]]}
[null,null,null,null,null,null,null,null,null,null,null,null,null,null,null,null,null,null,null,null,null,null,null,null,null,null,null,null,null,null,null,null,null,null,null,null,null,null,null,null,null,null,null,null,null,null,null,null,null,null,null,null,null,null,null,null,null,null,null,null,null,null,null,null,null,null,null,null,null,null,null,null,null,null,null,null,null,null,null,null,null,null,null,null,null,null,null,null,null,null,null,null,null,null,null,null,null,null,null,null,null,null,null,null,null,null,null,null,null,null,null,null,null,null,null,null,null,null,null,null,null,null,null,null,null,null,null,null,null,null,null,null,null,null,null,null,null,null,null,null,null,null,null,"xWrap","xText"]
[]
[null,{"$f":"I!B3","v":"Property Condition Assessment "}]
[]
[]
[null,"Section II: Property Inspection and Evaluation"]
[]
[]
[]
[null,null,"Freddie Mac loan number",null,null,null,null,null,null,null,null,null,null,null,null,null,null,null,null,null,null,null,null,null,null,null,null,null,null,null,null,null,null,null,null,null,null,"Report date",null,null,null,null,null,null,null,null,null,null,null,null,null,null,null,null,null,null,null,null,null,null,null,null,null,null,null,null,null,null,null,null,null,null,"Property name"]
[null,null,{"$f":"IF(I!C11=\"\",\"ENTER IN SECTION I\",I!C11)","v":"ENTER IN SECTION I"},null,null,null,null,null,null,null,null,null,null,null,null,null,null,null,null,null,null,null,null,null,null,null,null,null,null,null,null,null,null,null,null,null,null,{"$f":"IF(I!AL11=\"\",\"ENTER IN SECTION I\",I!AL11)","v":"ENTER IN SECTION I"},null,null,null,null,null,null,null,null,null,null,null,null,null,null,null,null,null,null,null,null,null,null,null,null,null,null,null,null,null,null,null,null,null,null,{"$f":"IF(I!BU11=\"\",\"ENTER IN SECTION I\",I!BU11)","v":"ENTER IN SECTION I"}]
[]
[null,null,"Seller/Servicer name",null,null,null,null,null,null,null,null,null,null,null,null,null,null,null,null,null,null,null,null,null,null,null,null,null,null,null,null,null,null,null,null,null,null,null,null,null,null,null,null,null,null,null,null,null,null,null,null,null,null,null,null,null,null,null,null,null,null,null,null,null,null,null,null,null,null,null,null,null,"Address"]
[null,null,{"$f":"IF(I!C14=\"\",\"ENTER IN SECTION I\",I!C14)","v":"ENTER IN SECTION I"},null,null,null,null,null,null,null,null,null,null,null,null,null,null,null,null,null,null,null,null,null,null,null,null,null,null,null,null,null,null,null,null,null,null,null,null,null,null,null,null,null,null,null,null,null,null,null,null,null,null,null,null,null,null,null,null,null,null,null,null,null,null,null,null,null,null,null,null,null,{"$f":"IF(I!BU14=\"\",\"ENTER IN SECTION I\",I!BU14)","v":"ENTER IN SECTION I"}]
[]
[null,null,"Seller/Servicer number",null,null,null,null,null,null,null,null,null,null,null,null,null,null,null,null,null,null,null,null,null,null,null,null,null,null,null,null,null,null,null,null,null,null,"Inspection date",null,null,null,null,null,null,null,null,null,null,null,null,null,null,null,null,null,null,null,null,null,null,null,null,null,null,null,null,null,null,null,null,null,null,"City, State, Zip"]
[null,null,{"$f":"IF(I!C17=\"\",\"ENTER IN SECTION I\",I!C17)","v":"ENTER IN SECTION I"},null,null,null,null,null,null,null,null,null,null,null,null,null,null,null,null,null,null,null,null,null,null,null,null,null,null,null,null,null,null,null,null,null,null,{"$f":"IF(I!AL17=\"\",\"ENTER IN SECTION I\",I!AL17)","v":"ENTER IN SECTION I"},null,null,null,null,null,null,null,null,null,null,null,null,null,null,null,null,null,null,null,null,null,null,null,null,null,null,null,null,null,null,null,null,null,null,{"$f":"IF(I!BU17=\"\",\"ENTER IN SECTION I\",I!BU17)","v":"ENTER IN SECTION I"}]
[]
[null,"Site"]
[null,"Complete the estimated useful life, condition, remaining useful life, action and comments for the applicable items listed below.  Indicate the condition using the following abbreviations: E = excellent, G = good, A = average, F = fair and P = poor.  Indicate the action required using the following abbreviations: CR = Critical Repairs; PR = Priority Repairs; PR90 = 90 day Priority Repairs and RR = reserve for future repair/replacement.  See Section VII for a complete description of each repair category.  The consultant should attach additional information as needed.  The consultant must also note any Mold observations on any component in the comment sections."]
[]
[null,null,null,null,null,null,null,null,null,null,null,null,null,null,null,null,null,null,null,null,null,null,null,null,null,null,null,null,null,null,null,null,null,null,null,null,null,"Estimated",null,null,null,null,null,null,null,null,null,null,null,null,null,null,null,null,null,"Condition",null,null,null,null,null,null,null,null,null,null,null,null,null,null,null,null,null,"Remaining",null,null,null,null,null,null,null,null,null,null,null,null,null,null,null,null,null,"Action (CR, PR,",null,null,null,null,null,null,null,null,null,null,null,null,null,null,null,null,null,"Comments/Mold Observations"]
[null,"Item",null,null,null,null,null,null,null,null,null,null,null,null,null,null,null,null,null,null,null,null,null,null,null,null,null,null,null,null,null,null,null,null,null,null,null,"Useful Life",null,null,null,null,null,null,null,null,null,null,null,null,null,null,null,null,null,"(E, G, A, F, P)",null,null,null,null,null,null,null,null,null,null,null,null,null,null,null,null,null,"Useful Life",null,null,null,null,null,null,null,null,null,null,null,null,null,null,null,null,null,"PR-90, RR)"]
[null,"Carports",null,null,null,null,null,null,null,null,null,null,null,null,null,null,null,null,null,null,null,null,null,null,null,null,null,null,null,null,null,null,null,null,null,null,null,null,null,null,null,null,null,null,null,null,null,null,null,null,null,null,null,null,null,null,null,null,null,null,null,null,null,null,null,null,null,null,null,null,null,null,null,null,null,null,null,null,null,null,null,null,null,null,null,null,null,null,null,null,null,null,null,null,null,null,null,null,null,null,null,null,null,null,null,null,null,null,null,null,null,null,null,null,null,null,null,null,null,null,null,null,null,null,null,null,null,null,null,null,null,null,null,null,null,null,null,null,null,null,null,null,null,"Fit",{"$f":"DF24","v":0}]
[null,"Garages",null,null,null,null,null,null,null,null,null,null,null,null,null,null,null,null,null,null,null,null,null,null,null,null,null,null,null,null,null,null,null,null,null,null,null,null,null,null,null,null,null,null,null,null,null,null,null,null,null,null,null,null,null,null,null,null,null,null,null,null,null,null,null,null,null,null,null,null,null,null,null,null,null,null,null,null,null,null,null,null,null,null,null,null,null,null,null,null,null,null,null,null,null,null,null,null,null,null,null,null,null,null,null,null,null,null,null,null,null,null,null,null,null,null,null,null,null,null,null,null,null,null,null,null,null,null,null,null,null,null,null,null,null,null,null,null,null,null,null,null,null,"Fit",{"$f":"DF25","v":0}]
[null,"Maintenance structures",null,null,null,null,null,null,null,null,null,null,null,null,null,null,null,null,null,null,null,null,null,null,null,null,null,null,null,null,null,null,null,null,null,null,null,null,null,null,null,null,null,null,null,null,null,null,null,null,null,null,null,null,null,null,null,null,null,null,null,null,null,null,null,null,null,null,null,null,null,null,null,null,null,null,null,null,null,null,null,null,null,null,null,null,null,null,null,null,null,null,null,null,null,null,null,null,null,null,null,null,null,null,null,null,null,null,null,null,null,null,null,null,null,null,null,null,null,null,null,null,null,null,null,null,null,null,null,null,null,null,null,null,null,null,null,null,null,null,null,null,null,"Fit",0]
[null,"Trash enclosures",null,null,null,null,null,null,null,null,null,null,null,null,null,null,null,null,null,null,null,null,null,null,null,null,null,null,null,null,null,null,null,null,null,null,null,null,null,null,null,null,null,null,null,null,null,null,null,null,null,null,null,null,null,null,null,null,null,null,null,null,null,null,null,null,null,null,null,null,null,null,null,null,null,null,null,null,null,null,null,null,null,null,null,null,null,null,null,null,null,null,null,null,null,null,null,null,null,null,null,null,null,null,null,null,null,null,null,null,null,null,null,null,null,null,null,null,null,null,null,null,null,null,null,null,null,null,null,null,null,null,null,null,null,null,null,null,null,null,null,null,null,"Fit",0]
[null,"Roadways/Parking lots",null,null,null,null,null,null,null,null,null,null,null,null,null,null,null,null,null,null,null,null,null,null,null,null,null,null,null,null,null,null,null,null,null,null,null,null,null,null,null,null,null,null,null,null,null,null,null,null,null,null,null,null,null,null,null,null,null,null,null,null,null,null,null,null,null,null,null,null,null,null,null,null,null,null,null,null,null,null,null,null,null,null,null,null,null,null,null,null,null,null,null,null,null,null,null,null,null,null,null,null,null,null,null,null,null,null,null,null,null,null,null,null,null,null,null,null,null,null,null,null,null,null,null,null,null,null,null,null,null,null,null,null,null,null,null,null,null,null,null,null,null,"Fit",0]
[null,"Asphaltic concrete",null,null,null,null,null,null,null,null,null,null,null,null,null,null,null,null,null,null,null,null,null,null,null,null,null,null,null,null,null,null,null,null,null,null,null,null,null,null,null,null,null,null,null,null,null,null,null,null,null,null,null,null,null,null,null,null,null,null,null,null,null,null,null,null,null,null,null,null,null,null,null,null,null,null,null,null,null,null,null,null,null,null,null,null,null,null,null,null,null,null,null,null,null,null,null,null,null,null,null,null,null,null,null,null,null,null,null,null,null,null,null,null,null,null,null,null,null,null,null,null,null,null,null,null,null,null,null,null,null,null,null,null,null,null,null,null,null,null,null,null,null,"Fit",0]
[null,"Seal coat",null,null,null,null,null,null,null,null,null,null,null,null,null,null,null,null,null,null,null,null,null,null,null,null,null,null,null,null,null,null,null,null,null,null,null,null,null,null,null,null,null,null,null,null,null,null,null,null,null,null,null,null,null,null,null,null,null,null,null,null,null,null,null,null,null,null,null,null,null,null,null,null,null,null,null,null,null,null,null,null,null,null,null,null,null,null,null,null,null,null,null,null,null,null,null,null,null,null,null,null,null,null,null,null,null,null,null,null,null,null,null,null,null,null,null,null,null,null,null,null,null,null,null,null,null,null,null,null,null,null,null,null,null,null,null,null,null,null,null,null,null,"Fit",0]
[null,"Concrete paving",null,null,null,null,null,null,null,null,null,null,null,null,null,null,null,null,null,null,null,null,null,null,null,null,null,null,null,null,null,null,null,null,null,null,null,null,null,null,null,null,null,null,null,null,null,null,null,null,null,null,null,null,null,null,null,null,null,null,null,null,null,null,null,null,null,null,null,null,null,null,null,null,null,null,null,null,null,null,null,null,null,null,null,null,null,null,null,null,null,null,null,null,null,null,null,null,null,null,null,null,null,null,null,null,null,null,null,null,null,null,null,null,null,null,null,null,null,null,null,null,null,null,null,null,null,null,null,null,null,null,null,null,null,null,null,null,null,null,null,null,null,"Fit",0]
[null,"Other paving:",null,null,null,null,null,null,null,null,null,null,null,null,null,null,null,null,null,null,null,null,null,null,null,null,null,null,null,null,null,null,null,null,null,null,null,null,null,null,null,null,null,null,null,null,null,null,null,null,null,null,null,null,null,null,null,null,null,null,null,null,null,null,null,null,null,null,null,null,null,null,null,null,null,null,null,null,null,null,null,null,null,null,null,null,null,null,null,null,null,null,null,null,null,null,null,null,null,null,null,null,null,null,null,null,null,null,null,null,null,null,null,null,null,null,null,null,null,null,null,null,null,null,null,null,null,null,null,null,null,null,null,null,null,null,null,null,null,null,null,null,null,"Fit",0]
[null,"Striping",null,null,null,null,null,null,null,null,null,null,null,null,null,null,null,null,null,null,null,null,null,null,null,null,null,null,null,null,null,null,null,null,null,null,null,null,null,null,null,null,null,null,null,null,null,null,null,null,null,null,null,null,null,null,null,null,null,null,null,null,null,null,null,null,null,null,null,null,null,null,null,null,null,null,null,null,null,null,null,null,null,null,null,null,null,null,null,null,null,null,null,null,null,null,null,null,null,null,null,null,null,null,null,null,null,null,null,null,null,null,null,null,null,null,null,null,null,null,null,null,null,null,null,null,null,null,null,null,null,null,null,null,null,null,null,null,null,null,null,null,null,"Fit",0]
[null,"Curb and gutter",null,null,null,null,null,null,null,null,null,null,null,null,null,null,null,null,null,null,null,null,null,null,null,null,null,null,null,null,null,null,null,null,null,null,null,null,null,null,null,null,null,null,null,null,null,null,null,null,null,null,null,null,null,null,null,null,null,null,null,null,null,null,null,null,null,null,null,null,null,null,null,null,null,null,null,null,null,null,null,null,null,null,null,null,null,null,null,null,null,null,null,null,null,null,null,null,null,null,null,null,null,null,null,null,null,null,null,null,null,null,null,null,null,null,null,null,null,null,null,null,null,null,null,null,null,null,null,null,null,null,null,null,null,null,null,null,null,null,null,null,null,"Fit",0]
[null,"Interior gutter (swale)",null,null,null,null,null,null,null,null,null,null,null,null,null,null,null,null,null,null,null,null,null,null,null,null,null,null,null,null,null,null,null,null,null,null,null,null,null,null,null,null,null,null,null,null,null,null,null,null,null,null,null,null,null,null,null,null,null,null,null,null,null,null,null,null,null,null,null,null,null,null,null,null,null,null,null,null,null,null,null,null,null,null,null,null,null,null,null,null,null,null,null,null,null,null,null,null,null,null,null,null,null,null,null,null,null,null,null,null,null,null,null,null,null,null,null,null,null,null,null,null,null,null,null,null,null,null,null,null,null,null,null,null,null,null,null,null,null,null,null,null,null,"Fit",0]
[null,"Pedestrian paving/hardscape",null,null,null,null,null,null,null,null,null,null,null,null,null,null,null,null,null,null,null,null,null,null,null,null,null,null,null,null,null,null,null,null,null,null,null,null,null,null,null,null,null,null,null,null,null,null,null,null,null,null,null,null,null,null,null,null,null,null,null,null,null,null,null,null,null,null,null,null,null,null,null,null,null,null,null,null,null,null,null,null,null,null,null,null,null,null,null,null,null,null,null,null,null,null,null,null,null,null,null,null,null,null,null,null,null,null,null,null,null,null,null,null,null,null,null,null,null,null,null,null,null,null,null,null,null,null,null,null,null,null,null,null,null,null,null,null,null,null,null,null,null,"Fit",0]
[null,"Signage",null,null,null,null,null,null,null,null,null,null,null,null,null,null,null,null,null,null,null,null,null,null,null,null,null,null,null,null,null,null,null,null,null,null,null,null,null,null,null,null,null,null,null,null,null,null,null,null,null,null,null,null,null,null,null,null,null,null,null,null,null,null,null,null,null,null,null,null,null,null,null,null,null,null,null,null,null,null,null,null,null,null,null,null,null,null,null,null,null,null,null,null,null,null,null,null,null,null,null,null,null,null,null,null,null,null,null,null,null,null,null,null,null,null,null,null,null,null,null,null,null,null,null,null,null,null,null,null,null,null,null,null,null,null,null,null,null,null,null,null,null,"Fit",0]
[null,"Site utilities",null,null,null,null,null,null,null,null,null,null,null,null,null,null,null,null,null,null,null,null,null,null,null,null,null,null,null,null,null,null,null,null,null,null,null,null,null,null,null,null,null,null,null,null,null,null,null,null,null,null,null,null,null,null,null,null,null,null,null,null,null,null,null,null,null,null,null,null,null,null,null,null,null,null,null,null,null,null,null,null,null,null,null,null,null,null,null,null,null,null,null,null,null,null,null,null,null,null,null,null,null,null,null,null,null,null,null,null,null,null,null,null,null,null,null,null,null,null,null,null,null,null,null,null,null,null,null,null,null,null,null,null,null,null,null,null,null,null,null,null,null,"Fit",0]
[null,"Site water lines",null,null,null,null,null,null,null,null,null,null,null,null,null,null,null,null,null,null,null,null,null,null,null,null,null,null,null,null,null,null,null,null,null,null,null,null,null,null,null,null,null,null,null,null,null,null,null,null,null,null,null,null,null,null,null,null,null,null,null,null,null,null,null,null,null,null,null,null,null,null,null,null,null,null,null,null,null,null,null,null,null,null,null,null,null,null,null,null,null,null,null,null,null,null,null,null,null,null,null,null,null,null,null,null,null,null,null,null,null,null,null,null,null,null,null,null,null,null,null,null,null,null,null,null,null,null,null,null,null,null,null,null,null,null,null,null,null,null,null,null,null,"Fit",0]
[null,"Site sanitary lines",null,null,null,null,null,null,null,null,null,null,null,null,null,null,null,null,null,null,null,null,null,null,null,null,null,null,null,null,null,null,null,null,null,null,null,null,null,null,null,null,null,null,null,null,null,null,null,null,null,null,null,null,null,null,null,null,null,null,null,null,null,null,null,null,null,null,null,null,null,null,null,null,null,null,null,null,null,null,null,null,null,null,null,null,null,null,null,null,null,null,null,null,null,null,null,null,null,null,null,null,null,null,null,null,null,null,null,null,null,null,null,null,null,null,null,null,null,null,null,null,null,null,null,null,null,null,null,null,null,null,null,null,null,null,null,null,null,null,null,null,null,"Fit",0]
[null,"Site lighting",null,null,null,null,null,null,null,null,null,null,null,null,null,null,null,null,null,null,null,null,null,null,null,null,null,null,null,null,null,null,null,null,null,null,null,null,null,null,null,null,null,null,null,null,null,null,null,null,null,null,null,null,null,null,null,null,null,null,null,null,null,null,null,null,null,null,null,null,null,null,null,null,null,null,null,null,null,null,null,null,null,null,null,null,null,null,null,null,null,null,null,null,null,null,null,null,null,null,null,null,null,null,null,null,null,null,null,null,null,null,null,null,null,null,null,null,null,null,null,null,null,null,null,null,null,null,null,null,null,null,null,null,null,null,null,null,null,null,null,null,null,"Fit",0]
[null,"Site drainage (storm drainage)",null,null,null,null,null,null,null,null,null,null,null,null,null,null,null,null,null,null,null,null,null,null,null,null,null,null,null,null,null,null,null,null,null,null,null,null,null,null,null,null,null,null,null,null,null,null,null,null,null,null,null,null,null,null,null,null,null,null,null,null,null,null,null,null,null,null,null,null,null,null,null,null,null,null,null,null,null,null,null,null,null,null,null,null,null,null,null,null,null,null,null,null,null,null,null,null,null,null,null,null,null,null,null,null,null,null,null,null,null,null,null,null,null,null,null,null,null,null,null,null,null,null,null,null,null,null,null,null,null,null,null,null,null,null,null,null,null,null,null,null,null,"Fit",0]
[null,"Landscaping",null,null,null,null,null,null,null,null,null,null,null,null,null,null,null,null,null,null,null,null,null,null,null,null,null,null,null,null,null,null,null,null,null,null,null,null,null,null,null,null,null,null,null,null,null,null,null,null,null,null,null,null,null,null,null,null,null,null,null,null,null,null,null,null,null,null,null,null,null,null,null,null,null,null,null,null,null,null,null,null,null,null,null,null,null,null,null,null,null,null,null,null,null,null,null,null,null,null,null,null,null,null,null,null,null,null,null,null,null,null,null,null,null,null,null,null,null,null,null,null,null,null,null,null,null,null,null,null,null,null,null,null,null,null,null,null,null,null,null,null,null,"Fit",0]
[null,"Irrigation",null,null,null,null,null,null,null,null,null,null,null,null,null,null,null,null,null,null,null,null,null,null,null,null,null,null,null,null,null,null,null,null,null,null,null,null,null,null,null,null,null,null,null,null,null,null,null,null,null,null,null,null,null,null,null,null,null,null,null,null,null,null,null,null,null,null,null,null,null,null,null,null,null,null,null,null,null,null,null,null,null,null,null,null,null,null,null,null,null,null,null,null,null,null,null,null,null,null,null,null,null,null,null,null,null,null,null,null,null,null,null,null,null,null,null,null,null,null,null,null,null,null,null,null,null,null,null,null,null,null,null,null,null,null,null,null,null,null,null,null,null,"Fit",0]
[null,"Site fences",null,null,null,null,null,null,null,null,null,null,null,null,null,null,null,null,null,null,null,null,null,null,null,null,null,null,null,null,null,null,null,null,null,null,null,null,null,null,null,null,null,null,null,null,null,null,null,null,null,null,null,null,null,null,null,null,null,null,null,null,null,null,null,null,null,null,null,null,null,null,null,null,null,null,null,null,null,null,null,null,null,null,null,null,null,null,null,null,null,null,null,null,null,null,null,null,null,null,null,null,null,null,null,null,null,null,null,null,null,null,null,null,null,null,null,null,null,null,null,null,null,null,null,null,null,null,null,null,null,null,null,null,null,null,null,null,null,null,null,null,null,"Fit",0]
[null,"Tennis courts",null,null,null,null,null,null,null,null,null,null,null,null,null,null,null,null,null,null,null,null,null,null,null,null,null,null,null,null,null,null,null,null,null,null,null,null,null,null,null,null,null,null,null,null,null,null,null,null,null,null,null,null,null,null,null,null,null,null,null,null,null,null,null,null,null,null,null,null,null,null,null,null,null,null,null,null,null,null,null,null,null,null,null,null,null,null,null,null,null,null,null,null,null,null,null,null,null,null,null,null,null,null,null,null,null,null,null,null,null,null,null,null,null,null,null,null,null,null,null,null,null,null,null,null,null,null,null,null,null,null,null,null,null,null,null,null,null,null,null,null,null,"Fit",0]
[null,"Swimming pool and/or spa",null,null,null,null,null,null,null,null,null,null,null,null,null,null,null,null,null,null,null,null,null,null,null,null,null,null,null,null,null,null,null,null,null,null,null,null,null,null,null,null,null,null,null,null,null,null,null,null,null,null,null,null,null,null,null,null,null,null,null,null,null,null,null,null,null,null,null,null,null,null,null,null,null,null,null,null,null,null,null,null,null,null,null,null,null,null,null,null,null,null,null,null,null,null,null,null,null,null,null,null,null,null,null,null,null,null,null,null,null,null,null,null,null,null,null,null,null,null,null,null,null,null,null,null,null,null,null,null,null,null,null,null,null,null,null,null,null,null,null,null,null,"Fit",0]
[null,"Pool and/or spa plaster/lining",null,null,null,null,null,null,null,null,null,null,null,null,null,null,null,null,null,null,null,null,null,null,null,null,null,null,null,null,null,null,null,null,null,null,null,null,null,null,null,null,null,null,null,null,null,null,null,null,null,null,null,null,null,null,null,null,null,null,null,null,null,null,null,null,null,null,null,null,null,null,null,null,null,null,null,null,null,null,null,null,null,null,null,null,null,null,null,null,null,null,null,null,null,null,null,null,null,null,null,null,null,null,null,null,null,null,null,null,null,null,null,null,null,null,null,null,null,null,null,null,null,null,null,null,null,null,null,null,null,null,null,null,null,null,null,null,null,null,null,null,null,"Fit",0]
[null,"Pool and/or spa  heating equipment",null,null,null,null,null,null,null,null,null,null,null,null,null,null,null,null,null,null,null,null,null,null,null,null,null,null,null,null,null,null,null,null,null,null,null,null,null,null,null,null,null,null,null,null,null,null,null,null,null,null,null,null,null,null,null,null,null,null,null,null,null,null,null,null,null,null,null,null,null,null,null,null,null,null,null,null,null,null,null,null,null,null,null,null,null,null,null,null,null,null,null,null,null,null,null,null,null,null,null,null,null,null,null,null,null,null,null,null,null,null,null,null,null,null,null,null,null,null,null,null,null,null,null,null,null,null,null,null,null,null,null,null,null,null,null,null,null,null,null,null,null,"Fit",0]
[null,"Pool and/or spa filtration equipment",null,null,null,null,null,null,null,null,null,null,null,null,null,null,null,null,null,null,null,null,null,null,null,null,null,null,null,null,null,null,null,null,null,null,null,null,null,null,null,null,null,null,null,null,null,null,null,null,null,null,null,null,null,null,null,null,null,null,null,null,null,null,null,null,null,null,null,null,null,null,null,null,null,null,null,null,null,null,null,null,null,null,null,null,null,null,null,null,null,null,null,null,null,null,null,null,null,null,null,null,null,null,null,null,null,null,null,null,null,null,null,null,null,null,null,null,null,null,null,null,null,null,null,null,null,null,null,null,null,null,null,null,null,null,null,null,null,null,null,null,null,"Fit",0]
[null,"Pool and/or spa deck surface",null,null,null,null,null,null,null,null,null,null,null,null,null,null,null,null,null,null,null,null,null,null,null,null,null,null,null,null,null,null,null,null,null,null,null,null,null,null,null,null,null,null,null,null,null,null,null,null,null,null,null,null,null,null,null,null,null,null,null,null,null,null,null,null,null,null,null,null,null,null,null,null,null,null,null,null,null,null,null,null,null,null,null,null,null,null,null,null,null,null,null,null,null,null,null,null,null,null,null,null,null,null,null,null,null,null,null,null,null,null,null,null,null,null,null,null,null,null,null,null,null,null,null,null,null,null,null,null,null,null,null,null,null,null,null,null,null,null,null,null,null,"Fit",0]
[null,"Sauna",null,null,null,null,null,null,null,null,null,null,null,null,null,null,null,null,null,null,null,null,null,null,null,null,null,null,null,null,null,null,null,null,null,null,null,null,null,null,null,null,null,null,null,null,null,null,null,null,null,null,null,null,null,null,null,null,null,null,null,null,null,null,null,null,null,null,null,null,null,null,null,null,null,null,null,null,null,null,null,null,null,null,null,null,null,null,null,null,null,null,null,null,null,null,null,null,null,null,null,null,null,null,null,null,null,null,null,null,null,null,null,null,null,null,null,null,null,null,null,null,null,null,null,null,null,null,null,null,null,null,null,null,null,null,null,null,null,null,null,null,null,"Fit",0]
[null,"Recreation/Play area and equipment",null,null,null,null,null,null,null,null,null,null,null,null,null,null,null,null,null,null,null,null,null,null,null,null,null,null,null,null,null,null,null,null,null,null,null,null,null,null,null,null,null,null,null,null,null,null,null,null,null,null,null,null,null,null,null,null,null,null,null,null,null,null,null,null,null,null,null,null,null,null,null,null,null,null,null,null,null,null,null,null,null,null,null,null,null,null,null,null,null,null,null,null,null,null,null,null,null,null,null,null,null,null,null,null,null,null,null,null,null,null,null,null,null,null,null,null,null,null,null,null,null,null,null,null,null,null,null,null,null,null,null,null,null,null,null,null,null,null,null,null,null,"Fit",0]
[null,"Other",null,null,null,null,null,null,null,null,null,null,null,null,null,null,null,null,null,null,null,null,null,null,null,null,null,null,null,null,null,null,null,null,null,null,null,null,null,null,null,null,null,null,null,null,null,null,null,null,null,null,null,null,null,null,null,null,null,null,null,null,null,null,null,null,null,null,null,null,null,null,null,null,null,null,null,null,null,null,null,null,null,null,null,null,null,null,null,null,null,null,null,null,null,null,null,null,null,null,null,null,null,null,null,null,null,null,null,null,null,null,null,null,null,null,null,null,null,null,null,null,null,null,null,null,null,null,null,null,null,null,null,null,null,null,null,null,null,null,null,null,null,"Fit",0]
[null,"Other",null,null,null,null,null,null,null,null,null,null,null,null,null,null,null,null,null,null,null,null,null,null,null,null,null,null,null,null,null,null,null,null,null,null,null,null,null,null,null,null,null,null,null,null,null,null,null,null,null,null,null,null,null,null,null,null,null,null,null,null,null,null,null,null,null,null,null,null,null,null,null,null,null,null,null,null,null,null,null,null,null,null,null,null,null,null,null,null,null,null,null,null,null,null,null,null,null,null,null,null,null,null,null,null,null,null,null,null,null,null,null,null,null,null,null,null,null,null,null,null,null,null,null,null,null,null,null,null,null,null,null,null,null,null,null,null,null,null,null,null,null,"Fit",0]
[null,"Other",null,null,null,null,null,null,null,null,null,null,null,null,null,null,null,null,null,null,null,null,null,null,null,null,null,null,null,null,null,null,null,null,null,null,null,null,null,null,null,null,null,null,null,null,null,null,null,null,null,null,null,null,null,null,null,null,null,null,null,null,null,null,null,null,null,null,null,null,null,null,null,null,null,null,null,null,null,null,null,null,null,null,null,null,null,null,null,null,null,null,null,null,null,null,null,null,null,null,null,null,null,null,null,null,null,null,null,null,null,null,null,null,null,null,null,null,null,null,null,null,null,null,null,null,null,null,null,null,null,null,null,null,null,null,null,null,null,null,null,null,null,"Fit",0]
[]
[null,"Structural, building envelope and common area furniture, fixtures and equipment"]
[null,{"$f":"B20","v":"Complete the estimated useful life, condition, remaining useful life, action and comments for the applicable items listed below.  Indicate the condition using the following abbreviations: E = excellent, G = good, A = average, F = fair and P = poor.  Indicate the action required using the following abbreviations: CR = Critical Repairs; PR = Priority Repairs; PR90 = 90 day Priority Repairs and RR = reserve for future repair/replacement.  See Section VII for a complete description of each repair category.  The consultant should attach additional information as needed.  The consultant must also note any Mold observations on any component in the comment sections."}]
[]
[null,null,null,null,null,null,null,null,null,null,null,null,null,null,null,null,null,null,null,null,null,null,null,null,null,null,null,null,null,null,null,null,null,null,null,null,null,"Estimated",null,null,null,null,null,null,null,null,null,null,null,null,null,null,null,null,null,"Condition",null,null,null,null,null,null,null,null,null,null,null,null,null,null,null,null,null,"Remaining",null,null,null,null,null,null,null,null,null,null,null,null,null,null,null,null,null,{"$f":"CN22","v":"Action (CR, PR,"},null,null,null,null,null,null,null,null,null,null,null,null,null,null,null,null,null,"Comments/Mold Observations"]
[null,"Item",null,null,null,null,null,null,null,null,null,null,null,null,null,null,null,null,null,null,null,null,null,null,null,null,null,null,null,null,null,null,null,null,null,null,null,"Useful Life",null,null,null,null,null,null,null,null,null,null,null,null,null,null,null,null,null,"(E, G, A, F, P)",null,null,null,null,null,null,null,null,null,null,null,null,null,null,null,null,null,"Useful Life",null,null,null,null,null,null,null,null,null,null,null,null,null,null,null,null,null,{"$f":"CN23","v":"PR-90, RR)"}]
[null,"Foundation (structural)",null,null,null,null,null,null,null,null,null,null,null,null,null,null,null,null,null,null,null,null,null,null,null,null,null,null,null,null,null,null,null,null,null,null,null,null,null,null,null,null,null,null,null,null,null,null,null,null,null,null,null,null,null,null,null,null,null,null,null,null,null,null,null,null,null,null,null,null,null,null,null,null,null,null,null,null,null,null,null,null,null,null,null,null,null,null,null,null,null,null,null,null,null,null,null,null,null,null,null,null,null,null,null,null,null,null,null,null,null,null,null,null,null,null,null,null,null,null,null,null,null,null,null,null,null,null,null,null,null,null,null,null,null,null,null,null,null,null,null,null,null,"Fit",{"$f":"DF63","v":0}]
[null,"Foundation (waterproofing)",null,null,null,null,null,null,null,null,null,null,null,null,null,null,null,null,null,null,null,null,null,null,null,null,null,null,null,null,null,null,null,null,null,null,null,null,null,null,null,null,null,null,null,null,null,null,null,null,null,null,null,null,null,null,null,null,null,null,null,null,null,null,null,null,null,null,null,null,null,null,null,null,null,null,null,null,null,null,null,null,null,null,null,null,null,null,null,null,null,null,null,null,null,null,null,null,null,null,null,null,null,null,null,null,null,null,null,null,null,null,null,null,null,null,null,null,null,null,null,null,null,null,null,null,null,null,null,null,null,null,null,null,null,null,null,null,null,null,null,null,null,"Fit",0]
[null,"Building slab (structural)",null,null,null,null,null,null,null,null,null,null,null,null,null,null,null,null,null,null,null,null,null,null,null,null,null,null,null,null,null,null,null,null,null,null,null,null,null,null,null,null,null,null,null,null,null,null,null,null,null,null,null,null,null,null,null,null,null,null,null,null,null,null,null,null,null,null,null,null,null,null,null,null,null,null,null,null,null,null,null,null,null,null,null,null,null,null,null,null,null,null,null,null,null,null,null,null,null,null,null,null,null,null,null,null,null,null,null,null,null,null,null,null,null,null,null,null,null,null,null,null,null,null,null,null,null,null,null,null,null,null,null,null,null,null,null,null,null,null,null,null,null,"Fit",0]
[null,"Exterior walls/roof (structural)",null,null,null,null,null,null,null,null,null,null,null,null,null,null,null,null,null,null,null,null,null,null,null,null,null,null,null,null,null,null,null,null,null,null,null,null,null,null,null,null,null,null,null,null,null,null,null,null,null,null,null,null,null,null,null,null,null,null,null,null,null,null,null,null,null,null,null,null,null,null,null,null,null,null,null,null,null,null,null,null,null,null,null,null,null,null,null,null,null,null,null,null,null,null,null,null,null,null,null,null,null,null,null,null,null,null,null,null,null,null,null,null,null,null,null,null,null,null,null,null,null,null,null,null,null,null,null,null,null,null,null,null,null,null,null,null,null,null,null,null,null,"Fit",0]
[null,"Exterior walls (paint/finish)",null,null,null,null,null,null,null,null,null,null,null,null,null,null,null,null,null,null,null,null,null,null,null,null,null,null,null,null,null,null,null,null,null,null,null,null,null,null,null,null,null,null,null,null,null,null,null,null,null,null,null,null,null,null,null,null,null,null,null,null,null,null,null,null,null,null,null,null,null,null,null,null,null,null,null,null,null,null,null,null,null,null,null,null,null,null,null,null,null,null,null,null,null,null,null,null,null,null,null,null,null,null,null,null,null,null,null,null,null,null,null,null,null,null,null,null,null,null,null,null,null,null,null,null,null,null,null,null,null,null,null,null,null,null,null,null,null,null,null,null,null,"Fit",0]
[null,"Doors and frames",null,null,null,null,null,null,null,null,null,null,null,null,null,null,null,null,null,null,null,null,null,null,null,null,null,null,null,null,null,null,null,null,null,null,null,null,null,null,null,null,null,null,null,null,null,null,null,null,null,null,null,null,null,null,null,null,null,null,null,null,null,null,null,null,null,null,null,null,null,null,null,null,null,null,null,null,null,null,null,null,null,null,null,null,null,null,null,null,null,null,null,null,null,null,null,null,null,null,null,null,null,null,null,null,null,null,null,null,null,null,null,null,null,null,null,null,null,null,null,null,null,null,null,null,null,null,null,null,null,null,null,null,null,null,null,null,null,null,null,null,null,"Fit",0]
[null,"Windows and frames",null,null,null,null,null,null,null,null,null,null,null,null,null,null,null,null,null,null,null,null,null,null,null,null,null,null,null,null,null,null,null,null,null,null,null,null,null,null,null,null,null,null,null,null,null,null,null,null,null,null,null,null,null,null,null,null,null,null,null,null,null,null,null,null,null,null,null,null,null,null,null,null,null,null,null,null,null,null,null,null,null,null,null,null,null,null,null,null,null,null,null,null,null,null,null,null,null,null,null,null,null,null,null,null,null,null,null,null,null,null,null,null,null,null,null,null,null,null,null,null,null,null,null,null,null,null,null,null,null,null,null,null,null,null,null,null,null,null,null,null,null,"Fit",0]
[null,"Stairs ",null,null,null,null,null,null,null,null,null,null,null,null,null,null,null,null,null,null,null,null,null,null,null,null,null,null,null,null,null,null,null,null,null,null,null,null,null,null,null,null,null,null,null,null,null,null,null,null,null,null,null,null,null,null,null,null,null,null,null,null,null,null,null,null,null,null,null,null,null,null,null,null,null,null,null,null,null,null,null,null,null,null,null,null,null,null,null,null,null,null,null,null,null,null,null,null,null,null,null,null,null,null,null,null,null,null,null,null,null,null,null,null,null,null,null,null,null,null,null,null,null,null,null,null,null,null,null,null,null,null,null,null,null,null,null,null,null,null,null,null,null,"Fit",0]
[null,"Fire escapes",null,null,null,null,null,null,null,null,null,null,null,null,null,null,null,null,null,null,null,null,null,null,null,null,null,null,null,null,null,null,null,null,null,null,null,null,null,null,null,null,null,null,null,null,null,null,null,null,null,null,null,null,null,null,null,null,null,null,null,null,null,null,null,null,null,null,null,null,null,null,null,null,null,null,null,null,null,null,null,null,null,null,null,null,null,null,null,null,null,null,null,null,null,null,null,null,null,null,null,null,null,null,null,null,null,null,null,null,null,null,null,null,null,null,null,null,null,null,null,null,null,null,null,null,null,null,null,null,null,null,null,null,null,null,null,null,null,null,null,null,null,"Fit",0]
[null,"Balconies/Handrails/Guardrails",null,null,null,null,null,null,null,null,null,null,null,null,null,null,null,null,null,null,null,null,null,null,null,null,null,null,null,null,null,null,null,null,null,null,null,null,null,null,null,null,null,null,null,null,null,null,null,null,null,null,null,null,null,null,null,null,null,null,null,null,null,null,null,null,null,null,null,null,null,null,null,null,null,null,null,null,null,null,null,null,null,null,null,null,null,null,null,null,null,null,null,null,null,null,null,null,null,null,null,null,null,null,null,null,null,null,null,null,null,null,null,null,null,null,null,null,null,null,null,null,null,null,null,null,null,null,null,null,null,null,null,null,null,null,null,null,null,null,null,null,null,"Fit",0]
[null,"Decks",null,null,null,null,null,null,null,null,null,null,null,null,null,null,null,null,null,null,null,null,null,null,null,null,null,null,null,null,null,null,null,null,null,null,null,null,null,null,null,null,null,null,null,null,null,null,null,null,null,null,null,null,null,null,null,null,null,null,null,null,null,null,null,null,null,null,null,null,null,null,null,null,null,null,null,null,null,null,null,null,null,null,null,null,null,null,null,null,null,null,null,null,null,null,null,null,null,null,null,null,null,null,null,null,null,null,null,null,null,null,null,null,null,null,null,null,null,null,null,null,null,null,null,null,null,null,null,null,null,null,null,null,null,null,null,null,null,null,null,null,null,"Fit",0]
[null,"Patio slabs",null,null,null,null,null,null,null,null,null,null,null,null,null,null,null,null,null,null,null,null,null,null,null,null,null,null,null,null,null,null,null,null,null,null,null,null,null,null,null,null,null,null,null,null,null,null,null,null,null,null,null,null,null,null,null,null,null,null,null,null,null,null,null,null,null,null,null,null,null,null,null,null,null,null,null,null,null,null,null,null,null,null,null,null,null,null,null,null,null,null,null,null,null,null,null,null,null,null,null,null,null,null,null,null,null,null,null,null,null,null,null,null,null,null,null,null,null,null,null,null,null,null,null,null,null,null,null,null,null,null,null,null,null,null,null,null,null,null,null,null,null,"Fit",0]
[null,"Unit fencing (patio fencing)",null,null,null,null,null,null,null,null,null,null,null,null,null,null,null,null,null,null,null,null,null,null,null,null,null,null,null,null,null,null,null,null,null,null,null,null,null,null,null,null,null,null,null,null,null,null,null,null,null,null,null,null,null,null,null,null,null,null,null,null,null,null,null,null,null,null,null,null,null,null,null,null,null,null,null,null,null,null,null,null,null,null,null,null,null,null,null,null,null,null,null,null,null,null,null,null,null,null,null,null,null,null,null,null,null,null,null,null,null,null,null,null,null,null,null,null,null,null,null,null,null,null,null,null,null,null,null,null,null,null,null,null,null,null,null,null,null,null,null,null,null,"Fit",0]
[null,"Roof coverings",null,null,null,null,null,null,null,null,null,null,null,null,null,null,null,null,null,null,null,null,null,null,null,null,null,null,null,null,null,null,null,null,null,null,null,null,null,null,null,null,null,null,null,null,null,null,null,null,null,null,null,null,null,null,null,null,null,null,null,null,null,null,null,null,null,null,null,null,null,null,null,null,null,null,null,null,null,null,null,null,null,null,null,null,null,null,null,null,null,null,null,null,null,null,null,null,null,null,null,null,null,null,null,null,null,null,null,null,null,null,null,null,null,null,null,null,null,null,null,null,null,null,null,null,null,null,null,null,null,null,null,null,null,null,null,null,null,null,null,null,null,"Fit",0]
[null,"Roof drainage (gutters, drains, etc.)",null,null,null,null,null,null,null,null,null,null,null,null,null,null,null,null,null,null,null,null,null,null,null,null,null,null,null,null,null,null,null,null,null,null,null,null,null,null,null,null,null,null,null,null,null,null,null,null,null,null,null,null,null,null,null,null,null,null,null,null,null,null,null,null,null,null,null,null,null,null,null,null,null,null,null,null,null,null,null,null,null,null,null,null,null,null,null,null,null,null,null,null,null,null,null,null,null,null,null,null,null,null,null,null,null,null,null,null,null,null,null,null,null,null,null,null,null,null,null,null,null,null,null,null,null,null,null,null,null,null,null,null,null,null,null,null,null,null,null,null,null,"Fit",0]
[null,"Building mounted lighting",null,null,null,null,null,null,null,null,null,null,null,null,null,null,null,null,null,null,null,null,null,null,null,null,null,null,null,null,null,null,null,null,null,null,null,null,null,null,null,null,null,null,null,null,null,null,null,null,null,null,null,null,null,null,null,null,null,null,null,null,null,null,null,null,null,null,null,null,null,null,null,null,null,null,null,null,null,null,null,null,null,null,null,null,null,null,null,null,null,null,null,null,null,null,null,null,null,null,null,null,null,null,null,null,null,null,null,null,null,null,null,null,null,null,null,null,null,null,null,null,null,null,null,null,null,null,null,null,null,null,null,null,null,null,null,null,null,null,null,null,null,"Fit",0]
[null,"Common area improvements",null,null,null,null,null,null,null,null,null,null,null,null,null,null,null,null,null,null,null,null,null,null,null,null,null,null,null,null,null,null,null,null,null,null,null,null,null,null,null,null,null,null,null,null,null,null,null,null,null,null,null,null,null,null,null,null,null,null,null,null,null,null,null,null,null,null,null,null,null,null,null,null,null,null,null,null,null,null,null,null,null,null,null,null,null,null,null,null,null,null,null,null,null,null,null,null,null,null,null,null,null,null,null,null,null,null,null,null,null,null,null,null,null,null,null,null,null,null,null,null,null,null,null,null,null,null,null,null,null,null,null,null,null,null,null,null,null,null,null,null,null,"Fit",0]
[null,"Common area floors",null,null,null,null,null,null,null,null,null,null,null,null,null,null,null,null,null,null,null,null,null,null,null,null,null,null,null,null,null,null,null,null,null,null,null,null,null,null,null,null,null,null,null,null,null,null,null,null,null,null,null,null,null,null,null,null,null,null,null,null,null,null,null,null,null,null,null,null,null,null,null,null,null,null,null,null,null,null,null,null,null,null,null,null,null,null,null,null,null,null,null,null,null,null,null,null,null,null,null,null,null,null,null,null,null,null,null,null,null,null,null,null,null,null,null,null,null,null,null,null,null,null,null,null,null,null,null,null,null,null,null,null,null,null,null,null,null,null,null,null,null,"Fit",0]
[null,"Community facilities kitchen",null,null,null,null,null,null,null,null,null,null,null,null,null,null,null,null,null,null,null,null,null,null,null,null,null,null,null,null,null,null,null,null,null,null,null,null,null,null,null,null,null,null,null,null,null,null,null,null,null,null,null,null,null,null,null,null,null,null,null,null,null,null,null,null,null,null,null,null,null,null,null,null,null,null,null,null,null,null,null,null,null,null,null,null,null,null,null,null,null,null,null,null,null,null,null,null,null,null,null,null,null,null,null,null,null,null,null,null,null,null,null,null,null,null,null,null,null,null,null,null,null,null,null,null,null,null,null,null,null,null,null,null,null,null,null,null,null,null,null,null,null,"Fit",0]
[null,"Community facilities appliances",null,null,null,null,null,null,null,null,null,null,null,null,null,null,null,null,null,null,null,null,null,null,null,null,null,null,null,null,null,null,null,null,null,null,null,null,null,null,null,null,null,null,null,null,null,null,null,null,null,null,null,null,null,null,null,null,null,null,null,null,null,null,null,null,null,null,null,null,null,null,null,null,null,null,null,null,null,null,null,null,null,null,null,null,null,null,null,null,null,null,null,null,null,null,null,null,null,null,null,null,null,null,null,null,null,null,null,null,null,null,null,null,null,null,null,null,null,null,null,null,null,null,null,null,null,null,null,null,null,null,null,null,null,null,null,null,null,null,null,null,null,"Fit",0]
[null,"Community washing machines",null,null,null,null,null,null,null,null,null,null,null,null,null,null,null,null,null,null,null,null,null,null,null,null,null,null,null,null,null,null,null,null,null,null,null,null,null,null,null,null,null,null,null,null,null,null,null,null,null,null,null,null,null,null,null,null,null,null,null,null,null,null,null,null,null,null,null,null,null,null,null,null,null,null,null,null,null,null,null,null,null,null,null,null,null,null,null,null,null,null,null,null,null,null,null,null,null,null,null,null,null,null,null,null,null,null,null,null,null,null,null,null,null,null,null,null,null,null,null,null,null,null,null,null,null,null,null,null,null,null,null,null,null,null,null,null,null,null,null,null,null,"Fit",0]
[null,"Community clothes dryers",null,null,null,null,null,null,null,null,null,null,null,null,null,null,null,null,null,null,null,null,null,null,null,null,null,null,null,null,null,null,null,null,null,null,null,null,null,null,null,null,null,null,null,null,null,null,null,null,null,null,null,null,null,null,null,null,null,null,null,null,null,null,null,null,null,null,null,null,null,null,null,null,null,null,null,null,null,null,null,null,null,null,null,null,null,null,null,null,null,null,null,null,null,null,null,null,null,null,null,null,null,null,null,null,null,null,null,null,null,null,null,null,null,null,null,null,null,null,null,null,null,null,null,null,null,null,null,null,null,null,null,null,null,null,null,null,null,null,null,null,null,"Fit",0]
[null,"Other",null,null,null,null,null,null,null,null,null,null,null,null,null,null,null,null,null,null,null,null,null,null,null,null,null,null,null,null,null,null,null,null,null,null,null,null,null,null,null,null,null,null,null,null,null,null,null,null,null,null,null,null,null,null,null,null,null,null,null,null,null,null,null,null,null,null,null,null,null,null,null,null,null,null,null,null,null,null,null,null,null,null,null,null,null,null,null,null,null,null,null,null,null,null,null,null,null,null,null,null,null,null,null,null,null,null,null,null,null,null,null,null,null,null,null,null,null,null,null,null,null,null,null,null,null,null,null,null,null,null,null,null,null,null,null,null,null,null,null,null,null,"Fit",0]
[null,"Other",null,null,null,null,null,null,null,null,null,null,null,null,null,null,null,null,null,null,null,null,null,null,null,null,null,null,null,null,null,null,null,null,null,null,null,null,null,null,null,null,null,null,null,null,null,null,null,null,null,null,null,null,null,null,null,null,null,null,null,null,null,null,null,null,null,null,null,null,null,null,null,null,null,null,null,null,null,null,null,null,null,null,null,null,null,null,null,null,null,null,null,null,null,null,null,null,null,null,null,null,null,null,null,null,null,null,null,null,null,null,null,null,null,null,null,null,null,null,null,null,null,null,null,null,null,null,null,null,null,null,null,null,null,null,null,null,null,null,null,null,null,"Fit",0]
[null,"Other",null,null,null,null,null,null,null,null,null,null,null,null,null,null,null,null,null,null,null,null,null,null,null,null,null,null,null,null,null,null,null,null,null,null,null,null,null,null,null,null,null,null,null,null,null,null,null,null,null,null,null,null,null,null,null,null,null,null,null,null,null,null,null,null,null,null,null,null,null,null,null,null,null,null,null,null,null,null,null,null,null,null,null,null,null,null,null,null,null,null,null,null,null,null,null,null,null,null,null,null,null,null,null,null,null,null,null,null,null,null,null,null,null,null,null,null,null,null,null,null,null,null,null,null,null,null,null,null,null,null,null,null,null,null,null,null,null,null,null,null,null,"Fit",0]
[null,"Other",null,null,null,null,null,null,null,null,null,null,null,null,null,null,null,null,null,null,null,null,null,null,null,null,null,null,null,null,null,null,null,null,null,null,null,null,null,null,null,null,null,null,null,null,null,null,null,null,null,null,null,null,null,null,null,null,null,null,null,null,null,null,null,null,null,null,null,null,null,null,null,null,null,null,null,null,null,null,null,null,null,null,null,null,null,null,null,null,null,null,null,null,null,null,null,null,null,null,null,null,null,null,null,null,null,null,null,null,null,null,null,null,null,null,null,null,null,null,null,null,null,null,null,null,null,null,null,null,null,null,null,null,null,null,null,null,null,null,null,null,null,"Fit",0]
[null,"Other",null,null,null,null,null,null,null,null,null,null,null,null,null,null,null,null,null,null,null,null,null,null,null,null,null,null,null,null,null,null,null,null,null,null,null,null,null,null,null,null,null,null,null,null,null,null,null,null,null,null,null,null,null,null,null,null,null,null,null,null,null,null,null,null,null,null,null,null,null,null,null,null,null,null,null,null,null,null,null,null,null,null,null,null,null,null,null,null,null,null,null,null,null,null,null,null,null,null,null,null,null,null,null,null,null,null,null,null,null,null,null,null,null,null,null,null,null,null,null,null,null,null,null,null,null,null,null,null,null,null,null,null,null,null,null,null,null,null,null,null,null,"Fit",0]
[]
[null,"Mechanical and electrical"]
[null,{"$f":"B20","v":"Complete the estimated useful life, condition, remaining useful life, action and comments for the applicable items listed below.  Indicate the condition using the following abbreviations: E = excellent, G = good, A = average, F = fair and P = poor.  Indicate the action required using the following abbreviations: CR = Critical Repairs; PR = Priority Repairs; PR90 = 90 day Priority Repairs and RR = reserve for future repair/replacement.  See Section VII for a complete description of each repair category.  The consultant should attach additional information as needed.  The consultant must also note any Mold observations on any component in the comment sections."}]
[]
[null,null,null,null,null,null,null,null,null,null,null,null,null,null,null,null,null,null,null,null,null,null,null,null,null,null,null,null,null,null,null,null,null,null,null,null,null,"Estimated",null,null,null,null,null,null,null,null,null,null,null,null,null,null,null,null,null,"Condition",null,null,null,null,null,null,null,null,null,null,null,null,null,null,null,null,null,"Remaining",null,null,null,null,null,null,null,null,null,null,null,null,null,null,null,null,null,{"$f":"CN22","v":"Action (CR, PR,"},null,null,null,null,null,null,null,null,null,null,null,null,null,null,null,null,null,"Comments/Mold Observations"]
[null,"Item",null,null,null,null,null,null,null,null,null,null,null,null,null,null,null,null,null,null,null,null,null,null,null,null,null,null,null,null,null,null,null,null,null,null,null,"Useful Life",null,null,null,null,null,null,null,null,null,null,null,null,null,null,null,null,null,"(E, G, A, F, P)",null,null,null,null,null,null,null,null,null,null,null,null,null,null,null,null,null,"Useful Life",null,null,null,null,null,null,null,null,null,null,null,null,null,null,null,null,null,{"$f":"CN23","v":"PR-90, RR)"}]
[null,"Mechanical/Plumbing",null,null,null,null,null,null,null,null,null,null,null,null,null,null,null,null,null,null,null,null,null,null,null,null,null,null,null,null,null,null,null,null,null,null,null,null,null,null,null,null,null,null,null,null,null,null,null,null,null,null,null,null,null,null,null,null,null,null,null,null,null,null,null,null,null,null,null,null,null,null,null,null,null,null,null,null,null,null,null,null,null,null,null,null,null,null,null,null,null,null,null,null,null,null,null,null,null,null,null,null,null,null,null,null,null,null,null,null,null,null,null,null,null,null,null,null,null,null,null,null,null,null,null,null,null,null,null,null,null,null,null,null,null,null,null,null,null,null,null,null,null,"Fit",{"$f":"DF96","v":0}]
[null,"Hot and cold water distribution",null,null,null,null,null,null,null,null,null,null,null,null,null,null,null,null,null,null,null,null,null,null,null,null,null,null,null,null,null,null,null,null,null,null,null,null,null,null,null,null,null,null,null,null,null,null,null,null,null,null,null,null,null,null,null,null,null,null,null,null,null,null,null,null,null,null,null,null,null,null,null,null,null,null,null,null,null,null,null,null,null,null,null,null,null,null,null,null,null,null,null,null,null,null,null,null,null,null,null,null,null,null,null,null,null,null,null,null,null,null,null,null,null,null,null,null,null,null,null,null,null,null,null,null,null,null,null,null,null,null,null,null,null,null,null,null,null,null,null,null,null,"Fit",0]
[null,"Domestic water boilers",null,null,null,null,null,null,null,null,null,null,null,null,null,null,null,null,null,null,null,null,null,null,null,null,null,null,null,null,null,null,null,null,null,null,null,null,null,null,null,null,null,null,null,null,null,null,null,null,null,null,null,null,null,null,null,null,null,null,null,null,null,null,null,null,null,null,null,null,null,null,null,null,null,null,null,null,null,null,null,null,null,null,null,null,null,null,null,null,null,null,null,null,null,null,null,null,null,null,null,null,null,null,null,null,null,null,null,null,null,null,null,null,null,null,null,null,null,null,null,null,null,null,null,null,null,null,null,null,null,null,null,null,null,null,null,null,null,null,null,null,null,"Fit",0]
[null,"Domestic water boiler peripherals",null,null,null,null,null,null,null,null,null,null,null,null,null,null,null,null,null,null,null,null,null,null,null,null,null,null,null,null,null,null,null,null,null,null,null,null,null,null,null,null,null,null,null,null,null,null,null,null,null,null,null,null,null,null,null,null,null,null,null,null,null,null,null,null,null,null,null,null,null,null,null,null,null,null,null,null,null,null,null,null,null,null,null,null,null,null,null,null,null,null,null,null,null,null,null,null,null,null,null,null,null,null,null,null,null,null,null,null,null,null,null,null,null,null,null,null,null,null,null,null,null,null,null,null,null,null,null,null,null,null,null,null,null,null,null,null,null,null,null,null,null,"Fit",0]
[null,"Domestic water heaters",null,null,null,null,null,null,null,null,null,null,null,null,null,null,null,null,null,null,null,null,null,null,null,null,null,null,null,null,null,null,null,null,null,null,null,null,null,null,null,null,null,null,null,null,null,null,null,null,null,null,null,null,null,null,null,null,null,null,null,null,null,null,null,null,null,null,null,null,null,null,null,null,null,null,null,null,null,null,null,null,null,null,null,null,null,null,null,null,null,null,null,null,null,null,null,null,null,null,null,null,null,null,null,null,null,null,null,null,null,null,null,null,null,null,null,null,null,null,null,null,null,null,null,null,null,null,null,null,null,null,null,null,null,null,null,null,null,null,null,null,null,"Fit",0]
[null,"Domestic water pumps",null,null,null,null,null,null,null,null,null,null,null,null,null,null,null,null,null,null,null,null,null,null,null,null,null,null,null,null,null,null,null,null,null,null,null,null,null,null,null,null,null,null,null,null,null,null,null,null,null,null,null,null,null,null,null,null,null,null,null,null,null,null,null,null,null,null,null,null,null,null,null,null,null,null,null,null,null,null,null,null,null,null,null,null,null,null,null,null,null,null,null,null,null,null,null,null,null,null,null,null,null,null,null,null,null,null,null,null,null,null,null,null,null,null,null,null,null,null,null,null,null,null,null,null,null,null,null,null,null,null,null,null,null,null,null,null,null,null,null,null,null,"Fit",0]
[null,"Sanitary waste and vent (sewer)",null,null,null,null,null,null,null,null,null,null,null,null,null,null,null,null,null,null,null,null,null,null,null,null,null,null,null,null,null,null,null,null,null,null,null,null,null,null,null,null,null,null,null,null,null,null,null,null,null,null,null,null,null,null,null,null,null,null,null,null,null,null,null,null,null,null,null,null,null,null,null,null,null,null,null,null,null,null,null,null,null,null,null,null,null,null,null,null,null,null,null,null,null,null,null,null,null,null,null,null,null,null,null,null,null,null,null,null,null,null,null,null,null,null,null,null,null,null,null,null,null,null,null,null,null,null,null,null,null,null,null,null,null,null,null,null,null,null,null,null,null,"Fit",0]
[null,"Mechanical HVAC",null,null,null,null,null,null,null,null,null,null,null,null,null,null,null,null,null,null,null,null,null,null,null,null,null,null,null,null,null,null,null,null,null,null,null,null,null,null,null,null,null,null,null,null,null,null,null,null,null,null,null,null,null,null,null,null,null,null,null,null,null,null,null,null,null,null,null,null,null,null,null,null,null,null,null,null,null,null,null,null,null,null,null,null,null,null,null,null,null,null,null,null,null,null,null,null,null,null,null,null,null,null,null,null,null,null,null,null,null,null,null,null,null,null,null,null,null,null,null,null,null,null,null,null,null,null,null,null,null,null,null,null,null,null,null,null,null,null,null,null,null,"Fit",0]
[null,"Heating system",null,null,null,null,null,null,null,null,null,null,null,null,null,null,null,null,null,null,null,"(describe)",null,null,null,null,null,null,null,null,null,null,null,null,null,null,null,null,null,null,null,null,null,null,null,null,null,null,null,null,null,null,null,null,null,null,null,null,null,null,null,null,null,null,null,null,null,null,null,null,null,null,null,null,null,null,null,null,null,null,null,null,null,null,null,null,null,null,null,null,null,null,null,null,null,null,null,null,null,null,null,null,null,null,null,null,null,null,null,null,null,null,null,null,null,null,null,null,null,null,null,null,null,null,null,null,null,null,null,null,null,null,null,null,null,null,null,null,null,null,null,null,null,"Fit",0]
[null,"Cooling system",null,null,null,null,null,null,null,null,null,null,null,null,null,null,null,null,null,null,null,"(describe)",null,null,null,null,null,null,null,null,null,null,null,null,null,null,null,null,null,null,null,null,null,null,null,null,null,null,null,null,null,null,null,null,null,null,null,null,null,null,null,null,null,null,null,null,null,null,null,null,null,null,null,null,null,null,null,null,null,null,null,null,null,null,null,null,null,null,null,null,null,null,null,null,null,null,null,null,null,null,null,null,null,null,null,null,null,null,null,null,null,null,null,null,null,null,null,null,null,null,null,null,null,null,null,null,null,null,null,null,null,null,null,null,null,null,null,null,null,null,null,null,null,"Fit",0]
[null,"Electrical",null,null,null,null,null,null,null,null,null,null,null,null,null,null,null,null,null,null,null,null,null,null,null,null,null,null,null,null,null,null,null,null,null,null,null,null,null,null,null,null,null,null,null,null,null,null,null,null,null,null,null,null,null,null,null,null,null,null,null,null,null,null,null,null,null,null,null,null,null,null,null,null,null,null,null,null,null,null,null,null,null,null,null,null,null,null,null,null,null,null,null,null,null,null,null,null,null,null,null,null,null,null,null,null,null,null,null,null,null,null,null,null,null,null,null,null,null,null,null,null,null,null,null,null,null,null,null,null,null,null,null,null,null,null,null,null,null,null,null,null,null,"Fit",0]
[null,"Building power/wiring",null,null,null,null,null,null,null,null,null,null,null,null,null,null,null,null,null,null,null,null,null,null,null,null,null,null,null,null,null,null,null,null,null,null,null,null,null,null,null,null,null,null,null,null,null,null,null,null,null,null,null,null,null,null,null,null,null,null,null,null,null,null,null,null,null,null,null,null,null,null,null,null,null,null,null,null,null,null,null,null,null,null,null,null,null,null,null,null,null,null,null,null,null,null,null,null,null,null,null,null,null,null,null,null,null,null,null,null,null,null,null,null,null,null,null,null,null,null,null,null,null,null,null,null,null,null,null,null,null,null,null,null,null,null,null,null,null,null,null,null,null,"Fit",0]
[null,"Switchgear/metering",null,null,null,null,null,null,null,null,null,null,null,null,null,null,null,null,null,null,null,null,null,null,null,null,null,null,null,null,null,null,null,null,null,null,null,null,null,null,null,null,null,null,null,null,null,null,null,null,null,null,null,null,null,null,null,null,null,null,null,null,null,null,null,null,null,null,null,null,null,null,null,null,null,null,null,null,null,null,null,null,null,null,null,null,null,null,null,null,null,null,null,null,null,null,null,null,null,null,null,null,null,null,null,null,null,null,null,null,null,null,null,null,null,null,null,null,null,null,null,null,null,null,null,null,null,null,null,null,null,null,null,null,null,null,null,null,null,null,null,null,null,"Fit",0]
[null,"Emergency lighting/generator",null,null,null,null,null,null,null,null,null,null,null,null,null,null,null,null,null,null,null,null,null,null,null,null,null,null,null,null,null,null,null,null,null,null,null,null,null,null,null,null,null,null,null,null,null,null,null,null,null,null,null,null,null,null,null,null,null,null,null,null,null,null,null,null,null,null,null,null,null,null,null,null,null,null,null,null,null,null,null,null,null,null,null,null,null,null,null,null,null,null,null,null,null,null,null,null,null,null,null,null,null,null,null,null,null,null,null,null,null,null,null,null,null,null,null,null,null,null,null,null,null,null,null,null,null,null,null,null,null,null,null,null,null,null,null,null,null,null,null,null,null,"Fit",0]
[null,"Smoke and fire detection",null,null,null,null,null,null,null,null,null,null,null,null,null,null,null,null,null,null,null,null,null,null,null,null,null,null,null,null,null,null,null,null,null,null,null,null,null,null,null,null,null,null,null,null,null,null,null,null,null,null,null,null,null,null,null,null,null,null,null,null,null,null,null,null,null,null,null,null,null,null,null,null,null,null,null,null,null,null,null,null,null,null,null,null,null,null,null,null,null,null,null,null,null,null,null,null,null,null,null,null,null,null,null,null,null,null,null,null,null,null,null,null,null,null,null,null,null,null,null,null,null,null,null,null,null,null,null,null,null,null,null,null,null,null,null,null,null,null,null,null,null,"Fit",0]
[null,"Buzzer/intercom (security)",null,null,null,null,null,null,null,null,null,null,null,null,null,null,null,null,null,null,null,null,null,null,null,null,null,null,null,null,null,null,null,null,null,null,null,null,null,null,null,null,null,null,null,null,null,null,null,null,null,null,null,null,null,null,null,null,null,null,null,null,null,null,null,null,null,null,null,null,null,null,null,null,null,null,null,null,null,null,null,null,null,null,null,null,null,null,null,null,null,null,null,null,null,null,null,null,null,null,null,null,null,null,null,null,null,null,null,null,null,null,null,null,null,null,null,null,null,null,null,null,null,null,null,null,null,null,null,null,null,null,null,null,null,null,null,null,null,null,null,null,null,"Fit",0]
[null,"Fire suppression",null,null,null,null,null,null,null,null,null,null,null,null,null,null,null,null,null,null,null,null,null,null,null,null,null,null,null,null,null,null,null,null,null,null,null,null,null,null,null,null,null,null,null,null,null,null,null,null,null,null,null,null,null,null,null,null,null,null,null,null,null,null,null,null,null,null,null,null,null,null,null,null,null,null,null,null,null,null,null,null,null,null,null,null,null,null,null,null,null,null,null,null,null,null,null,null,null,null,null,null,null,null,null,null,null,null,null,null,null,null,null,null,null,null,null,null,null,null,null,null,null,null,null,null,null,null,null,null,null,null,null,null,null,null,null,null,null,null,null,null,null,"Fit",0]
[null,"Elevators",null,null,null,null,null,null,null,null,null,null,null,null,null,null,null,null,null,null,null,null,null,null,null,null,null,null,null,null,null,null,null,null,null,null,null,null,null,null,null,null,null,null,null,null,null,null,null,null,null,null,null,null,null,null,null,null,null,null,null,null,null,null,null,null,null,null,null,null,null,null,null,null,null,null,null,null,null,null,null,null,null,null,null,null,null,null,null,null,null,null,null,null,null,null,null,null,null,null,null,null,null,null,null,null,null,null,null,null,null,null,null,null,null,null,null,null,null,null,null,null,null,null,null,null,null,null,null,null,null,null,null,null,null,null,null,null,null,null,null,null,null,"Fit",0]
[null,"Security",null,null,null,null,null,null,null,null,null,null,null,null,null,null,null,null,null,null,null,null,null,null,null,null,null,null,null,null,null,null,null,null,null,null,null,null,null,null,null,null,null,null,null,null,null,null,null,null,null,null,null,null,null,null,null,null,null,null,null,null,null,null,null,null,null,null,null,null,null,null,null,null,null,null,null,null,null,null,null,null,null,null,null,null,null,null,null,null,null,null,null,null,null,null,null,null,null,null,null,null,null,null,null,null,null,null,null,null,null,null,null,null,null,null,null,null,null,null,null,null,null,null,null,null,null,null,null,null,null,null,null,null,null,null,null,null,null,null,null,null,null,"Fit",0]
[null,"Other",null,null,null,null,null,null,null,null,null,null,null,null,null,null,null,null,null,null,null,null,null,null,null,null,null,null,null,null,null,null,null,null,null,null,null,null,null,null,null,null,null,null,null,null,null,null,null,null,null,null,null,null,null,null,null,null,null,null,null,null,null,null,null,null,null,null,null,null,null,null,null,null,null,null,null,null,null,null,null,null,null,null,null,null,null,null,null,null,null,null,null,null,null,null,null,null,null,null,null,null,null,null,null,null,null,null,null,null,null,null,null,null,null,null,null,null,null,null,null,null,null,null,null,null,null,null,null,null,null,null,null,null,null,null,null,null,null,null,null,null,null,"Fit",0]
[null,"Other",null,null,null,null,null,null,null,null,null,null,null,null,null,null,null,null,null,null,null,null,null,null,null,null,null,null,null,null,null,null,null,null,null,null,null,null,null,null,null,null,null,null,null,null,null,null,null,null,null,null,null,null,null,null,null,null,null,null,null,null,null,null,null,null,null,null,null,null,null,null,null,null,null,null,null,null,null,null,null,null,null,null,null,null,null,null,null,null,null,null,null,null,null,null,null,null,null,null,null,null,null,null,null,null,null,null,null,null,null,null,null,null,null,null,null,null,null,null,null,null,null,null,null,null,null,null,null,null,null,null,null,null,null,null,null,null,null,null,null,null,null,"Fit",0]
[null,"Other",null,null,null,null,null,null,null,null,null,null,null,null,null,null,null,null,null,null,null,null,null,null,null,null,null,null,null,null,null,null,null,null,null,null,null,null,null,null,null,null,null,null,null,null,null,null,null,null,null,null,null,null,null,null,null,null,null,null,null,null,null,null,null,null,null,null,null,null,null,null,null,null,null,null,null,null,null,null,null,null,null,null,null,null,null,null,null,null,null,null,null,null,null,null,null,null,null,null,null,null,null,null,null,null,null,null,null,null,null,null,null,null,null,null,null,null,null,null,null,null,null,null,null,null,null,null,null,null,null,null,null,null,null,null,null,null,null,null,null,null,null,"Fit",0]
[null,"Other",null,null,null,null,null,null,null,null,null,null,null,null,null,null,null,null,null,null,null,null,null,null,null,null,null,null,null,null,null,null,null,null,null,null,null,null,null,null,null,null,null,null,null,null,null,null,null,null,null,null,null,null,null,null,null,null,null,null,null,null,null,null,null,null,null,null,null,null,null,null,null,null,null,null,null,null,null,null,null,null,null,null,null,null,null,null,null,null,null,null,null,null,null,null,null,null,null,null,null,null,null,null,null,null,null,null,null,null,null,null,null,null,null,null,null,null,null,null,null,null,null,null,null,null,null,null,null,null,null,null,null,null,null,null,null,null,null,null,null,null,null,"Fit",0]
[null,"Other",null,null,null,null,null,null,null,null,null,null,null,null,null,null,null,null,null,null,null,null,null,null,null,null,null,null,null,null,null,null,null,null,null,null,null,null,null,null,null,null,null,null,null,null,null,null,null,null,null,null,null,null,null,null,null,null,null,null,null,null,null,null,null,null,null,null,null,null,null,null,null,null,null,null,null,null,null,null,null,null,null,null,null,null,null,null,null,null,null,null,null,null,null,null,null,null,null,null,null,null,null,null,null,null,null,null,null,null,null,null,null,null,null,null,null,null,null,null,null,null,null,null,null,null,null,null,null,null,null,null,null,null,null,null,null,null,null,null,null,null,null,"Fit",0]
[]
[null,"Dwelling units"]
[null,{"$f":"B20","v":"Complete the estimated useful life, condition, remaining useful life, action and comments for the applicable items listed below.  Indicate the condition using the following abbreviations: E = excellent, G = good, A = average, F = fair and P = poor.  Indicate the action required using the following abbreviations: CR = Critical Repairs; PR = Priority Repairs; PR90 = 90 day Priority Repairs and RR = reserve for future repair/replacement.  See Section VII for a complete description of each repair category.  The consultant should attach additional information as needed.  The consultant must also note any Mold observations on any component in the comment sections."}]
[]
[null,null,null,null,null,null,null,null,null,null,null,null,null,null,null,null,null,null,null,null,null,null,null,null,null,null,null,null,null,null,null,null,null,null,null,null,null,"Estimated",null,null,null,null,null,null,null,null,null,null,null,null,null,null,null,null,null,"Condition",null,null,null,null,null,null,null,null,null,null,null,null,null,null,null,null,null,"Remaining",null,null,null,null,null,null,null,null,null,null,null,null,null,null,null,null,null,{"$f":"CN22","v":"Action (CR, PR,"},null,null,null,null,null,null,null,null,null,null,null,null,null,null,null,null,null,"Comments/Mold Observations"]
[null,"Item",null,null,null,null,null,null,null,null,null,null,null,null,null,null,null,null,null,null,null,null,null,null,null,null,null,null,null,null,null,null,null,null,null,null,null,"Useful Life",null,null,null,null,null,null,null,null,null,null,null,null,null,null,null,null,null,"(E, G, A, F, P)",null,null,null,null,null,null,null,null,null,null,null,null,null,null,null,null,null,"Useful Life",null,null,null,null,null,null,null,null,null,null,null,null,null,null,null,null,null,{"$f":"CN23","v":"PR-90, RR)"}]
[null,"Unit entry door(s) and frame(s)",null,null,null,null,null,null,null,null,null,null,null,null,null,null,null,null,null,null,null,null,null,null,null,null,null,null,null,null,null,null,null,null,null,null,null,null,null,null,null,null,null,null,null,null,null,null,null,null,null,null,null,null,null,null,null,null,null,null,null,null,null,null,null,null,null,null,null,null,null,null,null,null,null,null,null,null,null,null,null,null,null,null,null,null,null,null,null,null,null,null,null,null,null,null,null,null,null,null,null,null,null,null,null,null,null,null,null,null,null,null,null,null,null,null,null,null,null,null,null,null,null,null,null,null,null,null,null,null,null,null,null,null,null,null,null,null,null,null,null,null,null,"Fit",{"$f":"DF126","v":0}]
[null,"Patio doors",null,null,null,null,null,null,null,null,null,null,null,null,null,null,null,null,null,null,null,null,null,null,null,null,null,null,null,null,null,null,null,null,null,null,null,null,null,null,null,null,null,null,null,null,null,null,null,null,null,null,null,null,null,null,null,null,null,null,null,null,null,null,null,null,null,null,null,null,null,null,null,null,null,null,null,null,null,null,null,null,null,null,null,null,null,null,null,null,null,null,null,null,null,null,null,null,null,null,null,null,null,null,null,null,null,null,null,null,null,null,null,null,null,null,null,null,null,null,null,null,null,null,null,null,null,null,null,null,null,null,null,null,null,null,null,null,null,null,null,null,null,"Fit",0]
[null,"Smoke/fire detection",null,null,null,null,null,null,null,null,null,null,null,null,null,null,null,null,null,null,null,null,null,null,null,null,null,null,null,null,null,null,null,null,null,null,null,null,null,null,null,null,null,null,null,null,null,null,null,null,null,null,null,null,null,null,null,null,null,null,null,null,null,null,null,null,null,null,null,null,null,null,null,null,null,null,null,null,null,null,null,null,null,null,null,null,null,null,null,null,null,null,null,null,null,null,null,null,null,null,null,null,null,null,null,null,null,null,null,null,null,null,null,null,null,null,null,null,null,null,null,null,null,null,null,null,null,null,null,null,null,null,null,null,null,null,null,null,null,null,null,null,null,"Fit",0]
[null,"Buzzer/intercom (security)",null,null,null,null,null,null,null,null,null,null,null,null,null,null,null,null,null,null,null,null,null,null,null,null,null,null,null,null,null,null,null,null,null,null,null,null,null,null,null,null,null,null,null,null,null,null,null,null,null,null,null,null,null,null,null,null,null,null,null,null,null,null,null,null,null,null,null,null,null,null,null,null,null,null,null,null,null,null,null,null,null,null,null,null,null,null,null,null,null,null,null,null,null,null,null,null,null,null,null,null,null,null,null,null,null,null,null,null,null,null,null,null,null,null,null,null,null,null,null,null,null,null,null,null,null,null,null,null,null,null,null,null,null,null,null,null,null,null,null,null,null,"Fit",0]
[null,"Window coverings",null,null,null,null,null,null,null,null,null,null,null,null,null,null,null,null,null,null,null,null,null,null,null,null,null,null,null,null,null,null,null,null,null,null,null,null,null,null,null,null,null,null,null,null,null,null,null,null,null,null,null,null,null,null,null,null,null,null,null,null,null,null,null,null,null,null,null,null,null,null,null,null,null,null,null,null,null,null,null,null,null,null,null,null,null,null,null,null,null,null,null,null,null,null,null,null,null,null,null,null,null,null,null,null,null,null,null,null,null,null,null,null,null,null,null,null,null,null,null,null,null,null,null,null,null,null,null,null,null,null,null,null,null,null,null,null,null,null,null,null,null,"Fit",0]
[null,"Flooring",null,null,null,null,null,null,null,null,null,null,null,null,null,null,null,null,null,null,null,null,null,null,null,null,null,null,null,null,null,null,null,null,null,null,null,null,null,null,null,null,null,null,null,null,null,null,null,null,null,null,null,null,null,null,null,null,null,null,null,null,null,null,null,null,null,null,null,null,null,null,null,null,null,null,null,null,null,null,null,null,null,null,null,null,null,null,null,null,null,null,null,null,null,null,null,null,null,null,null,null,null,null,null,null,null,null,null,null,null,null,null,null,null,null,null,null,null,null,null,null,null,null,null,null,null,null,null,null,null,null,null,null,null,null,null,null,null,null,null,null,null,"Fit",0]
[null,"Carpet",null,null,null,null,null,null,null,null,null,null,null,null,null,null,null,null,null,null,null,null,null,null,null,null,null,null,null,null,null,null,null,null,null,null,null,null,null,null,null,null,null,null,null,null,null,null,null,null,null,null,null,null,null,null,null,null,null,null,null,null,null,null,null,null,null,null,null,null,null,null,null,null,null,null,null,null,null,null,null,null,null,null,null,null,null,null,null,null,null,null,null,null,null,null,null,null,null,null,null,null,null,null,null,null,null,null,null,null,null,null,null,null,null,null,null,null,null,null,null,null,null,null,null,null,null,null,null,null,null,null,null,null,null,null,null,null,null,null,null,null,null,"Fit",0]
[null,"Resilient flooring (vinyl)",null,null,null,null,null,null,null,null,null,null,null,null,null,null,null,null,null,null,null,null,null,null,null,null,null,null,null,null,null,null,null,null,null,null,null,null,null,null,null,null,null,null,null,null,null,null,null,null,null,null,null,null,null,null,null,null,null,null,null,null,null,null,null,null,null,null,null,null,null,null,null,null,null,null,null,null,null,null,null,null,null,null,null,null,null,null,null,null,null,null,null,null,null,null,null,null,null,null,null,null,null,null,null,null,null,null,null,null,null,null,null,null,null,null,null,null,null,null,null,null,null,null,null,null,null,null,null,null,null,null,null,null,null,null,null,null,null,null,null,null,null,"Fit",0]
[null,"Other",null,null,null,null,null,null,null,null,null,null,null,null,null,null,null,null,null,null,null,null,null,null,null,null,null,null,null,null,null,null,null,null,null,null,null,null,null,null,null,null,null,null,null,null,null,null,null,null,null,null,null,null,null,null,null,null,null,null,null,null,null,null,null,null,null,null,null,null,null,null,null,null,null,null,null,null,null,null,null,null,null,null,null,null,null,null,null,null,null,null,null,null,null,null,null,null,null,null,null,null,null,null,null,null,null,null,null,null,null,null,null,null,null,null,null,null,null,null,null,null,null,null,null,null,null,null,null,null,null,null,null,null,null,null,null,null,null,null,null,null,null,"Fit",0]
[null,"Cabinetry",null,null,null,null,null,null,null,null,null,null,null,null,null,null,null,null,null,null,null,null,null,null,null,null,null,null,null,null,null,null,null,null,null,null,null,null,null,null,null,null,null,null,null,null,null,null,null,null,null,null,null,null,null,null,null,null,null,null,null,null,null,null,null,null,null,null,null,null,null,null,null,null,null,null,null,null,null,null,null,null,null,null,null,null,null,null,null,null,null,null,null,null,null,null,null,null,null,null,null,null,null,null,null,null,null,null,null,null,null,null,null,null,null,null,null,null,null,null,null,null,null,null,null,null,null,null,null,null,null,null,null,null,null,null,null,null,null,null,null,null,null,"Fit",0]
[null,"Kitchen",null,null,null,null,null,null,null,null,null,null,null,null,null,null,null,null,null,null,null,null,null,null,null,null,null,null,null,null,null,null,null,null,null,null,null,null,null,null,null,null,null,null,null,null,null,null,null,null,null,null,null,null,null,null,null,null,null,null,null,null,null,null,null,null,null,null,null,null,null,null,null,null,null,null,null,null,null,null,null,null,null,null,null,null,null,null,null,null,null,null,null,null,null,null,null,null,null,null,null,null,null,null,null,null,null,null,null,null,null,null,null,null,null,null,null,null,null,null,null,null,null,null,null,null,null,null,null,null,null,null,null,null,null,null,null,null,null,null,null,null,null,"Fit",0]
[null,"Bathrooms",null,null,null,null,null,null,null,null,null,null,null,null,null,null,null,null,null,null,null,null,null,null,null,null,null,null,null,null,null,null,null,null,null,null,null,null,null,null,null,null,null,null,null,null,null,null,null,null,null,null,null,null,null,null,null,null,null,null,null,null,null,null,null,null,null,null,null,null,null,null,null,null,null,null,null,null,null,null,null,null,null,null,null,null,null,null,null,null,null,null,null,null,null,null,null,null,null,null,null,null,null,null,null,null,null,null,null,null,null,null,null,null,null,null,null,null,null,null,null,null,null,null,null,null,null,null,null,null,null,null,null,null,null,null,null,null,null,null,null,null,null,"Fit",0]
[null,"Other",null,null,null,null,null,null,null,null,null,null,null,null,null,null,null,null,null,null,null,null,null,null,null,null,null,null,null,null,null,null,null,null,null,null,null,null,null,null,null,null,null,null,null,null,null,null,null,null,null,null,null,null,null,null,null,null,null,null,null,null,null,null,null,null,null,null,null,null,null,null,null,null,null,null,null,null,null,null,null,null,null,null,null,null,null,null,null,null,null,null,null,null,null,null,null,null,null,null,null,null,null,null,null,null,null,null,null,null,null,null,null,null,null,null,null,null,null,null,null,null,null,null,null,null,null,null,null,null,null,null,null,null,null,null,null,null,null,null,null,null,null,"Fit",0]
[null,"Countertops and sinks",null,null,null,null,null,null,null,null,null,null,null,null,null,null,null,null,null,null,null,null,null,null,null,null,null,null,null,null,null,null,null,null,null,null,null,null,null,null,null,null,null,null,null,null,null,null,null,null,null,null,null,null,null,null,null,null,null,null,null,null,null,null,null,null,null,null,null,null,null,null,null,null,null,null,null,null,null,null,null,null,null,null,null,null,null,null,null,null,null,null,null,null,null,null,null,null,null,null,null,null,null,null,null,null,null,null,null,null,null,null,null,null,null,null,null,null,null,null,null,null,null,null,null,null,null,null,null,null,null,null,null,null,null,null,null,null,null,null,null,null,null,"Fit",0]
[null,"Kitchen",null,null,null,null,null,null,null,null,null,null,null,null,null,null,null,null,null,null,null,null,null,null,null,null,null,null,null,null,null,null,null,null,null,null,null,null,null,null,null,null,null,null,null,null,null,null,null,null,null,null,null,null,null,null,null,null,null,null,null,null,null,null,null,null,null,null,null,null,null,null,null,null,null,null,null,null,null,null,null,null,null,null,null,null,null,null,null,null,null,null,null,null,null,null,null,null,null,null,null,null,null,null,null,null,null,null,null,null,null,null,null,null,null,null,null,null,null,null,null,null,null,null,null,null,null,null,null,null,null,null,null,null,null,null,null,null,null,null,null,null,null,"Fit",0]
[null,"Bathrooms",null,null,null,null,null,null,null,null,null,null,null,null,null,null,null,null,null,null,null,null,null,null,null,null,null,null,null,null,null,null,null,null,null,null,null,null,null,null,null,null,null,null,null,null,null,null,null,null,null,null,null,null,null,null,null,null,null,null,null,null,null,null,null,null,null,null,null,null,null,null,null,null,null,null,null,null,null,null,null,null,null,null,null,null,null,null,null,null,null,null,null,null,null,null,null,null,null,null,null,null,null,null,null,null,null,null,null,null,null,null,null,null,null,null,null,null,null,null,null,null,null,null,null,null,null,null,null,null,null,null,null,null,null,null,null,null,null,null,null,null,null,"Fit",0]
[null,"Other",null,null,null,null,null,null,null,null,null,null,null,null,null,null,null,null,null,null,null,null,null,null,null,null,null,null,null,null,null,null,null,null,null,null,null,null,null,null,null,null,null,null,null,null,null,null,null,null,null,null,null,null,null,null,null,null,null,null,null,null,null,null,null,null,null,null,null,null,null,null,null,null,null,null,null,null,null,null,null,null,null,null,null,null,null,null,null,null,null,null,null,null,null,null,null,null,null,null,null,null,null,null,null,null,null,null,null,null,null,null,null,null,null,null,null,null,null,null,null,null,null,null,null,null,null,null,null,null,null,null,null,null,null,null,null,null,null,null,null,null,null,"Fit",0]
[null,"Appliances",null,null,null,null,null,null,null,null,null,null,null,null,null,null,null,null,null,null,null,null,null,null,null,null,null,null,null,null,null,null,null,null,null,null,null,null,null,null,null,null,null,null,null,null,null,null,null,null,null,null,null,null,null,null,null,null,null,null,null,null,null,null,null,null,null,null,null,null,null,null,null,null,null,null,null,null,null,null,null,null,null,null,null,null,null,null,null,null,null,null,null,null,null,null,null,null,null,null,null,null,null,null,null,null,null,null,null,null,null,null,null,null,null,null,null,null,null,null,null,null,null,null,null,null,null,null,null,null,null,null,null,null,null,null,null,null,null,null,null,null,null,"Fit",0]
[null,"Refrigerator",null,null,null,null,null,null,null,null,null,null,null,null,null,null,null,null,null,null,null,null,null,null,null,null,null,null,null,null,null,null,null,null,null,null,null,null,null,null,null,null,null,null,null,null,null,null,null,null,null,null,null,null,null,null,null,null,null,null,null,null,null,null,null,null,null,null,null,null,null,null,null,null,null,null,null,null,null,null,null,null,null,null,null,null,null,null,null,null,null,null,null,null,null,null,null,null,null,null,null,null,null,null,null,null,null,null,null,null,null,null,null,null,null,null,null,null,null,null,null,null,null,null,null,null,null,null,null,null,null,null,null,null,null,null,null,null,null,null,null,null,null,"Fit",0]
[null,"Range/stove",null,null,null,null,null,null,null,null,null,null,null,null,null,null,null,null,null,null,null,null,null,null,null,null,null,null,null,null,null,null,null,null,null,null,null,null,null,null,null,null,null,null,null,null,null,null,null,null,null,null,null,null,null,null,null,null,null,null,null,null,null,null,null,null,null,null,null,null,null,null,null,null,null,null,null,null,null,null,null,null,null,null,null,null,null,null,null,null,null,null,null,null,null,null,null,null,null,null,null,null,null,null,null,null,null,null,null,null,null,null,null,null,null,null,null,null,null,null,null,null,null,null,null,null,null,null,null,null,null,null,null,null,null,null,null,null,null,null,null,null,null,"Fit",0]
[null,"Range vent",null,null,null,null,null,null,null,null,null,null,null,null,null,null,null,null,null,null,null,null,null,null,null,null,null,null,null,null,null,null,null,null,null,null,null,null,null,null,null,null,null,null,null,null,null,null,null,null,null,null,null,null,null,null,null,null,null,null,null,null,null,null,null,null,null,null,null,null,null,null,null,null,null,null,null,null,null,null,null,null,null,null,null,null,null,null,null,null,null,null,null,null,null,null,null,null,null,null,null,null,null,null,null,null,null,null,null,null,null,null,null,null,null,null,null,null,null,null,null,null,null,null,null,null,null,null,null,null,null,null,null,null,null,null,null,null,null,null,null,null,null,"Fit",0]
[null,"Dishwasher",null,null,null,null,null,null,null,null,null,null,null,null,null,null,null,null,null,null,null,null,null,null,null,null,null,null,null,null,null,null,null,null,null,null,null,null,null,null,null,null,null,null,null,null,null,null,null,null,null,null,null,null,null,null,null,null,null,null,null,null,null,null,null,null,null,null,null,null,null,null,null,null,null,null,null,null,null,null,null,null,null,null,null,null,null,null,null,null,null,null,null,null,null,null,null,null,null,null,null,null,null,null,null,null,null,null,null,null,null,null,null,null,null,null,null,null,null,null,null,null,null,null,null,null,null,null,null,null,null,null,null,null,null,null,null,null,null,null,null,null,null,"Fit",0]
[null,"Disposal",null,null,null,null,null,null,null,null,null,null,null,null,null,null,null,null,null,null,null,null,null,null,null,null,null,null,null,null,null,null,null,null,null,null,null,null,null,null,null,null,null,null,null,null,null,null,null,null,null,null,null,null,null,null,null,null,null,null,null,null,null,null,null,null,null,null,null,null,null,null,null,null,null,null,null,null,null,null,null,null,null,null,null,null,null,null,null,null,null,null,null,null,null,null,null,null,null,null,null,null,null,null,null,null,null,null,null,null,null,null,null,null,null,null,null,null,null,null,null,null,null,null,null,null,null,null,null,null,null,null,null,null,null,null,null,null,null,null,null,null,null,"Fit",0]
[null,"Microwave",null,null,null,null,null,null,null,null,null,null,null,null,null,null,null,null,null,null,null,null,null,null,null,null,null,null,null,null,null,null,null,null,null,null,null,null,null,null,null,null,null,null,null,null,null,null,null,null,null,null,null,null,null,null,null,null,null,null,null,null,null,null,null,null,null,null,null,null,null,null,null,null,null,null,null,null,null,null,null,null,null,null,null,null,null,null,null,null,null,null,null,null,null,null,null,null,null,null,null,null,null,null,null,null,null,null,null,null,null,null,null,null,null,null,null,null,null,null,null,null,null,null,null,null,null,null,null,null,null,null,null,null,null,null,null,null,null,null,null,null,null,"Fit",0]
[null,"Clothes washer",null,null,null,null,null,null,null,null,null,null,null,null,null,null,null,null,null,null,null,null,null,null,null,null,null,null,null,null,null,null,null,null,null,null,null,null,null,null,null,null,null,null,null,null,null,null,null,null,null,null,null,null,null,null,null,null,null,null,null,null,null,null,null,null,null,null,null,null,null,null,null,null,null,null,null,null,null,null,null,null,null,null,null,null,null,null,null,null,null,null,null,null,null,null,null,null,null,null,null,null,null,null,null,null,null,null,null,null,null,null,null,null,null,null,null,null,null,null,null,null,null,null,null,null,null,null,null,null,null,null,null,null,null,null,null,null,null,null,null,null,null,"Fit",0]
[null,"Clothes dryer",null,null,null,null,null,null,null,null,null,null,null,null,null,null,null,null,null,null,null,null,null,null,null,null,null,null,null,null,null,null,null,null,null,null,null,null,null,null,null,null,null,null,null,null,null,null,null,null,null,null,null,null,null,null,null,null,null,null,null,null,null,null,null,null,null,null,null,null,null,null,null,null,null,null,null,null,null,null,null,null,null,null,null,null,null,null,null,null,null,null,null,null,null,null,null,null,null,null,null,null,null,null,null,null,null,null,null,null,null,null,null,null,null,null,null,null,null,null,null,null,null,null,null,null,null,null,null,null,null,null,null,null,null,null,null,null,null,null,null,null,null,"Fit",0]
[null,"Bathroom fixtures",null,null,null,null,null,null,null,null,null,null,null,null,null,null,null,null,null,null,null,null,null,null,null,null,null,null,null,null,null,null,null,null,null,null,null,null,null,null,null,null,null,null,null,null,null,null,null,null,null,null,null,null,null,null,null,null,null,null,null,null,null,null,null,null,null,null,null,null,null,null,null,null,null,null,null,null,null,null,null,null,null,null,null,null,null,null,null,null,null,null,null,null,null,null,null,null,null,null,null,null,null,null,null,null,null,null,null,null,null,null,null,null,null,null,null,null,null,null,null,null,null,null,null,null,null,null,null,null,null,null,null,null,null,null,null,null,null,null,null,null,null,"Fit",0]
[null,"Toilet",null,null,null,null,null,null,null,null,null,null,null,null,null,null,null,null,null,null,null,null,null,null,null,null,null,null,null,null,null,null,null,null,null,null,null,null,null,null,null,null,null,null,null,null,null,null,null,null,null,null,null,null,null,null,null,null,null,null,null,null,null,null,null,null,null,null,null,null,null,null,null,null,null,null,null,null,null,null,null,null,null,null,null,null,null,null,null,null,null,null,null,null,null,null,null,null,null,null,null,null,null,null,null,null,null,null,null,null,null,null,null,null,null,null,null,null,null,null,null,null,null,null,null,null,null,null,null,null,null,null,null,null,null,null,null,null,null,null,null,null,null,"Fit",0]
[null,"Tub/shower and enclosures",null,null,null,null,null,null,null,null,null,null,null,null,null,null,null,null,null,null,null,null,null,null,null,null,null,null,null,null,null,null,null,null,null,null,null,null,null,null,null,null,null,null,null,null,null,null,null,null,null,null,null,null,null,null,null,null,null,null,null,null,null,null,null,null,null,null,null,null,null,null,null,null,null,null,null,null,null,null,null,null,null,null,null,null,null,null,null,null,null,null,null,null,null,null,null,null,null,null,null,null,null,null,null,null,null,null,null,null,null,null,null,null,null,null,null,null,null,null,null,null,null,null,null,null,null,null,null,null,null,null,null,null,null,null,null,null,null,null,null,null,null,"Fit",0]
[null,"Accessories",null,null,null,null,null,null,null,null,null,null,null,null,null,null,null,null,null,null,null,null,null,null,null,null,null,null,null,null,null,null,null,null,null,null,null,null,null,null,null,null,null,null,null,null,null,null,null,null,null,null,null,null,null,null,null,null,null,null,null,null,null,null,null,null,null,null,null,null,null,null,null,null,null,null,null,null,null,null,null,null,null,null,null,null,null,null,null,null,null,null,null,null,null,null,null,null,null,null,null,null,null,null,null,null,null,null,null,null,null,null,null,null,null,null,null,null,null,null,null,null,null,null,null,null,null,null,null,null,null,null,null,null,null,null,null,null,null,null,null,null,null,"Fit",0]
[null,"Other",null,null,null,null,null,null,null,null,null,null,null,null,null,null,null,null,null,null,null,null,null,null,null,null,null,null,null,null,null,null,null,null,null,null,null,null,null,null,null,null,null,null,null,null,null,null,null,null,null,null,null,null,null,null,null,null,null,null,null,null,null,null,null,null,null,null,null,null,null,null,null,null,null,null,null,null,null,null,null,null,null,null,null,null,null,null,null,null,null,null,null,null,null,null,null,null,null,null,null,null,null,null,null,null,null,null,null,null,null,null,null,null,null,null,null,null,null,null,null,null,null,null,null,null,null,null,null,null,null,null,null,null,null,null,null,null,null,null,null,null,null,"Fit",0]
[null,"Other",null,null,null,null,null,null,null,null,null,null,null,null,null,null,null,null,null,null,null,null,null,null,null,null,null,null,null,null,null,null,null,null,null,null,null,null,null,null,null,null,null,null,null,null,null,null,null,null,null,null,null,null,null,null,null,null,null,null,null,null,null,null,null,null,null,null,null,null,null,null,null,null,null,null,null,null,null,null,null,null,null,null,null,null,null,null,null,null,null,null,null,null,null,null,null,null,null,null,null,null,null,null,null,null,null,null,null,null,null,null,null,null,null,null,null,null,null,null,null,null,null,null,null,null,null,null,null,null,null,null,null,null,null,null,null,null,null,null,null,null,null,"Fit",0]
[]
[null,"Overall Property Condition Rating"]
[]
[null,"Provide a description of the overall property condition:"]
[null,null,null,null,null,null,null,null,null,null,null,null,null,null,null,null,null,null,null,null,null,null,null,null,null,null,null,null,null,null,null,null,null,null,null,null,null,null,null,null,null,null,null,null,null,null,null,null,null,null,null,null,null,null,null,null,null,null,null,null,null,null,null,null,null,null,null,null,null,null,null,null,null,null,null,null,null,null,null,null,null,null,null,null,null,null,null,null,null,null,null,null,null,null,null,null,null,null,null,null,null,null,null,null,null,null,null,null,null,null,null,null,null,null,null,null,null,null,null,null,null,null,null,null,null,null,null,null,null,null,null,null,null,null,null,null,null,null,null,null,null,null,null,"Fit",null,{"$f":"B162","v":0}]
[null,null,null,null,null,null,null,null,null,null,null,null,null,null,null,null,null,null,null,null,null,null,null,null,null,null,null,null,null,null,null,null,null,null,null,null,null,null,null,null,null,null,null,null,null,null,null,null,null,null,null,null,null,null,null,null,null,null,null,null,null,null,null,null,null,null,null,null,null,null,null,null,null,null,null,null,null,null,null,null,null,null,null,null,null,null,null,null,null,null,null,null,null,null,null,null,null,null,null,null,null,null,null,null,null,null,null,null,null,null,null,null,null,null,null,null,null,null,null,null,null,null,null,null,null,null,null,null,null,null,null,null,null,null,null,null,null,null,null,null,null,null,"Excellent"]
[null,null,null,null,null,null,null,null,null,null,null,null,null,null,null,null,null,null,null,null,null,null,null,null,null,null,null,null,null,null,null,null,null,null,null,null,null,null,null,null,null,null,null,null,null,null,null,null,null,null,null,null,null,null,null,null,null,null,null,null,null,null,null,null,null,null,null,null,null,null,null,null,null,null,null,null,null,null,null,null,null,null,null,null,null,null,null,null,null,null,null,null,null,null,null,null,null,null,null,null,null,null,null,null,null,null,null,null,null,null,null,null,null,null,null,null,null,null,null,null,null,null,null,null,null,null,null,null,null,null,null,null,null,null,null,null,null,null,null,null,null,null,"Good"]
[null,"Based on the condition of the property, what is the overall property condition rating?",null,null,null,null,null,null,null,null,null,null,null,null,null,null,null,null,null,null,null,null,null,null,null,null,null,null,null,null,null,null,null,null,null,null,null,null,null,null,null,null,null,null,null,null,null,null,null,null,null,null,null,null,null,null,null,null,null,null,null,null,null,null,null,null,null,null,null,null,null,null,null,null,null,null,null,null,null,null,null,null,null,null,null,null,null,null,null,null,null,null,null,null,null,null,null,null,null,null,null,null,null,null,null,null,null,null,null,null,null,null,null,null,null,null,null,null,null,null,null,null,null,null,null,null,null,null,null,null,null,null,null,null,null,null,null,null,null,null,null,null,"Average"]
[null,null,null,null,null,null,null,null,null,null,null,null,null,null,null,null,null,null,null,null,null,null,null,null,null,null,null,null,null,null,null,null,null,null,null,null,null,null,null,null,null,null,null,null,null,null,null,null,null,null,null,null,null,null,null,null,null,null,null,null,null,null,null,null,null,null,null,null,null,null,null,null,null,null,null,null,null,null,null,null,null,null,null,null,null,null,null,null,null,null,null,null,null,null,null,null,null,null,null,null,null,null,null,null,null,null,null,null,null,null,null,null,null,null,null,null,null,null,null,null,null,null,null,null,null,null,null,null,null,null,null,null,null,null,null,null,null,null,null,null,null,null,"Fair"]
[null,{"$f":"I!B239","v":"Freddie Mac Multifamily Form 1105 (12/2024)"},null,null,null,null,null,null,null,null,null,null,null,null,null,null,null,null,null,null,null,null,null,null,null,null,null,null,null,null,null,null,null,null,null,null,null,null,null,null,null,null,null,null,null,null,null,null,null,null,null,null,null,null,null,null,null,null,null,null,null,null,null,null,null,null,null,null,null,null,null,null,null,null,null,null,null,null,null,null,null,null,null,null,null,null,null,null,null,null,null,null,null,null,null,null,null,null,null,null,null,null,null,null,null,null,null,null,null,null,null,null,null,null,null,null,null,null,null,null,null,null,null,null,null,null,null,null,null,null,null,null,null,null,null,null,null,null,null,null,null,null,"Poor"]
[]
[]
[]
[]
[]
[]
[]
[]
[]
[]
[]
[]
[]
[]
[]
[]
[]
[]
[]
[]
[]
[]
[]
[]
[]
[]
[]
[]
[]
[]
[]
[]
[]
[]
[]
[]
[]
[]
[]
[]
[]
[]
[]
[]
[]
[]
[]
[]
[]
[]
[]
[]
[]
[]
[]
[]
[]
[]
[]
[]
[]
[]
[]
[]
[]
[]
[null,null,null,null,null,null,null,null,null,null,null,null,null,null,null,null,null,null,null,null,null,null,null,null,null,null,null,null,null,null,null,null,null,null,null,null,null,null,null,null,null,null,null,null,null,null,null,null,null,null,null,null,null,null,null,null,null,null,null,null,null,null,null,null,null,null,null,null,null,null,null,null,null,null,null,null,null,null,null,null,null,null,null,null,null,null,null,null,null,null,null,null,null,null,null,null,null,null,null,null,null,null,null,null,null,null,null,null,null,null,null,null,null,null,null,null,null,null,null,null,null,null,null,null,null,null,null,null,null,null,null,null,null,null,null,null,null,null,null,null,null,null,"2024-12-03T10:54:08.750"]
[null,null,null,null,null,null,null,null,null,null,null,null,null,null,null,null,null,null,null,null,null,null,null,null,null,null,null,null,null,null,null,null,null,null,null,null,null,null,null,null,null,null,null,null,null,null,null,null,null,null,null,null,null,null,null,null,null,null,null,null,null,null,null,null,null,null,null,null,null,null,null,null,null,null,null,null,null,null,null,null,null,null,null,null,null,null,null,null,null,null,null,null,null,null,null,null,null,null,null,null,null,null,null,null,null,null,null,null,null,null,null,null,null,null,null,null,null,null,null,null,null,null,null,null,null,null,null,null,null,null,null,null,null,null,null,null,null,null,null,null,null,null,"2024-11-20T10:46:28.200"]

{"sheet":"III","index":3,"n_rows":235,"n_cols":149,"rows_kept":235,"cut":false,"hidden":false,"merged":[[40,1,40,35],[40,36,40,48],[40,49,40,58],[40,59,40,69],[40,70,40,84],[40,85,40,101],[40,102,40,140],[58,102,58,140],[49,59,49,69],[49,70,49,84],[49,85,49,101],[49,102,49,140],[50,70,50,84],[50,85,50,101],[50,102,50,140],[51,1,51,84],[51,85,51,101],[51,102,51,140],[57,70,57,84],[57,85,57,101],[58,1,58,35],[58,36,58,48],[58,49,58,58],[58,59,58,69],[80,1,80,140],[73,1,73,84],[73,85,73,101],[68,1,68,35],[68,36,68,48],[68,49,68,58],[68,59,68,69],[68,70,68,84],[68,85,68,101],[68,102,68,140],[69,1,69,84],[69,85,69,101],[69,102,69,140],[77,1,77,140],[78,1,78,140],[76,1,76,140],[79,1,79,140],[66,102,66,140],[59,1,59,35],[59,36,59,48],[59,49,59,58],[59,59,59,69],[59,70,59,84],[59,85,59,101],[59,102,59,140],[60,1,60,84],[60,85,60,101],[60,102,60,140],[65,1,65,140],[64,1,64,140],[66,85,66,101],[58,70,58,84],[58,85,58,101],[2,1,2,140],[5,1,5,140],[7,1,7,140],[10,2,10,34],[10,37,10,69],[10,72,10,140],[39,70,39,84],[39,85,39,101],[39,102,39,140],[13,2,13,69],[13,72,13,140],[16,2,16,34],[16,37,16,69],[16,72,16,140],[18,1,18,140],[35,1,35,140],[38,1,38,140],[39,1,39,35],[39,36,39,48],[39,49,39,58],[39,59,39,69],[48,59,48,69],[50,49,50,58],[50,59,50,69],[48,70,48,84],[41,59,41,69],[41,70,41,84],[41,85,41,101],[41,1,41,35],[46,1,46,140],[41,36,41,48],[41,49,41,58],[41,102,41,140],[42,102,42,140],[42,1,42,84],[47,1,47,140],[48,1,48,35],[48,36,48,48],[48,49,48,58],[48,85,48,101],[48,102,48,140],[42,85,42,101],[67,1,67,35],[67,36,67,48],[67,49,67,58],[67,59,67,69],[67,70,67,84],[67,85,67,101],[67,102,67,140],[49,1,49,35],[49,36,49,48],[49,49,49,58],[66,1,66,35],[66,36,66,48],[66,49,66,58],[66,59,66,69],[66,70,66,84],[57,102,57,140],[55,1,55,140],[56,1,56,140],[57,1,57,35],[57,36,57,48],[57,49,57,58],[57,59,57,69],[50,1,50,35],[50,36,50,48]]}
[null,null,null,null,null,null,null,null,null,null,null,null,null,null,null,null,null,null,null,null,null,null,null,null,null,null,null,null,null,null,null,null,null,null,null,null,null,null,null,null,null,null,null,null,null,null,null,null,null,null,null,null,null,null,null,null,null,null,null,null,null,null,null,null,null,null,null,null,null,null,null,null,null,null,null,null,null,null,null,null,null,null,null,null,null,null,null,null,null,null,null,null,null,null,null,null,null,null,null,null,null,null,null,null,null,null,null,null,null,null,null,null,null,null,null,null,null,null,null,null,null,null,null,null,null,null,null,null,null,null,null,null,null,null,null,null,null,null,null,null,null,null,null,"xSum","xFit","xDelete","xWrap","xWrap","xSelect"]
[]
[null,{"$f":"I!B3","v":"Property Condition Assessment "}]
[]
[]
[null,"Section III: Repairs and Cost Estimates"]
[]
[]
[]
[null,null,"Freddie Mac loan number",null,null,null,null,null,null,null,null,null,null,null,null,null,null,null,null,null,null,null,null,null,null,null,null,null,null,null,null,null,null,null,null,null,null,"Report date",null,null,null,null,null,null,null,null,null,null,null,null,null,null,null,null,null,null,null,null,null,null,null,null,null,null,null,null,null,null,null,null,null,null,"Property name"]
[null,null,{"$f":"IF(I!C11=\"\",\"ENTER IN SECTION I\",I!C11)","v":"ENTER IN SECTION I"},null,null,null,null,null,null,null,null,null,null,null,null,null,null,null,null,null,null,null,null,null,null,null,null,null,null,null,null,null,null,null,null,null,null,{"$f":"IF(I!AL11=\"\",\"ENTER IN SECTION I\",I!AL11)","v":"ENTER IN SECTION I"},null,null,null,null,null,null,null,null,null,null,null,null,null,null,null,null,null,null,null,null,null,null,null,null,null,null,null,null,null,null,null,null,null,null,{"$f":"IF(I!BU11=\"\",\"ENTER IN SECTION I\",I!BU11)","v":"ENTER IN SECTION I"}]
[]
[null,null,"Seller/Servicer name",null,null,null,null,null,null,null,null,null,null,null,null,null,null,null,null,null,null,null,null,null,null,null,null,null,null,null,null,null,null,null,null,null,null,null,null,null,null,null,null,null,null,null,null,null,null,null,null,null,null,null,null,null,null,null,null,null,null,null,null,null,null,null,null,null,null,null,null,null,"Address"]
[null,null,{"$f":"IF(I!C14=\"\",\"ENTER IN SECTION I\",I!C14)","v":"ENTER IN SECTION I"},null,null,null,null,null,null,null,null,null,null,null,null,null,null,null,null,null,null,null,null,null,null,null,null,null,null,null,null,null,null,null,null,null,null,null,null,null,null,null,null,null,null,null,null,null,null,null,null,null,null,null,null,null,null,null,null,null,null,null,null,null,null,null,null,null,null,null,null,null,{"$f":"IF(I!BU14=\"\",\"ENTER IN SECTION I\",I!BU14)","v":"ENTER IN SECTION I"}]
[]
[null,null,"Seller/Servicer number",null,null,null,null,null,null,null,null,null,null,null,null,null,null,null,null,null,null,null,null,null,null,null,null,null,null,null,null,null,null,null,null,null,null,"Inspection date",null,null,null,null,null,null,null,null,null,null,null,null,null,null,null,null,null,null,null,null,null,null,null,null,null,null,null,null,null,null,null,null,null,null,"City, State, Zip"]
[null,null,{"$f":"IF(I!C17=\"\",\"ENTER IN SECTION I\",I!C17)","v":"ENTER IN SECTION I"},null,null,null,null,null,null,null,null,null,null,null,null,null,null,null,null,null,null,null,null,null,null,null,null,null,null,null,null,null,null,null,null,null,null,{"$f":"IF(I!AL17=\"\",\"ENTER IN SECTION I\",I!AL17)","v":"ENTER IN SECTION I"},null,null,null,null,null,null,null,null,null,null,null,null,null,null,null,null,null,null,null,null,null,null,null,null,null,null,null,null,null,null,null,null,null,null,{"$f":"IF(I!BU17=\"\",\"ENTER IN SECTION I\",I!BU17)","v":"ENTER IN SECTION I"}]
[]
[null,"Repairs Identification",null,null,null,null,null,null,null,null,null,null,null,null,null,null,null,null,null,null,null,null,null,null,null,null,null,null,null,null,null,null,null,null,null,null,null,null,null,null,null,null,null,null,null,null,null,null,null,null,null,null,null,null,null,null,null,null,null,null,null,null,null,null,null,null,null,null,null,null,null,null,null,null,null,null,null,null,null,null,null,null,null,null,null,null,null,null,null,null,null,null,null,null,null,null,null,null,null,null,null,null,null,null,null,null,null,null,null,null,null,null,null,null,null,null,null,null,null,null,null,null,null,null,null,null,null,null,null,null,null,null,null,null,null,null,null,null,null,null,null,null,null,{"$f":"IF(COUNTIF(EN25:EN31,TRUE)>=1,2,1)","v":1}]
[]
[null,"Were any Critical or Priority Repairs identified?",null,null,null,null,null,null,null,null,null,null,null,null,null,null,null,null,null,null,null,null,null,null,null,null,null,null,null,null,null,null,null,null,null,null,null,null,null,null,null,null,null,null,null,null,null,null,null,null,null,null,null,null,null,null,null,null,null,null,null,null,null,null,null,null,null,null,null,null,null,null,null,null,null,null,null,null,null,null,null,null,null,null,null,null,null,null,null,null,null,null,null,null,null,null,null,null,null,null,null,null,null,null,null,null,null,null,null,null,null,null,null,null,null,null,null,null,null,null,null,null,null,"Yes",null,null,null,null,null,null,null,null,null,null,"No"]
[]
[null,null,null,null,null,null,"Identify the area of the property where repairs needs were identified:"]
[]
[null,null,null,null,null,null,null,null,null,null,null,null,"Site",null,null,null,null,null,null,null,null,null,null,null,null,null,null,null,null,null,null,null,null,null,null,null,null,null,null,null,null,null,null,null,null,null,null,null,null,null,null,null,null,null,null,null,null,null,null,null,null,null,null,null,null,null,null,null,null,null,null,null,null,null,null,null,null,null,null,null,null,null,null,null,null,null,null,null,null,null,null,null,null,null,null,null,null,null,null,null,null,null,null,null,null,null,null,null,null,null,null,null,null,null,null,null,null,null,null,null,null,null,null,null,null,null,null,null,null,null,null,null,null,null,null,null,null,null,null,null,null,null,null,false]
[]
[null,null,null,null,null,null,null,null,null,null,null,null,"Structural, building envelope and common area furniture, fixtures and equipment",null,null,null,null,null,null,null,null,null,null,null,null,null,null,null,null,null,null,null,null,null,null,null,null,null,null,null,null,null,null,null,null,null,null,null,null,null,null,null,null,null,null,null,null,null,null,null,null,null,null,null,null,null,null,null,null,null,null,null,null,null,null,null,null,null,null,null,null,null,null,null,null,null,null,null,null,null,null,null,null,null,null,null,null,null,null,null,null,null,null,null,null,null,null,null,null,null,null,null,null,null,null,null,null,null,null,null,null,null,null,null,null,null,null,null,null,null,null,null,null,null,null,null,null,null,null,null,null,null,null,false]
[]
[null,null,null,null,null,null,null,null,null,null,null,null,"Mechanical and electrical",null,null,null,null,null,null,null,null,null,null,null,null,null,null,null,null,null,null,null,null,null,null,null,null,null,null,null,null,null,null,null,null,null,null,null,null,null,null,null,null,null,null,null,null,null,null,null,null,null,null,null,null,null,null,null,null,null,null,null,null,null,null,null,null,null,null,null,null,null,null,null,null,null,null,null,null,null,null,null,null,null,null,null,null,null,null,null,null,null,null,null,null,null,null,null,null,null,null,null,null,null,null,null,null,null,null,null,null,null,null,null,null,null,null,null,null,null,null,null,null,null,null,null,null,null,null,null,null,null,null,false]
[]
[null,null,null,null,null,null,null,null,null,null,null,null,"Dwelling units",null,null,null,null,null,null,null,null,null,null,null,null,null,null,null,null,null,null,null,null,null,null,null,null,null,null,null,null,null,null,null,null,null,null,null,null,null,null,null,null,null,null,null,null,null,null,null,null,null,null,null,null,null,null,null,null,null,null,null,null,null,null,null,null,null,null,null,null,null,null,null,null,null,null,null,null,null,null,null,null,null,null,null,null,null,null,null,null,null,null,null,null,null,null,null,null,null,null,null,null,null,null,null,null,null,null,null,null,null,null,null,null,null,null,null,null,null,null,null,null,null,null,null,null,null,null,null,null,null,null,false]
[]
[]
[null,"Were any Operational Repairs identified?",null,null,null,null,null,null,null,null,null,null,null,null,null,null,null,null,null,null,null,null,null,null,null,null,null,null,null,null,null,null,null,null,null,null,null,null,null,null,null,null,null,null,null,null,null,null,null,null,null,null,null,null,null,null,null,null,null,null,null,null,null,null,null,null,null,null,null,null,null,null,null,null,null,null,null,null,null,null,null,null,null,null,null,null,null,null,null,null,null,null,null,null,null,null,null,null,null,null,null,null,null,null,null,null,null,null,null,null,null,null,null,null,null,null,null,null,null,null,null,null,null,"Yes",null,null,null,null,null,null,null,null,null,null,"No",null,null,null,null,null,null,null,null,false]
[]
[null,"Critical and Priority Repairs"]
[]
[null,"Site"]
[]
[null,"Item",null,null,null,null,null,null,null,null,null,null,null,null,null,null,null,null,null,null,null,null,null,null,null,null,null,null,null,null,null,null,null,null,null,null,"Repair\nType",null,null,null,null,null,null,null,null,null,null,null,null,"Unit of Measure",null,null,null,null,null,null,null,null,null,"Quantity",null,null,null,null,null,null,null,null,null,null,"Per Item\nCosts",null,null,null,null,null,null,null,null,null,null,null,null,null,null,"Total \nCosts",null,null,null,null,null,null,null,null,null,null,null,null,null,null,null,null,"Comments",null,null,null,null,null,null,null,null,null,null,null,null,null,null,null,null,null,null,null,null,null,null,null,null,null,null,null,null,null,null,null,null,null,null,null,null,null,null,null,null,{"$f":"SUM(EN41:EN42)+100","v":102}]
[null,null,null,null,null,null,null,null,null,null,null,null,null,null,null,null,null,null,null,null,null,null,null,null,null,null,null,null,null,null,null,null,null,null,null,null,null,null,null,null,null,null,null,null,null,null,null,null,null,null,null,null,null,null,null,null,null,null,null,null,null,null,null,null,null,null,null,null,null,null,null,null,null,null,null,null,null,null,null,null,null,null,null,null,null,{"$f":"IF(BS41*BH41=0,\"\",BS41*BH41)","v":""},null,null,null,null,null,null,null,null,null,null,null,null,null,null,null,null,null,null,null,null,null,null,null,null,null,null,null,null,null,null,null,null,null,null,null,null,null,null,null,null,null,null,null,null,null,null,null,null,null,null,null,null,null,null,null,null,null,1,{"$f":"IF($EN$25=TRUE,\"Fit\",\"\")","v":""},"Site",{"$f":"B41","v":0},{"$f":"CY41","v":0}]
[null,null,null,null,null,null,null,null,null,null,null,null,null,null,null,null,null,null,null,null,null,null,null,null,null,null,null,null,null,null,null,null,null,null,null,null,null,null,null,null,null,null,null,null,null,null,null,null,null,null,null,null,null,null,null,null,null,null,null,null,null,null,null,null,null,null,null,null,null,null,null,null,null,null,null,null,null,null,null,null,null,null,null,null,null,{"$f":"IF(BS42*BH42=0,\"\",BS42*BH42)","v":""},null,null,null,null,null,null,null,null,null,null,null,null,null,null,null,null,null,null,null,null,null,null,null,null,null,null,null,null,null,null,null,null,null,null,null,null,null,null,null,null,null,null,null,null,null,null,null,null,null,null,null,null,null,null,null,null,null,1,{"$f":"IF($EN$25=TRUE,\"Fit\",\"\")","v":""},"Site",{"$f":"B42","v":0},{"$f":"CY42","v":0}]
[null,"Subtotal",null,null,null,null,null,null,null,null,null,null,null,null,null,null,null,null,null,null,null,null,null,null,null,null,null,null,null,null,null,null,null,null,null,null,null,null,null,null,null,null,null,null,null,null,null,null,null,null,null,null,null,null,null,null,null,null,null,null,null,null,null,null,null,null,null,null,null,null,null,null,null,null,null,null,null,null,null,null,null,null,null,null,null,{"$f":"IF(EN25=FALSE,\"\",IF(SUM(CH41:CX42)=0,\"\",SUM(CH41:CX42)))","v":""}]
[]
[]
[]
[null,"Structural, Building Envelope and Common Area Furniture, Fixtures and Equipment"]
[]
[null,"Item",null,null,null,null,null,null,null,null,null,null,null,null,null,null,null,null,null,null,null,null,null,null,null,null,null,null,null,null,null,null,null,null,null,null,"Repair\nType",null,null,null,null,null,null,null,null,null,null,null,null,"Unit of Measure",null,null,null,null,null,null,null,null,null,"Quantity",null,null,null,null,null,null,null,null,null,null,"Per Item\nCosts",null,null,null,null,null,null,null,null,null,null,null,null,null,null,"Total \nCosts",null,null,null,null,null,null,null,null,null,null,null,null,null,null,null,null,"Comments",null,null,null,null,null,null,null,null,null,null,null,null,null,null,null,null,null,null,null,null,null,null,null,null,null,null,null,null,null,null,null,null,null,null,null,null,null,null,null,null,{"$f":"SUM(EN50:EN51)+100","v":102}]
[null,null,null,null,null,null,null,null,null,null,null,null,null,null,null,null,null,null,null,null,null,null,null,null,null,null,null,null,null,null,null,null,null,null,null,null,null,null,null,null,null,null,null,null,null,null,null,null,null,null,null,null,null,null,null,null,null,null,null,null,null,null,null,null,null,null,null,null,null,null,null,null,null,null,null,null,null,null,null,null,null,null,null,null,null,{"$f":"IF(BS50*BH50=0,\"\",BS50*BH50)","v":""},null,null,null,null,null,null,null,null,null,null,null,null,null,null,null,null,null,null,null,null,null,null,null,null,null,null,null,null,null,null,null,null,null,null,null,null,null,null,null,null,null,null,null,null,null,null,null,null,null,null,null,null,null,null,null,null,null,1,{"$f":"IF($EN$27=TRUE,\"Fit\",\"\")","v":""},"Structural",{"$f":"B50","v":0},{"$f":"CY50","v":0}]
[null,null,null,null,null,null,null,null,null,null,null,null,null,null,null,null,null,null,null,null,null,null,null,null,null,null,null,null,null,null,null,null,null,null,null,null,null,null,null,null,null,null,null,null,null,null,null,null,null,null,null,null,null,null,null,null,null,null,null,null,null,null,null,null,null,null,null,null,null,null,null,null,null,null,null,null,null,null,null,null,null,null,null,null,null,{"$f":"IF(BS51*BH51=0,\"\",BS51*BH51)","v":""},null,null,null,null,null,null,null,null,null,null,null,null,null,null,null,null,null,null,null,null,null,null,null,null,null,null,null,null,null,null,null,null,null,null,null,null,null,null,null,null,null,null,null,null,null,null,null,null,null,null,null,null,null,null,null,null,null,1,{"$f":"IF($EN$27=TRUE,\"Fit\",\"\")","v":""},"Structural",{"$f":"B51","v":0},{"$f":"CY51","v":0}]
[null,"Subtotal",null,null,null,null,null,null,null,null,null,null,null,null,null,null,null,null,null,null,null,null,null,null,null,null,null,null,null,null,null,null,null,null,null,null,null,null,null,null,null,null,null,null,null,null,null,null,null,null,null,null,null,null,null,null,null,null,null,null,null,null,null,null,null,null,null,null,null,null,null,null,null,null,null,null,null,null,null,null,null,null,null,null,null,{"$f":"IF(EN27=FALSE,\"\",IF(SUM(CH50:CX51)=0,\"\",SUM(CH50:CX51)))","v":""}]
[]
[]
[]
[null,"Mechanical and Electrical"]
[]
[null,"Item",null,null,null,null,null,null,null,null,null,null,null,null,null,null,null,null,null,null,null,null,null,null,null,null,null,null,null,null,null,null,null,null,null,null,"Repair\nType",null,null,null,null,null,null,null,null,null,null,null,null,"Unit of Measure",null,null,null,null,null,null,null,null,null,"Quantity",null,null,null,null,null,null,null,null,null,null,"Per Item\nCosts",null,null,null,null,null,null,null,null,null,null,null,null,null,null,"Total \nCosts",null,null,null,null,null,null,null,null,null,null,null,null,null,null,null,null,"Comments",null,null,null,null,null,null,null,null,null,null,null,null,null,null,null,null,null,null,null,null,null,null,null,null,null,null,null,null,null,null,null,null,null,null,null,null,null,null,null,null,{"$f":"SUM(EN59:EN60)+100","v":102}]
[null,null,null,null,null,null,null,null,null,null,null,null,null,null,null,null,null,null,null,null,null,null,null,null,null,null,null,null,null,null,null,null,null,null,null,null,null,null,null,null,null,null,null,null,null,null,null,null,null,null,null,null,null,null,null,null,null,null,null,null,null,null,null,null,null,null,null,null,null,null,null,null,null,null,null,null,null,null,null,null,null,null,null,null,null,{"$f":"IF(BS59*BH59=0,\"\",BS59*BH59)","v":""},null,null,null,null,null,null,null,null,null,null,null,null,null,null,null,null,null,null,null,null,null,null,null,null,null,null,null,null,null,null,null,null,null,null,null,null,null,null,null,null,null,null,null,null,null,null,null,null,null,null,null,null,null,null,null,null,null,1,{"$f":"IF($EN$29=TRUE,\"Fit\",\"\")","v":""},"Mechanical",{"$f":"B59","v":0},{"$f":"CY59","v":0}]
[null,null,null,null,null,null,null,null,null,null,null,null,null,null,null,null,null,null,null,null,null,null,null,null,null,null,null,null,null,null,null,null,null,null,null,null,null,null,null,null,null,null,null,null,null,null,null,null,null,null,null,null,null,null,null,null,null,null,null,null,null,null,null,null,null,null,null,null,null,null,null,null,null,null,null,null,null,null,null,null,null,null,null,null,null,{"$f":"IF(BS60*BH60=0,\"\",BS60*BH60)","v":""},null,null,null,null,null,null,null,null,null,null,null,null,null,null,null,null,null,null,null,null,null,null,null,null,null,null,null,null,null,null,null,null,null,null,null,null,null,null,null,null,null,null,null,null,null,null,null,null,null,null,null,null,null,null,null,null,null,1,{"$f":"IF($EN$29=TRUE,\"Fit\",\"\")","v":""},"Mechanical",{"$f":"B60","v":0},{"$f":"CY60","v":0}]
[null,"Subtotal",null,null,null,null,null,null,null,null,null,null,null,null,null,null,null,null,null,null,null,null,null,null,null,null,null,null,null,null,null,null,null,null,null,null,null,null,null,null,null,null,null,null,null,null,null,null,null,null,null,null,null,null,null,null,null,null,null,null,null,null,null,null,null,null,null,null,null,null,null,null,null,null,null,null,null,null,null,null,null,null,null,null,null,{"$f":"IF(EN29=FALSE,\"\",IF(SUM(CH59:CX60)=0,\"\",SUM(CH59:CX60)))","v":""}]
[]
[]
[]
[null,"Dwelling Units"]
[]
[null,"Item",null,null,null,null,null,null,null,null,null,null,null,null,null,null,null,null,null,null,null,null,null,null,null,null,null,null,null,null,null,null,null,null,null,null,"Repair\nType",null,null,null,null,null,null,null,null,null,null,null,null,"Unit of Measure",null,null,null,null,null,null,null,null,null,"Quantity",null,null,null,null,null,null,null,null,null,null,"Per Item\nCosts",null,null,null,null,null,null,null,null,null,null,null,null,null,null,"Total \nCosts",null,null,null,null,null,null,null,null,null,null,null,null,null,null,null,null,"Comments",null,null,null,null,null,null,null,null,null,null,null,null,null,null,null,null,null,null,null,null,null,null,null,null,null,null,null,null,null,null,null,null,null,null,null,null,null,null,null,null,{"$f":"SUM(EN68:EN69)+100","v":102}]
[null,null,null,null,null,null,null,null,null,null,null,null,null,null,null,null,null,null,null,null,null,null,null,null,null,null,null,null,null,null,null,null,null,null,null,null,null,null,null,null,null,null,null,null,null,null,null,null,null,null,null,null,null,null,null,null,null,null,null,null,null,null,null,null,null,null,null,null,null,null,null,null,null,null,null,null,null,null,null,null,null,null,null,null,null,{"$f":"IF(BS68*BH68=0,\"\",BS68*BH68)","v":""},null,null,null,null,null,null,null,null,null,null,null,null,null,null,null,null,null,null,null,null,null,null,null,null,null,null,null,null,null,null,null,null,null,null,null,null,null,null,null,null,null,null,null,null,null,null,null,null,null,null,null,null,null,null,null,null,null,1,{"$f":"IF($EN$31=TRUE,\"Fit\",\"\")","v":""},"Dwelling",{"$f":"B68","v":0},{"$f":"CY68","v":0}]
[null,null,null,null,null,null,null,null,null,null,null,null,null,null,null,null,null,null,null,null,null,null,null,null,null,null,null,null,null,null,null,null,null,null,null,null,null,null,null,null,null,null,null,null,null,null,null,null,null,null,null,null,null,null,null,null,null,null,null,null,null,null,null,null,null,null,null,null,null,null,null,null,null,null,null,null,null,null,null,null,null,null,null,null,null,{"$f":"IF(BS69*BH69=0,\"\",BS69*BH69)","v":""},null,null,null,null,null,null,null,null,null,null,null,null,null,null,null,null,null,null,null,null,null,null,null,null,null,null,null,null,null,null,null,null,null,null,null,null,null,null,null,null,null,null,null,null,null,null,null,null,null,null,null,null,null,null,null,null,null,1,{"$f":"IF($EN$31=TRUE,\"Fit\",\"\")","v":""},"Dwelling",0,{"$f":"CY69","v":0}]
[null,"Subtotal",null,null,null,null,null,null,null,null,null,null,null,null,null,null,null,null,null,null,null,null,null,null,null,null,null,null,null,null,null,null,null,null,null,null,null,null,null,null,null,null,null,null,null,null,null,null,null,null,null,null,null,null,null,null,null,null,null,null,null,null,null,null,null,null,null,null,null,null,null,null,null,null,null,null,null,null,null,null,null,null,null,null,null,{"$f":"IF(EN31=FALSE,\"\",IF(SUM(CH68:CX69)=0,\"\",SUM(CH68:CX69)))","v":""}]
[]
[]
[]
[null,"Total",null,null,null,null,null,null,null,null,null,null,null,null,null,null,null,null,null,null,null,null,null,null,null,null,null,null,null,null,null,null,null,null,null,null,null,null,null,null,null,null,null,null,null,null,null,null,null,null,null,null,null,null,null,null,null,null,null,null,null,null,null,null,null,null,null,null,null,null,null,null,null,null,null,null,null,null,null,null,null,null,null,null,null,{"$f":"SUM(CH70,CH61,CH52,CH43)","v":0}]
[]
[]
[null,"Operational Repairs"]
[]
[null,"Description",null,null,null,null,null,null,null,null,null,null,null,null,null,null,null,null,null,null,null,null,null,null,null,null,null,null,null,null,null,null,null,null,null,null,null,null,null,null,null,null,null,null,null,null,null,null,null,null,null,null,null,null,null,null,null,null,null,null,null,null,null,null,null,null,null,null,null,null,null,null,null,null,null,null,null,null,null,null,null,null,null,null,null,null,null,null,null,null,null,null,null,null,null,null,null,null,null,null,null,null,null,null,null,null,null,null,null,null,null,null,null,null,null,null,null,null,null,null,null,null,null,null,null,null,null,null,null,null,null,null,null,null,null,null,null,null,null,null,null,null,null,{"$f":"SUM(EN80:EN81)+100","v":102}]
[null,null,null,null,null,null,null,null,null,null,null,null,null,null,null,null,null,null,null,null,null,null,null,null,null,null,null,null,null,null,null,null,null,null,null,null,null,null,null,null,null,null,null,null,null,null,null,null,null,null,null,null,null,null,null,null,null,null,null,null,null,null,null,null,null,null,null,null,null,null,null,null,null,null,null,null,null,null,null,null,null,null,null,null,null,null,null,null,null,null,null,null,null,null,null,null,null,null,null,null,null,null,null,null,null,null,null,null,null,null,null,null,null,null,null,null,null,null,null,null,null,null,null,null,null,null,null,null,null,null,null,null,null,null,null,null,null,null,null,null,null,null,null,1,{"$f":"IF($EN$34=TRUE,\"Fit\",\"\")","v":""},"Operational",null,{"$f":"B80","v":0}]
[null,null,null,null,null,null,null,null,null,null,null,null,null,null,null,null,null,null,null,null,null,null,null,null,null,null,null,null,null,null,null,null,null,null,null,null,null,null,null,null,null,null,null,null,null,null,null,null,null,null,null,null,null,null,null,null,null,null,null,null,null,null,null,null,null,null,null,null,null,null,null,null,null,null,null,null,null,null,null,null,null,null,null,null,null,null,null,null,null,null,null,null,null,null,null,null,null,null,null,null,null,null,null,null,null,null,null,null,null,null,null,null,null,null,null,null,null,null,null,null,null,null,null,null,null,null,null,null,null,null,null,null,null,null,null,null,null,null,null,null,null,null,null,1,{"$f":"IF($EN$34=TRUE,\"Fit\",\"\")","v":""},"Operational",null,{"$f":"B81","v":0}]
[]
[]
[]
[]
[null,{"$f":"I!B239","v":"Freddie Mac Multifamily Form 1105 (12/2024)"}]
[]
[]
[]
[]
[]
[]
[]
[]
[]
[]
[]
[]
[]
[]
[]
[]
[]
[]
[]
[]
[]
[]
[]
[]
[]
[]
[]
[]
[]
[]
[]
[]
[]
[]
[]
[]
[]
[]
[]
[]
[]
[]
[]
[]
[]
[]
[]
[]
[]
[]
[]
[]
[]
[]
[]
[]
[]
[]
[]
[]
[]
[]
[]
[]
[]
[]
[]
[]
[]
[]
[]
[]
[]
[]
[]
[]
[]
[]
[]
[]
[]
[]
[]
[]
[]
[]
[]
[]
[]
[]
[]
[]
[]
[]
[]
[]
[]
[]
[]
[]
[]
[]
[]
[]
[]
[]
[]
[]
[]
[]
[]
[]
[]
[]
[]
[]
[]
[]
[]
[]
[]
[]
[]
[]
[]
[]
[]
[]
[]
[]
[]
[]
[]
[]
[]
[]
[]
[]
[]
[]
[]
[]
[]
[]
[]
[]
[]
[null,null,null,null,null,null,null,null,null,null,null,null,null,null,null,null,null,null,null,null,null,null,null,null,null,null,null,null,null,null,null,null,null,null,null,null,null,null,null,null,null,null,null,null,null,null,null,null,null,null,null,null,null,null,null,null,null,null,null,null,null,null,null,null,null,null,null,null,null,null,null,null,null,null,null,null,null,null,null,null,null,null,null,null,null,null,null,null,null,null,null,null,null,null,null,null,null,null,null,null,null,null,null,null,null,null,null,null,null,null,null,null,null,null,null,null,null,null,null,null,null,null,null,null,null,null,null,null,null,null,null,null,null,null,null,null,null,null,null,null,null,null,"2024-12-03T10:54:08.750"]
[null,null,null,null,null,null,null,null,null,null,null,null,null,null,null,null,null,null,null,null,null,null,null,null,null,null,null,null,null,null,null,null,null,null,null,null,null,null,null,null,null,null,null,null,null,null,null,null,null,null,null,null,null,null,null,null,null,null,null,null,null,null,null,null,null,null,null,null,null,null,null,null,null,null,null,null,null,null,null,null,null,null,null,null,null,null,null,null,null,null,null,null,null,null,null,null,null,null,null,null,null,null,null,null,null,null,null,null,null,null,null,null,null,null,null,null,null,null,null,null,null,null,null,null,null,null,null,null,null,null,null,null,null,null,null,null,null,null,null,null,null,null,"2024-11-20T10:46:28.200"]

{"sheet":"IV","index":4,"n_rows":235,"n_cols":147,"rows_kept":235,"cut":false,"hidden":false,"merged":[[43,48,43,55],[45,48,45,55],[43,56,43,140],[45,56,45,140],[47,40,47,55],[47,56,47,140],[2,1,2,140],[5,1,5,140],[7,1,7,140],[10,2,10,34],[10,37,10,69],[10,72,10,140],[13,2,13,69],[13,72,13,140],[16,2,16,34],[16,37,16,69],[16,72,16,140],[18,1,18,140],[59,1,59,114],[67,1,67,114],[75,4,75,140],[72,1,72,114],[70,4,70,140],[65,4,65,140],[62,4,62,140],[33,1,33,140],[57,4,57,140],[54,1,54,114],[39,1,39,140],[38,1,38,114],[36,1,36,140],[41,1,41,114],[52,4,52,140],[85,4,85,140],[82,1,82,114],[80,4,80,140],[77,1,77,114],[123,56,123,140],[110,1,110,140],[121,1,121,114],[119,1,119,140],[123,48,123,55],[116,1,116,140],[113,1,113,140],[99,1,99,140],[90,4,90,140],[87,1,87,114],[93,1,93,140],[96,1,96,140],[162,4,162,140],[125,56,125,140],[147,4,147,140],[144,1,144,114],[142,4,142,140],[139,1,139,114],[137,4,137,140],[127,56,127,140],[127,40,127,55],[125,48,125,55],[132,4,132,140],[198,1,198,114],[175,1,175,114],[186,4,186,140],[134,1,134,114],[154,1,154,114],[152,4,152,140],[149,1,149,114],[177,48,177,55],[179,48,179,55],[167,4,167,140],[173,1,173,140],[170,1,170,140],[177,56,177,140],[179,56,179,140],[157,4,157,140],[159,1,159,114],[221,4,221,140],[211,4,211,140],[201,4,201,140],[203,1,203,114],[206,4,206,140],[213,1,213,114],[208,1,208,114],[216,4,216,140],[218,1,218,114],[164,1,164,114],[193,1,193,114],[196,4,196,140],[188,1,188,114],[191,4,191,140],[181,40,181,55],[181,56,181,140]]}
[null,null,null,null,null,null,null,null,null,null,null,null,null,null,null,null,null,null,null,null,null,null,null,null,null,null,null,null,null,null,null,null,null,null,null,null,null,null,null,null,null,null,null,null,null,null,null,null,null,null,null,null,null,null,null,null,null,null,null,null,null,null,null,null,null,null,null,null,null,null,null,null,null,null,null,null,null,null,null,null,null,null,null,null,null,null,null,null,null,null,null,null,null,null,null,null,null,null,null,null,null,null,null,null,null,null,null,null,null,null,null,null,null,null,null,null,null,null,null,null,null,null,null,null,null,null,null,null,null,null,null,null,null,null,null,null,null,null,null,null,null,null,"zTrigger","zTrigger_2","zAutoFit","zDateMath","zDescription"]
[]
[null,{"$f":"I!B3","v":"Property Condition Assessment "}]
[]
[]
[null,"Section IV: Private Wells, Wastewater Treatment Systems and Lift Stations"]
[]
[]
[]
[null,null,"Freddie Mac loan number",null,null,null,null,null,null,null,null,null,null,null,null,null,null,null,null,null,null,null,null,null,null,null,null,null,null,null,null,null,null,null,null,null,null,"Report date",null,null,null,null,null,null,null,null,null,null,null,null,null,null,null,null,null,null,null,null,null,null,null,null,null,null,null,null,null,null,null,null,null,null,"Property name"]
[null,null,{"$f":"IF(I!C11=\"\",\"ENTER IN SECTION I\",I!C11)","v":"ENTER IN SECTION I"},null,null,null,null,null,null,null,null,null,null,null,null,null,null,null,null,null,null,null,null,null,null,null,null,null,null,null,null,null,null,null,null,null,null,{"$f":"IF(I!AL11=\"\",\"ENTER IN SECTION I\",I!AL11)","v":"ENTER IN SECTION I"},null,null,null,null,null,null,null,null,null,null,null,null,null,null,null,null,null,null,null,null,null,null,null,null,null,null,null,null,null,null,null,null,null,null,{"$f":"IF(I!BU11=\"\",\"ENTER IN SECTION I\",I!BU11)","v":"ENTER IN SECTION I"}]
[]
[null,null,"Seller/Servicer name",null,null,null,null,null,null,null,null,null,null,null,null,null,null,null,null,null,null,null,null,null,null,null,null,null,null,null,null,null,null,null,null,null,null,null,null,null,null,null,null,null,null,null,null,null,null,null,null,null,null,null,null,null,null,null,null,null,null,null,null,null,null,null,null,null,null,null,null,null,"Address"]
[null,null,{"$f":"IF(I!C14=\"\",\"ENTER IN SECTION I\",I!C14)","v":"ENTER IN SECTION I"},null,null,null,null,null,null,null,null,null,null,null,null,null,null,null,null,null,null,null,null,null,null,null,null,null,null,null,null,null,null,null,null,null,null,null,null,null,null,null,null,null,null,null,null,null,null,null,null,null,null,null,null,null,null,null,null,null,null,null,null,null,null,null,null,null,null,null,null,null,{"$f":"IF(I!BU14=\"\",\"ENTER IN SECTION I\",I!BU14)","v":"ENTER IN SECTION I"}]
[]
[null,null,"Seller/Servicer number",null,null,null,null,null,null,null,null,null,null,null,null,null,null,null,null,null,null,null,null,null,null,null,null,null,null,null,null,null,null,null,null,null,null,"Inspection date",null,null,null,null,null,null,null,null,null,null,null,null,null,null,null,null,null,null,null,null,null,null,null,null,null,null,null,null,null,null,null,null,null,null,"City, State, Zip"]
[null,null,{"$f":"IF(I!C17=\"\",\"ENTER IN SECTION I\",I!C17)","v":"ENTER IN SECTION I"},null,null,null,null,null,null,null,null,null,null,null,null,null,null,null,null,null,null,null,null,null,null,null,null,null,null,null,null,null,null,null,null,null,null,{"$f":"IF(I!AL17=\"\",\"ENTER IN SECTION I\",I!AL17)","v":"ENTER IN SECTION I"},null,null,null,null,null,null,null,null,null,null,null,null,null,null,null,null,null,null,null,null,null,null,null,null,null,null,null,null,null,null,null,null,null,null,{"$f":"IF(I!BU17=\"\",\"ENTER IN SECTION I\",I!BU17)","v":"ENTER IN SECTION I"}]
[]
[null,"Private Wells, Waste Water and Lift Stations"]
[]
[null,"Indicate if any of the following systems are present at the property:"]
[]
[null,null,null,null,null,null,null,null,null,null,null,null,null,null,null,null,null,null,null,null,null,null,null,"Private wells (drinking water)",null,null,null,null,null,null,null,null,null,null,null,null,null,null,null,null,null,null,null,null,null,null,null,null,null,null,null,null,null,null,null,null,null,null,null,null,null,null,null,null,null,null,null,null,null,null,null,null,null,null,null,null,null,null,null,null,null,null,null,null,null,null,null,null,null,null,null,null,null,null,null,null,null,null,null,null,null,null,null,null,null,null,null,null,null,null,null,null,null,null,null,null,null,null,null,null,null,null,null,null,null,null,null,null,null,null,null,null,null,null,null,null,null,null,null,null,null,null,false]
[]
[null,null,null,null,null,null,null,null,null,null,null,null,null,null,null,null,null,null,null,null,null,null,null,"Private wells (NON drinking water)",null,null,null,null,null,null,null,null,null,null,null,null,null,null,null,null,null,null,null,null,null,null,null,null,null,null,null,null,null,null,null,null,null,null,null,null,null,null,null,null,null,null,null,null,null,null,null,null,null,null,null,null,null,null,null,null,null,null,null,null,null,null,null,null,null,null,null,null,null,null,null,null,null,null,null,null,null,null,null,null,null,null,null,null,null,null,null,null,null,null,null,null,null,null,null,null,null,null,null,null,null,null,null,null,null,null,null,null,null,null,null,null,null,null,null,null,null,null,false]
[]
[null,null,null,null,null,null,null,null,null,null,null,null,null,null,null,null,null,null,null,null,null,null,null,"Private wastewater treatment systems",null,null,null,null,null,null,null,null,null,null,null,null,null,null,null,null,null,null,null,null,null,null,null,null,null,null,null,null,null,null,null,null,null,null,null,null,null,null,null,null,null,null,null,null,null,null,null,null,null,null,null,null,null,null,null,null,null,null,null,null,null,null,null,null,null,null,null,null,null,null,null,null,null,null,null,null,null,null,null,null,null,null,null,null,null,null,null,null,null,null,null,null,null,null,null,null,null,null,null,null,null,null,null,null,null,null,null,null,null,null,null,null,null,null,null,null,null,null,false]
[]
[null,null,null,null,null,null,null,null,null,null,null,null,null,null,null,null,null,null,null,null,null,null,null,"Private lift stations",null,null,null,null,null,null,null,null,null,null,null,null,null,null,null,null,null,null,null,null,null,null,null,null,null,null,null,null,null,null,null,null,null,null,null,null,null,null,null,null,null,null,null,null,null,null,null,null,null,null,null,null,null,null,null,null,null,null,null,null,null,null,null,null,null,null,null,null,null,null,null,null,null,null,null,null,null,null,null,null,null,null,null,null,null,null,null,null,null,null,null,null,null,null,null,null,null,null,null,null,null,null,null,null,null,null,null,null,null,null,null,null,null,null,null,null,null,null,false]
[]
[null,null,null,null,null,null,null,null,null,null,null,null,null,null,null,null,null,null,null,null,null,null,null,"None of these systems are present",null,null,null,null,null,null,null,null,null,null,null,null,null,null,null,null,null,null,null,null,null,null,null,null,null,null,null,null,null,null,null,null,null,null,null,null,null,null,null,null,null,null,null,null,null,null,null,null,null,null,null,null,null,null,null,null,null,null,null,null,null,null,null,null,null,null,null,null,null,null,null,null,null,null,null,null,null,null,null,null,null,null,null,null,null,null,null,null,null,null,null,null,null,null,null,null,null,null,null,null,null,null,null,null,null,null,null,null,null,null,null,null,null,null,null,null,null,null,false]
[]
[]
[null,"Private Wells (drinking water)"]
[]
[null,"Describe the system, its historical operations (including how long it’s been in service) and adequacy:"]
[null,null,null,null,null,null,null,null,null,null,null,null,null,null,null,null,null,null,null,null,null,null,null,null,null,null,null,null,null,null,null,null,null,null,null,null,null,null,null,null,null,null,null,null,null,null,null,null,null,null,null,null,null,null,null,null,null,null,null,null,null,null,null,null,null,null,null,null,null,null,null,null,null,null,null,null,null,null,null,null,null,null,null,null,null,null,null,null,null,null,null,null,null,null,null,null,null,null,null,null,null,null,null,null,null,null,null,null,null,null,null,null,null,null,null,null,null,null,null,null,null,null,null,null,null,null,null,null,null,null,null,null,null,null,null,null,null,null,null,null,null,null,null,null,{"$f":"IF(rngPrivateWells_Check=TRUE,\"Fit\",\"\")","v":""},null,{"$f":"B37","v":0}]
[]
[null,"Provide the cost of connecting the property to a municipal water system, and the level of work required to accomplish this:"]
[null,null,null,null,null,null,null,null,null,null,null,null,null,null,null,null,null,null,null,null,null,null,null,null,null,null,null,null,null,null,null,null,null,null,null,null,null,null,null,null,null,null,null,null,null,null,null,null,null,null,null,null,null,null,null,null,null,null,null,null,null,null,null,null,null,null,null,null,null,null,null,null,null,null,null,null,null,null,null,null,null,null,null,null,null,null,null,null,null,null,null,null,null,null,null,null,null,null,null,null,null,null,null,null,null,null,null,null,null,null,null,null,null,null,null,null,null,null,null,null,null,null,null,null,null,null,null,null,null,null,null,null,null,null,null,null,null,null,null,null,null,null,null,null,{"$f":"IF(rngPrivateWells_Check=TRUE,\"Fit\",\"\")","v":""},null,{"$f":"B40","v":0}]
[]
[null,"Who is responsible for maintaining the system?"]
[]
[null,null,null,null,null,null,null,null,"Professional third-party",null,null,null,null,null,null,null,null,null,null,null,null,null,null,null,null,null,null,null,null,null,null,null,null,null,null,null,null,null,null,null,null,null,null,null,null,null,null,null,{"$f":"IF(EM44=TRUE,\"Name: \",\"\")","v":""},null,null,null,null,null,null,null,null,null,null,null,null,null,null,null,null,null,null,null,null,null,null,null,null,null,null,null,null,null,null,null,null,null,null,null,null,null,null,null,null,null,null,null,null,null,null,null,null,null,null,null,null,null,null,null,null,null,null,null,null,null,null,null,null,null,null,null,null,null,null,null,null,null,null,null,null,null,null,null,null,null,null,null,null,null,null,null,null,null,null,null,null,null,false,null,{"$f":"IF(AND(rngPrivateWells_Check=TRUE,EM44=TRUE)=TRUE,\"Fit\",\"\")","v":""},null,{"$f":"BE44","v":0}]
[]
[null,null,null,null,null,null,null,null,"Other",null,null,null,null,null,null,null,null,null,null,null,null,null,null,null,null,null,null,null,null,null,null,null,null,null,null,null,null,null,null,null,null,null,null,null,null,null,null,null,{"$f":"IF(EM46=TRUE,\"Name: \",\"\")","v":""},null,null,null,null,null,null,null,null,null,null,null,null,null,null,null,null,null,null,null,null,null,null,null,null,null,null,null,null,null,null,null,null,null,null,null,null,null,null,null,null,null,null,null,null,null,null,null,null,null,null,null,null,null,null,null,null,null,null,null,null,null,null,null,null,null,null,null,null,null,null,null,null,null,null,null,null,null,null,null,null,null,null,null,null,null,null,null,null,null,null,null,null,null,false,null,{"$f":"IF(AND(rngPrivateWells_Check=TRUE,EM46=TRUE)=TRUE,\"Fit\",\"\")","v":""},null,{"$f":"BE46","v":0}]
[null,null,null,null,null,null,null,null,null,null,null,null,null,null,null,null,null,null,null,null,null,null,null,null,null,null,null,null,null,null,null,null,null,null,null,null,null,null,null,null,null,null,null,null,null,null,null,null,null,null,null,null,null,null,null,null,null,null,null,null,null,null,null,null,null,null,null,null,null,null,null,null,null,null,null,null,null,null,null,null,null,null,null,null,null,null,null,null,null,null,null,null,null,null,null,null,null,null,null,null,null,null,null,null,null,null,null,null,null,null,null,null,null,null,null,null,null,null,null,null,null,null,null,null,null,null,null,null,null,null,null,null,null,null,null,null,null,null,null,null,null,null,null,null,null,null,{"$f":"BE47","v":0}]
[null,null,null,null,null,null,null,null,null,null,null,null,null,null,null,null,null,null,null,null,null,null,null,null,null,null,null,null,null,null,null,null,null,null,null,null,null,null,null,null,"Qualifications: ",null,null,null,null,null,null,null,null,null,null,null,null,null,null,null,null,null,null,null,null,null,null,null,null,null,null,null,null,null,null,null,null,null,null,null,null,null,null,null,null,null,null,null,null,null,null,null,null,null,null,null,null,null,null,null,null,null,null,null,null,null,null,null,null,null,null,null,null,null,null,null,null,null,null,null,null,null,null,null,null,null,null,null,null,null,null,null,null,null,null,null,null,null,null,null,null,null,null,null,null,null,null,null,{"$f":"IF(AND(rngPrivateWaste_Check=TRUE,EM46=TRUE)=TRUE,\"Fit\",\"\")","v":""},null,{"$f":"BE48","v":0}]
[]
[null,null,null,null,"Are there any concerns regarding the quality of maintenance being performed on the system?",null,null,null,null,null,null,null,null,null,null,null,null,null,null,null,null,null,null,null,null,null,null,null,null,null,null,null,null,null,null,null,null,null,null,null,null,null,null,null,null,null,null,null,null,null,null,null,null,null,null,null,null,null,null,null,null,null,null,null,null,null,null,null,null,null,null,null,null,null,null,null,null,null,null,null,null,null,null,null,null,null,null,null,null,null,null,null,null,null,null,null,null,null,null,null,null,null,null,null,null,null,null,null,null,null,null,null,null,null,null,null,null,null,null,null,null,null,null,null,null,null,"Yes",null,null,null,null,null,null,null,null,null,null,"No",null,null,null,null,false,{"$f":"IF(OR(EM44=TRUE,EM46=TRUE)=TRUE,1,2)","v":2}]
[]
[null,null,null,null,"Provide details:"]
[null,null,null,null,null,null,null,null,null,null,null,null,null,null,null,null,null,null,null,null,null,null,null,null,null,null,null,null,null,null,null,null,null,null,null,null,null,null,null,null,null,null,null,null,null,null,null,null,null,null,null,null,null,null,null,null,null,null,null,null,null,null,null,null,null,null,null,null,null,null,null,null,null,null,null,null,null,null,null,null,null,null,null,null,null,null,null,null,null,null,null,null,null,null,null,null,null,null,null,null,null,null,null,null,null,null,null,null,null,null,null,null,null,null,null,null,null,null,null,null,null,null,null,null,null,null,null,null,null,null,null,null,null,null,null,null,null,null,null,null,null,null,null,null,{"$f":"IF(AND(rngPrivateWells_Check=TRUE,EM50=TRUE)=TRUE,\"Fit\",\"\")","v":""},null,{"$f":"E53","v":0}]
[]
[null,"Is equipment accessible to individuals other than authorized personnel?",null,null,null,null,null,null,null,null,null,null,null,null,null,null,null,null,null,null,null,null,null,null,null,null,null,null,null,null,null,null,null,null,null,null,null,null,null,null,null,null,null,null,null,null,null,null,null,null,null,null,null,null,null,null,null,null,null,null,null,null,null,null,null,null,null,null,null,null,null,null,null,null,null,null,null,null,null,null,null,null,null,null,null,null,null,null,null,null,null,null,null,null,null,null,null,null,null,null,null,null,null,null,null,null,null,null,null,null,null,null,null,null,null,null,null,null,null,null,null,null,null,null,null,null,"Yes",null,null,null,null,null,null,null,null,null,null,"No",null,null,null,null,false]
[]
[null,null,null,null,"Provide details:"]
[null,null,null,null,null,null,null,null,null,null,null,null,null,null,null,null,null,null,null,null,null,null,null,null,null,null,null,null,null,null,null,null,null,null,null,null,null,null,null,null,null,null,null,null,null,null,null,null,null,null,null,null,null,null,null,null,null,null,null,null,null,null,null,null,null,null,null,null,null,null,null,null,null,null,null,null,null,null,null,null,null,null,null,null,null,null,null,null,null,null,null,null,null,null,null,null,null,null,null,null,null,null,null,null,null,null,null,null,null,null,null,null,null,null,null,null,null,null,null,null,null,null,null,null,null,null,null,null,null,null,null,null,null,null,null,null,null,null,null,null,null,null,null,null,{"$f":"IF(AND(rngPrivateWells_Check=TRUE,EM55=TRUE)=TRUE,\"Fit\",\"\")","v":""},null,{"$f":"E58","v":0}]
[]
[null,"Are there any concerns regarding the backup water source?",null,null,null,null,null,null,null,null,null,null,null,null,null,null,null,null,null,null,null,null,null,null,null,null,null,null,null,null,null,null,null,null,null,null,null,null,null,null,null,null,null,null,null,null,null,null,null,null,null,null,null,null,null,null,null,null,null,null,null,null,null,null,null,null,null,null,null,null,null,null,null,null,null,null,null,null,null,null,null,null,null,null,null,null,null,null,null,null,null,null,null,null,null,null,null,null,null,null,null,null,null,null,null,null,null,null,null,null,null,null,null,null,null,null,null,null,null,null,null,null,null,null,null,null,"Yes",null,null,null,null,null,null,null,null,null,null,"No",null,null,null,null,false]
[]
[null,null,null,null,"Please describe the backup water source:"]
[null,null,null,null,null,null,null,null,null,null,null,null,null,null,null,null,null,null,null,null,null,null,null,null,null,null,null,null,null,null,null,null,null,null,null,null,null,null,null,null,null,null,null,null,null,null,null,null,null,null,null,null,null,null,null,null,null,null,null,null,null,null,null,null,null,null,null,null,null,null,null,null,null,null,null,null,null,null,null,null,null,null,null,null,null,null,null,null,null,null,null,null,null,null,null,null,null,null,null,null,null,null,null,null,null,null,null,null,null,null,null,null,null,null,null,null,null,null,null,null,null,null,null,null,null,null,null,null,null,null,null,null,null,null,null,null,null,null,null,null,null,null,null,null,{"$f":"IF(AND(rngPrivateWells_Check=TRUE,EM60=TRUE)=TRUE,\"Fit\",\"\")","v":""},null,{"$f":"E63","v":0}]
[]
[null,null,null,null,"Describe the concern:"]
[null,null,null,null,null,null,null,null,null,null,null,null,null,null,null,null,null,null,null,null,null,null,null,null,null,null,null,null,null,null,null,null,null,null,null,null,null,null,null,null,null,null,null,null,null,null,null,null,null,null,null,null,null,null,null,null,null,null,null,null,null,null,null,null,null,null,null,null,null,null,null,null,null,null,null,null,null,null,null,null,null,null,null,null,null,null,null,null,null,null,null,null,null,null,null,null,null,null,null,null,null,null,null,null,null,null,null,null,null,null,null,null,null,null,null,null,null,null,null,null,null,null,null,null,null,null,null,null,null,null,null,null,null,null,null,null,null,null,null,null,null,null,null,null,{"$f":"IF(AND(rngPrivateWells_Check=TRUE,EM60=TRUE)=TRUE,\"Fit\",\"\")","v":""},null,{"$f":"E66","v":0}]
[]
[null,"Are there any current or previous violations?",null,null,null,null,null,null,null,null,null,null,null,null,null,null,null,null,null,null,null,null,null,null,null,null,null,null,null,null,null,null,null,null,null,null,null,null,null,null,null,null,null,null,null,null,null,null,null,null,null,null,null,null,null,null,null,null,null,null,null,null,null,null,null,null,null,null,null,null,null,null,null,null,null,null,null,null,null,null,null,null,null,null,null,null,null,null,null,null,null,null,null,null,null,null,null,null,null,null,null,null,null,null,null,null,null,null,null,null,null,null,null,null,null,null,null,null,null,null,null,null,null,null,null,null,"Yes",null,null,null,null,null,null,null,null,null,null,"No",null,null,null,null,false]
[]
[null,null,null,null,"Provide details:"]
[null,null,null,null,null,null,null,null,null,null,null,null,null,null,null,null,null,null,null,null,null,null,null,null,null,null,null,null,null,null,null,null,null,null,null,null,null,null,null,null,null,null,null,null,null,null,null,null,null,null,null,null,null,null,null,null,null,null,null,null,null,null,null,null,null,null,null,null,null,null,null,null,null,null,null,null,null,null,null,null,null,null,null,null,null,null,null,null,null,null,null,null,null,null,null,null,null,null,null,null,null,null,null,null,null,null,null,null,null,null,null,null,null,null,null,null,null,null,null,null,null,null,null,null,null,null,null,null,null,null,null,null,null,null,null,null,null,null,null,null,null,null,null,null,{"$f":"IF(AND(rngPrivateWells_Check=TRUE,EM68=TRUE)=TRUE,\"Fit\",\"\")","v":""},null,{"$f":"E71","v":0}]
[]
[null,"Is this system type atypical for the market?",null,null,null,null,null,null,null,null,null,null,null,null,null,null,null,null,null,null,null,null,null,null,null,null,null,null,null,null,null,null,null,null,null,null,null,null,null,null,null,null,null,null,null,null,null,null,null,null,null,null,null,null,null,null,null,null,null,null,null,null,null,null,null,null,null,null,null,null,null,null,null,null,null,null,null,null,null,null,null,null,null,null,null,null,null,null,null,null,null,null,null,null,null,null,null,null,null,null,null,null,null,null,null,null,null,null,null,null,null,null,null,null,null,null,null,null,null,null,null,null,null,null,null,null,"Yes",null,null,null,null,null,null,null,null,null,null,"No",null,null,null,null,false]
[]
[null,null,null,null,"Provide details:"]
[null,null,null,null,null,null,null,null,null,null,null,null,null,null,null,null,null,null,null,null,null,null,null,null,null,null,null,null,null,null,null,null,null,null,null,null,null,null,null,null,null,null,null,null,null,null,null,null,null,null,null,null,null,null,null,null,null,null,null,null,null,null,null,null,null,null,null,null,null,null,null,null,null,null,null,null,null,null,null,null,null,null,null,null,null,null,null,null,null,null,null,null,null,null,null,null,null,null,null,null,null,null,null,null,null,null,null,null,null,null,null,null,null,null,null,null,null,null,null,null,null,null,null,null,null,null,null,null,null,null,null,null,null,null,null,null,null,null,null,null,null,null,null,null,{"$f":"IF(AND(rngPrivateWells_Check=TRUE,EM73=TRUE)=TRUE,\"Fit\",\"\")","v":""},null,{"$f":"E76","v":0}]
[]
[null,"Is any other person or property, other than the Borrower or subject property, authorized to use the system?",null,null,null,null,null,null,null,null,null,null,null,null,null,null,null,null,null,null,null,null,null,null,null,null,null,null,null,null,null,null,null,null,null,null,null,null,null,null,null,null,null,null,null,null,null,null,null,null,null,null,null,null,null,null,null,null,null,null,null,null,null,null,null,null,null,null,null,null,null,null,null,null,null,null,null,null,null,null,null,null,null,null,null,null,null,null,null,null,null,null,null,null,null,null,null,null,null,null,null,null,null,null,null,null,null,null,null,null,null,null,null,null,null,null,null,null,null,null,null,null,null,null,null,null,"Yes",null,null,null,null,null,null,null,null,null,null,"No",null,null,null,null,false]
[]
[null,null,null,null,"Provide details:"]
[null,null,null,null,null,null,null,null,null,null,null,null,null,null,null,null,null,null,null,null,null,null,null,null,null,null,null,null,null,null,null,null,null,null,null,null,null,null,null,null,null,null,null,null,null,null,null,null,null,null,null,null,null,null,null,null,null,null,null,null,null,null,null,null,null,null,null,null,null,null,null,null,null,null,null,null,null,null,null,null,null,null,null,null,null,null,null,null,null,null,null,null,null,null,null,null,null,null,null,null,null,null,null,null,null,null,null,null,null,null,null,null,null,null,null,null,null,null,null,null,null,null,null,null,null,null,null,null,null,null,null,null,null,null,null,null,null,null,null,null,null,null,null,null,{"$f":"IF(AND(rngPrivateWells_Check=TRUE,EM78=TRUE)=TRUE,\"Fit\",\"\")","v":""},null,{"$f":"E81","v":0}]
[]
[null,"Is any part of the system owned or maintained by the residents?",null,null,null,null,null,null,null,null,null,null,null,null,null,null,null,null,null,null,null,null,null,null,null,null,null,null,null,null,null,null,null,null,null,null,null,null,null,null,null,null,null,null,null,null,null,null,null,null,null,null,null,null,null,null,null,null,null,null,null,null,null,null,null,null,null,null,null,null,null,null,null,null,null,null,null,null,null,null,null,null,null,null,null,null,null,null,null,null,null,null,null,null,null,null,null,null,null,null,null,null,null,null,null,null,null,null,null,null,null,null,null,null,null,null,null,null,null,null,null,null,null,null,null,null,"Yes",null,null,null,null,null,null,null,null,null,null,"No",null,null,null,null,false]
[]
[null,null,null,null,"Provide details:"]
[null,null,null,null,null,null,null,null,null,null,null,null,null,null,null,null,null,null,null,null,null,null,null,null,null,null,null,null,null,null,null,null,null,null,null,null,null,null,null,null,null,null,null,null,null,null,null,null,null,null,null,null,null,null,null,null,null,null,null,null,null,null,null,null,null,null,null,null,null,null,null,null,null,null,null,null,null,null,null,null,null,null,null,null,null,null,null,null,null,null,null,null,null,null,null,null,null,null,null,null,null,null,null,null,null,null,null,null,null,null,null,null,null,null,null,null,null,null,null,null,null,null,null,null,null,null,null,null,null,null,null,null,null,null,null,null,null,null,null,null,null,null,null,null,{"$f":"IF(AND(rngPrivateWells_Check=TRUE,EM83=TRUE)=TRUE,\"Fit\",\"\")","v":""},null,{"$f":"E86","v":0}]
[]
[null,"Does the system fail to meet or exceed applicable federal, state and/or local requirements?",null,null,null,null,null,null,null,null,null,null,null,null,null,null,null,null,null,null,null,null,null,null,null,null,null,null,null,null,null,null,null,null,null,null,null,null,null,null,null,null,null,null,null,null,null,null,null,null,null,null,null,null,null,null,null,null,null,null,null,null,null,null,null,null,null,null,null,null,null,null,null,null,null,null,null,null,null,null,null,null,null,null,null,null,null,null,null,null,null,null,null,null,null,null,null,null,null,null,null,null,null,null,null,null,null,null,null,null,null,null,null,null,null,null,null,null,null,null,null,null,null,null,null,null,"Yes",null,null,null,null,null,null,null,null,null,null,"No",null,null,null,null,false]
[]
[null,null,null,null,"Provide details:"]
[null,null,null,null,null,null,null,null,null,null,null,null,null,null,null,null,null,null,null,null,null,null,null,null,null,null,null,null,null,null,null,null,null,null,null,null,null,null,null,null,null,null,null,null,null,null,null,null,null,null,null,null,null,null,null,null,null,null,null,null,null,null,null,null,null,null,null,null,null,null,null,null,null,null,null,null,null,null,null,null,null,null,null,null,null,null,null,null,null,null,null,null,null,null,null,null,null,null,null,null,null,null,null,null,null,null,null,null,null,null,null,null,null,null,null,null,null,null,null,null,null,null,null,null,null,null,null,null,null,null,null,null,null,null,null,null,null,null,null,null,null,null,null,null,{"$f":"IF(AND(rngPrivateWells_Check=TRUE,EM88=TRUE)=TRUE,\"Fit\",\"\")","v":""},null,{"$f":"E91","v":0}]
[]
[]
[null,"Private Wells (NON drinking water)"]
[]
[null,"Specify the use and note any concerns:"]
[null,null,null,null,null,null,null,null,null,null,null,null,null,null,null,null,null,null,null,null,null,null,null,null,null,null,null,null,null,null,null,null,null,null,null,null,null,null,null,null,null,null,null,null,null,null,null,null,null,null,null,null,null,null,null,null,null,null,null,null,null,null,null,null,null,null,null,null,null,null,null,null,null,null,null,null,null,null,null,null,null,null,null,null,null,null,null,null,null,null,null,null,null,null,null,null,null,null,null,null,null,null,null,null,null,null,null,null,null,null,null,null,null,null,null,null,null,null,null,null,null,null,null,null,null,null,null,null,null,null,null,null,null,null,null,null,null,null,null,null,null,null,null,null,{"$f":"IF(EM25=TRUE,\"Fit\",\"\")","v":""},null,{"$f":"B97","v":0}]
[]
[]
[null,"Private Wastewater Treatment Systems"]
[]
[]
[null,"Identify the type of system(s) present:"]
[]
[null,null,null,null,null,null,null,null,null,"Septic system",null,null,null,null,null,null,null,null,null,null,null,null,null,null,null,null,null,null,null,null,null,null,null,null,null,null,null,null,null,null,null,null,null,null,null,null,null,null,null,null,null,null,null,null,null,null,null,null,null,null,null,null,null,null,null,null,null,null,null,null,null,null,null,null,null,null,null,null,null,null,null,null,null,null,null,null,null,null,null,null,null,null,null,null,null,null,null,null,null,null,null,null,null,null,null,null,null,null,null,null,null,null,null,null,null,null,null,null,null,null,null,null,null,null,null,null,null,null,null,null,null,null,null,null,null,null,null,null,null,null,null,null,false]
[]
[null,null,null,null,null,null,null,null,null,"Sewage treatment plant",null,null,null,null,null,null,null,null,null,null,null,null,null,null,null,null,null,null,null,null,null,null,null,null,null,null,null,null,null,null,null,null,null,null,null,null,null,null,null,null,null,null,null,null,null,null,null,null,null,null,null,null,null,null,null,null,null,null,null,null,null,null,null,null,null,null,null,null,null,null,null,null,null,null,null,null,null,null,null,null,null,null,null,null,null,null,null,null,null,null,null,null,null,null,null,null,null,null,null,null,null,null,null,null,null,null,null,null,null,null,null,null,null,null,null,null,null,null,null,null,null,null,null,null,null,null,null,null,null,null,null,null,false,{"$f":"IF(OR(EM105=TRUE,EM107=TRUE)=TRUE,1,2)","v":2}]
[]
[]
[null,"Describe the system, its historical operations (including how long it’s been in service) and adequacy:"]
[null,null,null,null,null,null,null,null,null,null,null,null,null,null,null,null,null,null,null,null,null,null,null,null,null,null,null,null,null,null,null,null,null,null,null,null,null,null,null,null,null,null,null,null,null,null,null,null,null,null,null,null,null,null,null,null,null,null,null,null,null,null,null,null,null,null,null,null,null,null,null,null,null,null,null,null,null,null,null,null,null,null,null,null,null,null,null,null,null,null,null,null,null,null,null,null,null,null,null,null,null,null,null,null,null,null,null,null,null,null,null,null,null,null,null,null,null,null,null,null,null,null,null,null,null,null,null,null,null,null,null,null,null,null,null,null,null,null,null,null,null,null,null,null,{"$f":"IF(AND(rngPrivateWaste_Check=TRUE,OR(rngPrivateWaste_SystemsTrigger_Septic=TRUE,rngPrivateWaste_SystemsTrigger_Waste=TRUE)=TRUE)=TRUE,\"Fit\",\"\")","v":""},null,{"$f":"B111","v":0}]
[]
[null,"Describe the leach field and distance to surrounding bodies of water that could be impacted by the effluent:"]
[null,null,null,null,null,null,null,null,null,null,null,null,null,null,null,null,null,null,null,null,null,null,null,null,null,null,null,null,null,null,null,null,null,null,null,null,null,null,null,null,null,null,null,null,null,null,null,null,null,null,null,null,null,null,null,null,null,null,null,null,null,null,null,null,null,null,null,null,null,null,null,null,null,null,null,null,null,null,null,null,null,null,null,null,null,null,null,null,null,null,null,null,null,null,null,null,null,null,null,null,null,null,null,null,null,null,null,null,null,null,null,null,null,null,null,null,null,null,null,null,null,null,null,null,null,null,null,null,null,null,null,null,null,null,null,null,null,null,null,null,null,null,null,null,{"$f":"IF(AND(rngPrivateWaste_Check=TRUE,rngPrivateWaste_SystemsTrigger_Septic=TRUE)=TRUE,\"Fit\",\"\")","v":""},null,{"$f":"B114","v":0}]
[]
[null,"Describe the body of water into which the waste water treatment system effluent is discharged, including distance:"]
[null,null,null,null,null,null,null,null,null,null,null,null,null,null,null,null,null,null,null,null,null,null,null,null,null,null,null,null,null,null,null,null,null,null,null,null,null,null,null,null,null,null,null,null,null,null,null,null,null,null,null,null,null,null,null,null,null,null,null,null,null,null,null,null,null,null,null,null,null,null,null,null,null,null,null,null,null,null,null,null,null,null,null,null,null,null,null,null,null,null,null,null,null,null,null,null,null,null,null,null,null,null,null,null,null,null,null,null,null,null,null,null,null,null,null,null,null,null,null,null,null,null,null,null,null,null,null,null,null,null,null,null,null,null,null,null,null,null,null,null,null,null,null,null,{"$f":"IF(AND(rngPrivateWaste_Check=TRUE,rngPrivateWaste_SystemsTrigger_Waste=TRUE)=TRUE,\"Fit\",\"\")","v":""},null,{"$f":"B117","v":0}]
[]
[null,"Provide the cost of connecting the property to a municipal water system, and the level of work required to accomplish this:"]
[null,null,null,null,null,null,null,null,null,null,null,null,null,null,null,null,null,null,null,null,null,null,null,null,null,null,null,null,null,null,null,null,null,null,null,null,null,null,null,null,null,null,null,null,null,null,null,null,null,null,null,null,null,null,null,null,null,null,null,null,null,null,null,null,null,null,null,null,null,null,null,null,null,null,null,null,null,null,null,null,null,null,null,null,null,null,null,null,null,null,null,null,null,null,null,null,null,null,null,null,null,null,null,null,null,null,null,null,null,null,null,null,null,null,null,null,null,null,null,null,null,null,null,null,null,null,null,null,null,null,null,null,null,null,null,null,null,null,null,null,null,null,null,null,{"$f":"IF(AND(rngPrivateWaste_Check=TRUE,OR(rngPrivateWaste_SystemsTrigger_Septic=TRUE,rngPrivateWaste_SystemsTrigger_Waste=TRUE)=TRUE)=TRUE,\"Fit\",\"\")","v":""},null,{"$f":"B120","v":0}]
[]
[null,"Who is responsible for maintaining the system?"]
[]
[null,null,null,null,null,null,null,null,"Professional third-party",null,null,null,null,null,null,null,null,null,null,null,null,null,null,null,null,null,null,null,null,null,null,null,null,null,null,null,null,null,null,null,null,null,null,null,null,null,null,null,{"$f":"IF(EM124=TRUE,\"Name: \",\"\")","v":""},null,null,null,null,null,null,null,null,null,null,null,null,null,null,null,null,null,null,null,null,null,null,null,null,null,null,null,null,null,null,null,null,null,null,null,null,null,null,null,null,null,null,null,null,null,null,null,null,null,null,null,null,null,null,null,null,null,null,null,null,null,null,null,null,null,null,null,null,null,null,null,null,null,null,null,null,null,null,null,null,null,null,null,null,null,null,null,null,null,null,null,null,null,false,null,{"$f":"IF(AND(rngPrivateWaste_Check=TRUE,EM124=TRUE)=TRUE,\"Fit\",\"\")","v":""},null,{"$f":"BE124","v":0}]
[]
[null,null,null,null,null,null,null,null,"Other",null,null,null,null,null,null,null,null,null,null,null,null,null,null,null,null,null,null,null,null,null,null,null,null,null,null,null,null,null,null,null,null,null,null,null,null,null,null,null,{"$f":"IF(EM126=TRUE,\"Name: \",\"\")","v":""},null,null,null,null,null,null,null,null,null,null,null,null,null,null,null,null,null,null,null,null,null,null,null,null,null,null,null,null,null,null,null,null,null,null,null,null,null,null,null,null,null,null,null,null,null,null,null,null,null,null,null,null,null,null,null,null,null,null,null,null,null,null,null,null,null,null,null,null,null,null,null,null,null,null,null,null,null,null,null,null,null,null,null,null,null,null,null,null,null,null,null,null,null,false,null,{"$f":"IF(AND(rngPrivateWaste_Check=TRUE,EM126=TRUE)=TRUE,\"Fit\",\"\")","v":""},null,{"$f":"BE126","v":0}]
[]
[null,null,null,null,null,null,null,null,null,null,null,null,null,null,null,null,null,null,null,null,null,null,null,null,null,null,null,null,null,null,null,null,null,null,null,null,null,null,null,null,"Qualifications: ",null,null,null,null,null,null,null,null,null,null,null,null,null,null,null,null,null,null,null,null,null,null,null,null,null,null,null,null,null,null,null,null,null,null,null,null,null,null,null,null,null,null,null,null,null,null,null,null,null,null,null,null,null,null,null,null,null,null,null,null,null,null,null,null,null,null,null,null,null,null,null,null,null,null,null,null,null,null,null,null,null,null,null,null,null,null,null,null,null,null,null,null,null,null,null,null,null,null,null,null,null,null,null,{"$f":"IF(AND(rngPrivateWells_Check=TRUE,EM126=TRUE)=TRUE,\"Fit\",\"\")","v":""},null,{"$f":"BE128","v":0}]
[]
[null,null,null,null,"Are there any concerns regarding the quality of maintenance being performed on the system?",null,null,null,null,null,null,null,null,null,null,null,null,null,null,null,null,null,null,null,null,null,null,null,null,null,null,null,null,null,null,null,null,null,null,null,null,null,null,null,null,null,null,null,null,null,null,null,null,null,null,null,null,null,null,null,null,null,null,null,null,null,null,null,null,null,null,null,null,null,null,null,null,null,null,null,null,null,null,null,null,null,null,null,null,null,null,null,null,null,null,null,null,null,null,null,null,null,null,null,null,null,null,null,null,null,null,null,null,null,null,null,null,null,null,null,null,null,null,null,null,null,"Yes",null,null,null,null,null,null,null,null,null,null,"No",null,null,null,null,false,{"$f":"IF(OR(EM124=TRUE,EM126=TRUE)=TRUE,1,2)","v":2}]
[]
[null,null,null,null,"Provide details:"]
[null,null,null,null,null,null,null,null,null,null,null,null,null,null,null,null,null,null,null,null,null,null,null,null,null,null,null,null,null,null,null,null,null,null,null,null,null,null,null,null,null,null,null,null,null,null,null,null,null,null,null,null,null,null,null,null,null,null,null,null,null,null,null,null,null,null,null,null,null,null,null,null,null,null,null,null,null,null,null,null,null,null,null,null,null,null,null,null,null,null,null,null,null,null,null,null,null,null,null,null,null,null,null,null,null,null,null,null,null,null,null,null,null,null,null,null,null,null,null,null,null,null,null,null,null,null,null,null,null,null,null,null,null,null,null,null,null,null,null,null,null,null,null,null,{"$f":"IF(AND(rngPrivateWaste_Check=TRUE,EM130=TRUE)=TRUE,\"Fit\",\"\")","v":""},null,{"$f":"E133","v":0}]
[]
[null,"Are any buildings or structures located on top of the leach field?",null,null,null,null,null,null,null,null,null,null,null,null,null,null,null,null,null,null,null,null,null,null,null,null,null,null,null,null,null,null,null,null,null,null,null,null,null,null,null,null,null,null,null,null,null,null,null,null,null,null,null,null,null,null,null,null,null,null,null,null,null,null,null,null,null,null,null,null,null,null,null,null,null,null,null,null,null,null,null,null,null,null,null,null,null,null,null,null,null,null,null,null,null,null,null,null,null,null,null,null,null,null,null,null,null,null,null,null,null,null,null,null,null,null,null,null,null,null,null,null,null,null,null,null,"Yes",null,null,null,null,null,null,null,null,null,null,"No",null,null,null,null,false]
[]
[null,null,null,null,"Provide details:"]
[null,null,null,null,null,null,null,null,null,null,null,null,null,null,null,null,null,null,null,null,null,null,null,null,null,null,null,null,null,null,null,null,null,null,null,null,null,null,null,null,null,null,null,null,null,null,null,null,null,null,null,null,null,null,null,null,null,null,null,null,null,null,null,null,null,null,null,null,null,null,null,null,null,null,null,null,null,null,null,null,null,null,null,null,null,null,null,null,null,null,null,null,null,null,null,null,null,null,null,null,null,null,null,null,null,null,null,null,null,null,null,null,null,null,null,null,null,null,null,null,null,null,null,null,null,null,null,null,null,null,null,null,null,null,null,null,null,null,null,null,null,null,null,null,{"$f":"IF(AND(rngPrivateWaste_Check=TRUE,EM135=TRUE)=TRUE,\"Fit\",\"\")","v":""},null,{"$f":"E138","v":0}]
[]
[null,"Is equipment accessible to individuals other than authorized personnel?",null,null,null,null,null,null,null,null,null,null,null,null,null,null,null,null,null,null,null,null,null,null,null,null,null,null,null,null,null,null,null,null,null,null,null,null,null,null,null,null,null,null,null,null,null,null,null,null,null,null,null,null,null,null,null,null,null,null,null,null,null,null,null,null,null,null,null,null,null,null,null,null,null,null,null,null,null,null,null,null,null,null,null,null,null,null,null,null,null,null,null,null,null,null,null,null,null,null,null,null,null,null,null,null,null,null,null,null,null,null,null,null,null,null,null,null,null,null,null,null,null,null,null,null,"Yes",null,null,null,null,null,null,null,null,null,null,"No",null,null,null,null,false]
[]
[null,null,null,null,"Provide details:"]
[null,null,null,null,null,null,null,null,null,null,null,null,null,null,null,null,null,null,null,null,null,null,null,null,null,null,null,null,null,null,null,null,null,null,null,null,null,null,null,null,null,null,null,null,null,null,null,null,null,null,null,null,null,null,null,null,null,null,null,null,null,null,null,null,null,null,null,null,null,null,null,null,null,null,null,null,null,null,null,null,null,null,null,null,null,null,null,null,null,null,null,null,null,null,null,null,null,null,null,null,null,null,null,null,null,null,null,null,null,null,null,null,null,null,null,null,null,null,null,null,null,null,null,null,null,null,null,null,null,null,null,null,null,null,null,null,null,null,null,null,null,null,null,null,{"$f":"IF(AND(rngPrivateWaste_Check=TRUE,EM140=TRUE)=TRUE,\"Fit\",\"\")","v":""},null,{"$f":"E143","v":0}]
[]
[null,"Are there any current or previous violations?",null,null,null,null,null,null,null,null,null,null,null,null,null,null,null,null,null,null,null,null,null,null,null,null,null,null,null,null,null,null,null,null,null,null,null,null,null,null,null,null,null,null,null,null,null,null,null,null,null,null,null,null,null,null,null,null,null,null,null,null,null,null,null,null,null,null,null,null,null,null,null,null,null,null,null,null,null,null,null,null,null,null,null,null,null,null,null,null,null,null,null,null,null,null,null,null,null,null,null,null,null,null,null,null,null,null,null,null,null,null,null,null,null,null,null,null,null,null,null,null,null,null,null,null,"Yes",null,null,null,null,null,null,null,null,null,null,"No",null,null,null,null,false]
[]
[null,null,null,null,"Provide details:"]
[null,null,null,null,null,null,null,null,null,null,null,null,null,null,null,null,null,null,null,null,null,null,null,null,null,null,null,null,null,null,null,null,null,null,null,null,null,null,null,null,null,null,null,null,null,null,null,null,null,null,null,null,null,null,null,null,null,null,null,null,null,null,null,null,null,null,null,null,null,null,null,null,null,null,null,null,null,null,null,null,null,null,null,null,null,null,null,null,null,null,null,null,null,null,null,null,null,null,null,null,null,null,null,null,null,null,null,null,null,null,null,null,null,null,null,null,null,null,null,null,null,null,null,null,null,null,null,null,null,null,null,null,null,null,null,null,null,null,null,null,null,null,null,null,{"$f":"IF(AND(rngPrivateWaste_Check=TRUE,EM145=TRUE)=TRUE,\"Fit\",\"\")","v":""},null,{"$f":"E148","v":0}]
[]
[null,"Is this system type atypical for the market?",null,null,null,null,null,null,null,null,null,null,null,null,null,null,null,null,null,null,null,null,null,null,null,null,null,null,null,null,null,null,null,null,null,null,null,null,null,null,null,null,null,null,null,null,null,null,null,null,null,null,null,null,null,null,null,null,null,null,null,null,null,null,null,null,null,null,null,null,null,null,null,null,null,null,null,null,null,null,null,null,null,null,null,null,null,null,null,null,null,null,null,null,null,null,null,null,null,null,null,null,null,null,null,null,null,null,null,null,null,null,null,null,null,null,null,null,null,null,null,null,null,null,null,null,"Yes",null,null,null,null,null,null,null,null,null,null,"No",null,null,null,null,false]
[]
[null,null,null,null,"Provide details:"]
[null,null,null,null,null,null,null,null,null,null,null,null,null,null,null,null,null,null,null,null,null,null,null,null,null,null,null,null,null,null,null,null,null,null,null,null,null,null,null,null,null,null,null,null,null,null,null,null,null,null,null,null,null,null,null,null,null,null,null,null,null,null,null,null,null,null,null,null,null,null,null,null,null,null,null,null,null,null,null,null,null,null,null,null,null,null,null,null,null,null,null,null,null,null,null,null,null,null,null,null,null,null,null,null,null,null,null,null,null,null,null,null,null,null,null,null,null,null,null,null,null,null,null,null,null,null,null,null,null,null,null,null,null,null,null,null,null,null,null,null,null,null,null,null,{"$f":"IF(AND(rngPrivateWaste_Check=TRUE,EM150=TRUE)=TRUE,\"Fit\",\"\")","v":""},null,{"$f":"E153","v":0}]
[]
[null,"Is any other person or property, other than the Borrower or subject property, authorized to use the system?",null,null,null,null,null,null,null,null,null,null,null,null,null,null,null,null,null,null,null,null,null,null,null,null,null,null,null,null,null,null,null,null,null,null,null,null,null,null,null,null,null,null,null,null,null,null,null,null,null,null,null,null,null,null,null,null,null,null,null,null,null,null,null,null,null,null,null,null,null,null,null,null,null,null,null,null,null,null,null,null,null,null,null,null,null,null,null,null,null,null,null,null,null,null,null,null,null,null,null,null,null,null,null,null,null,null,null,null,null,null,null,null,null,null,null,null,null,null,null,null,null,null,null,null,"Yes",null,null,null,null,null,null,null,null,null,null,"No",null,null,null,null,false]
[]
[null,null,null,null,"Provide details:"]
[null,null,null,null,null,null,null,null,null,null,null,null,null,null,null,null,null,null,null,null,null,null,null,null,null,null,null,null,null,null,null,null,null,null,null,null,null,null,null,null,null,null,null,null,null,null,null,null,null,null,null,null,null,null,null,null,null,null,null,null,null,null,null,null,null,null,null,null,null,null,null,null,null,null,null,null,null,null,null,null,null,null,null,null,null,null,null,null,null,null,null,null,null,null,null,null,null,null,null,null,null,null,null,null,null,null,null,null,null,null,null,null,null,null,null,null,null,null,null,null,null,null,null,null,null,null,null,null,null,null,null,null,null,null,null,null,null,null,null,null,null,null,null,null,{"$f":"IF(AND(rngPrivateWaste_Check=TRUE,EM155=TRUE)=TRUE,\"Fit\",\"\")","v":""},null,{"$f":"E158","v":0}]
[]
[null,"Is any part of the system owned or maintained by the residents?",null,null,null,null,null,null,null,null,null,null,null,null,null,null,null,null,null,null,null,null,null,null,null,null,null,null,null,null,null,null,null,null,null,null,null,null,null,null,null,null,null,null,null,null,null,null,null,null,null,null,null,null,null,null,null,null,null,null,null,null,null,null,null,null,null,null,null,null,null,null,null,null,null,null,null,null,null,null,null,null,null,null,null,null,null,null,null,null,null,null,null,null,null,null,null,null,null,null,null,null,null,null,null,null,null,null,null,null,null,null,null,null,null,null,null,null,null,null,null,null,null,null,null,null,"Yes",null,null,null,null,null,null,null,null,null,null,"No",null,null,null,null,false]
[]
[null,null,null,null,"Provide details:"]
[null,null,null,null,null,null,null,null,null,null,null,null,null,null,null,null,null,null,null,null,null,null,null,null,null,null,null,null,null,null,null,null,null,null,null,null,null,null,null,null,null,null,null,null,null,null,null,null,null,null,null,null,null,null,null,null,null,null,null,null,null,null,null,null,null,null,null,null,null,null,null,null,null,null,null,null,null,null,null,null,null,null,null,null,null,null,null,null,null,null,null,null,null,null,null,null,null,null,null,null,null,null,null,null,null,null,null,null,null,null,null,null,null,null,null,null,null,null,null,null,null,null,null,null,null,null,null,null,null,null,null,null,null,null,null,null,null,null,null,null,null,null,null,null,{"$f":"IF(AND(rngPrivateWaste_Check=TRUE,EM160=TRUE)=TRUE,\"Fit\",\"\")","v":""},null,{"$f":"E163","v":0}]
[]
[null,"Does the system fail to meet or exceed applicable federal, state and/or local requirements?",null,null,null,null,null,null,null,null,null,null,null,null,null,null,null,null,null,null,null,null,null,null,null,null,null,null,null,null,null,null,null,null,null,null,null,null,null,null,null,null,null,null,null,null,null,null,null,null,null,null,null,null,null,null,null,null,null,null,null,null,null,null,null,null,null,null,null,null,null,null,null,null,null,null,null,null,null,null,null,null,null,null,null,null,null,null,null,null,null,null,null,null,null,null,null,null,null,null,null,null,null,null,null,null,null,null,null,null,null,null,null,null,null,null,null,null,null,null,null,null,null,null,null,null,"Yes",null,null,null,null,null,null,null,null,null,null,"No",null,null,null,null,false]
[]
[null,null,null,null,"Provide details:"]
[null,null,null,null,null,null,null,null,null,null,null,null,null,null,null,null,null,null,null,null,null,null,null,null,null,null,null,null,null,null,null,null,null,null,null,null,null,null,null,null,null,null,null,null,null,null,null,null,null,null,null,null,null,null,null,null,null,null,null,null,null,null,null,null,null,null,null,null,null,null,null,null,null,null,null,null,null,null,null,null,null,null,null,null,null,null,null,null,null,null,null,null,null,null,null,null,null,null,null,null,null,null,null,null,null,null,null,null,null,null,null,null,null,null,null,null,null,null,null,null,null,null,null,null,null,null,null,null,null,null,null,null,null,null,null,null,null,null,null,null,null,null,null,null,{"$f":"IF(AND(rngPrivateWaste_Check=TRUE,EM165=TRUE)=TRUE,\"Fit\",\"\")","v":""},null,{"$f":"E168","v":0}]
[]
[]
[null,"Private Lift Stations"]
[]
[null,"Describe the system, its historical operations (including how long it’s been in service) and adequacy:"]
[null,null,null,null,null,null,null,null,null,null,null,null,null,null,null,null,null,null,null,null,null,null,null,null,null,null,null,null,null,null,null,null,null,null,null,null,null,null,null,null,null,null,null,null,null,null,null,null,null,null,null,null,null,null,null,null,null,null,null,null,null,null,null,null,null,null,null,null,null,null,null,null,null,null,null,null,null,null,null,null,null,null,null,null,null,null,null,null,null,null,null,null,null,null,null,null,null,null,null,null,null,null,null,null,null,null,null,null,null,null,null,null,null,null,null,null,null,null,null,null,null,null,null,null,null,null,null,null,null,null,null,null,null,null,null,null,null,null,null,null,null,null,null,null,{"$f":"IF(rngPrivateLift_Check=TRUE,\"Fit\",\"\")","v":""},null,{"$f":"B174","v":0}]
[]
[null,"Who is responsible for maintaining the system?"]
[]
[null,null,null,null,null,null,null,null,"Professional third-party",null,null,null,null,null,null,null,null,null,null,null,null,null,null,null,null,null,null,null,null,null,null,null,null,null,null,null,null,null,null,null,null,null,null,null,null,null,null,null,{"$f":"IF(EM178=TRUE,\"Name: \",\"\")","v":""},null,null,null,null,null,null,null,null,null,null,null,null,null,null,null,null,null,null,null,null,null,null,null,null,null,null,null,null,null,null,null,null,null,null,null,null,null,null,null,null,null,null,null,null,null,null,null,null,null,null,null,null,null,null,null,null,null,null,null,null,null,null,null,null,null,null,null,null,null,null,null,null,null,null,null,null,null,null,null,null,null,null,null,null,null,null,null,null,null,null,null,null,null,false,null,{"$f":"IF(AND(rngPrivateWaste_Check=TRUE,EM178=TRUE)=TRUE,\"Fit\",\"\")","v":""},null,{"$f":"BE178","v":0}]
[]
[null,null,null,null,null,null,null,null,"Other",null,null,null,null,null,null,null,null,null,null,null,null,null,null,null,null,null,null,null,null,null,null,null,null,null,null,null,null,null,null,null,null,null,null,null,null,null,null,null,{"$f":"IF(EM180=TRUE,\"Name: \",\"\")","v":""},null,null,null,null,null,null,null,null,null,null,null,null,null,null,null,null,null,null,null,null,null,null,null,null,null,null,null,null,null,null,null,null,null,null,null,null,null,null,null,null,null,null,null,null,null,null,null,null,null,null,null,null,null,null,null,null,null,null,null,null,null,null,null,null,null,null,null,null,null,null,null,null,null,null,null,null,null,null,null,null,null,null,null,null,null,null,null,null,null,null,null,null,null,false,null,{"$f":"IF(AND(rngPrivateWaste_Check=TRUE,EM180=TRUE)=TRUE,\"Fit\",\"\")","v":""},null,{"$f":"BE180","v":0}]
[]
[null,null,null,null,null,null,null,null,null,null,null,null,null,null,null,null,null,null,null,null,null,null,null,null,null,null,null,null,null,null,null,null,null,null,null,null,null,null,null,null,"Qualifications: ",null,null,null,null,null,null,null,null,null,null,null,null,null,null,null,null,null,null,null,null,null,null,null,null,null,null,null,null,null,null,null,null,null,null,null,null,null,null,null,null,null,null,null,null,null,null,null,null,null,null,null,null,null,null,null,null,null,null,null,null,null,null,null,null,null,null,null,null,null,null,null,null,null,null,null,null,null,null,null,null,null,null,null,null,null,null,null,null,null,null,null,null,null,null,null,null,null,null,null,null,null,null,null,{"$f":"IF(AND(rngPrivateLift_Check=TRUE,EM180=TRUE)=TRUE,\"Fit\",\"\")","v":""},null,{"$f":"BE182","v":0}]
[]
[null,null,null,null,"Are there any concerns regarding the quality of maintenance being performed on the system?",null,null,null,null,null,null,null,null,null,null,null,null,null,null,null,null,null,null,null,null,null,null,null,null,null,null,null,null,null,null,null,null,null,null,null,null,null,null,null,null,null,null,null,null,null,null,null,null,null,null,null,null,null,null,null,null,null,null,null,null,null,null,null,null,null,null,null,null,null,null,null,null,null,null,null,null,null,null,null,null,null,null,null,null,null,null,null,null,null,null,null,null,null,null,null,null,null,null,null,null,null,null,null,null,null,null,null,null,null,null,null,null,null,null,null,null,null,null,null,null,null,"Yes",null,null,null,null,null,null,null,null,null,null,"No",null,null,null,null,false,{"$f":"IF(OR(EM178=TRUE,EM180=TRUE)=TRUE,1,2)","v":2}]
[]
[null,null,null,null,"Provide details:"]
[null,null,null,null,null,null,null,null,null,null,null,null,null,null,null,null,null,null,null,null,null,null,null,null,null,null,null,null,null,null,null,null,null,null,null,null,null,null,null,null,null,null,null,null,null,null,null,null,null,null,null,null,null,null,null,null,null,null,null,null,null,null,null,null,null,null,null,null,null,null,null,null,null,null,null,null,null,null,null,null,null,null,null,null,null,null,null,null,null,null,null,null,null,null,null,null,null,null,null,null,null,null,null,null,null,null,null,null,null,null,null,null,null,null,null,null,null,null,null,null,null,null,null,null,null,null,null,null,null,null,null,null,null,null,null,null,null,null,null,null,null,null,null,null,{"$f":"IF(AND(rngPrivateLift_Check=TRUE,EM184=TRUE)=TRUE,\"Fit\",\"\")","v":""},null,{"$f":"E187","v":0}]
[]
[null,"Are any buildings or structures located on top of the lift station?",null,null,null,null,null,null,null,null,null,null,null,null,null,null,null,null,null,null,null,null,null,null,null,null,null,null,null,null,null,null,null,null,null,null,null,null,null,null,null,null,null,null,null,null,null,null,null,null,null,null,null,null,null,null,null,null,null,null,null,null,null,null,null,null,null,null,null,null,null,null,null,null,null,null,null,null,null,null,null,null,null,null,null,null,null,null,null,null,null,null,null,null,null,null,null,null,null,null,null,null,null,null,null,null,null,null,null,null,null,null,null,null,null,null,null,null,null,null,null,null,null,null,null,null,"Yes",null,null,null,null,null,null,null,null,null,null,"No",null,null,null,null,false]
[]
[null,null,null,null,"Provide details:"]
[null,null,null,null,null,null,null,null,null,null,null,null,null,null,null,null,null,null,null,null,null,null,null,null,null,null,null,null,null,null,null,null,null,null,null,null,null,null,null,null,null,null,null,null,null,null,null,null,null,null,null,null,null,null,null,null,null,null,null,null,null,null,null,null,null,null,null,null,null,null,null,null,null,null,null,null,null,null,null,null,null,null,null,null,null,null,null,null,null,null,null,null,null,null,null,null,null,null,null,null,null,null,null,null,null,null,null,null,null,null,null,null,null,null,null,null,null,null,null,null,null,null,null,null,null,null,null,null,null,null,null,null,null,null,null,null,null,null,null,null,null,null,null,null,{"$f":"IF(AND(rngPrivateLift_Check=TRUE,EM189=TRUE)=TRUE,\"Fit\",\"\")","v":""},null,{"$f":"E192","v":0}]
[]
[null,"Is equipment accessible to individuals other than authorized personnel?",null,null,null,null,null,null,null,null,null,null,null,null,null,null,null,null,null,null,null,null,null,null,null,null,null,null,null,null,null,null,null,null,null,null,null,null,null,null,null,null,null,null,null,null,null,null,null,null,null,null,null,null,null,null,null,null,null,null,null,null,null,null,null,null,null,null,null,null,null,null,null,null,null,null,null,null,null,null,null,null,null,null,null,null,null,null,null,null,null,null,null,null,null,null,null,null,null,null,null,null,null,null,null,null,null,null,null,null,null,null,null,null,null,null,null,null,null,null,null,null,null,null,null,null,"Yes",null,null,null,null,null,null,null,null,null,null,"No",null,null,null,null,false]
[]
[null,null,null,null,"Provide details:"]
[null,null,null,null,null,null,null,null,null,null,null,null,null,null,null,null,null,null,null,null,null,null,null,null,null,null,null,null,null,null,null,null,null,null,null,null,null,null,null,null,null,null,null,null,null,null,null,null,null,null,null,null,null,null,null,null,null,null,null,null,null,null,null,null,null,null,null,null,null,null,null,null,null,null,null,null,null,null,null,null,null,null,null,null,null,null,null,null,null,null,null,null,null,null,null,null,null,null,null,null,null,null,null,null,null,null,null,null,null,null,null,null,null,null,null,null,null,null,null,null,null,null,null,null,null,null,null,null,null,null,null,null,null,null,null,null,null,null,null,null,null,null,null,null,{"$f":"IF(AND(rngPrivateLift_Check=TRUE,EM194=TRUE)=TRUE,\"Fit\",\"\")","v":""},null,{"$f":"E197","v":0}]
[]
[null,"Are there any current or previous violations?",null,null,null,null,null,null,null,null,null,null,null,null,null,null,null,null,null,null,null,null,null,null,null,null,null,null,null,null,null,null,null,null,null,null,null,null,null,null,null,null,null,null,null,null,null,null,null,null,null,null,null,null,null,null,null,null,null,null,null,null,null,null,null,null,null,null,null,null,null,null,null,null,null,null,null,null,null,null,null,null,null,null,null,null,null,null,null,null,null,null,null,null,null,null,null,null,null,null,null,null,null,null,null,null,null,null,null,null,null,null,null,null,null,null,null,null,null,null,null,null,null,null,null,null,"Yes",null,null,null,null,null,null,null,null,null,null,"No",null,null,null,null,false]
[]
[null,null,null,null,"Provide details:"]
[null,null,null,null,null,null,null,null,null,null,null,null,null,null,null,null,null,null,null,null,null,null,null,null,null,null,null,null,null,null,null,null,null,null,null,null,null,null,null,null,null,null,null,null,null,null,null,null,null,null,null,null,null,null,null,null,null,null,null,null,null,null,null,null,null,null,null,null,null,null,null,null,null,null,null,null,null,null,null,null,null,null,null,null,null,null,null,null,null,null,null,null,null,null,null,null,null,null,null,null,null,null,null,null,null,null,null,null,null,null,null,null,null,null,null,null,null,null,null,null,null,null,null,null,null,null,null,null,null,null,null,null,null,null,null,null,null,null,null,null,null,null,null,null,{"$f":"IF(AND(rngPrivateLift_Check=TRUE,EM199=TRUE)=TRUE,\"Fit\",\"\")","v":""},null,{"$f":"E202","v":0}]
[]
[null,"Is this system type atypical for the market?",null,null,null,null,null,null,null,null,null,null,null,null,null,null,null,null,null,null,null,null,null,null,null,null,null,null,null,null,null,null,null,null,null,null,null,null,null,null,null,null,null,null,null,null,null,null,null,null,null,null,null,null,null,null,null,null,null,null,null,null,null,null,null,null,null,null,null,null,null,null,null,null,null,null,null,null,null,null,null,null,null,null,null,null,null,null,null,null,null,null,null,null,null,null,null,null,null,null,null,null,null,null,null,null,null,null,null,null,null,null,null,null,null,null,null,null,null,null,null,null,null,null,null,null,"Yes",null,null,null,null,null,null,null,null,null,null,"No",null,null,null,null,false]
[]
[null,null,null,null,"Provide details:"]
[null,null,null,null,null,null,null,null,null,null,null,null,null,null,null,null,null,null,null,null,null,null,null,null,null,null,null,null,null,null,null,null,null,null,null,null,null,null,null,null,null,null,null,null,null,null,null,null,null,null,null,null,null,null,null,null,null,null,null,null,null,null,null,null,null,null,null,null,null,null,null,null,null,null,null,null,null,null,null,null,null,null,null,null,null,null,null,null,null,null,null,null,null,null,null,null,null,null,null,null,null,null,null,null,null,null,null,null,null,null,null,null,null,null,null,null,null,null,null,null,null,null,null,null,null,null,null,null,null,null,null,null,null,null,null,null,null,null,null,null,null,null,null,null,{"$f":"IF(AND(rngPrivateLift_Check=TRUE,EM204=TRUE)=TRUE,\"Fit\",\"\")","v":""},null,{"$f":"E207","v":0}]
[]
[null,"Is any other person or property, other than the Borrower or subject property, authorized to use the system?",null,null,null,null,null,null,null,null,null,null,null,null,null,null,null,null,null,null,null,null,null,null,null,null,null,null,null,null,null,null,null,null,null,null,null,null,null,null,null,null,null,null,null,null,null,null,null,null,null,null,null,null,null,null,null,null,null,null,null,null,null,null,null,null,null,null,null,null,null,null,null,null,null,null,null,null,null,null,null,null,null,null,null,null,null,null,null,null,null,null,null,null,null,null,null,null,null,null,null,null,null,null,null,null,null,null,null,null,null,null,null,null,null,null,null,null,null,null,null,null,null,null,null,null,"Yes",null,null,null,null,null,null,null,null,null,null,"No",null,null,null,null,false]
[]
[null,null,null,null,"Provide details:"]
[null,null,null,null,null,null,null,null,null,null,null,null,null,null,null,null,null,null,null,null,null,null,null,null,null,null,null,null,null,null,null,null,null,null,null,null,null,null,null,null,null,null,null,null,null,null,null,null,null,null,null,null,null,null,null,null,null,null,null,null,null,null,null,null,null,null,null,null,null,null,null,null,null,null,null,null,null,null,null,null,null,null,null,null,null,null,null,null,null,null,null,null,null,null,null,null,null,null,null,null,null,null,null,null,null,null,null,null,null,null,null,null,null,null,null,null,null,null,null,null,null,null,null,null,null,null,null,null,null,null,null,null,null,null,null,null,null,null,null,null,null,null,null,null,{"$f":"IF(AND(rngPrivateLift_Check=TRUE,EM209=TRUE)=TRUE,\"Fit\",\"\")","v":""},null,{"$f":"E212","v":0}]
[]
[null,"Is any part of the system owned or maintained by the residents?",null,null,null,null,null,null,null,null,null,null,null,null,null,null,null,null,null,null,null,null,null,null,null,null,null,null,null,null,null,null,null,null,null,null,null,null,null,null,null,null,null,null,null,null,null,null,null,null,null,null,null,null,null,null,null,null,null,null,null,null,null,null,null,null,null,null,null,null,null,null,null,null,null,null,null,null,null,null,null,null,null,null,null,null,null,null,null,null,null,null,null,null,null,null,null,null,null,null,null,null,null,null,null,null,null,null,null,null,null,null,null,null,null,null,null,null,null,null,null,null,null,null,null,null,"Yes",null,null,null,null,null,null,null,null,null,null,"No",null,null,null,null,false]
[]
[null,null,null,null,"Provide details:"]
[null,null,null,null,null,null,null,null,null,null,null,null,null,null,null,null,null,null,null,null,null,null,null,null,null,null,null,null,null,null,null,null,null,null,null,null,null,null,null,null,null,null,null,null,null,null,null,null,null,null,null,null,null,null,null,null,null,null,null,null,null,null,null,null,null,null,null,null,null,null,null,null,null,null,null,null,null,null,null,null,null,null,null,null,null,null,null,null,null,null,null,null,null,null,null,null,null,null,null,null,null,null,null,null,null,null,null,null,null,null,null,null,null,null,null,null,null,null,null,null,null,null,null,null,null,null,null,null,null,null,null,null,null,null,null,null,null,null,null,null,null,null,null,null,{"$f":"IF(AND(rngPrivateLift_Check=TRUE,EM214=TRUE)=TRUE,\"Fit\",\"\")","v":""},null,{"$f":"E217","v":0}]
[]
[null,"Does the system fail to meet or exceed applicable federal, state and/or local requirements?",null,null,null,null,null,null,null,null,null,null,null,null,null,null,null,null,null,null,null,null,null,null,null,null,null,null,null,null,null,null,null,null,null,null,null,null,null,null,null,null,null,null,null,null,null,null,null,null,null,null,null,null,null,null,null,null,null,null,null,null,null,null,null,null,null,null,null,null,null,null,null,null,null,null,null,null,null,null,null,null,null,null,null,null,null,null,null,null,null,null,null,null,null,null,null,null,null,null,null,null,null,null,null,null,null,null,null,null,null,null,null,null,null,null,null,null,null,null,null,null,null,null,null,null,"Yes",null,null,null,null,null,null,null,null,null,null,"No",null,null,null,null,false]
[]
[null,null,null,null,"Provide details:"]
[null,null,null,null,null,null,null,null,null,null,null,null,null,null,null,null,null,null,null,null,null,null,null,null,null,null,null,null,null,null,null,null,null,null,null,null,null,null,null,null,null,null,null,null,null,null,null,null,null,null,null,null,null,null,null,null,null,null,null,null,null,null,null,null,null,null,null,null,null,null,null,null,null,null,null,null,null,null,null,null,null,null,null,null,null,null,null,null,null,null,null,null,null,null,null,null,null,null,null,null,null,null,null,null,null,null,null,null,null,null,null,null,null,null,null,null,null,null,null,null,null,null,null,null,null,null,null,null,null,null,null,null,null,null,null,null,null,null,null,null,null,null,null,null,{"$f":"IF(AND(rngPrivateLift_Check=TRUE,EM219=TRUE)=TRUE,\"Fit\",\"\")","v":""},null,{"$f":"E222","v":0}]
[]
[]
[null,{"$f":"I!B239","v":"Freddie Mac Multifamily Form 1105 (12/2024)"}]
[]
[]
[]
[]
[]
[]
[]
[]
[null,null,null,null,null,null,null,null,null,null,null,null,null,null,null,null,null,null,null,null,null,null,null,null,null,null,null,null,null,null,null,null,null,null,null,null,null,null,null,null,null,null,null,null,null,null,null,null,null,null,null,null,null,null,null,null,null,null,null,null,null,null,null,null,null,null,null,null,null,null,null,null,null,null,null,null,null,null,null,null,null,null,null,null,null,null,null,null,null,null,null,null,null,null,null,null,null,null,null,null,null,null,null,null,null,null,null,null,null,null,null,null,null,null,null,null,null,null,null,null,null,null,null,null,null,null,null,null,null,null,null,null,null,null,null,null,null,null,null,null,null,null,"2024-12-03T10:54:08.750"]
[null,null,null,null,null,null,null,null,null,null,null,null,null,null,null,null,null,null,null,null,null,null,null,null,null,null,null,null,null,null,null,null,null,null,null,null,null,null,null,null,null,null,null,null,null,null,null,null,null,null,null,null,null,null,null,null,null,null,null,null,null,null,null,null,null,null,null,null,null,null,null,null,null,null,null,null,null,null,null,null,null,null,null,null,null,null,null,null,null,null,null,null,null,null,null,null,null,null,null,null,null,null,null,null,null,null,null,null,null,null,null,null,null,null,null,null,null,null,null,null,null,null,null,null,null,null,null,null,null,null,null,null,null,null,null,null,null,null,null,null,null,null,"2024-11-20T10:46:28.200"]

{"sheet":"V","index":5,"n_rows":235,"n_cols":152,"rows_kept":235,"cut":false,"hidden":false,"merged":[[120,123,120,140],[122,123,122,140],[124,123,124,140],[126,123,126,140],[120,1,120,121],[122,1,122,121],[124,1,124,121],[126,1,126,121],[114,123,114,140],[112,123,112,140],[110,123,110,140],[108,123,108,140],[104,123,104,140],[62,7,62,140],[100,1,100,114],[104,7,104,74],[98,4,98,140],[67,4,67,140],[88,7,88,140],[93,7,93,140],[69,1,69,114],[78,1,78,114],[83,1,83,114],[85,4,85,114],[81,4,81,140],[76,4,76,140],[2,1,2,140],[5,1,5,140],[7,1,7,140],[10,2,10,34],[10,37,10,69],[10,72,10,140],[13,2,13,69],[13,72,13,140],[16,2,16,34],[16,37,16,69],[16,72,16,140],[18,1,18,140],[30,4,30,140],[24,1,24,140],[35,4,35,140],[41,4,41,140],[117,4,117,140],[46,4,46,140],[51,4,51,140],[56,4,56,140],[22,1,22,114],[27,1,27,114],[26,1,26,114],[32,1,32,114],[37,1,37,114],[38,1,38,114],[43,1,43,114],[64,1,64,114],[53,1,53,114],[48,1,48,114],[59,4,59,114],[58,4,58,114]]}
[null,null,null,null,null,null,null,null,null,null,null,null,null,null,null,null,null,null,null,null,null,null,null,null,null,null,null,null,null,null,null,null,null,null,null,null,null,null,null,null,null,null,null,null,null,null,null,null,null,null,null,null,null,null,null,null,null,null,null,null,null,null,null,null,null,null,null,null,null,null,null,null,null,null,null,null,null,null,null,null,null,null,null,null,null,null,null,null,null,null,null,null,null,null,null,null,null,null,null,null,null,null,null,null,null,null,null,null,null,null,null,null,null,null,null,null,null,null,null,null,null,null,null,null,null,null,null,null,null,null,null,null,null,null,null,null,null,null,null,null,null,null,"zTrigger","zAutoFit","zDescription"]
[]
[null,{"$f":"I!B3","v":"Property Condition Assessment "}]
[]
[]
[null,"Section V: Manufactured Housing Communities"]
[]
[]
[]
[null,null,"Freddie Mac loan number",null,null,null,null,null,null,null,null,null,null,null,null,null,null,null,null,null,null,null,null,null,null,null,null,null,null,null,null,null,null,null,null,null,null,"Report date",null,null,null,null,null,null,null,null,null,null,null,null,null,null,null,null,null,null,null,null,null,null,null,null,null,null,null,null,null,null,null,null,null,null,"Property name"]
[null,null,{"$f":"IF(I!C11=\"\",\"ENTER IN SECTION I\",I!C11)","v":"ENTER IN SECTION I"},null,null,null,null,null,null,null,null,null,null,null,null,null,null,null,null,null,null,null,null,null,null,null,null,null,null,null,null,null,null,null,null,null,null,{"$f":"IF(I!AL11=\"\",\"ENTER IN SECTION I\",I!AL11)","v":"ENTER IN SECTION I"},null,null,null,null,null,null,null,null,null,null,null,null,null,null,null,null,null,null,null,null,null,null,null,null,null,null,null,null,null,null,null,null,null,null,{"$f":"IF(I!BU11=\"\",\"ENTER IN SECTION I\",I!BU11)","v":"ENTER IN SECTION I"}]
[]
[null,null,"Seller/Servicer name",null,null,null,null,null,null,null,null,null,null,null,null,null,null,null,null,null,null,null,null,null,null,null,null,null,null,null,null,null,null,null,null,null,null,null,null,null,null,null,null,null,null,null,null,null,null,null,null,null,null,null,null,null,null,null,null,null,null,null,null,null,null,null,null,null,null,null,null,null,"Address"]
[null,null,{"$f":"IF(I!C14=\"\",\"ENTER IN SECTION I\",I!C14)","v":"ENTER IN SECTION I"},null,null,null,null,null,null,null,null,null,null,null,null,null,null,null,null,null,null,null,null,null,null,null,null,null,null,null,null,null,null,null,null,null,null,null,null,null,null,null,null,null,null,null,null,null,null,null,null,null,null,null,null,null,null,null,null,null,null,null,null,null,null,null,null,null,null,null,null,null,{"$f":"IF(I!BU14=\"\",\"ENTER IN SECTION I\",I!BU14)","v":"ENTER IN SECTION I"}]
[]
[null,null,"Seller/Servicer number",null,null,null,null,null,null,null,null,null,null,null,null,null,null,null,null,null,null,null,null,null,null,null,null,null,null,null,null,null,null,null,null,null,null,"Inspection date",null,null,null,null,null,null,null,null,null,null,null,null,null,null,null,null,null,null,null,null,null,null,null,null,null,null,null,null,null,null,null,null,null,null,"City, State, Zip"]
[null,null,{"$f":"IF(I!C17=\"\",\"ENTER IN SECTION I\",I!C17)","v":"ENTER IN SECTION I"},null,null,null,null,null,null,null,null,null,null,null,null,null,null,null,null,null,null,null,null,null,null,null,null,null,null,null,null,null,null,null,null,null,null,{"$f":"IF(I!AL17=\"\",\"ENTER IN SECTION I\",I!AL17)","v":"ENTER IN SECTION I"},null,null,null,null,null,null,null,null,null,null,null,null,null,null,null,null,null,null,null,null,null,null,null,null,null,null,null,null,null,null,null,null,null,null,{"$f":"IF(I!BU17=\"\",\"ENTER IN SECTION I\",I!BU17)","v":"ENTER IN SECTION I"}]
[]
[null,"Manufactured Housing Communities"]
[]
[null,"Is the property a Manufactured Housing Community (\"MHC\"), or does it contain MHC units?",null,null,null,null,null,null,null,null,null,null,null,null,null,null,null,null,null,null,null,null,null,null,null,null,null,null,null,null,null,null,null,null,null,null,null,null,null,null,null,null,null,null,null,null,null,null,null,null,null,null,null,null,null,null,null,null,null,null,null,null,null,null,null,null,null,null,null,null,null,null,null,null,null,null,null,null,null,null,null,null,null,null,null,null,null,null,null,null,null,null,null,null,null,null,null,null,null,null,null,null,null,null,null,null,null,null,null,null,null,null,null,null,null,null,null,null,null,null,null,null,null,null,null,null,"Yes",null,null,null,null,null,null,null,null,null,null,"No",null,null,null,null,false]
[]
[null,"How large are the pad sites?  What size homes can they accommodate (e.g., single-wide, double-wide, etc.)?"]
[]
[null,null,null,null,null,null,null,null,null,null,null,null,null,null,null,null,null,null,null,null,null,null,null,null,null,null,null,null,null,null,null,null,null,null,null,null,null,null,null,null,null,null,null,null,null,null,null,null,null,null,null,null,null,null,null,null,null,null,null,null,null,null,null,null,null,null,null,null,null,null,null,null,null,null,null,null,null,null,null,null,null,null,null,null,null,null,null,null,null,null,null,null,null,null,null,null,null,null,null,null,null,null,null,null,null,null,null,null,null,null,null,null,null,null,null,null,null,null,null,null,null,null,null,null,null,null,null,null,null,null,null,null,null,null,null,null,null,null,null,null,null,null,null,{"$f":"IF(rngMHCYesNo=FALSE,\"\",\"Fit\")","v":""},{"$f":"B25","v":0}]
[]
[null,"Are there any homes that do not conform to the requirements of the Federal Manufactured Home ",null,null,null,null,null,null,null,null,null,null,null,null,null,null,null,null,null,null,null,null,null,null,null,null,null,null,null,null,null,null,null,null,null,null,null,null,null,null,null,null,null,null,null,null,null,null,null,null,null,null,null,null,null,null,null,null,null,null,null,null,null,null,null,null,null,null,null,null,null,null,null,null,null,null,null,null,null,null,null,null,null,null,null,null,null,null,null,null,null,null,null,null,null,null,null,null,null,null,null,null,null,null,null,null,null,null,null,null,null,null,null,null,null,null,null,null,null,null,null,null,null,null,null,null,"Yes",null,null,null,null,null,null,null,null,null,null,"No",null,null,null,null,false]
[null,"Construction and Safety  Standards of 1974 (42 USC Chapter 70; 24 CFR Park 3280), as amended?"]
[]
[null,null,null,null,"Provide details:"]
[null,null,null,null,null,null,null,null,null,null,null,null,null,null,null,null,null,null,null,null,null,null,null,null,null,null,null,null,null,null,null,null,null,null,null,null,null,null,null,null,null,null,null,null,null,null,null,null,null,null,null,null,null,null,null,null,null,null,null,null,null,null,null,null,null,null,null,null,null,null,null,null,null,null,null,null,null,null,null,null,null,null,null,null,null,null,null,null,null,null,null,null,null,null,null,null,null,null,null,null,null,null,null,null,null,null,null,null,null,null,null,null,null,null,null,null,null,null,null,null,null,null,null,null,null,null,null,null,null,null,null,null,null,null,null,null,null,null,null,null,null,null,null,{"$f":"IF(AND(rngMHCYesNo=TRUE,EM27=TRUE)=TRUE,\"Fit\",\"\")","v":""},{"$f":"E31","v":0}]
[]
[null,"Are there any homes that were not installed in compliance with all zoning and building codes?",null,null,null,null,null,null,null,null,null,null,null,null,null,null,null,null,null,null,null,null,null,null,null,null,null,null,null,null,null,null,null,null,null,null,null,null,null,null,null,null,null,null,null,null,null,null,null,null,null,null,null,null,null,null,null,null,null,null,null,null,null,null,null,null,null,null,null,null,null,null,null,null,null,null,null,null,null,null,null,null,null,null,null,null,null,null,null,null,null,null,null,null,null,null,null,null,null,null,null,null,null,null,null,null,null,null,null,null,null,null,null,null,null,null,null,null,null,null,null,null,null,null,null,null,"Yes",null,null,null,null,null,null,null,null,null,null,{"$f":"IF(rngSeismic_No=FALSE,\"No\",\"N/A\")","v":"No"},null,null,null,null,false]
[]
[null,null,null,null,"Provide details:"]
[null,null,null,null,null,null,null,null,null,null,null,null,null,null,null,null,null,null,null,null,null,null,null,null,null,null,null,null,null,null,null,null,null,null,null,null,null,null,null,null,null,null,null,null,null,null,null,null,null,null,null,null,null,null,null,null,null,null,null,null,null,null,null,null,null,null,null,null,null,null,null,null,null,null,null,null,null,null,null,null,null,null,null,null,null,null,null,null,null,null,null,null,null,null,null,null,null,null,null,null,null,null,null,null,null,null,null,null,null,null,null,null,null,null,null,null,null,null,null,null,null,null,null,null,null,null,null,null,null,null,null,null,null,null,null,null,null,null,null,null,null,null,null,{"$f":"IF(AND(rngMHCYesNo=TRUE,EM33=TRUE)=TRUE,\"Fit\",\"\")","v":""},{"$f":"E36","v":0}]
[]
[null,"Are there any decks or patios that are not professionally built, or do not provide sound and adequate access to all",null,null,null,null,null,null,null,null,null,null,null,null,null,null,null,null,null,null,null,null,null,null,null,null,null,null,null,null,null,null,null,null,null,null,null,null,null,null,null,null,null,null,null,null,null,null,null,null,null,null,null,null,null,null,null,null,null,null,null,null,null,null,null,null,null,null,null,null,null,null,null,null,null,null,null,null,null,null,null,null,null,null,null,null,null,null,null,null,null,null,null,null,null,null,null,null,null,null,null,null,null,null,null,null,null,null,null,null,null,null,null,null,null,null,null,null,null,null,null,null,null,null,null,null,"Yes",null,null,null,null,null,null,null,null,null,null,"No",null,null,null,null,false]
[null,"homes?"]
[]
[null,null,null,null,"Provide details:"]
[null,null,null,null,null,null,null,null,null,null,null,null,null,null,null,null,null,null,null,null,null,null,null,null,null,null,null,null,null,null,null,null,null,null,null,null,null,null,null,null,null,null,null,null,null,null,null,null,null,null,null,null,null,null,null,null,null,null,null,null,null,null,null,null,null,null,null,null,null,null,null,null,null,null,null,null,null,null,null,null,null,null,null,null,null,null,null,null,null,null,null,null,null,null,null,null,null,null,null,null,null,null,null,null,null,null,null,null,null,null,null,null,null,null,null,null,null,null,null,null,null,null,null,null,null,null,null,null,null,null,null,null,null,null,null,null,null,null,null,null,null,null,null,{"$f":"IF(AND(rngMHCYesNo=TRUE,EM38=TRUE)=TRUE,\"Fit\",\"\")","v":""},{"$f":"E42","v":0}]
[]
[null,"Are there any homes that have not been professionally skirted?",null,null,null,null,null,null,null,null,null,null,null,null,null,null,null,null,null,null,null,null,null,null,null,null,null,null,null,null,null,null,null,null,null,null,null,null,null,null,null,null,null,null,null,null,null,null,null,null,null,null,null,null,null,null,null,null,null,null,null,null,null,null,null,null,null,null,null,null,null,null,null,null,null,null,null,null,null,null,null,null,null,null,null,null,null,null,null,null,null,null,null,null,null,null,null,null,null,null,null,null,null,null,null,null,null,null,null,null,null,null,null,null,null,null,null,null,null,null,null,null,null,null,null,null,"Yes",null,null,null,null,null,null,null,null,null,null,"No",null,null,null,null,false]
[]
[null,null,null,null,"Identify units without skirting:"]
[null,null,null,null,null,null,null,null,null,null,null,null,null,null,null,null,null,null,null,null,null,null,null,null,null,null,null,null,null,null,null,null,null,null,null,null,null,null,null,null,null,null,null,null,null,null,null,null,null,null,null,null,null,null,null,null,null,null,null,null,null,null,null,null,null,null,null,null,null,null,null,null,null,null,null,null,null,null,null,null,null,null,null,null,null,null,null,null,null,null,null,null,null,null,null,null,null,null,null,null,null,null,null,null,null,null,null,null,null,null,null,null,null,null,null,null,null,null,null,null,null,null,null,null,null,null,null,null,null,null,null,null,null,null,null,null,null,null,null,null,null,null,null,{"$f":"IF(AND(rngMHCYesNo=TRUE,EM44=TRUE)=TRUE,\"Fit\",\"\")","v":""},{"$f":"E47","v":0}]
[]
[null,"Are there any homes with exposed hitches?",null,null,null,null,null,null,null,null,null,null,null,null,null,null,null,null,null,null,null,null,null,null,null,null,null,null,null,null,null,null,null,null,null,null,null,null,null,null,null,null,null,null,null,null,null,null,null,null,null,null,null,null,null,null,null,null,null,null,null,null,null,null,null,null,null,null,null,null,null,null,null,null,null,null,null,null,null,null,null,null,null,null,null,null,null,null,null,null,null,null,null,null,null,null,null,null,null,null,null,null,null,null,null,null,null,null,null,null,null,null,null,null,null,null,null,null,null,null,null,null,null,null,null,null,"Yes",null,null,null,null,null,null,null,null,null,null,"No",null,null,null,null,false]
[]
[null,null,null,null,"Identify units with exposed hitches:"]
[null,null,null,null,null,null,null,null,null,null,null,null,null,null,null,null,null,null,null,null,null,null,null,null,null,null,null,null,null,null,null,null,null,null,null,null,null,null,null,null,null,null,null,null,null,null,null,null,null,null,null,null,null,null,null,null,null,null,null,null,null,null,null,null,null,null,null,null,null,null,null,null,null,null,null,null,null,null,null,null,null,null,null,null,null,null,null,null,null,null,null,null,null,null,null,null,null,null,null,null,null,null,null,null,null,null,null,null,null,null,null,null,null,null,null,null,null,null,null,null,null,null,null,null,null,null,null,null,null,null,null,null,null,null,null,null,null,null,null,null,null,null,null,{"$f":"IF(AND(rngMHCYesNo=TRUE,EM49=TRUE)=TRUE,\"Fit\",\"\")","v":""},{"$f":"E52","v":0}]
[]
[null,"Are tenant-owned ancillary structures (e.g., sheds, playhouses, etc.) allowed on the pad sites?",null,null,null,null,null,null,null,null,null,null,null,null,null,null,null,null,null,null,null,null,null,null,null,null,null,null,null,null,null,null,null,null,null,null,null,null,null,null,null,null,null,null,null,null,null,null,null,null,null,null,null,null,null,null,null,null,null,null,null,null,null,null,null,null,null,null,null,null,null,null,null,null,null,null,null,null,null,null,null,null,null,null,null,null,null,null,null,null,null,null,null,null,null,null,null,null,null,null,null,null,null,null,null,null,null,null,null,null,null,null,null,null,null,null,null,null,null,null,null,null,null,null,null,null,"Yes",null,null,null,null,null,null,null,null,null,null,"No",null,null,null,null,false]
[]
[null,null,null,null,"Provide details:"]
[null,null,null,null,null,null,null,null,null,null,null,null,null,null,null,null,null,null,null,null,null,null,null,null,null,null,null,null,null,null,null,null,null,null,null,null,null,null,null,null,null,null,null,null,null,null,null,null,null,null,null,null,null,null,null,null,null,null,null,null,null,null,null,null,null,null,null,null,null,null,null,null,null,null,null,null,null,null,null,null,null,null,null,null,null,null,null,null,null,null,null,null,null,null,null,null,null,null,null,null,null,null,null,null,null,null,null,null,null,null,null,null,null,null,null,null,null,null,null,null,null,null,null,null,null,null,null,null,null,null,null,null,null,null,null,null,null,null,null,null,null,null,null,{"$f":"IF(AND(rngMHCYesNo=TRUE,EM54=TRUE)=TRUE,\"Fit\",\"\")","v":""},{"$f":"E57","v":0}]
[]
[null,null,null,null,"Are any deficiencies present regarding these structures that could have a detrimental effect on the homes or",null,null,null,null,null,null,null,null,null,null,null,null,null,null,null,null,null,null,null,null,null,null,null,null,null,null,null,null,null,null,null,null,null,null,null,null,null,null,null,null,null,null,null,null,null,null,null,null,null,null,null,null,null,null,null,null,null,null,null,null,null,null,null,null,null,null,null,null,null,null,null,null,null,null,null,null,null,null,null,null,null,null,null,null,null,null,null,null,null,null,null,null,null,null,null,null,null,null,null,null,null,null,null,null,null,null,null,null,null,null,null,null,null,null,null,null,null,null,null,null,null,"Yes",null,null,null,null,null,null,null,null,null,null,"No",null,null,null,null,false]
[null,null,null,null,"the community as a whole (such as curb appeal)?  "]
[]
[null,null,null,null,null,null,null,"Provide details:"]
[null,null,null,null,null,null,null,null,null,null,null,null,null,null,null,null,null,null,null,null,null,null,null,null,null,null,null,null,null,null,null,null,null,null,null,null,null,null,null,null,null,null,null,null,null,null,null,null,null,null,null,null,null,null,null,null,null,null,null,null,null,null,null,null,null,null,null,null,null,null,null,null,null,null,null,null,null,null,null,null,null,null,null,null,null,null,null,null,null,null,null,null,null,null,null,null,null,null,null,null,null,null,null,null,null,null,null,null,null,null,null,null,null,null,null,null,null,null,null,null,null,null,null,null,null,null,null,null,null,null,null,null,null,null,null,null,null,null,null,null,null,null,null,{"$f":"IF(AND(rngMHCYesNo=TRUE,EM59=TRUE)=TRUE,\"Fit\",\"\")","v":""},{"$f":"H63","v":0}]
[]
[null,"Did any of the borrower-owned homes fail to meet any local seismic codes or requirements?",null,null,null,null,null,null,null,null,null,null,null,null,null,null,null,null,null,null,null,null,null,null,null,null,null,null,null,null,null,null,null,null,null,null,null,null,null,null,null,null,null,null,null,null,null,null,null,null,null,null,null,null,null,null,null,null,null,null,null,null,null,null,null,null,null,null,null,null,null,null,null,null,null,null,null,null,null,null,null,null,null,null,null,null,null,null,null,null,null,null,null,null,null,null,null,null,null,null,null,null,null,null,null,null,null,null,null,null,null,null,null,null,null,null,null,null,null,null,null,null,null,null,null,null,"Yes",null,null,null,null,null,null,null,null,null,null,{"$f":"IF(rngSeismic_No=FALSE,\"No\",\"N/A\")","v":"No"},null,null,null,null,false]
[]
[null,null,null,null,"Provide details:"]
[null,null,null,null,null,null,null,null,null,null,null,null,null,null,null,null,null,null,null,null,null,null,null,null,null,null,null,null,null,null,null,null,null,null,null,null,null,null,null,null,null,null,null,null,null,null,null,null,null,null,null,null,null,null,null,null,null,null,null,null,null,null,null,null,null,null,null,null,null,null,null,null,null,null,null,null,null,null,null,null,null,null,null,null,null,null,null,null,null,null,null,null,null,null,null,null,null,null,null,null,null,null,null,null,null,null,null,null,null,null,null,null,null,null,null,null,null,null,null,null,null,null,null,null,null,null,null,null,null,null,null,null,null,null,null,null,null,null,null,null,null,null,null,{"$f":"IF(AND(rngMHCYesNo=TRUE,EM65=TRUE)=TRUE,\"Fit\",\"\")","v":""},{"$f":"E68","v":0}]
[]
[null,"What utilities are available at each pad site?"]
[]
[null,null,null,null,null,null,null,null,"Municipal water",null,null,null,null,null,null,null,null,null,null,null,null,null,null,null,null,null,null,null,null,null,null,null,null,"Private water",null,null,null,null,null,null,null,null,null,null,null,null,null,null,null,null,null,null,null,null,null,null,null,null,"Electric",null,null,null,null,null,null,null,null,null,null,null,null,null,null,null,null,null,null,null,null,null,null,null,null,"Gas",null,null,null,null,null,null,null,null,null,null,null,null,null,null,null,null,null,null,null,null,null,null,null,null,"Other",null,null,null,null,null,null,null,null,null,null,null,null,null,null,null,null,null,null,null,null,null,null,null,null,null,null,null,null,null,null,null,null,null,false,null,null,null,false,false,false,false,false,false]
[]
[null,null,null,null,null,null,null,null,"Municipal sewer",null,null,null,null,null,null,null,null,null,null,null,null,null,null,null,null,null,null,null,null,null,null,null,null,"Private sewer",null,null,null,null,null,null,null,null,null,null,null,null,null,null,null,null,null,null,null,null,null,null,null,null,null,null,null,null,null,null,null,null,null,null,null,null,null,null,null,null,null,null,null,null,null,null,null,null,null,null,null,null,null,null,null,null,null,null,null,null,null,null,null,null,null,null,null,null,null,null,null,null,null,null,null,null,null,null,null,null,null,null,null,null,null,null,null,null,null,null,null,null,null,null,null,null,null,null,null,null,null,null,null,null,null,null,null,null,false]
[]
[null,null,null,null,"Provide details for \"Other\":"]
[null,null,null,null,null,null,null,null,null,null,null,null,null,null,null,null,null,null,null,null,null,null,null,null,null,null,null,null,null,null,null,null,null,null,null,null,null,null,null,null,null,null,null,null,null,null,null,null,null,null,null,null,null,null,null,null,null,null,null,null,null,null,null,null,null,null,null,null,null,null,null,null,null,null,null,null,null,null,null,null,null,null,null,null,null,null,null,null,null,null,null,null,null,null,null,null,null,null,null,null,null,null,null,null,null,null,null,null,null,null,null,null,null,null,null,null,null,null,null,null,null,null,null,null,null,null,null,null,null,null,null,null,null,null,null,null,null,null,null,null,null,null,null,{"$f":"IF(AND(rngMHCYesNo=TRUE,EM74=TRUE)=TRUE,\"Fit\",\"\")","v":""},{"$f":"E77","v":0}]
[]
[null,"Is the property located in a flood zone?",null,null,null,null,null,null,null,null,null,null,null,null,null,null,null,null,null,null,null,null,null,null,null,null,null,null,null,null,null,null,null,null,null,null,null,null,null,null,null,null,null,null,null,null,null,null,null,null,null,null,null,null,null,null,null,null,null,null,null,null,null,null,null,null,null,null,null,null,null,null,null,null,null,null,null,null,null,null,null,null,null,null,null,null,null,null,null,null,null,null,null,null,null,null,null,null,null,null,null,null,null,null,null,null,null,null,null,null,null,null,null,null,null,null,null,null,null,null,null,null,null,null,null,null,"Yes",null,null,null,null,null,null,null,null,null,null,"No",null,null,null,null,false]
[]
[null,null,null,null,"Provide details regarding the number of pad sites and common buildings that are affected."]
[null,null,null,null,null,null,null,null,null,null,null,null,null,null,null,null,null,null,null,null,null,null,null,null,null,null,null,null,null,null,null,null,null,null,null,null,null,null,null,null,null,null,null,null,null,null,null,null,null,null,null,null,null,null,null,null,null,null,null,null,null,null,null,null,null,null,null,null,null,null,null,null,null,null,null,null,null,null,null,null,null,null,null,null,null,null,null,null,null,null,null,null,null,null,null,null,null,null,null,null,null,null,null,null,null,null,null,null,null,null,null,null,null,null,null,null,null,null,null,null,null,null,null,null,null,null,null,null,null,null,null,null,null,null,null,null,null,null,null,null,null,null,null,{"$f":"IF(AND(rngMHCYesNo=TRUE,EM79=TRUE)=TRUE,\"Fit\",\"\")","v":""},{"$f":"E82","v":0}]
[]
[null,"Are any of the pad sites supplied with less than 60 amperes of power?",null,null,null,null,null,null,null,null,null,null,null,null,null,null,null,null,null,null,null,null,null,null,null,null,null,null,null,null,null,null,null,null,null,null,null,null,null,null,null,null,null,null,null,null,null,null,null,null,null,null,null,null,null,null,null,null,null,null,null,null,null,null,null,null,null,null,null,null,null,null,null,null,null,null,null,null,null,null,null,null,null,null,null,null,null,null,null,null,null,null,null,null,null,null,null,null,null,null,null,null,null,null,null,null,null,null,null,null,null,null,null,null,null,null,null,null,null,null,null,null,null,null,null,null,"Yes",null,null,null,null,null,null,null,null,null,null,"No",null,null,null,null,false]
[]
[null,null,null,null,"Does the available level of power fail to meet any state and local building codes?",null,null,null,null,null,null,null,null,null,null,null,null,null,null,null,null,null,null,null,null,null,null,null,null,null,null,null,null,null,null,null,null,null,null,null,null,null,null,null,null,null,null,null,null,null,null,null,null,null,null,null,null,null,null,null,null,null,null,null,null,null,null,null,null,null,null,null,null,null,null,null,null,null,null,null,null,null,null,null,null,null,null,null,null,null,null,null,null,null,null,null,null,null,null,null,null,null,null,null,null,null,null,null,null,null,null,null,null,null,null,null,null,null,null,null,null,null,null,null,null,null,"Yes",null,null,null,null,null,null,null,null,null,null,"No",null,null,null,null,false]
[]
[null,null,null,null,null,null,null,"Provide details:"]
[null,null,null,null,null,null,null,null,null,null,null,null,null,null,null,null,null,null,null,null,null,null,null,null,null,null,null,null,null,null,null,null,null,null,null,null,null,null,null,null,null,null,null,null,null,null,null,null,null,null,null,null,null,null,null,null,null,null,null,null,null,null,null,null,null,null,null,null,null,null,null,null,null,null,null,null,null,null,null,null,null,null,null,null,null,null,null,null,null,null,null,null,null,null,null,null,null,null,null,null,null,null,null,null,null,null,null,null,null,null,null,null,null,null,null,null,null,null,null,null,null,null,null,null,null,null,null,null,null,null,null,null,null,null,null,null,null,null,null,null,null,null,null,{"$f":"IF(AND(rngMHCYesNo=TRUE,EM86=TRUE)=TRUE,\"Fit\",\"\")","v":""},{"$f":"H89","v":0}]
[]
[null,null,null,null,"Is the current level of power insufficient for any home(s)?",null,null,null,null,null,null,null,null,null,null,null,null,null,null,null,null,null,null,null,null,null,null,null,null,null,null,null,null,null,null,null,null,null,null,null,null,null,null,null,null,null,null,null,null,null,null,null,null,null,null,null,null,null,null,null,null,null,null,null,null,null,null,null,null,null,null,null,null,null,null,null,null,null,null,null,null,null,null,null,null,null,null,null,null,null,null,null,null,null,null,null,null,null,null,null,null,null,null,null,null,null,null,null,null,null,null,null,null,null,null,null,null,null,null,null,null,null,null,null,null,null,"Yes",null,null,null,null,null,null,null,null,null,null,"No",null,null,null,null,false]
[]
[null,null,null,null,null,null,null,"Provide details:"]
[null,null,null,null,null,null,null,null,null,null,null,null,null,null,null,null,null,null,null,null,null,null,null,null,null,null,null,null,null,null,null,null,null,null,null,null,null,null,null,null,null,null,null,null,null,null,null,null,null,null,null,null,null,null,null,null,null,null,null,null,null,null,null,null,null,null,null,null,null,null,null,null,null,null,null,null,null,null,null,null,null,null,null,null,null,null,null,null,null,null,null,null,null,null,null,null,null,null,null,null,null,null,null,null,null,null,null,null,null,null,null,null,null,null,null,null,null,null,null,null,null,null,null,null,null,null,null,null,null,null,null,null,null,null,null,null,null,null,null,null,null,null,null,{"$f":"IF(AND(rngMHCYesNo=TRUE,EM91=TRUE)=TRUE,\"Fit\",\"\")","v":""},{"$f":"H94","v":0}]
[]
[null,"Are there any pad sites not ready for occupancy (missing road access, connections to utilities, curb cuts, etc.)?",null,null,null,null,null,null,null,null,null,null,null,null,null,null,null,null,null,null,null,null,null,null,null,null,null,null,null,null,null,null,null,null,null,null,null,null,null,null,null,null,null,null,null,null,null,null,null,null,null,null,null,null,null,null,null,null,null,null,null,null,null,null,null,null,null,null,null,null,null,null,null,null,null,null,null,null,null,null,null,null,null,null,null,null,null,null,null,null,null,null,null,null,null,null,null,null,null,null,null,null,null,null,null,null,null,null,null,null,null,null,null,null,null,null,null,null,null,null,null,null,null,null,null,null,"Yes",null,null,null,null,null,null,null,null,null,null,"No",null,null,null,null,false]
[]
[null,null,null,null,"List the pad site numbers, and explain why each pad site is not ready for occupancy:"]
[null,null,null,null,null,null,null,null,null,null,null,null,null,null,null,null,null,null,null,null,null,null,null,null,null,null,null,null,null,null,null,null,null,null,null,null,null,null,null,null,null,null,null,null,null,null,null,null,null,null,null,null,null,null,null,null,null,null,null,null,null,null,null,null,null,null,null,null,null,null,null,null,null,null,null,null,null,null,null,null,null,null,null,null,null,null,null,null,null,null,null,null,null,null,null,null,null,null,null,null,null,null,null,null,null,null,null,null,null,null,null,null,null,null,null,null,null,null,null,null,null,null,null,null,null,null,null,null,null,null,null,null,null,null,null,null,null,null,null,null,null,null,null,{"$f":"IF(AND(rngMHCYesNo=TRUE,EM96=TRUE)=TRUE,\"Fit\",\"\")","v":""},{"$f":"E99","v":0}]
[]
[null,"Do any pads have unpaved or gravel driveways (e.g., no asphalt, concrete, etc.)?",null,null,null,null,null,null,null,null,null,null,null,null,null,null,null,null,null,null,null,null,null,null,null,null,null,null,null,null,null,null,null,null,null,null,null,null,null,null,null,null,null,null,null,null,null,null,null,null,null,null,null,null,null,null,null,null,null,null,null,null,null,null,null,null,null,null,null,null,null,null,null,null,null,null,null,null,null,null,null,null,null,null,null,null,null,null,null,null,null,null,null,null,null,null,null,null,null,null,null,null,null,null,null,null,null,null,null,null,null,null,null,null,null,null,null,null,null,null,null,null,null,null,null,null,"Yes",null,null,null,null,null,null,null,null,null,null,"No",null,null,null,null,false]
[]
[null,null,null,null,"Are any of the pad sites with unpaved driveways currently occupied?",null,null,null,null,null,null,null,null,null,null,null,null,null,null,null,null,null,null,null,null,null,null,null,null,null,null,null,null,null,null,null,null,null,null,null,null,null,null,null,null,null,null,null,null,null,null,null,null,null,null,null,null,null,null,null,null,null,null,null,null,null,null,null,null,null,null,null,null,null,null,null,null,null,null,null,null,null,null,null,null,null,null,null,null,null,null,null,null,null,null,null,null,null,null,null,null,null,null,null,null,null,null,null,null,null,null,null,null,null,null,null,null,null,null,null,null,null,null,null,null,null,"Yes",null,null,null,null,null,null,null,null,null,null,"No",null,null,null,null,false]
[]
[null,null,null,null,null,null,null,"How many?"]
[]
[null,null,null,null,"Are any of the pad sites with unpaved driveways currently vacant/down/offline?",null,null,null,null,null,null,null,null,null,null,null,null,null,null,null,null,null,null,null,null,null,null,null,null,null,null,null,null,null,null,null,null,null,null,null,null,null,null,null,null,null,null,null,null,null,null,null,null,null,null,null,null,null,null,null,null,null,null,null,null,null,null,null,null,null,null,null,null,null,null,null,null,null,null,null,null,null,null,null,null,null,null,null,null,null,null,null,null,null,null,null,null,null,null,null,null,null,null,null,null,null,null,null,null,null,null,null,null,null,null,null,null,null,null,null,null,null,null,null,null,null,"Yes",null,null,null,null,null,null,null,null,null,null,"No",null,null,null,null,false]
[]
[null,null,null,null,null,null,null,"How many pad sites with unpaved driveways have a vacant home on them?"]
[]
[null,null,null,null,null,null,null,"How many pad sites with unpaved driveways have never had a home on them?"]
[]
[null,null,null,null,null,null,null,"How many pad sites with unpaved driveways have had a home on them in the past, but don't now?"]
[]
[null,null,null,null,"What is the total cost to pave all unpaved driveways?"]
[]
[null,null,null,null,"For all pad sites with unpaved driveways, please list the pad site numbers and the current state of the driveways:"]
[null,null,null,null,null,null,null,null,null,null,null,null,null,null,null,null,null,null,null,null,null,null,null,null,null,null,null,null,null,null,null,null,null,null,null,null,null,null,null,null,null,null,null,null,null,null,null,null,null,null,null,null,null,null,null,null,null,null,null,null,null,null,null,null,null,null,null,null,null,null,null,null,null,null,null,null,null,null,null,null,null,null,null,null,null,null,null,null,null,null,null,null,null,null,null,null,null,null,null,null,null,null,null,null,null,null,null,null,null,null,null,null,null,null,null,null,null,null,null,null,null,null,null,null,null,null,null,null,null,null,null,null,null,null,null,null,null,null,null,null,null,null,null,{"$f":"IF(AND(rngMHCYesNo=TRUE,EM101=TRUE)=TRUE,\"Fit\",\"\")","v":""},{"$f":"E118","v":0}]
[]
[]
[null,"Number of Occupied Pad Sites with unpaved driveways",null,null,null,null,null,null,null,null,null,null,null,null,null,null,null,null,null,null,null,null,null,null,null,null,null,null,null,null,null,null,null,null,null,null,null,null,null,null,null,null,null,null,null,null,null,null,null,null,null,null,null,null,null,null,null,null,null,null,null,null,null,null,null,null,null,null,null,null,null,null,null,null,null,null,null,null,null,null,null,null,null,null,null,null,null,null,null,null,null,null,null,null,null,null,null,null,null,null,null,null,null,null,null,null,null,null,null,null,null,null,null,null,null,null,null,null,null,null,null,null,null,{"$f":"IF(rngMHC_Q11aDesc=\"\",\"\",rngMHC_Q11aDesc)","v":""}]
[]
[null,"Number of Vacant Pad Sites with unpaved driveways",null,null,null,null,null,null,null,null,null,null,null,null,null,null,null,null,null,null,null,null,null,null,null,null,null,null,null,null,null,null,null,null,null,null,null,null,null,null,null,null,null,null,null,null,null,null,null,null,null,null,null,null,null,null,null,null,null,null,null,null,null,null,null,null,null,null,null,null,null,null,null,null,null,null,null,null,null,null,null,null,null,null,null,null,null,null,null,null,null,null,null,null,null,null,null,null,null,null,null,null,null,null,null,null,null,null,null,null,null,null,null,null,null,null,null,null,null,null,null,null,null,{"$f":"IF(AND(DT109=\"\",DT111=\"\",DT113=\"\")=TRUE,\"\",DT109+DT111+DT113)","v":""}]
[]
[null,"Total Pad Sites with unpaved driveways",null,null,null,null,null,null,null,null,null,null,null,null,null,null,null,null,null,null,null,null,null,null,null,null,null,null,null,null,null,null,null,null,null,null,null,null,null,null,null,null,null,null,null,null,null,null,null,null,null,null,null,null,null,null,null,null,null,null,null,null,null,null,null,null,null,null,null,null,null,null,null,null,null,null,null,null,null,null,null,null,null,null,null,null,null,null,null,null,null,null,null,null,null,null,null,null,null,null,null,null,null,null,null,null,null,null,null,null,null,null,null,null,null,null,null,null,null,null,null,null,null,{"$f":"IF(DT105+DT109+DT111+DT113=0,\"\",DT105+DT109+DT111+DT113)","v":""}]
[]
[null,"Cost to pave each unpaved driveway",null,null,null,null,null,null,null,null,null,null,null,null,null,null,null,null,null,null,null,null,null,null,null,null,null,null,null,null,null,null,null,null,null,null,null,null,null,null,null,null,null,null,null,null,null,null,null,null,null,null,null,null,null,null,null,null,null,null,null,null,null,null,null,null,null,null,null,null,null,null,null,null,null,null,null,null,null,null,null,null,null,null,null,null,null,null,null,null,null,null,null,null,null,null,null,null,null,null,null,null,null,null,null,null,null,null,null,null,null,null,null,null,null,null,null,null,null,null,null,null,null,{"$f":"IF(OR(DT115=\"\",DT121=\"\",DT123=\"\")=TRUE,\"\",DT115/(DT121+DT123))","v":""}]
[]
[null,{"$f":"I!B239","v":"Freddie Mac Multifamily Form 1105 (12/2024)"}]
[]
[]
[]
[]
[]
[]
[]
[]
[]
[]
[]
[]
[]
[]
[]
[]
[]
[]
[]
[]
[]
[]
[]
[]
[]
[]
[]
[]
[]
[]
[]
[]
[]
[]
[]
[]
[]
[]
[]
[]
[]
[]
[]
[]
[]
[]
[]
[]
[]
[]
[]
[]
[]
[]
[]
[]
[]
[]
[]
[]
[]
[]
[]
[]
[]
[]
[]
[]
[]
[]
[]
[]
[]
[]
[]
[]
[]
[]
[]
[]
[]
[]
[]
[]
[]
[]
[]
[]
[]
[]
[]
[]
[]
[]
[]
[]
[]
[]
[]
[]
[]
[]
[]
[]
[null,null,null,null,null,null,null,null,null,null,null,null,null,null,null,null,null,null,null,null,null,null,null,null,null,null,null,null,null,null,null,null,null,null,null,null,null,null,null,null,null,null,null,null,null,null,null,null,null,null,null,null,null,null,null,null,null,null,null,null,null,null,null,null,null,null,null,null,null,null,null,null,null,null,null,null,null,null,null,null,null,null,null,null,null,null,null,null,null,null,null,null,null,null,null,null,null,null,null,null,null,null,null,null,null,null,null,null,null,null,null,null,null,null,null,null,null,null,null,null,null,null,null,null,null,null,null,null,null,null,null,null,null,null,null,null,null,null,null,null,null,null,"2024-12-03T10:54:08.750"]
[null,null,null,null,null,null,null,null,null,null,null,null,null,null,null,null,null,null,null,null,null,null,null,null,null,null,null,null,null,null,null,null,null,null,null,null,null,null,null,null,null,null,null,null,null,null,null,null,null,null,null,null,null,null,null,null,null,null,null,null,null,null,null,null,null,null,null,null,null,null,null,null,null,null,null,null,null,null,null,null,null,null,null,null,null,null,null,null,null,null,null,null,null,null,null,null,null,null,null,null,null,null,null,null,null,null,null,null,null,null,null,null,null,null,null,null,null,null,null,null,null,null,null,null,null,null,null,null,null,null,null,null,null,null,null,null,null,null,null,null,null,null,"2024-11-20T10:46:28.200"]

{"sheet":"VI","index":6,"n_rows":235,"n_cols":242,"rows_kept":235,"cut":false,"hidden":false,"merged":[[154,58,154,69],[154,70,154,83],[34,19,34,45],[118,46,118,57],[118,58,118,69],[116,58,116,69],[115,46,115,57],[130,70,130,83],[102,46,102,57],[102,58,102,69],[102,70,102,83],[99,58,99,69],[99,70,99,83],[100,46,100,57],[100,58,100,69],[104,58,104,69],[104,70,104,83],[105,46,105,57],[105,58,105,69],[105,70,105,83],[112,70,112,83],[106,70,106,83],[107,46,107,57],[107,58,107,69],[107,70,107,83],[109,46,109,57],[109,58,109,69],[109,70,109,83],[110,58,110,69],[110,70,110,83],[111,46,111,57],[111,58,111,69],[87,46,87,57],[87,58,87,69],[87,70,87,83],[95,46,95,57],[88,46,88,57],[88,58,88,69],[88,70,88,83],[89,46,89,57],[89,58,89,69],[89,70,89,83],[90,58,90,69],[90,70,90,83],[90,46,90,57],[98,58,98,69],[98,70,98,83],[96,58,96,69],[96,70,96,83],[97,58,97,69],[97,70,97,83],[75,46,75,57],[75,58,75,69],[75,70,75,83],[76,58,76,69],[76,70,76,83],[82,46,82,57],[82,58,82,69],[82,70,82,83],[78,46,78,57],[78,58,78,69],[79,70,79,83],[80,58,80,69],[80,70,80,83],[81,46,81,57],[81,58,81,69],[81,70,81,83],[83,46,83,57],[83,58,83,69],[83,70,83,83],[76,46,76,57],[77,46,77,57],[77,58,77,69],[77,70,77,83],[79,46,79,57],[79,58,79,69],[64,46,64,57],[42,58,42,69],[64,58,64,69],[65,70,65,83],[63,46,63,57],[63,58,63,69],[63,70,63,83],[56,70,56,83],[67,46,67,57],[67,58,67,69],[67,70,67,83],[66,46,66,57],[66,58,66,69],[66,70,66,83],[68,46,68,57],[68,58,68,69],[68,70,68,83],[51,70,51,83],[163,165,163,181],[164,148,164,164],[164,182,164,198],[164,165,164,181],[163,182,163,198],[39,58,39,69],[96,172,96,182],[90,205,90,215],[163,216,163,232],[164,216,164,232],[164,199,164,215],[162,165,162,181],[162,216,162,232],[162,199,162,215],[162,182,162,198],[163,199,163,215],[25,46,25,57],[26,46,26,57],[26,58,26,69],[26,70,26,83],[25,58,25,69],[31,46,31,57],[31,58,31,69],[31,70,31,83],[29,58,29,69],[29,70,29,83],[30,46,30,57],[30,58,30,69],[30,70,30,83],[35,46,35,57],[35,58,35,69],[35,70,35,83],[164,97,164,113],[161,131,161,147],[161,114,161,130],[162,148,162,164],[164,131,164,147],[161,97,161,113],[163,97,163,113],[162,97,162,113],[163,148,163,164],[163,131,163,147],[162,131,162,147],[162,80,162,96],[163,80,163,96],[164,80,164,96],[162,114,162,130],[163,114,163,130],[164,114,164,130],[129,216,129,237],[103,205,103,215],[98,216,98,237],[102,216,102,237],[111,216,111,237],[106,216,106,237],[161,148,161,164],[161,165,161,181],[147,216,147,237],[139,216,139,237],[140,216,140,237],[141,216,141,237],[142,216,142,237],[151,216,151,237],[152,216,152,237],[145,216,145,237],[161,216,161,232],[161,182,161,198],[122,1,122,237],[119,194,119,204],[144,216,144,237],[114,46,114,57],[114,58,114,69],[114,70,114,83],[116,70,116,83],[117,46,117,57],[117,58,117,69],[115,216,115,237],[116,216,116,237],[161,199,161,215],[161,63,161,79],[111,70,111,83],[102,194,102,204],[99,194,99,204],[99,183,99,193],[25,205,25,215],[26,205,26,215],[27,205,27,215],[28,205,28,215],[101,205,101,215],[102,205,102,215],[74,205,74,215],[99,205,99,215],[97,205,97,215],[98,205,98,215],[100,194,100,204],[97,194,97,204],[98,194,98,204],[96,194,96,204],[97,183,97,193],[98,183,98,193],[30,205,30,215],[31,205,31,215],[32,205,32,215],[33,205,33,215],[34,205,34,215],[89,205,89,215],[95,205,95,215],[96,205,96,215],[69,205,69,215],[75,205,75,215],[86,205,86,215],[87,205,87,215],[29,205,29,215],[28,216,28,237],[37,216,37,237],[38,216,38,237],[30,216,30,237],[29,216,29,237],[32,216,32,237],[31,216,31,237],[35,216,35,237],[55,216,55,237],[56,216,56,237],[53,216,53,237],[75,216,75,237],[76,216,76,237],[68,216,68,237],[72,216,72,237],[74,216,74,237],[71,216,71,237],[58,216,58,237],[64,216,64,237],[73,205,73,215],[35,205,35,215],[57,205,57,215],[36,205,36,215],[49,205,49,215],[50,205,50,215],[65,216,65,237],[66,216,66,237],[34,216,34,237],[33,216,33,237],[39,216,39,237],[40,216,40,237],[36,216,36,237],[108,216,108,237],[49,216,49,237],[50,216,50,237],[51,216,51,237],[52,216,52,237],[54,216,54,237],[57,216,57,237],[67,216,67,237],[63,216,63,237],[47,216,47,237],[48,216,48,237],[41,216,41,237],[42,216,42,237],[43,216,43,237],[44,216,44,237],[45,216,45,237],[46,216,46,237],[107,216,107,237],[96,216,96,237],[97,216,97,237],[77,216,77,237],[85,216,85,237],[100,216,100,237],[70,216,70,237],[73,216,73,237],[119,216,119,237],[125,216,125,237],[117,216,117,237],[118,216,118,237],[124,216,124,237],[110,216,110,237],[103,216,103,237],[104,216,104,237],[109,216,109,237],[78,216,78,237],[79,216,79,237],[84,216,84,237],[87,216,87,237],[105,216,105,237],[83,216,83,237],[88,216,88,237],[81,216,81,237],[82,216,82,237],[86,216,86,237],[80,216,80,237],[112,216,112,237],[113,216,113,237],[101,216,101,237],[99,216,99,237],[148,216,148,237],[134,205,134,215],[139,205,139,215],[136,205,136,215],[137,205,137,215],[138,205,138,215],[143,216,143,237],[146,205,146,215],[147,205,147,215],[148,205,148,215],[155,216,155,237],[156,216,156,237],[149,216,149,237],[150,216,150,237],[153,216,153,237],[154,216,154,237],[126,216,126,237],[133,216,133,237],[134,216,134,237],[132,216,132,237],[130,216,130,237],[131,216,131,237],[146,216,146,237],[135,216,135,237],[136,216,136,237],[127,216,127,237],[128,216,128,237],[137,216,137,237],[138,216,138,237],[153,205,153,215],[154,205,154,215],[155,205,155,215],[156,205,156,215],[149,205,149,215],[150,205,150,215],[151,205,151,215],[152,205,152,215],[145,205,145,215],[135,205,135,215],[142,205,142,215],[143,205,143,215],[144,205,144,215],[140,205,140,215],[141,205,141,215],[128,205,128,215],[129,205,129,215],[130,205,130,215],[131,205,131,215],[132,205,132,215],[133,205,133,215],[43,205,43,215],[44,205,44,215],[45,205,45,215],[46,205,46,215],[47,205,47,215],[48,205,48,215],[125,205,125,215],[126,205,126,215],[127,205,127,215],[113,205,113,215],[114,205,114,215],[115,205,115,215],[116,205,116,215],[117,205,117,215],[118,205,118,215],[119,205,119,215],[124,205,124,215],[72,205,72,215],[58,205,58,215],[85,205,85,215],[88,205,88,215],[83,205,83,215],[84,205,84,215],[100,205,100,215],[56,205,56,215],[61,1,61,237],[64,183,64,193],[107,205,107,215],[108,205,108,215],[104,205,104,215],[114,216,114,237],[69,216,69,237],[117,194,117,204],[118,194,118,204],[54,205,54,215],[51,205,51,215],[52,205,52,215],[55,205,55,215],[109,205,109,215],[110,205,110,215],[63,205,63,215],[64,205,64,215],[105,205,105,215],[106,205,106,215],[77,205,77,215],[78,205,78,215],[79,205,79,215],[80,205,80,215],[81,205,81,215],[82,205,82,215],[82,194,82,204],[80,194,80,204],[81,194,81,204],[111,205,111,215],[112,205,112,215],[114,194,114,204],[70,205,70,215],[71,205,71,215],[53,205,53,215],[76,205,76,215],[65,205,65,215],[66,205,66,215],[67,205,67,215],[68,205,68,215],[156,194,156,204],[111,194,111,204],[112,194,112,204],[113,194,113,204],[152,194,152,204],[153,194,153,204],[37,205,37,215],[38,205,38,215],[39,205,39,215],[40,205,40,215],[41,205,41,215],[42,205,42,215],[154,194,154,204],[155,194,155,204],[148,194,148,204],[149,194,149,204],[150,194,150,204],[151,194,151,204],[144,194,144,204],[145,194,145,204],[146,194,146,204],[147,194,147,204],[140,194,140,204],[141,194,141,204],[127,194,127,204],[115,194,115,204],[83,194,83,204],[84,194,84,204],[85,194,85,204],[86,194,86,204],[87,194,87,204],[110,194,110,204],[142,194,142,204],[143,194,143,204],[139,194,139,204],[116,194,116,204],[129,194,129,204],[130,194,130,204],[131,194,131,204],[132,194,132,204],[28,194,28,204],[49,194,49,204],[50,194,50,204],[76,194,76,204],[77,194,77,204],[78,194,78,204],[43,194,43,204],[44,194,44,204],[45,194,45,204],[46,194,46,204],[47,194,47,204],[48,194,48,204],[53,194,53,204],[54,194,54,204],[57,194,57,204],[58,194,58,204],[63,194,63,204],[64,194,64,204],[75,194,75,204],[65,194,65,204],[66,194,66,204],[67,194,67,204],[68,194,68,204],[69,194,69,204],[70,194,70,204],[71,194,71,204],[35,194,35,204],[36,194,36,204],[138,183,138,193],[139,183,139,193],[125,183,125,193],[126,183,126,193],[37,194,37,204],[38,194,38,204],[39,194,39,204],[40,194,40,204],[31,194,31,204],[32,194,32,204],[55,194,55,204],[56,194,56,204],[29,194,29,204],[30,194,30,204],[33,194,33,204],[34,194,34,204],[51,194,51,204],[52,194,52,204],[79,194,79,204],[72,194,72,204],[73,194,73,204],[74,194,74,204],[103,194,103,204],[101,194,101,204],[104,194,104,204],[88,194,88,204],[89,194,89,204],[90,194,90,204],[95,194,95,204],[124,194,124,204],[141,183,141,193],[142,183,142,193],[49,183,49,193],[50,183,50,193],[137,183,137,193],[114,183,114,193],[115,183,115,193],[116,183,116,193],[41,194,41,204],[42,194,42,204],[119,183,119,193],[124,183,124,193],[154,183,154,193],[155,183,155,193],[127,183,127,193],[128,183,128,193],[129,183,129,193],[130,183,130,193],[125,194,125,204],[126,194,126,204],[135,194,135,204],[136,194,136,204],[137,194,137,204],[138,194,138,204],[133,194,133,204],[134,194,134,204],[105,194,105,204],[106,194,106,204],[107,194,107,204],[108,194,108,204],[109,194,109,204],[128,194,128,204],[152,183,152,193],[153,183,153,193],[89,183,89,193],[90,183,90,193],[95,183,95,193],[96,183,96,193],[93,1,93,237],[95,216,95,237],[89,216,89,237],[90,216,90,237],[131,183,131,193],[132,183,132,193],[156,183,156,193],[145,183,145,193],[146,183,146,193],[147,183,147,193],[148,183,148,193],[149,183,149,193],[150,183,150,193],[151,183,151,193],[117,183,117,193],[118,183,118,193],[143,183,143,193],[144,183,144,193],[111,183,111,193],[112,183,112,193],[113,183,113,193],[135,183,135,193],[136,183,136,193],[140,183,140,193],[133,183,133,193],[134,183,134,193],[108,183,108,193],[109,183,109,193],[110,183,110,193],[71,183,71,193],[72,183,72,193],[73,183,73,193],[74,183,74,193],[75,183,75,193],[76,183,76,193],[77,183,77,193],[104,183,104,193],[105,183,105,193],[106,183,106,193],[107,183,107,193],[100,183,100,193],[101,183,101,193],[102,183,102,193],[103,183,103,193],[68,183,68,193],[69,183,69,193],[70,183,70,193],[58,183,58,193],[63,183,63,193],[65,183,65,193],[66,183,66,193],[86,183,86,193],[87,183,87,193],[88,183,88,193],[51,183,51,193],[52,183,52,193],[53,183,53,193],[54,183,54,193],[55,183,55,193],[56,183,56,193],[57,183,57,193],[82,183,82,193],[83,183,83,193],[84,183,84,193],[85,183,85,193],[78,183,78,193],[79,183,79,193],[80,183,80,193],[81,183,81,193],[43,183,43,193],[44,183,44,193],[45,183,45,193],[46,183,46,193],[39,183,39,193],[40,183,40,193],[41,183,41,193],[42,183,42,193],[35,183,35,193],[36,183,36,193],[37,183,37,193],[38,183,38,193],[31,183,31,193],[32,183,32,193],[33,183,33,193],[34,183,34,193],[67,183,67,193],[166,42,166,61],[167,42,167,61],[164,29,164,45],[164,46,164,62],[156,117,156,127],[156,128,156,138],[162,63,162,79],[163,63,163,79],[162,29,162,45],[163,29,163,45],[27,183,27,193],[28,183,28,193],[29,183,29,193],[30,183,30,193],[155,161,155,171],[47,183,47,193],[48,183,48,193],[152,172,152,182],[149,161,149,171],[149,172,149,182],[154,128,154,138],[154,139,154,149],[156,1,156,45],[156,84,156,94],[156,95,156,105],[156,106,156,116],[156,70,156,83],[156,46,156,57],[156,58,156,69],[156,139,156,149],[156,172,156,182],[154,150,154,160],[155,46,155,57],[155,58,155,69],[155,70,155,83],[155,106,155,116],[155,117,155,127],[155,128,155,138],[155,139,155,149],[164,63,164,79],[155,172,155,182],[153,172,153,182],[154,1,154,45],[154,84,154,94],[154,95,154,105],[154,106,154,116],[154,117,154,127],[154,172,154,182],[154,46,154,57],[154,161,154,171],[153,150,153,160],[153,161,153,171],[156,150,156,160],[156,161,156,171],[159,1,161,28],[161,29,161,45],[162,46,162,62],[163,46,163,62],[162,6,162,28],[161,46,161,62],[161,80,161,96],[164,6,164,28],[163,6,163,28],[153,70,153,83],[153,1,153,45],[153,84,153,94],[153,95,153,105],[153,106,153,116],[153,117,153,127],[152,1,152,45],[152,84,152,94],[152,95,152,105],[153,46,153,57],[153,58,153,69],[152,139,152,149],[155,1,155,45],[155,84,155,94],[152,150,152,160],[151,106,151,116],[152,161,152,171],[151,128,151,138],[151,117,151,127],[153,139,153,149],[153,128,153,138],[151,1,151,45],[151,84,151,94],[151,95,151,105],[152,106,152,116],[152,117,152,127],[152,128,152,138],[152,46,152,57],[152,58,152,69],[152,70,152,83],[151,70,151,83],[155,95,155,105],[155,150,155,160],[151,139,151,149],[151,150,151,160],[151,161,151,171],[150,117,150,127],[150,128,150,138],[150,139,150,149],[150,150,150,160],[150,172,150,182],[150,1,150,45],[150,84,150,94],[150,95,150,105],[150,106,150,116],[150,46,150,57],[150,58,150,69],[150,70,150,83],[150,161,150,171],[149,117,149,127],[149,128,149,138],[149,139,149,149],[149,150,149,160],[149,1,149,45],[149,84,149,94],[149,95,149,105],[149,106,149,116],[149,46,149,57],[149,58,149,69],[151,172,151,182],[149,70,149,83],[151,46,151,57],[151,58,151,69],[148,172,148,182],[145,1,145,45],[145,84,145,94],[145,95,145,105],[145,106,145,116],[145,46,145,57],[145,58,145,69],[148,128,148,138],[148,139,148,149],[148,150,148,160],[148,161,148,171],[147,161,147,171],[147,172,147,182],[148,1,148,45],[148,84,148,94],[148,95,148,105],[148,106,148,116],[148,46,148,57],[148,58,148,69],[148,70,148,83],[148,117,148,127],[147,117,147,127],[147,128,147,138],[147,139,147,149],[147,150,147,160],[147,1,147,45],[147,84,147,94],[147,95,147,105],[147,106,147,116],[147,46,147,57],[147,58,147,69],[147,70,147,83],[146,161,146,171],[146,172,146,182],[143,1,143,45],[143,84,143,94],[143,95,143,105],[143,106,143,116],[143,46,143,57],[144,1,144,45],[143,117,143,127],[146,117,146,127],[146,128,146,138],[146,139,146,149],[145,139,145,149],[145,70,145,83],[145,117,145,127],[145,128,145,138],[143,139,143,149],[144,84,144,94],[146,150,146,160],[146,1,146,45],[146,84,146,94],[146,95,146,105],[146,106,146,116],[146,46,146,57],[146,58,146,69],[146,70,146,83],[145,150,145,160],[145,161,145,171],[145,172,145,182],[143,58,143,69],[143,70,143,83],[144,139,144,149],[140,161,140,171],[140,172,140,182],[139,161,139,171],[144,150,144,160],[144,161,144,171],[144,172,144,182],[143,172,143,182],[144,117,144,127],[144,128,144,138],[143,128,143,138],[143,150,143,160],[143,161,143,171],[144,95,144,105],[144,106,144,116],[144,46,144,57],[144,58,144,69],[144,70,144,83],[141,58,141,69],[141,70,141,83],[142,172,142,182],[142,128,142,138],[142,139,142,149],[142,150,142,160],[142,161,142,171],[141,161,141,171],[141,172,141,182],[139,172,139,182],[142,1,142,45],[142,84,142,94],[142,95,142,105],[142,106,142,116],[142,46,142,57],[142,58,142,69],[142,70,142,83],[142,117,142,127],[141,117,141,127],[141,128,141,138],[141,139,141,149],[141,150,141,160],[141,1,141,45],[141,84,141,94],[141,95,141,105],[141,106,141,116],[141,46,141,57],[137,1,137,45],[137,84,137,94],[137,95,137,105],[137,106,137,116],[137,46,137,57],[138,1,138,45],[137,117,137,127],[140,117,140,127],[140,128,140,138],[140,139,140,149],[139,139,139,149],[139,70,139,83],[139,117,139,127],[139,128,139,138],[137,139,137,149],[138,84,138,94],[140,150,140,160],[140,1,140,45],[140,84,140,94],[140,95,140,105],[140,106,140,116],[140,46,140,57],[140,58,140,69],[140,70,140,83],[139,150,139,160],[139,1,139,45],[139,84,139,94],[139,95,139,105],[139,106,139,116],[139,46,139,57],[139,58,139,69],[137,58,137,69],[137,70,137,83],[138,139,138,149],[138,150,138,160],[138,161,138,171],[138,172,138,182],[137,172,137,182],[138,117,138,127],[138,128,138,138],[137,128,137,138],[137,150,137,160],[137,161,137,171],[138,95,138,105],[138,106,138,116],[138,46,138,57],[138,58,138,69],[138,70,138,83],[136,172,136,182],[136,128,136,138],[136,139,136,149],[136,150,136,160],[136,161,136,171],[135,161,135,171],[135,172,135,182],[136,1,136,45],[136,84,136,94],[136,95,136,105],[136,106,136,116],[136,46,136,57],[136,58,136,69],[136,70,136,83],[136,117,136,127],[135,117,135,127],[135,128,135,138],[135,139,135,149],[135,150,135,160],[135,1,135,45],[135,84,135,94],[135,95,135,105],[135,106,135,116],[135,46,135,57],[135,58,135,69],[135,70,135,83],[131,1,131,45],[131,84,131,94],[131,95,131,105],[131,106,131,116],[131,46,131,57],[131,58,131,69],[132,1,132,45],[131,117,131,127],[134,117,134,127],[134,128,134,138],[134,139,134,149],[134,150,134,160],[133,139,133,149],[133,150,133,160],[133,117,133,127],[133,128,133,138],[131,150,131,160],[134,1,134,45],[134,84,134,94],[134,95,134,105],[134,106,134,116],[134,46,134,57],[134,58,134,69],[134,70,134,83],[131,70,131,83],[132,139,132,149],[132,150,132,160],[133,1,133,45],[133,84,133,94],[133,95,133,105],[133,106,133,116],[133,46,133,57],[132,161,132,171],[132,172,132,182],[131,172,131,182],[132,117,132,127],[132,128,132,138],[131,128,131,138],[131,139,131,149],[132,84,132,94],[132,95,132,105],[132,106,132,116],[132,46,132,57],[132,58,132,69],[132,70,132,83],[131,161,131,171],[134,161,134,171],[134,172,134,182],[133,161,133,171],[133,172,133,182],[133,58,133,69],[133,70,133,83],[130,172,130,182],[127,172,127,182],[127,1,127,45],[127,84,127,94],[127,95,127,105],[127,106,127,116],[127,46,127,57],[127,58,127,69],[128,172,128,182],[130,117,130,127],[130,128,130,138],[130,139,130,149],[130,150,130,160],[130,1,130,45],[130,84,130,94],[130,95,130,105]],"merged_total":2120,"flags":["merged_cut"]}
[]
[]
[null,{"$f":"I!B3","v":"Property Condition Assessment "}]
[null,{"$f":"I!B4","v":0}]
[]
[null,"Section VI: Capital Needs Over the Loan Term"]
[]
[]
[]
[null,null,"Freddie Mac loan number",null,null,null,null,null,null,null,null,null,null,null,null,null,null,null,null,null,null,null,null,null,null,null,null,null,null,null,null,null,null,null,null,null,null,null,null,null,null,null,null,null,null,null,null,null,"Report date",null,null,null,null,null,null,null,null,null,null,null,null,null,null,null,null,null,null,null,null,null,null,null,null,null,null,null,null,null,null,null,null,null,null,null,null,null,null,null,null,null,null,null,null,null,"Property name",null,null,null,null,null,null,null,null,null,null,null,null,null,null,null,null,null,null,null,null,null,null,null,null,null,null,null,null,null,null,null,null,null,null,null,null,null,null,null,null,null,null,null,null,null,null,null,null,null,null,null,null,null,null,null,null,null,null,null,null,null,null,null,null,null,null,null,null,null,null,null,null,null,null,null,null,null,null,null,null,null,null,null,null,null,null,null,null,null,null,null,null,"Building age"]
[null,null,{"$f":"IF(I!C11=\"\",\"ENTER IN SECTION I\",I!C11)","v":"ENTER IN SECTION I"},null,null,null,null,null,null,null,null,null,null,null,null,null,null,null,null,null,null,null,null,null,null,null,null,null,null,null,null,null,null,null,null,null,null,null,null,null,null,null,null,null,null,null,null,null,{"$f":"IF(I!AL11=\"\",\"ENTER IN SECTION I\",I!AL11)","v":"ENTER IN SECTION I"},null,null,null,null,null,null,null,null,null,null,null,null,null,null,null,null,null,null,null,null,null,null,null,null,null,null,null,null,null,null,null,null,null,null,null,null,null,null,null,null,null,null,null,null,null,{"$f":"IF(I!BU11=\"\",\"ENTER IN SECTION I\",I!BU11)","v":"ENTER IN SECTION I"},null,null,null,null,null,null,null,null,null,null,null,null,null,null,null,null,null,null,null,null,null,null,null,null,null,null,null,null,null,null,null,null,null,null,null,null,null,null,null,null,null,null,null,null,null,null,null,null,null,null,null,null,null,null,null,null,null,null,null,null,null,null,null,null,null,null,null,null,null,null,null,null,null,null,null,null,null,null,null,null,null,null,null,null,null,null,null,null,null,null,null,null,{"$f":"IF(I!AL23=\"\",\"ENTER IN SECTION I\",I!AL23)","v":"ENTER IN SECTION I"}]
[]
[null,null,"Seller/Servicer name",null,null,null,null,null,null,null,null,null,null,null,null,null,null,null,null,null,null,null,null,null,null,null,null,null,null,null,null,null,null,null,null,null,null,null,null,null,null,null,null,null,null,null,null,null,null,null,null,null,null,null,null,null,null,null,null,null,null,null,null,null,null,null,null,null,null,null,null,null,null,null,null,null,null,null,null,null,null,null,null,null,null,null,null,null,null,null,null,null,null,null,"Address",null,null,null,null,null,null,null,null,null,null,null,null,null,null,null,null,null,null,null,null,null,null,null,null,null,null,null,null,null,null,null,null,null,null,null,null,null,null,null,null,null,null,null,null,null,null,null,null,null,null,null,null,null,null,null,null,null,null,null,null,null,null,null,null,null,null,null,null,null,null,null,null,null,null,null,null,null,null,null,null,null,null,null,null,null,null,null,null,null,null,null,null,"Mortgage term"]
[null,null,{"$f":"IF(I!C14=\"\",\"ENTER IN SECTION I\",I!C14)","v":"ENTER IN SECTION I"},null,null,null,null,null,null,null,null,null,null,null,null,null,null,null,null,null,null,null,null,null,null,null,null,null,null,null,null,null,null,null,null,null,null,null,null,null,null,null,null,null,null,null,null,null,null,null,null,null,null,null,null,null,null,null,null,null,null,null,null,null,null,null,null,null,null,null,null,null,null,null,null,null,null,null,null,null,null,null,null,null,null,null,null,null,null,null,null,null,null,null,{"$f":"IF(I!BU14=\"\",\"ENTER IN SECTION I\",I!BU14)","v":"ENTER IN SECTION I"},null,null,null,null,null,null,null,null,null,null,null,null,null,null,null,null,null,null,null,null,null,null,null,null,null,null,null,null,null,null,null,null,null,null,null,null,null,null,null,null,null,null,null,null,null,null,null,null,null,null,null,null,null,null,null,null,null,null,null,null,null,null,null,null,null,null,null,null,null,null,null,null,null,null,null,null,null,null,null,null,null,null,null,null,null,null,null,null,null,null,null,null,null,null,null,null,null,null,"+2"]
[]
[null,null,"Seller/Servicer number",null,null,null,null,null,null,null,null,null,null,null,null,null,null,null,null,null,null,null,null,null,null,null,null,null,null,null,null,null,null,null,null,null,null,null,null,null,null,null,null,null,null,null,null,null,"Inspection date",null,null,null,null,null,null,null,null,null,null,null,null,null,null,null,null,null,null,null,null,null,null,null,null,null,null,null,null,null,null,null,null,null,null,null,null,null,null,null,null,null,null,null,null,null,"City, State, Zip",null,null,null,null,null,null,null,null,null,null,null,null,null,null,null,null,null,null,null,null,null,null,null,null,null,null,null,null,null,null,null,null,null,null,null,null,null,null,null,null,null,null,null,null,null,null,null,null,null,null,null,null,null,null,null,null,null,null,null,null,null,null,null,null,null,null,null,null,null,null,null,null,null,null,null,null,null,null,null,null,null,null,null,null,null,null,null,null,null,null,null,null,"Number of units"]
[null,null,{"$f":"IF(I!C17=\"\",\"ENTER IN SECTION I\",I!C17)","v":"ENTER IN SECTION I"},null,null,null,null,null,null,null,null,null,null,null,null,null,null,null,null,null,null,null,null,null,null,null,null,null,null,null,null,null,null,null,null,null,null,null,null,null,null,null,null,null,null,null,null,null,{"$f":"IF(I!AL17=\"\",\"ENTER IN SECTION I\",I!AL17)","v":"ENTER IN SECTION I"},null,null,null,null,null,null,null,null,null,null,null,null,null,null,null,null,null,null,null,null,null,null,null,null,null,null,null,null,null,null,null,null,null,null,null,null,null,null,null,null,null,null,null,null,null,{"$f":"IF(I!BU17=\"\",\"ENTER IN SECTION I\",I!BU17)","v":"ENTER IN SECTION I"},null,null,null,null,null,null,null,null,null,null,null,null,null,null,null,null,null,null,null,null,null,null,null,null,null,null,null,null,null,null,null,null,null,null,null,null,null,null,null,null,null,null,null,null,null,null,null,null,null,null,null,null,null,null,null,null,null,null,null,null,null,null,null,null,null,null,null,null,null,null,null,null,null,null,null,null,null,null,null,null,null,null,null,null,null,null,null,null,null,null,null,null,{"$f":"IF(I!CB136=0,\"ENTER IN SECTION I\",I!CB136)","v":"ENTER IN SECTION I"}]
[]
[]
[]
[null,"Complete the quantity, unit and per item costs for the applicable items listed below.  Indicate the projected expenditures for those items in each year of the loan term plus two years up to a maximum of 12 years."]
[]
[]
[null,"SITE"]
[]
[null,"Item",null,null,null,null,null,null,null,null,null,null,null,null,null,null,null,null,null,null,null,null,null,null,null,null,null,null,null,null,null,null,null,null,null,null,null,null,null,null,null,null,null,null,null,null,"Quantity",null,null,null,null,null,null,null,null,null,null,null,"Unit of Measure",null,null,null,null,null,null,null,null,null,null,null,"Per Item Cost",null,null,null,null,null,null,null,null,null,null,null,null,null,"Year 1",null,null,null,null,null,null,null,null,null,null,"Year 2",null,null,null,null,null,null,null,null,null,null,"Year 3",null,null,null,null,null,null,null,null,null,null,"Year 4",null,null,null,null,null,null,null,null,null,null,"Year 5",null,null,null,null,null,null,null,null,null,null,"Year 6",null,null,null,null,null,null,null,null,null,null,"Year 7",null,null,null,null,null,null,null,null,null,null,"Year 8",null,null,null,null,null,null,null,null,null,null,"Year 9",null,null,null,null,null,null,null,null,null,null,"Year 10",null,null,null,null,null,null,null,null,null,null,"Year 11",null,null,null,null,null,null,null,null,null,null,"Year 12",null,null,null,null,null,null,null,null,null,null,"Total"]
[null,"Carports",null,null,null,null,null,null,null,null,null,null,null,null,null,null,null,null,null,null,null,null,null,null,null,null,null,null,null,null,null,null,null,null,null,null,null,null,null,null,null,null,null,null,null,null,null,null,null,null,null,null,null,null,null,null,null,null,null,null,null,null,null,null,null,null,null,null,null,null,null,null,null,null,null,null,null,null,null,null,null,null,null,null,null,null,null,null,null,null,null,null,null,null,null,null,null,null,null,null,null,null,null,null,null,null,null,null,null,null,null,null,null,null,null,null,null,null,null,null,null,null,null,null,null,null,null,null,null,null,null,null,null,null,null,null,null,null,null,null,null,null,null,null,null,null,null,null,null,null,null,null,null,null,null,null,null,null,null,null,null,null,null,null,null,null,null,null,null,null,null,null,null,null,null,null,null,null,null,null,null,null,null,null,null,null,null,null,null,null,null,null,null,null,null,null,null,null,null,null,null,null,null,null,null,null,null,null,null,null,null,null,null,null,null,null,{"$f":"IF(COUNTIF(IF27:IH27,\"x\")>0,\"CORRECT ERROR\",SUM(CG27:HH27))","v":0},null,null,null,null,null,null,null,null,null,null,null,null,null,null,null,null,null,null,null,null,null,null,{"$f":"IF(AND(OR(AU27<>\"\",BG27<>\"\",BS27<>\"\")=TRUE,SUM(CG27:HH27)=0)=TRUE,\"x\",\"\")","v":""},{"$f":"IF(AND(OR(AU27=\"\",BG27=\"\",BS27=\"\")=TRUE,SUM(CG27:HH27)>0)=TRUE,\"x\",\"\")","v":""},{"$f":"IF(AU27*BS27=SUM(CG27:HH27),\"\",\"x\")","v":""}]
[null,"Garages",null,null,null,null,null,null,null,null,null,null,null,null,null,null,null,null,null,null,null,null,null,null,null,null,null,null,null,null,null,null,null,null,null,null,null,null,null,null,null,null,null,null,null,null,null,null,null,null,null,null,null,null,null,null,null,null,null,null,null,null,null,null,null,null,null,null,null,null,null,null,null,null,null,null,null,null,null,null,null,null,null,null,null,null,null,null,null,null,null,null,null,null,null,null,null,null,null,null,null,null,null,null,null,null,null,null,null,null,null,null,null,null,null,null,null,null,null,null,null,null,null,null,null,null,null,null,null,null,null,null,null,null,null,null,null,null,null,null,null,null,null,null,null,null,null,null,null,null,null,null,null,null,null,null,null,null,null,null,null,null,null,null,null,null,null,null,null,null,null,null,null,null,null,null,null,null,null,null,null,null,null,null,null,null,null,null,null,null,null,null,null,null,null,null,null,null,null,null,null,null,null,null,null,null,null,null,null,null,null,null,null,null,null,null,{"$f":"IF(COUNTIF(IF28:IH28,\"x\")>0,\"CORRECT ERROR\",SUM(CG28:HH28))","v":0},null,null,null,null,null,null,null,null,null,null,null,null,null,null,null,null,null,null,null,null,null,null,{"$f":"IF(AND(OR(AU28<>\"\",BG28<>\"\",BS28<>\"\")=TRUE,SUM(CG28:HH28)=0)=TRUE,\"x\",\"\")","v":""},{"$f":"IF(AND(OR(AU28=\"\",BG28=\"\",BS28=\"\")=TRUE,SUM(CG28:HH28)>0)=TRUE,\"x\",\"\")","v":""},{"$f":"IF(AU28*BS28=SUM(CG28:HH28),\"\",\"x\")","v":""}]
[null,"Maintenance structures",null,null,null,null,null,null,null,null,null,null,null,null,null,null,null,null,null,null,null,null,null,null,null,null,null,null,null,null,null,null,null,null,null,null,null,null,null,null,null,null,null,null,null,null,null,null,null,null,null,null,null,null,null,null,null,null,null,null,null,null,null,null,null,null,null,null,null,null,null,null,null,null,null,null,null,null,null,null,null,null,null,null,null,null,null,null,null,null,null,null,null,null,null,null,null,null,null,null,null,null,null,null,null,null,null,null,null,null,null,null,null,null,null,null,null,null,null,null,null,null,null,null,null,null,null,null,null,null,null,null,null,null,null,null,null,null,null,null,null,null,null,null,null,null,null,null,null,null,null,null,null,null,null,null,null,null,null,null,null,null,null,null,null,null,null,null,null,null,null,null,null,null,null,null,null,null,null,null,null,null,null,null,null,null,null,null,null,null,null,null,null,null,null,null,null,null,null,null,null,null,null,null,null,null,null,null,null,null,null,null,null,null,null,null,0,null,null,null,null,null,null,null,null,null,null,null,null,null,null,null,null,null,null,null,null,null,null,"","",""]
[null,"Trash enclosures",null,null,null,null,null,null,null,null,null,null,null,null,null,null,null,null,null,null,null,null,null,null,null,null,null,null,null,null,null,null,null,null,null,null,null,null,null,null,null,null,null,null,null,null,null,null,null,null,null,null,null,null,null,null,null,null,null,null,null,null,null,null,null,null,null,null,null,null,null,null,null,null,null,null,null,null,null,null,null,null,null,null,null,null,null,null,null,null,null,null,null,null,null,null,null,null,null,null,null,null,null,null,null,null,null,null,null,null,null,null,null,null,null,null,null,null,null,null,null,null,null,null,null,null,null,null,null,null,null,null,null,null,null,null,null,null,null,null,null,null,null,null,null,null,null,null,null,null,null,null,null,null,null,null,null,null,null,null,null,null,null,null,null,null,null,null,null,null,null,null,null,null,null,null,null,null,null,null,null,null,null,null,null,null,null,null,null,null,null,null,null,null,null,null,null,null,null,null,null,null,null,null,null,null,null,null,null,null,null,null,null,null,null,null,0,null,null,null,null,null,null,null,null,null,null,null,null,null,null,null,null,null,null,null,null,null,null,"","",""]
[null,"Roadways/Parking lots",null,null,null,null,null,null,null,null,null,null,null,null,null,null,null,null,null,null,null,null,null,null,null,null,null,null,null,null,null,null,null,null,null,null,null,null,null,null,null,null,null,null,null,null,null,null,null,null,null,null,null,null,null,null,null,null,null,null,null,null,null,null,null,null,null,null,null,null,null,null,null,null,null,null,null,null,null,null,null,null,null,null,null,null,null,null,null,null,null,null,null,null,null,null,null,null,null,null,null,null,null,null,null,null,null,null,null,null,null,null,null,null,null,null,null,null,null,null,null,null,null,null,null,null,null,null,null,null,null,null,null,null,null,null,null,null,null,null,null,null,null,null,null,null,null,null,null,null,null,null,null,null,null,null,null,null,null,null,null,null,null,null,null,null,null,null,null,null,null,null,null,null,null,null,null,null,null,null,null,null,null,null,null,null,null,null,null,null,null,null,null,null,null,null,null,null,null,null,null,null,null,null,null,null,null,null,null,null,null,null,null,null,null,null,0,null,null,null,null,null,null,null,null,null,null,null,null,null,null,null,null,null,null,null,null,null,null,"","",""]
[null,"Asphaltic concrete",null,null,null,null,null,null,null,null,null,null,null,null,null,null,null,null,null,null,null,null,null,null,null,null,null,null,null,null,null,null,null,null,null,null,null,null,null,null,null,null,null,null,null,null,null,null,null,null,null,null,null,null,null,null,null,null,null,null,null,null,null,null,null,null,null,null,null,null,null,null,null,null,null,null,null,null,null,null,null,null,null,null,null,null,null,null,null,null,null,null,null,null,null,null,null,null,null,null,null,null,null,null,null,null,null,null,null,null,null,null,null,null,null,null,null,null,null,null,null,null,null,null,null,null,null,null,null,null,null,null,null,null,null,null,null,null,null,null,null,null,null,null,null,null,null,null,null,null,null,null,null,null,null,null,null,null,null,null,null,null,null,null,null,null,null,null,null,null,null,null,null,null,null,null,null,null,null,null,null,null,null,null,null,null,null,null,null,null,null,null,null,null,null,null,null,null,null,null,null,null,null,null,null,null,null,null,null,null,null,null,null,null,null,null,0,null,null,null,null,null,null,null,null,null,null,null,null,null,null,null,null,null,null,null,null,null,null,"","",""]
[null,"Seal coat",null,null,null,null,null,null,null,null,null,null,null,null,null,null,null,null,null,null,null,null,null,null,null,null,null,null,null,null,null,null,null,null,null,null,null,null,null,null,null,null,null,null,null,null,null,null,null,null,null,null,null,null,null,null,null,null,null,null,null,null,null,null,null,null,null,null,null,null,null,null,null,null,null,null,null,null,null,null,null,null,null,null,null,null,null,null,null,null,null,null,null,null,null,null,null,null,null,null,null,null,null,null,null,null,null,null,null,null,null,null,null,null,null,null,null,null,null,null,null,null,null,null,null,null,null,null,null,null,null,null,null,null,null,null,null,null,null,null,null,null,null,null,null,null,null,null,null,null,null,null,null,null,null,null,null,null,null,null,null,null,null,null,null,null,null,null,null,null,null,null,null,null,null,null,null,null,null,null,null,null,null,null,null,null,null,null,null,null,null,null,null,null,null,null,null,null,null,null,null,null,null,null,null,null,null,null,null,null,null,null,null,null,null,null,0,null,null,null,null,null,null,null,null,null,null,null,null,null,null,null,null,null,null,null,null,null,null,"","",""]
[null,"Concrete paving",null,null,null,null,null,null,null,null,null,null,null,null,null,null,null,null,null,null,null,null,null,null,null,null,null,null,null,null,null,null,null,null,null,null,null,null,null,null,null,null,null,null,null,null,null,null,null,null,null,null,null,null,null,null,null,null,null,null,null,null,null,null,null,null,null,null,null,null,null,null,null,null,null,null,null,null,null,null,null,null,null,null,null,null,null,null,null,null,null,null,null,null,null,null,null,null,null,null,null,null,null,null,null,null,null,null,null,null,null,null,null,null,null,null,null,null,null,null,null,null,null,null,null,null,null,null,null,null,null,null,null,null,null,null,null,null,null,null,null,null,null,null,null,null,null,null,null,null,null,null,null,null,null,null,null,null,null,null,null,null,null,null,null,null,null,null,null,null,null,null,null,null,null,null,null,null,null,null,null,null,null,null,null,null,null,null,null,null,null,null,null,null,null,null,null,null,null,null,null,null,null,null,null,null,null,null,null,null,null,null,null,null,null,null,0,null,null,null,null,null,null,null,null,null,null,null,null,null,null,null,null,null,null,null,null,null,null,"","",""]
[null,"Other paving:",null,null,null,null,null,null,null,null,null,null,null,null,null,null,null,null,null,{"$f":"II!T32","v":0},null,null,null,null,null,null,null,null,null,null,null,null,null,null,null,null,null,null,null,null,null,null,null,null,null,null,null,null,null,null,null,null,null,null,null,null,null,null,null,null,null,null,null,null,null,null,null,null,null,null,null,null,null,null,null,null,null,null,null,null,null,null,null,null,null,null,null,null,null,null,null,null,null,null,null,null,null,null,null,null,null,null,null,null,null,null,null,null,null,null,null,null,null,null,null,null,null,null,null,null,null,null,null,null,null,null,null,null,null,null,null,null,null,null,null,null,null,null,null,null,null,null,null,null,null,null,null,null,null,null,null,null,null,null,null,null,null,null,null,null,null,null,null,null,null,null,null,null,null,null,null,null,null,null,null,null,null,null,null,null,null,null,null,null,null,null,null,null,null,null,null,null,null,null,null,null,null,null,null,null,null,null,null,null,null,null,null,null,null,null,null,null,null,null,null,null,0,null,null,null,null,null,null,null,null,null,null,null,null,null,null,null,null,null,null,null,null,null,null,"","",""]
[null,"Striping",null,null,null,null,null,null,null,null,null,null,null,null,null,null,null,null,null,null,null,null,null,null,null,null,null,null,null,null,null,null,null,null,null,null,null,null,null,null,null,null,null,null,null,null,null,null,null,null,null,null,null,null,null,null,null,null,null,null,null,null,null,null,null,null,null,null,null,null,null,null,null,null,null,null,null,null,null,null,null,null,null,null,null,null,null,null,null,null,null,null,null,null,null,null,null,null,null,null,null,null,null,null,null,null,null,null,null,null,null,null,null,null,null,null,null,null,null,null,null,null,null,null,null,null,null,null,null,null,null,null,null,null,null,null,null,null,null,null,null,null,null,null,null,null,null,null,null,null,null,null,null,null,null,null,null,null,null,null,null,null,null,null,null,null,null,null,null,null,null,null,null,null,null,null,null,null,null,null,null,null,null,null,null,null,null,null,null,null,null,null,null,null,null,null,null,null,null,null,null,null,null,null,null,null,null,null,null,null,null,null,null,null,null,null,0,null,null,null,null,null,null,null,null,null,null,null,null,null,null,null,null,null,null,null,null,null,null,"","",""]
[null,"Curb and gutter",null,null,null,null,null,null,null,null,null,null,null,null,null,null,null,null,null,null,null,null,null,null,null,null,null,null,null,null,null,null,null,null,null,null,null,null,null,null,null,null,null,null,null,null,null,null,null,null,null,null,null,null,null,null,null,null,null,null,null,null,null,null,null,null,null,null,null,null,null,null,null,null,null,null,null,null,null,null,null,null,null,null,null,null,null,null,null,null,null,null,null,null,null,null,null,null,null,null,null,null,null,null,null,null,null,null,null,null,null,null,null,null,null,null,null,null,null,null,null,null,null,null,null,null,null,null,null,null,null,null,null,null,null,null,null,null,null,null,null,null,null,null,null,null,null,null,null,null,null,null,null,null,null,null,null,null,null,null,null,null,null,null,null,null,null,null,null,null,null,null,null,null,null,null,null,null,null,null,null,null,null,null,null,null,null,null,null,null,null,null,null,null,null,null,null,null,null,null,null,null,null,null,null,null,null,null,null,null,null,null,null,null,null,null,0,null,null,null,null,null,null,null,null,null,null,null,null,null,null,null,null,null,null,null,null,null,null,"","",""]
[null,"Interior gutter (swale)",null,null,null,null,null,null,null,null,null,null,null,null,null,null,null,null,null,null,null,null,null,null,null,null,null,null,null,null,null,null,null,null,null,null,null,null,null,null,null,null,null,null,null,null,null,null,null,null,null,null,null,null,null,null,null,null,null,null,null,null,null,null,null,null,null,null,null,null,null,null,null,null,null,null,null,null,null,null,null,null,null,null,null,null,null,null,null,null,null,null,null,null,null,null,null,null,null,null,null,null,null,null,null,null,null,null,null,null,null,null,null,null,null,null,null,null,null,null,null,null,null,null,null,null,null,null,null,null,null,null,null,null,null,null,null,null,null,null,null,null,null,null,null,null,null,null,null,null,null,null,null,null,null,null,null,null,null,null,null,null,null,null,null,null,null,null,null,null,null,null,null,null,null,null,null,null,null,null,null,null,null,null,null,null,null,null,null,null,null,null,null,null,null,null,null,null,null,null,null,null,null,null,null,null,null,null,null,null,null,null,null,null,null,null,0,null,null,null,null,null,null,null,null,null,null,null,null,null,null,null,null,null,null,null,null,null,null,"","",""]
[null,"Pedestrian paving/hardscape",null,null,null,null,null,null,null,null,null,null,null,null,null,null,null,null,null,null,null,null,null,null,null,null,null,null,null,null,null,null,null,null,null,null,null,null,null,null,null,null,null,null,null,null,null,null,null,null,null,null,null,null,null,null,null,null,null,null,null,null,null,null,null,null,null,null,null,null,null,null,null,null,null,null,null,null,null,null,null,null,null,null,null,null,null,null,null,null,null,null,null,null,null,null,null,null,null,null,null,null,null,null,null,null,null,null,null,null,null,null,null,null,null,null,null,null,null,null,null,null,null,null,null,null,null,null,null,null,null,null,null,null,null,null,null,null,null,null,null,null,null,null,null,null,null,null,null,null,null,null,null,null,null,null,null,null,null,null,null,null,null,null,null,null,null,null,null,null,null,null,null,null,null,null,null,null,null,null,null,null,null,null,null,null,null,null,null,null,null,null,null,null,null,null,null,null,null,null,null,null,null,null,null,null,null,null,null,null,null,null,null,null,null,null,0,null,null,null,null,null,null,null,null,null,null,null,null,null,null,null,null,null,null,null,null,null,null,"","",""]
[null,"Signage",null,null,null,null,null,null,null,null,null,null,null,null,null,null,null,null,null,null,null,null,null,null,null,null,null,null,null,null,null,null,null,null,null,null,null,null,null,null,null,null,null,null,null,null,null,null,null,null,null,null,null,null,null,null,null,null,null,null,null,null,null,null,null,null,null,null,null,null,null,null,null,null,null,null,null,null,null,null,null,null,null,null,null,null,null,null,null,null,null,null,null,null,null,null,null,null,null,null,null,null,null,null,null,null,null,null,null,null,null,null,null,null,null,null,null,null,null,null,null,null,null,null,null,null,null,null,null,null,null,null,null,null,null,null,null,null,null,null,null,null,null,null,null,null,null,null,null,null,null,null,null,null,null,null,null,null,null,null,null,null,null,null,null,null,null,null,null,null,null,null,null,null,null,null,null,null,null,null,null,null,null,null,null,null,null,null,null,null,null,null,null,null,null,null,null,null,null,null,null,null,null,null,null,null,null,null,null,null,null,null,null,null,null,null,0,null,null,null,null,null,null,null,null,null,null,null,null,null,null,null,null,null,null,null,null,null,null,"","",""]
[null,"Site utilities",null,null,null,null,null,null,null,null,null,null,null,null,null,null,null,null,null,null,null,null,null,null,null,null,null,null,null,null,null,null,null,null,null,null,null,null,null,null,null,null,null,null,null,null,null,null,null,null,null,null,null,null,null,null,null,null,null,null,null,null,null,null,null,null,null,null,null,null,null,null,null,null,null,null,null,null,null,null,null,null,null,null,null,null,null,null,null,null,null,null,null,null,null,null,null,null,null,null,null,null,null,null,null,null,null,null,null,null,null,null,null,null,null,null,null,null,null,null,null,null,null,null,null,null,null,null,null,null,null,null,null,null,null,null,null,null,null,null,null,null,null,null,null,null,null,null,null,null,null,null,null,null,null,null,null,null,null,null,null,null,null,null,null,null,null,null,null,null,null,null,null,null,null,null,null,null,null,null,null,null,null,null,null,null,null,null,null,null,null,null,null,null,null,null,null,null,null,null,null,null,null,null,null,null,null,null,null,null,null,null,null,null,null,null,0,null,null,null,null,null,null,null,null,null,null,null,null,null,null,null,null,null,null,null,null,null,null,"","",""]
[null,"Site water lines",null,null,null,null,null,null,null,null,null,null,null,null,null,null,null,null,null,null,null,null,null,null,null,null,null,null,null,null,null,null,null,null,null,null,null,null,null,null,null,null,null,null,null,null,null,null,null,null,null,null,null,null,null,null,null,null,null,null,null,null,null,null,null,null,null,null,null,null,null,null,null,null,null,null,null,null,null,null,null,null,null,null,null,null,null,null,null,null,null,null,null,null,null,null,null,null,null,null,null,null,null,null,null,null,null,null,null,null,null,null,null,null,null,null,null,null,null,null,null,null,null,null,null,null,null,null,null,null,null,null,null,null,null,null,null,null,null,null,null,null,null,null,null,null,null,null,null,null,null,null,null,null,null,null,null,null,null,null,null,null,null,null,null,null,null,null,null,null,null,null,null,null,null,null,null,null,null,null,null,null,null,null,null,null,null,null,null,null,null,null,null,null,null,null,null,null,null,null,null,null,null,null,null,null,null,null,null,null,null,null,null,null,null,null,0,null,null,null,null,null,null,null,null,null,null,null,null,null,null,null,null,null,null,null,null,null,null,"","",""]
[null,"Site sanitary lines",null,null,null,null,null,null,null,null,null,null,null,null,null,null,null,null,null,null,null,null,null,null,null,null,null,null,null,null,null,null,null,null,null,null,null,null,null,null,null,null,null,null,null,null,null,null,null,null,null,null,null,null,null,null,null,null,null,null,null,null,null,null,null,null,null,null,null,null,null,null,null,null,null,null,null,null,null,null,null,null,null,null,null,null,null,null,null,null,null,null,null,null,null,null,null,null,null,null,null,null,null,null,null,null,null,null,null,null,null,null,null,null,null,null,null,null,null,null,null,null,null,null,null,null,null,null,null,null,null,null,null,null,null,null,null,null,null,null,null,null,null,null,null,null,null,null,null,null,null,null,null,null,null,null,null,null,null,null,null,null,null,null,null,null,null,null,null,null,null,null,null,null,null,null,null,null,null,null,null,null,null,null,null,null,null,null,null,null,null,null,null,null,null,null,null,null,null,null,null,null,null,null,null,null,null,null,null,null,null,null,null,null,null,null,0,null,null,null,null,null,null,null,null,null,null,null,null,null,null,null,null,null,null,null,null,null,null,"","",""]
[null,"Site lighting",null,null,null,null,null,null,null,null,null,null,null,null,null,null,null,null,null,null,null,null,null,null,null,null,null,null,null,null,null,null,null,null,null,null,null,null,null,null,null,null,null,null,null,null,null,null,null,null,null,null,null,null,null,null,null,null,null,null,null,null,null,null,null,null,null,null,null,null,null,null,null,null,null,null,null,null,null,null,null,null,null,null,null,null,null,null,null,null,null,null,null,null,null,null,null,null,null,null,null,null,null,null,null,null,null,null,null,null,null,null,null,null,null,null,null,null,null,null,null,null,null,null,null,null,null,null,null,null,null,null,null,null,null,null,null,null,null,null,null,null,null,null,null,null,null,null,null,null,null,null,null,null,null,null,null,null,null,null,null,null,null,null,null,null,null,null,null,null,null,null,null,null,null,null,null,null,null,null,null,null,null,null,null,null,null,null,null,null,null,null,null,null,null,null,null,null,null,null,null,null,null,null,null,null,null,null,null,null,null,null,null,null,null,null,0,null,null,null,null,null,null,null,null,null,null,null,null,null,null,null,null,null,null,null,null,null,null,"","",""]
[null,"Site drainage (storm drainage)",null,null,null,null,null,null,null,null,null,null,null,null,null,null,null,null,null,null,null,null,null,null,null,null,null,null,null,null,null,null,null,null,null,null,null,null,null,null,null,null,null,null,null,null,null,null,null,null,null,null,null,null,null,null,null,null,null,null,null,null,null,null,null,null,null,null,null,null,null,null,null,null,null,null,null,null,null,null,null,null,null,null,null,null,null,null,null,null,null,null,null,null,null,null,null,null,null,null,null,null,null,null,null,null,null,null,null,null,null,null,null,null,null,null,null,null,null,null,null,null,null,null,null,null,null,null,null,null,null,null,null,null,null,null,null,null,null,null,null,null,null,null,null,null,null,null,null,null,null,null,null,null,null,null,null,null,null,null,null,null,null,null,null,null,null,null,null,null,null,null,null,null,null,null,null,null,null,null,null,null,null,null,null,null,null,null,null,null,null,null,null,null,null,null,null,null,null,null,null,null,null,null,null,null,null,null,null,null,null,null,null,null,null,null,0,null,null,null,null,null,null,null,null,null,null,null,null,null,null,null,null,null,null,null,null,null,null,"","",""]
[null,"Landscaping",null,null,null,null,null,null,null,null,null,null,null,null,null,null,null,null,null,null,null,null,null,null,null,null,null,null,null,null,null,null,null,null,null,null,null,null,null,null,null,null,null,null,null,null,null,null,null,null,null,null,null,null,null,null,null,null,null,null,null,null,null,null,null,null,null,null,null,null,null,null,null,null,null,null,null,null,null,null,null,null,null,null,null,null,null,null,null,null,null,null,null,null,null,null,null,null,null,null,null,null,null,null,null,null,null,null,null,null,null,null,null,null,null,null,null,null,null,null,null,null,null,null,null,null,null,null,null,null,null,null,null,null,null,null,null,null,null,null,null,null,null,null,null,null,null,null,null,null,null,null,null,null,null,null,null,null,null,null,null,null,null,null,null,null,null,null,null,null,null,null,null,null,null,null,null,null,null,null,null,null,null,null,null,null,null,null,null,null,null,null,null,null,null,null,null,null,null,null,null,null,null,null,null,null,null,null,null,null,null,null,null,null,null,null,0,null,null,null,null,null,null,null,null,null,null,null,null,null,null,null,null,null,null,null,null,null,null,"","",""]
[null,"Irrigation",null,null,null,null,null,null,null,null,null,null,null,null,null,null,null,null,null,null,null,null,null,null,null,null,null,null,null,null,null,null,null,null,null,null,null,null,null,null,null,null,null,null,null,null,null,null,null,null,null,null,null,null,null,null,null,null,null,null,null,null,null,null,null,null,null,null,null,null,null,null,null,null,null,null,null,null,null,null,null,null,null,null,null,null,null,null,null,null,null,null,null,null,null,null,null,null,null,null,null,null,null,null,null,null,null,null,null,null,null,null,null,null,null,null,null,null,null,null,null,null,null,null,null,null,null,null,null,null,null,null,null,null,null,null,null,null,null,null,null,null,null,null,null,null,null,null,null,null,null,null,null,null,null,null,null,null,null,null,null,null,null,null,null,null,null,null,null,null,null,null,null,null,null,null,null,null,null,null,null,null,null,null,null,null,null,null,null,null,null,null,null,null,null,null,null,null,null,null,null,null,null,null,null,null,null,null,null,null,null,null,null,null,null,null,0,null,null,null,null,null,null,null,null,null,null,null,null,null,null,null,null,null,null,null,null,null,null,"","",""]
[null,"Site fences",null,null,null,null,null,null,null,null,null,null,null,null,null,null,null,null,null,null,null,null,null,null,null,null,null,null,null,null,null,null,null,null,null,null,null,null,null,null,null,null,null,null,null,null,null,null,null,null,null,null,null,null,null,null,null,null,null,null,null,null,null,null,null,null,null,null,null,null,null,null,null,null,null,null,null,null,null,null,null,null,null,null,null,null,null,null,null,null,null,null,null,null,null,null,null,null,null,null,null,null,null,null,null,null,null,null,null,null,null,null,null,null,null,null,null,null,null,null,null,null,null,null,null,null,null,null,null,null,null,null,null,null,null,null,null,null,null,null,null,null,null,null,null,null,null,null,null,null,null,null,null,null,null,null,null,null,null,null,null,null,null,null,null,null,null,null,null,null,null,null,null,null,null,null,null,null,null,null,null,null,null,null,null,null,null,null,null,null,null,null,null,null,null,null,null,null,null,null,null,null,null,null,null,null,null,null,null,null,null,null,null,null,null,null,0,null,null,null,null,null,null,null,null,null,null,null,null,null,null,null,null,null,null,null,null,null,null,"","",""]
[null,"Tennis courts",null,null,null,null,null,null,null,null,null,null,null,null,null,null,null,null,null,null,null,null,null,null,null,null,null,null,null,null,null,null,null,null,null,null,null,null,null,null,null,null,null,null,null,null,null,null,null,null,null,null,null,null,null,null,null,null,null,null,null,null,null,null,null,null,null,null,null,null,null,null,null,null,null,null,null,null,null,null,null,null,null,null,null,null,null,null,null,null,null,null,null,null,null,null,null,null,null,null,null,null,null,null,null,null,null,null,null,null,null,null,null,null,null,null,null,null,null,null,null,null,null,null,null,null,null,null,null,null,null,null,null,null,null,null,null,null,null,null,null,null,null,null,null,null,null,null,null,null,null,null,null,null,null,null,null,null,null,null,null,null,null,null,null,null,null,null,null,null,null,null,null,null,null,null,null,null,null,null,null,null,null,null,null,null,null,null,null,null,null,null,null,null,null,null,null,null,null,null,null,null,null,null,null,null,null,null,null,null,null,null,null,null,null,null,0,null,null,null,null,null,null,null,null,null,null,null,null,null,null,null,null,null,null,null,null,null,null,"","",""]
[null,"Swimming pool and/or spa",null,null,null,null,null,null,null,null,null,null,null,null,null,null,null,null,null,null,null,null,null,null,null,null,null,null,null,null,null,null,null,null,null,null,null,null,null,null,null,null,null,null,null,null,null,null,null,null,null,null,null,null,null,null,null,null,null,null,null,null,null,null,null,null,null,null,null,null,null,null,null,null,null,null,null,null,null,null,null,null,null,null,null,null,null,null,null,null,null,null,null,null,null,null,null,null,null,null,null,null,null,null,null,null,null,null,null,null,null,null,null,null,null,null,null,null,null,null,null,null,null,null,null,null,null,null,null,null,null,null,null,null,null,null,null,null,null,null,null,null,null,null,null,null,null,null,null,null,null,null,null,null,null,null,null,null,null,null,null,null,null,null,null,null,null,null,null,null,null,null,null,null,null,null,null,null,null,null,null,null,null,null,null,null,null,null,null,null,null,null,null,null,null,null,null,null,null,null,null,null,null,null,null,null,null,null,null,null,null,null,null,null,null,null,0,null,null,null,null,null,null,null,null,null,null,null,null,null,null,null,null,null,null,null,null,null,null,"","",""]
[null,"Pool and/or spa plaster/liner",null,null,null,null,null,null,null,null,null,null,null,null,null,null,null,null,null,null,null,null,null,null,null,null,null,null,null,null,null,null,null,null,null,null,null,null,null,null,null,null,null,null,null,null,null,null,null,null,null,null,null,null,null,null,null,null,null,null,null,null,null,null,null,null,null,null,null,null,null,null,null,null,null,null,null,null,null,null,null,null,null,null,null,null,null,null,null,null,null,null,null,null,null,null,null,null,null,null,null,null,null,null,null,null,null,null,null,null,null,null,null,null,null,null,null,null,null,null,null,null,null,null,null,null,null,null,null,null,null,null,null,null,null,null,null,null,null,null,null,null,null,null,null,null,null,null,null,null,null,null,null,null,null,null,null,null,null,null,null,null,null,null,null,null,null,null,null,null,null,null,null,null,null,null,null,null,null,null,null,null,null,null,null,null,null,null,null,null,null,null,null,null,null,null,null,null,null,null,null,null,null,null,null,null,null,null,null,null,null,null,null,null,null,null,0,null,null,null,null,null,null,null,null,null,null,null,null,null,null,null,null,null,null,null,null,null,null,"","",""]
[null,"Pool and/or spa heating equipment",null,null,null,null,null,null,null,null,null,null,null,null,null,null,null,null,null,null,null,null,null,null,null,null,null,null,null,null,null,null,null,null,null,null,null,null,null,null,null,null,null,null,null,null,null,null,null,null,null,null,null,null,null,null,null,null,null,null,null,null,null,null,null,null,null,null,null,null,null,null,null,null,null,null,null,null,null,null,null,null,null,null,null,null,null,null,null,null,null,null,null,null,null,null,null,null,null,null,null,null,null,null,null,null,null,null,null,null,null,null,null,null,null,null,null,null,null,null,null,null,null,null,null,null,null,null,null,null,null,null,null,null,null,null,null,null,null,null,null,null,null,null,null,null,null,null,null,null,null,null,null,null,null,null,null,null,null,null,null,null,null,null,null,null,null,null,null,null,null,null,null,null,null,null,null,null,null,null,null,null,null,null,null,null,null,null,null,null,null,null,null,null,null,null,null,null,null,null,null,null,null,null,null,null,null,null,null,null,null,null,null,null,null,null,0,null,null,null,null,null,null,null,null,null,null,null,null,null,null,null,null,null,null,null,null,null,null,"","",""]
[null,"Pool and/or spa filtration equipment",null,null,null,null,null,null,null,null,null,null,null,null,null,null,null,null,null,null,null,null,null,null,null,null,null,null,null,null,null,null,null,null,null,null,null,null,null,null,null,null,null,null,null,null,null,null,null,null,null,null,null,null,null,null,null,null,null,null,null,null,null,null,null,null,null,null,null,null,null,null,null,null,null,null,null,null,null,null,null,null,null,null,null,null,null,null,null,null,null,null,null,null,null,null,null,null,null,null,null,null,null,null,null,null,null,null,null,null,null,null,null,null,null,null,null,null,null,null,null,null,null,null,null,null,null,null,null,null,null,null,null,null,null,null,null,null,null,null,null,null,null,null,null,null,null,null,null,null,null,null,null,null,null,null,null,null,null,null,null,null,null,null,null,null,null,null,null,null,null,null,null,null,null,null,null,null,null,null,null,null,null,null,null,null,null,null,null,null,null,null,null,null,null,null,null,null,null,null,null,null,null,null,null,null,null,null,null,null,null,null,null,null,null,null,0,null,null,null,null,null,null,null,null,null,null,null,null,null,null,null,null,null,null,null,null,null,null,"","",""]
[null,"Pool and/or spa deck surface",null,null,null,null,null,null,null,null,null,null,null,null,null,null,null,null,null,null,null,null,null,null,null,null,null,null,null,null,null,null,null,null,null,null,null,null,null,null,null,null,null,null,null,null,null,null,null,null,null,null,null,null,null,null,null,null,null,null,null,null,null,null,null,null,null,null,null,null,null,null,null,null,null,null,null,null,null,null,null,null,null,null,null,null,null,null,null,null,null,null,null,null,null,null,null,null,null,null,null,null,null,null,null,null,null,null,null,null,null,null,null,null,null,null,null,null,null,null,null,null,null,null,null,null,null,null,null,null,null,null,null,null,null,null,null,null,null,null,null,null,null,null,null,null,null,null,null,null,null,null,null,null,null,null,null,null,null,null,null,null,null,null,null,null,null,null,null,null,null,null,null,null,null,null,null,null,null,null,null,null,null,null,null,null,null,null,null,null,null,null,null,null,null,null,null,null,null,null,null,null,null,null,null,null,null,null,null,null,null,null,null,null,null,null,0,null,null,null,null,null,null,null,null,null,null,null,null,null,null,null,null,null,null,null,null,null,null,"","",""]
[null,"Sauna",null,null,null,null,null,null,null,null,null,null,null,null,null,null,null,null,null,null,null,null,null,null,null,null,null,null,null,null,null,null,null,null,null,null,null,null,null,null,null,null,null,null,null,null,null,null,null,null,null,null,null,null,null,null,null,null,null,null,null,null,null,null,null,null,null,null,null,null,null,null,null,null,null,null,null,null,null,null,null,null,null,null,null,null,null,null,null,null,null,null,null,null,null,null,null,null,null,null,null,null,null,null,null,null,null,null,null,null,null,null,null,null,null,null,null,null,null,null,null,null,null,null,null,null,null,null,null,null,null,null,null,null,null,null,null,null,null,null,null,null,null,null,null,null,null,null,null,null,null,null,null,null,null,null,null,null,null,null,null,null,null,null,null,null,null,null,null,null,null,null,null,null,null,null,null,null,null,null,null,null,null,null,null,null,null,null,null,null,null,null,null,null,null,null,null,null,null,null,null,null,null,null,null,null,null,null,null,null,null,null,null,null,null,null,0,null,null,null,null,null,null,null,null,null,null,null,null,null,null,null,null,null,null,null,null,null,null,"","",""]
[null,"Recreation/Play area and equipment",null,null,null,null,null,null,null,null,null,null,null,null,null,null,null,null,null,null,null,null,null,null,null,null,null,null,null,null,null,null,null,null,null,null,null,null,null,null,null,null,null,null,null,null,null,null,null,null,null,null,null,null,null,null,null,null,null,null,null,null,null,null,null,null,null,null,null,null,null,null,null,null,null,null,null,null,null,null,null,null,null,null,null,null,null,null,null,null,null,null,null,null,null,null,null,null,null,null,null,null,null,null,null,null,null,null,null,null,null,null,null,null,null,null,null,null,null,null,null,null,null,null,null,null,null,null,null,null,null,null,null,null,null,null,null,null,null,null,null,null,null,null,null,null,null,null,null,null,null,null,null,null,null,null,null,null,null,null,null,null,null,null,null,null,null,null,null,null,null,null,null,null,null,null,null,null,null,null,null,null,null,null,null,null,null,null,null,null,null,null,null,null,null,null,null,null,null,null,null,null,null,null,null,null,null,null,null,null,null,null,null,null,null,null,0,null,null,null,null,null,null,null,null,null,null,null,null,null,null,null,null,null,null,null,null,null,null,"","",""]
[null,{"$f":"II!B54","v":"Other"},null,null,null,null,null,null,null,null,null,null,null,null,null,null,null,null,null,null,null,null,null,null,null,null,null,null,null,null,null,null,null,null,null,null,null,null,null,null,null,null,null,null,null,null,null,null,null,null,null,null,null,null,null,null,null,null,null,null,null,null,null,null,null,null,null,null,null,null,null,null,null,null,null,null,null,null,null,null,null,null,null,null,null,null,null,null,null,null,null,null,null,null,null,null,null,null,null,null,null,null,null,null,null,null,null,null,null,null,null,null,null,null,null,null,null,null,null,null,null,null,null,null,null,null,null,null,null,null,null,null,null,null,null,null,null,null,null,null,null,null,null,null,null,null,null,null,null,null,null,null,null,null,null,null,null,null,null,null,null,null,null,null,null,null,null,null,null,null,null,null,null,null,null,null,null,null,null,null,null,null,null,null,null,null,null,null,null,null,null,null,null,null,null,null,null,null,null,null,null,null,null,null,null,null,null,null,null,null,null,null,null,null,null,null,0,null,null,null,null,null,null,null,null,null,null,null,null,null,null,null,null,null,null,null,null,null,null,"","",""]
[null,{"$f":"II!B55","v":"Other"},null,null,null,null,null,null,null,null,null,null,null,null,null,null,null,null,null,null,null,null,null,null,null,null,null,null,null,null,null,null,null,null,null,null,null,null,null,null,null,null,null,null,null,null,null,null,null,null,null,null,null,null,null,null,null,null,null,null,null,null,null,null,null,null,null,null,null,null,null,null,null,null,null,null,null,null,null,null,null,null,null,null,null,null,null,null,null,null,null,null,null,null,null,null,null,null,null,null,null,null,null,null,null,null,null,null,null,null,null,null,null,null,null,null,null,null,null,null,null,null,null,null,null,null,null,null,null,null,null,null,null,null,null,null,null,null,null,null,null,null,null,null,null,null,null,null,null,null,null,null,null,null,null,null,null,null,null,null,null,null,null,null,null,null,null,null,null,null,null,null,null,null,null,null,null,null,null,null,null,null,null,null,null,null,null,null,null,null,null,null,null,null,null,null,null,null,null,null,null,null,null,null,null,null,null,null,null,null,null,null,null,null,null,null,0,null,null,null,null,null,null,null,null,null,null,null,null,null,null,null,null,null,null,null,null,null,null,"","",""]
[null,{"$f":"II!B56","v":"Other"},null,null,null,null,null,null,null,null,null,null,null,null,null,null,null,null,null,null,null,null,null,null,null,null,null,null,null,null,null,null,null,null,null,null,null,null,null,null,null,null,null,null,null,null,null,null,null,null,null,null,null,null,null,null,null,null,null,null,null,null,null,null,null,null,null,null,null,null,null,null,null,null,null,null,null,null,null,null,null,null,null,null,null,null,null,null,null,null,null,null,null,null,null,null,null,null,null,null,null,null,null,null,null,null,null,null,null,null,null,null,null,null,null,null,null,null,null,null,null,null,null,null,null,null,null,null,null,null,null,null,null,null,null,null,null,null,null,null,null,null,null,null,null,null,null,null,null,null,null,null,null,null,null,null,null,null,null,null,null,null,null,null,null,null,null,null,null,null,null,null,null,null,null,null,null,null,null,null,null,null,null,null,null,null,null,null,null,null,null,null,null,null,null,null,null,null,null,null,null,null,null,null,null,null,null,null,null,null,null,null,null,null,null,null,0,null,null,null,null,null,null,null,null,null,null,null,null,null,null,null,null,null,null,null,null,null,null,"","",""]
[]
[]
[null,"STRUCTURAL, BUILDING ENVELOPE AND COMMON AREA FURNITURE, FIXTURES AND EQUIPMENT"]
[]
[null,"Item",null,null,null,null,null,null,null,null,null,null,null,null,null,null,null,null,null,null,null,null,null,null,null,null,null,null,null,null,null,null,null,null,null,null,null,null,null,null,null,null,null,null,null,null,"Quantity",null,null,null,null,null,null,null,null,null,null,null,"Unit of Measure",null,null,null,null,null,null,null,null,null,null,null,"Per Item Cost",null,null,null,null,null,null,null,null,null,null,null,null,null,"Year 1",null,null,null,null,null,null,null,null,null,null,"Year 2",null,null,null,null,null,null,null,null,null,null,"Year 3",null,null,null,null,null,null,null,null,null,null,"Year 4",null,null,null,null,null,null,null,null,null,null,"Year 5",null,null,null,null,null,null,null,null,null,null,"Year 6",null,null,null,null,null,null,null,null,null,null,"Year 7",null,null,null,null,null,null,null,null,null,null,"Year 8",null,null,null,null,null,null,null,null,null,null,"Year 9",null,null,null,null,null,null,null,null,null,null,"Year 10",null,null,null,null,null,null,null,null,null,null,"Year 11",null,null,null,null,null,null,null,null,null,null,"Year 12",null,null,null,null,null,null,null,null,null,null,"Total"]
[null,"Foundation (structural)",null,null,null,null,null,null,null,null,null,null,null,null,null,null,null,null,null,null,null,null,null,null,null,null,null,null,null,null,null,null,null,null,null,null,null,null,null,null,null,null,null,null,null,null,null,null,null,null,null,null,null,null,null,null,null,null,null,null,null,null,null,null,null,null,null,null,null,null,null,null,null,null,null,null,null,null,null,null,null,null,null,null,null,null,null,null,null,null,null,null,null,null,null,null,null,null,null,null,null,null,null,null,null,null,null,null,null,null,null,null,null,null,null,null,null,null,null,null,null,null,null,null,null,null,null,null,null,null,null,null,null,null,null,null,null,null,null,null,null,null,null,null,null,null,null,null,null,null,null,null,null,null,null,null,null,null,null,null,null,null,null,null,null,null,null,null,null,null,null,null,null,null,null,null,null,null,null,null,null,null,null,null,null,null,null,null,null,null,null,null,null,null,null,null,null,null,null,null,null,null,null,null,null,null,null,null,null,null,null,null,null,null,null,null,{"$f":"IF(COUNTIF(IF65:IH65,\"x\")>0,\"CORRECT ERROR\",SUM(CG65:HH65))","v":0},null,null,null,null,null,null,null,null,null,null,null,null,null,null,null,null,null,null,null,null,null,null,{"$f":"IF(AND(OR(AU65<>\"\",BG65<>\"\",BS65<>\"\")=TRUE,SUM(CG65:HH65)=0)=TRUE,\"x\",\"\")","v":""},{"$f":"IF(AND(OR(AU65=\"\",BG65=\"\",BS65=\"\")=TRUE,SUM(CG65:HH65)>0)=TRUE,\"x\",\"\")","v":""},{"$f":"IF(AU65*BS65=SUM(CG65:HH65),\"\",\"x\")","v":""}]
[null,"Foundation (waterproofing)",null,null,null,null,null,null,null,null,null,null,null,null,null,null,null,null,null,null,null,null,null,null,null,null,null,null,null,null,null,null,null,null,null,null,null,null,null,null,null,null,null,null,null,null,null,null,null,null,null,null,null,null,null,null,null,null,null,null,null,null,null,null,null,null,null,null,null,null,null,null,null,null,null,null,null,null,null,null,null,null,null,null,null,null,null,null,null,null,null,null,null,null,null,null,null,null,null,null,null,null,null,null,null,null,null,null,null,null,null,null,null,null,null,null,null,null,null,null,null,null,null,null,null,null,null,null,null,null,null,null,null,null,null,null,null,null,null,null,null,null,null,null,null,null,null,null,null,null,null,null,null,null,null,null,null,null,null,null,null,null,null,null,null,null,null,null,null,null,null,null,null,null,null,null,null,null,null,null,null,null,null,null,null,null,null,null,null,null,null,null,null,null,null,null,null,null,null,null,null,null,null,null,null,null,null,null,null,null,null,null,null,null,null,null,0,null,null,null,null,null,null,null,null,null,null,null,null,null,null,null,null,null,null,null,null,null,null,"","",""]
[null,"Building slab (structural)",null,null,null,null,null,null,null,null,null,null,null,null,null,null,null,null,null,null,null,null,null,null,null,null,null,null,null,null,null,null,null,null,null,null,null,null,null,null,null,null,null,null,null,null,null,null,null,null,null,null,null,null,null,null,null,null,null,null,null,null,null,null,null,null,null,null,null,null,null,null,null,null,null,null,null,null,null,null,null,null,null,null,null,null,null,null,null,null,null,null,null,null,null,null,null,null,null,null,null,null,null,null,null,null,null,null,null,null,null,null,null,null,null,null,null,null,null,null,null,null,null,null,null,null,null,null,null,null,null,null,null,null,null,null,null,null,null,null,null,null,null,null,null,null,null,null,null,null,null,null,null,null,null,null,null,null,null,null,null,null,null,null,null,null,null,null,null,null,null,null,null,null,null,null,null,null,null,null,null,null,null,null,null,null,null,null,null,null,null,null,null,null,null,null,null,null,null,null,null,null,null,null,null,null,null,null,null,null,null,null,null,null,null,null,0,null,null,null,null,null,null,null,null,null,null,null,null,null,null,null,null,null,null,null,null,null,null,"","",""]
[null,"Exterior walls/roof (structural)",null,null,null,null,null,null,null,null,null,null,null,null,null,null,null,null,null,null,null,null,null,null,null,null,null,null,null,null,null,null,null,null,null,null,null,null,null,null,null,null,null,null,null,null,null,null,null,null,null,null,null,null,null,null,null,null,null,null,null,null,null,null,null,null,null,null,null,null,null,null,null,null,null,null,null,null,null,null,null,null,null,null,null,null,null,null,null,null,null,null,null,null,null,null,null,null,null,null,null,null,null,null,null,null,null,null,null,null,null,null,null,null,null,null,null,null,null,null,null,null,null,null,null,null,null,null,null,null,null,null,null,null,null,null,null,null,null,null,null,null,null,null,null,null,null,null,null,null,null,null,null,null,null,null,null,null,null,null,null,null,null,null,null,null,null,null,null,null,null,null,null,null,null,null,null,null,null,null,null,null,null,null,null,null,null,null,null,null,null,null,null,null,null,null,null,null,null,null,null,null,null,null,null,null,null,null,null,null,null,null,null,null,null,null,0,null,null,null,null,null,null,null,null,null,null,null,null,null,null,null,null,null,null,null,null,null,null,"","",""]
[null,"Exterior walls (paint/finish)",null,null,null,null,null,null,null,null,null,null,null,null,null,null,null,null,null,null,null,null,null,null,null,null,null,null,null,null,null,null,null,null,null,null,null,null,null,null,null,null,null,null,null,null,null,null,null,null,null,null,null,null,null,null,null,null,null,null,null,null,null,null,null,null,null,null,null,null,null,null,null,null,null,null,null,null,null,null,null,null,null,null,null,null,null,null,null,null,null,null,null,null,null,null,null,null,null,null,null,null,null,null,null,null,null,null,null,null,null,null,null,null,null,null,null,null,null,null,null,null,null,null,null,null,null,null,null,null,null,null,null,null,null,null,null,null,null,null,null,null,null,null,null,null,null,null,null,null,null,null,null,null,null,null,null,null,null,null,null,null,null,null,null,null,null,null,null,null,null,null,null,null,null,null,null,null,null,null,null,null,null,null,null,null,null,null,null,null,null,null,null,null,null,null,null,null,null,null,null,null,null,null,null,null,null,null,null,null,null,null,null,null,null,null,0,null,null,null,null,null,null,null,null,null,null,null,null,null,null,null,null,null,null,null,null,null,null,"","",""]
[null,"Doors and frames",null,null,null,null,null,null,null,null,null,null,null,null,null,null,null,null,null,null,null,null,null,null,null,null,null,null,null,null,null,null,null,null,null,null,null,null,null,null,null,null,null,null,null,null,null,null,null,null,null,null,null,null,null,null,null,null,null,null,null,null,null,null,null,null,null,null,null,null,null,null,null,null,null,null,null,null,null,null,null,null,null,null,null,null,null,null,null,null,null,null,null,null,null,null,null,null,null,null,null,null,null,null,null,null,null,null,null,null,null,null,null,null,null,null,null,null,null,null,null,null,null,null,null,null,null,null,null,null,null,null,null,null,null,null,null,null,null,null,null,null,null,null,null,null,null,null,null,null,null,null,null,null,null,null,null,null,null,null,null,null,null,null,null,null,null,null,null,null,null,null,null,null,null,null,null,null,null,null,null,null,null,null,null,null,null,null,null,null,null,null,null,null,null,null,null,null,null,null,null,null,null,null,null,null,null,null,null,null,null,null,null,null,null,null,0,null,null,null,null,null,null,null,null,null,null,null,null,null,null,null,null,null,null,null,null,null,null,"","",""]
[null,"Windows and frames",null,null,null,null,null,null,null,null,null,null,null,null,null,null,null,null,null,null,null,null,null,null,null,null,null,null,null,null,null,null,null,null,null,null,null,null,null,null,null,null,null,null,null,null,null,null,null,null,null,null,null,null,null,null,null,null,null,null,null,null,null,null,null,null,null,null,null,null,null,null,null,null,null,null,null,null,null,null,null,null,null,null,null,null,null,null,null,null,null,null,null,null,null,null,null,null,null,null,null,null,null,null,null,null,null,null,null,null,null,null,null,null,null,null,null,null,null,null,null,null,null,null,null,null,null,null,null,null,null,null,null,null,null,null,null,null,null,null,null,null,null,null,null,null,null,null,null,null,null,null,null,null,null,null,null,null,null,null,null,null,null,null,null,null,null,null,null,null,null,null,null,null,null,null,null,null,null,null,null,null,null,null,null,null,null,null,null,null,null,null,null,null,null,null,null,null,null,null,null,null,null,null,null,null,null,null,null,null,null,null,null,null,null,null,0,null,null,null,null,null,null,null,null,null,null,null,null,null,null,null,null,null,null,null,null,null,null,"","",""]
[null,"Stairs (structural/finish)",null,null,null,null,null,null,null,null,null,null,null,null,null,null,null,null,null,null,null,null,null,null,null,null,null,null,null,null,null,null,null,null,null,null,null,null,null,null,null,null,null,null,null,null,null,null,null,null,null,null,null,null,null,null,null,null,null,null,null,null,null,null,null,null,null,null,null,null,null,null,null,null,null,null,null,null,null,null,null,null,null,null,null,null,null,null,null,null,null,null,null,null,null,null,null,null,null,null,null,null,null,null,null,null,null,null,null,null,null,null,null,null,null,null,null,null,null,null,null,null,null,null,null,null,null,null,null,null,null,null,null,null,null,null,null,null,null,null,null,null,null,null,null,null,null,null,null,null,null,null,null,null,null,null,null,null,null,null,null,null,null,null,null,null,null,null,null,null,null,null,null,null,null,null,null,null,null,null,null,null,null,null,null,null,null,null,null,null,null,null,null,null,null,null,null,null,null,null,null,null,null,null,null,null,null,null,null,null,null,null,null,null,null,null,0,null,null,null,null,null,null,null,null,null,null,null,null,null,null,null,null,null,null,null,null,null,null,"","",""]
[null,"Fire escapes",null,null,null,null,null,null,null,null,null,null,null,null,null,null,null,null,null,null,null,null,null,null,null,null,null,null,null,null,null,null,null,null,null,null,null,null,null,null,null,null,null,null,null,null,null,null,null,null,null,null,null,null,null,null,null,null,null,null,null,null,null,null,null,null,null,null,null,null,null,null,null,null,null,null,null,null,null,null,null,null,null,null,null,null,null,null,null,null,null,null,null,null,null,null,null,null,null,null,null,null,null,null,null,null,null,null,null,null,null,null,null,null,null,null,null,null,null,null,null,null,null,null,null,null,null,null,null,null,null,null,null,null,null,null,null,null,null,null,null,null,null,null,null,null,null,null,null,null,null,null,null,null,null,null,null,null,null,null,null,null,null,null,null,null,null,null,null,null,null,null,null,null,null,null,null,null,null,null,null,null,null,null,null,null,null,null,null,null,null,null,null,null,null,null,null,null,null,null,null,null,null,null,null,null,null,null,null,null,null,null,null,null,null,null,0,null,null,null,null,null,null,null,null,null,null,null,null,null,null,null,null,null,null,null,null,null,null,"","",""]
[null,"Balconies/handrails/guardrails",null,null,null,null,null,null,null,null,null,null,null,null,null,null,null,null,null,null,null,null,null,null,null,null,null,null,null,null,null,null,null,null,null,null,null,null,null,null,null,null,null,null,null,null,null,null,null,null,null,null,null,null,null,null,null,null,null,null,null,null,null,null,null,null,null,null,null,null,null,null,null,null,null,null,null,null,null,null,null,null,null,null,null,null,null,null,null,null,null,null,null,null,null,null,null,null,null,null,null,null,null,null,null,null,null,null,null,null,null,null,null,null,null,null,null,null,null,null,null,null,null,null,null,null,null,null,null,null,null,null,null,null,null,null,null,null,null,null,null,null,null,null,null,null,null,null,null,null,null,null,null,null,null,null,null,null,null,null,null,null,null,null,null,null,null,null,null,null,null,null,null,null,null,null,null,null,null,null,null,null,null,null,null,null,null,null,null,null,null,null,null,null,null,null,null,null,null,null,null,null,null,null,null,null,null,null,null,null,null,null,null,null,null,null,0,null,null,null,null,null,null,null,null,null,null,null,null,null,null,null,null,null,null,null,null,null,null,"","",""]
[null,"Decks",null,null,null,null,null,null,null,null,null,null,null,null,null,null,null,null,null,null,null,null,null,null,null,null,null,null,null,null,null,null,null,null,null,null,null,null,null,null,null,null,null,null,null,null,null,null,null,null,null,null,null,null,null,null,null,null,null,null,null,null,null,null,null,null,null,null,null,null,null,null,null,null,null,null,null,null,null,null,null,null,null,null,null,null,null,null,null,null,null,null,null,null,null,null,null,null,null,null,null,null,null,null,null,null,null,null,null,null,null,null,null,null,null,null,null,null,null,null,null,null,null,null,null,null,null,null,null,null,null,null,null,null,null,null,null,null,null,null,null,null,null,null,null,null,null,null,null,null,null,null,null,null,null,null,null,null,null,null,null,null,null,null,null,null,null,null,null,null,null,null,null,null,null,null,null,null,null,null,null,null,null,null,null,null,null,null,null,null,null,null,null,null,null,null,null,null,null,null,null,null,null,null,null,null,null,null,null,null,null,null,null,null,null,null,0,null,null,null,null,null,null,null,null,null,null,null,null,null,null,null,null,null,null,null,null,null,null,"","",""]
[null,"Patio slabs",null,null,null,null,null,null,null,null,null,null,null,null,null,null,null,null,null,null,null,null,null,null,null,null,null,null,null,null,null,null,null,null,null,null,null,null,null,null,null,null,null,null,null,null,null,null,null,null,null,null,null,null,null,null,null,null,null,null,null,null,null,null,null,null,null,null,null,null,null,null,null,null,null,null,null,null,null,null,null,null,null,null,null,null,null,null,null,null,null,null,null,null,null,null,null,null,null,null,null,null,null,null,null,null,null,null,null,null,null,null,null,null,null,null,null,null,null,null,null,null,null,null,null,null,null,null,null,null,null,null,null,null,null,null,null,null,null,null,null,null,null,null,null,null,null,null,null,null,null,null,null,null,null,null,null,null,null,null,null,null,null,null,null,null,null,null,null,null,null,null,null,null,null,null,null,null,null,null,null,null,null,null,null,null,null,null,null,null,null,null,null,null,null,null,null,null,null,null,null,null,null,null,null,null,null,null,null,null,null,null,null,null,null,null,0,null,null,null,null,null,null,null,null,null,null,null,null,null,null,null,null,null,null,null,null,null,null,"","",""]
[null,"Unit fencing (patio fencing)",null,null,null,null,null,null,null,null,null,null,null,null,null,null,null,null,null,null,null,null,null,null,null,null,null,null,null,null,null,null,null,null,null,null,null,null,null,null,null,null,null,null,null,null,null,null,null,null,null,null,null,null,null,null,null,null,null,null,null,null,null,null,null,null,null,null,null,null,null,null,null,null,null,null,null,null,null,null,null,null,null,null,null,null,null,null,null,null,null,null,null,null,null,null,null,null,null,null,null,null,null,null,null,null,null,null,null,null,null,null,null,null,null,null,null,null,null,null,null,null,null,null,null,null,null,null,null,null,null,null,null,null,null,null,null,null,null,null,null,null,null,null,null,null,null,null,null,null,null,null,null,null,null,null,null,null,null,null,null,null,null,null,null,null,null,null,null,null,null,null,null,null,null,null,null,null,null,null,null,null,null,null,null,null,null,null,null,null,null,null,null,null,null,null,null,null,null,null,null,null,null,null,null,null,null,null,null,null,null,null,null,null,null,null,0,null,null,null,null,null,null,null,null,null,null,null,null,null,null,null,null,null,null,null,null,null,null,"","",""]
[null,"Roof coverings",null,null,null,null,null,null,null,null,null,null,null,null,null,null,null,null,null,null,null,null,null,null,null,null,null,null,null,null,null,null,null,null,null,null,null,null,null,null,null,null,null,null,null,null,null,null,null,null,null,null,null,null,null,null,null,null,null,null,null,null,null,null,null,null,null,null,null,null,null,null,null,null,null,null,null,null,null,null,null,null,null,null,null,null,null,null,null,null,null,null,null,null,null,null,null,null,null,null,null,null,null,null,null,null,null,null,null,null,null,null,null,null,null,null,null,null,null,null,null,null,null,null,null,null,null,null,null,null,null,null,null,null,null,null,null,null,null,null,null,null,null,null,null,null,null,null,null,null,null,null,null,null,null,null,null,null,null,null,null,null,null,null,null,null,null,null,null,null,null,null,null,null,null,null,null,null,null,null,null,null,null,null,null,null,null,null,null,null,null,null,null,null,null,null,null,null,null,null,null,null,null,null,null,null,null,null,null,null,null,null,null,null,null,null,0,null,null,null,null,null,null,null,null,null,null,null,null,null,null,null,null,null,null,null,null,null,null,"","",""]
[null,"Roof drainage (gutters, drains, etc.)",null,null,null,null,null,null,null,null,null,null,null,null,null,null,null,null,null,null,null,null,null,null,null,null,null,null,null,null,null,null,null,null,null,null,null,null,null,null,null,null,null,null,null,null,null,null,null,null,null,null,null,null,null,null,null,null,null,null,null,null,null,null,null,null,null,null,null,null,null,null,null,null,null,null,null,null,null,null,null,null,null,null,null,null,null,null,null,null,null,null,null,null,null,null,null,null,null,null,null,null,null,null,null,null,null,null,null,null,null,null,null,null,null,null,null,null,null,null,null,null,null,null,null,null,null,null,null,null,null,null,null,null,null,null,null,null,null,null,null,null,null,null,null,null,null,null,null,null,null,null,null,null,null,null,null,null,null,null,null,null,null,null,null,null,null,null,null,null,null,null,null,null,null,null,null,null,null,null,null,null,null,null,null,null,null,null,null,null,null,null,null,null,null,null,null,null,null,null,null,null,null,null,null,null,null,null,null,null,null,null,null,null,null,null,0,null,null,null,null,null,null,null,null,null,null,null,null,null,null,null,null,null,null,null,null,null,null,"","",""]
[null,"Building mounted lighting",null,null,null,null,null,null,null,null,null,null,null,null,null,null,null,null,null,null,null,null,null,null,null,null,null,null,null,null,null,null,null,null,null,null,null,null,null,null,null,null,null,null,null,null,null,null,null,null,null,null,null,null,null,null,null,null,null,null,null,null,null,null,null,null,null,null,null,null,null,null,null,null,null,null,null,null,null,null,null,null,null,null,null,null,null,null,null,null,null,null,null,null,null,null,null,null,null,null,null,null,null,null,null,null,null,null,null,null,null,null,null,null,null,null,null,null,null,null,null,null,null,null,null,null,null,null,null,null,null,null,null,null,null,null,null,null,null,null,null,null,null,null,null,null,null,null,null,null,null,null,null,null,null,null,null,null,null,null,null,null,null,null,null,null,null,null,null,null,null,null,null,null,null,null,null,null,null,null,null,null,null,null,null,null,null,null,null,null,null,null,null,null,null,null,null,null,null,null,null,null,null,null,null,null,null,null,null,null,null,null,null,null,null,null,0,null,null,null,null,null,null,null,null,null,null,null,null,null,null,null,null,null,null,null,null,null,null,"","",""]
[null,"Common area improvements",null,null,null,null,null,null,null,null,null,null,null,null,null,null,null,null,null,null,null,null,null,null,null,null,null,null,null,null,null,null,null,null,null,null,null,null,null,null,null,null,null,null,null,null,null,null,null,null,null,null,null,null,null,null,null,null,null,null,null,null,null,null,null,null,null,null,null,null,null,null,null,null,null,null,null,null,null,null,null,null,null,null,null,null,null,null,null,null,null,null,null,null,null,null,null,null,null,null,null,null,null,null,null,null,null,null,null,null,null,null,null,null,null,null,null,null,null,null,null,null,null,null,null,null,null,null,null,null,null,null,null,null,null,null,null,null,null,null,null,null,null,null,null,null,null,null,null,null,null,null,null,null,null,null,null,null,null,null,null,null,null,null,null,null,null,null,null,null,null,null,null,null,null,null,null,null,null,null,null,null,null,null,null,null,null,null,null,null,null,null,null,null,null,null,null,null,null,null,null,null,null,null,null,null,null,null,null,null,null,null,null,null,null,null,0,null,null,null,null,null,null,null,null,null,null,null,null,null,null,null,null,null,null,null,null,null,null,"","",""]
[null,"Common area floors",null,null,null,null,null,null,null,null,null,null,null,null,null,null,null,null,null,null,null,null,null,null,null,null,null,null,null,null,null,null,null,null,null,null,null,null,null,null,null,null,null,null,null,null,null,null,null,null,null,null,null,null,null,null,null,null,null,null,null,null,null,null,null,null,null,null,null,null,null,null,null,null,null,null,null,null,null,null,null,null,null,null,null,null,null,null,null,null,null,null,null,null,null,null,null,null,null,null,null,null,null,null,null,null,null,null,null,null,null,null,null,null,null,null,null,null,null,null,null,null,null,null,null,null,null,null,null,null,null,null,null,null,null,null,null,null,null,null,null,null,null,null,null,null,null,null,null,null,null,null,null,null,null,null,null,null,null,null,null,null,null,null,null,null,null,null,null,null,null,null,null,null,null,null,null,null,null,null,null,null,null,null,null,null,null,null,null,null,null,null,null,null,null,null,null,null,null,null,null,null,null,null,null,null,null,null,null,null,null,null,null,null,null,null,0,null,null,null,null,null,null,null,null,null,null,null,null,null,null,null,null,null,null,null,null,null,null,"","",""]
[null,"Community facilities kitchen",null,null,null,null,null,null,null,null,null,null,null,null,null,null,null,null,null,null,null,null,null,null,null,null,null,null,null,null,null,null,null,null,null,null,null,null,null,null,null,null,null,null,null,null,null,null,null,null,null,null,null,null,null,null,null,null,null,null,null,null,null,null,null,null,null,null,null,null,null,null,null,null,null,null,null,null,null,null,null,null,null,null,null,null,null,null,null,null,null,null,null,null,null,null,null,null,null,null,null,null,null,null,null,null,null,null,null,null,null,null,null,null,null,null,null,null,null,null,null,null,null,null,null,null,null,null,null,null,null,null,null,null,null,null,null,null,null,null,null,null,null,null,null,null,null,null,null,null,null,null,null,null,null,null,null,null,null,null,null,null,null,null,null,null,null,null,null,null,null,null,null,null,null,null,null,null,null,null,null,null,null,null,null,null,null,null,null,null,null,null,null,null,null,null,null,null,null,null,null,null,null,null,null,null,null,null,null,null,null,null,null,null,null,null,0,null,null,null,null,null,null,null,null,null,null,null,null,null,null,null,null,null,null,null,null,null,null,"","",""]
[null,"Community facilities appliances",null,null,null,null,null,null,null,null,null,null,null,null,null,null,null,null,null,null,null,null,null,null,null,null,null,null,null,null,null,null,null,null,null,null,null,null,null,null,null,null,null,null,null,null,null,null,null,null,null,null,null,null,null,null,null,null,null,null,null,null,null,null,null,null,null,null,null,null,null,null,null,null,null,null,null,null,null,null,null,null,null,null,null,null,null,null,null,null,null,null,null,null,null,null,null,null,null,null,null,null,null,null,null,null,null,null,null,null,null,null,null,null,null,null,null,null,null,null,null,null,null,null,null,null,null,null,null,null,null,null,null,null,null,null,null,null,null,null,null,null,null,null,null,null,null,null,null,null,null,null,null,null,null,null,null,null,null,null,null,null,null,null,null,null,null,null,null,null,null,null,null,null,null,null,null,null,null,null,null,null,null,null,null,null,null,null,null,null,null,null,null,null,null,null,null,null,null,null,null,null,null,null,null,null,null,null,null,null,null,null,null,null,null,null,0,null,null,null,null,null,null,null,null,null,null,null,null,null,null,null,null,null,null,null,null,null,null,"","",""]
[null,"Community washing machines",null,null,null,null,null,null,null,null,null,null,null,null,null,null,null,null,null,null,null,null,null,null,null,null,null,null,null,null,null,null,null,null,null,null,null,null,null,null,null,null,null,null,null,null,null,null,null,null,null,null,null,null,null,null,null,null,null,null,null,null,null,null,null,null,null,null,null,null,null,null,null,null,null,null,null,null,null,null,null,null,null,null,null,null,null,null,null,null,null,null,null,null,null,null,null,null,null,null,null,null,null,null,null,null,null,null,null,null,null,null,null,null,null,null,null,null,null,null,null,null,null,null,null,null,null,null,null,null,null,null,null,null,null,null,null,null,null,null,null,null,null,null,null,null,null,null,null,null,null,null,null,null,null,null,null,null,null,null,null,null,null,null,null,null,null,null,null,null,null,null,null,null,null,null,null,null,null,null,null,null,null,null,null,null,null,null,null,null,null,null,null,null,null,null,null,null,null,null,null,null,null,null,null,null,null,null,null,null,null,null,null,null,null,null,0,null,null,null,null,null,null,null,null,null,null,null,null,null,null,null,null,null,null,null,null,null,null,"","",""]
[null,"Community clothes dryers",null,null,null,null,null,null,null,null,null,null,null,null,null,null,null,null,null,null,null,null,null,null,null,null,null,null,null,null,null,null,null,null,null,null,null,null,null,null,null,null,null,null,null,null,null,null,null,null,null,null,null,null,null,null,null,null,null,null,null,null,null,null,null,null,null,null,null,null,null,null,null,null,null,null,null,null,null,null,null,null,null,null,null,null,null,null,null,null,null,null,null,null,null,null,null,null,null,null,null,null,null,null,null,null,null,null,null,null,null,null,null,null,null,null,null,null,null,null,null,null,null,null,null,null,null,null,null,null,null,null,null,null,null,null,null,null,null,null,null,null,null,null,null,null,null,null,null,null,null,null,null,null,null,null,null,null,null,null,null,null,null,null,null,null,null,null,null,null,null,null,null,null,null,null,null,null,null,null,null,null,null,null,null,null,null,null,null,null,null,null,null,null,null,null,null,null,null,null,null,null,null,null,null,null,null,null,null,null,null,null,null,null,null,null,0,null,null,null,null,null,null,null,null,null,null,null,null,null,null,null,null,null,null,null,null,null,null,"","",""]
[null,{"$f":"II!B85","v":"Other"},null,null,null,null,null,null,null,null,null,null,null,null,null,null,null,null,null,null,null,null,null,null,null,null,null,null,null,null,null,null,null,null,null,null,null,null,null,null,null,null,null,null,null,null,null,null,null,null,null,null,null,null,null,null,null,null,null,null,null,null,null,null,null,null,null,null,null,null,null,null,null,null,null,null,null,null,null,null,null,null,null,null,null,null,null,null,null,null,null,null,null,null,null,null,null,null,null,null,null,null,null,null,null,null,null,null,null,null,null,null,null,null,null,null,null,null,null,null,null,null,null,null,null,null,null,null,null,null,null,null,null,null,null,null,null,null,null,null,null,null,null,null,null,null,null,null,null,null,null,null,null,null,null,null,null,null,null,null,null,null,null,null,null,null,null,null,null,null,null,null,null,null,null,null,null,null,null,null,null,null,null,null,null,null,null,null,null,null,null,null,null,null,null,null,null,null,null,null,null,null,null,null,null,null,null,null,null,null,null,null,null,null,null,null,0,null,null,null,null,null,null,null,null,null,null,null,null,null,null,null,null,null,null,null,null,null,null,"","",""]
[null,{"$f":"II!B86","v":"Other"},null,null,null,null,null,null,null,null,null,null,null,null,null,null,null,null,null,null,null,null,null,null,null,null,null,null,null,null,null,null,null,null,null,null,null,null,null,null,null,null,null,null,null,null,null,null,null,null,null,null,null,null,null,null,null,null,null,null,null,null,null,null,null,null,null,null,null,null,null,null,null,null,null,null,null,null,null,null,null,null,null,null,null,null,null,null,null,null,null,null,null,null,null,null,null,null,null,null,null,null,null,null,null,null,null,null,null,null,null,null,null,null,null,null,null,null,null,null,null,null,null,null,null,null,null,null,null,null,null,null,null,null,null,null,null,null,null,null,null,null,null,null,null,null,null,null,null,null,null,null,null,null,null,null,null,null,null,null,null,null,null,null,null,null,null,null,null,null,null,null,null,null,null,null,null,null,null,null,null,null,null,null,null,null,null,null,null,null,null,null,null,null,null,null,null,null,null,null,null,null,null,null,null,null,null,null,null,null,null,null,null,null,null,null,0,null,null,null,null,null,null,null,null,null,null,null,null,null,null,null,null,null,null,null,null,null,null,"","",""]
[null,{"$f":"II!B87","v":"Other"},null,null,null,null,null,null,null,null,null,null,null,null,null,null,null,null,null,null,null,null,null,null,null,null,null,null,null,null,null,null,null,null,null,null,null,null,null,null,null,null,null,null,null,null,null,null,null,null,null,null,null,null,null,null,null,null,null,null,null,null,null,null,null,null,null,null,null,null,null,null,null,null,null,null,null,null,null,null,null,null,null,null,null,null,null,null,null,null,null,null,null,null,null,null,null,null,null,null,null,null,null,null,null,null,null,null,null,null,null,null,null,null,null,null,null,null,null,null,null,null,null,null,null,null,null,null,null,null,null,null,null,null,null,null,null,null,null,null,null,null,null,null,null,null,null,null,null,null,null,null,null,null,null,null,null,null,null,null,null,null,null,null,null,null,null,null,null,null,null,null,null,null,null,null,null,null,null,null,null,null,null,null,null,null,null,null,null,null,null,null,null,null,null,null,null,null,null,null,null,null,null,null,null,null,null,null,null,null,null,null,null,null,null,null,0,null,null,null,null,null,null,null,null,null,null,null,null,null,null,null,null,null,null,null,null,null,null,"","",""]
[null,{"$f":"II!B88","v":"Other"},null,null,null,null,null,null,null,null,null,null,null,null,null,null,null,null,null,null,null,null,null,null,null,null,null,null,null,null,null,null,null,null,null,null,null,null,null,null,null,null,null,null,null,null,null,null,null,null,null,null,null,null,null,null,null,null,null,null,null,null,null,null,null,null,null,null,null,null,null,null,null,null,null,null,null,null,null,null,null,null,null,null,null,null,null,null,null,null,null,null,null,null,null,null,null,null,null,null,null,null,null,null,null,null,null,null,null,null,null,null,null,null,null,null,null,null,null,null,null,null,null,null,null,null,null,null,null,null,null,null,null,null,null,null,null,null,null,null,null,null,null,null,null,null,null,null,null,null,null,null,null,null,null,null,null,null,null,null,null,null,null,null,null,null,null,null,null,null,null,null,null,null,null,null,null,null,null,null,null,null,null,null,null,null,null,null,null,null,null,null,null,null,null,null,null,null,null,null,null,null,null,null,null,null,null,null,null,null,null,null,null,null,null,null,0,null,null,null,null,null,null,null,null,null,null,null,null,null,null,null,null,null,null,null,null,null,null,"","",""]
[null,{"$f":"II!B89","v":"Other"},null,null,null,null,null,null,null,null,null,null,null,null,null,null,null,null,null,null,null,null,null,null,null,null,null,null,null,null,null,null,null,null,null,null,null,null,null,null,null,null,null,null,null,null,null,null,null,null,null,null,null,null,null,null,null,null,null,null,null,null,null,null,null,null,null,null,null,null,null,null,null,null,null,null,null,null,null,null,null,null,null,null,null,null,null,null,null,null,null,null,null,null,null,null,null,null,null,null,null,null,null,null,null,null,null,null,null,null,null,null,null,null,null,null,null,null,null,null,null,null,null,null,null,null,null,null,null,null,null,null,null,null,null,null,null,null,null,null,null,null,null,null,null,null,null,null,null,null,null,null,null,null,null,null,null,null,null,null,null,null,null,null,null,null,null,null,null,null,null,null,null,null,null,null,null,null,null,null,null,null,null,null,null,null,null,null,null,null,null,null,null,null,null,null,null,null,null,null,null,null,null,null,null,null,null,null,null,null,null,null,null,null,null,null,0,null,null,null,null,null,null,null,null,null,null,null,null,null,null,null,null,null,null,null,null,null,null,"","",""]
[]
[]
[null,"MECHANICAL AND ELECTRICAL"]
[]
[null,"Item",null,null,null,null,null,null,null,null,null,null,null,null,null,null,null,null,null,null,null,null,null,null,null,null,null,null,null,null,null,null,null,null,null,null,null,null,null,null,null,null,null,null,null,null,"Quantity",null,null,null,null,null,null,null,null,null,null,null,"Unit of Measure",null,null,null,null,null,null,null,null,null,null,null,"Per Item Cost",null,null,null,null,null,null,null,null,null,null,null,null,null,"Year 1",null,null,null,null,null,null,null,null,null,null,"Year 2",null,null,null,null,null,null,null,null,null,null,"Year 3",null,null,null,null,null,null,null,null,null,null,"Year 4",null,null,null,null,null,null,null,null,null,null,"Year 5",null,null,null,null,null,null,null,null,null,null,"Year 6",null,null,null,null,null,null,null,null,null,null,"Year 7",null,null,null,null,null,null,null,null,null,null,"Year 8",null,null,null,null,null,null,null,null,null,null,"Year 9",null,null,null,null,null,null,null,null,null,null,"Year 10",null,null,null,null,null,null,null,null,null,null,"Year 11",null,null,null,null,null,null,null,null,null,null,"Year 12",null,null,null,null,null,null,null,null,null,null,"Total"]
[null,"Mechanical/Plumbing",null,null,null,null,null,null,null,null,null,null,null,null,null,null,null,null,null,null,null,null,null,null,null,null,null,null,null,null,null,null,null,null,null,null,null,null,null,null,null,null,null,null,null,null,null,null,null,null,null,null,null,null,null,null,null,null,null,null,null,null,null,null,null,null,null,null,null,null,null,null,null,null,null,null,null,null,null,null,null,null,null,null,null,null,null,null,null,null,null,null,null,null,null,null,null,null,null,null,null,null,null,null,null,null,null,null,null,null,null,null,null,null,null,null,null,null,null,null,null,null,null,null,null,null,null,null,null,null,null,null,null,null,null,null,null,null,null,null,null,null,null,null,null,null,null,null,null,null,null,null,null,null,null,null,null,null,null,null,null,null,null,null,null,null,null,null,null,null,null,null,null,null,null,null,null,null,null,null,null,null,null,null,null,null,null,null,null,null,null,null,null,null,null,null,null,null,null,null,null,null,null,null,null,null,null,null,null,null,null,null,null,null,null,null,{"$f":"IF(COUNTIF(IF97:IH97,\"x\")>0,\"CORRECT ERROR\",SUM(CG97:HH97))","v":0},null,null,null,null,null,null,null,null,null,null,null,null,null,null,null,null,null,null,null,null,null,null,{"$f":"IF(AND(OR(AU97<>\"\",BG97<>\"\",BS97<>\"\")=TRUE,SUM(CG97:HH97)=0)=TRUE,\"x\",\"\")","v":""},{"$f":"IF(AND(OR(AU97=\"\",BG97=\"\",BS97=\"\")=TRUE,SUM(CG97:HH97)>0)=TRUE,\"x\",\"\")","v":""},{"$f":"IF(AU97*BS97=SUM(CG97:HH97),\"\",\"x\")","v":""}]
[null,"Hot and cold water distribution",null,null,null,null,null,null,null,null,null,null,null,null,null,null,null,null,null,null,null,null,null,null,null,null,null,null,null,null,null,null,null,null,null,null,null,null,null,null,null,null,null,null,null,null,null,null,null,null,null,null,null,null,null,null,null,null,null,null,null,null,null,null,null,null,null,null,null,null,null,null,null,null,null,null,null,null,null,null,null,null,null,null,null,null,null,null,null,null,null,null,null,null,null,null,null,null,null,null,null,null,null,null,null,null,null,null,null,null,null,null,null,null,null,null,null,null,null,null,null,null,null,null,null,null,null,null,null,null,null,null,null,null,null,null,null,null,null,null,null,null,null,null,null,null,null,null,null,null,null,null,null,null,null,null,null,null,null,null,null,null,null,null,null,null,null,null,null,null,null,null,null,null,null,null,null,null,null,null,null,null,null,null,null,null,null,null,null,null,null,null,null,null,null,null,null,null,null,null,null,null,null,null,null,null,null,null,null,null,null,null,null,null,null,null,0,null,null,null,null,null,null,null,null,null,null,null,null,null,null,null,null,null,null,null,null,null,null,"","",""]
[null,"Domestic water boilers",null,null,null,null,null,null,null,null,null,null,null,null,null,null,null,null,null,null,null,null,null,null,null,null,null,null,null,null,null,null,null,null,null,null,null,null,null,null,null,null,null,null,null,null,null,null,null,null,null,null,null,null,null,null,null,null,null,null,null,null,null,null,null,null,null,null,null,null,null,null,null,null,null,null,null,null,null,null,null,null,null,null,null,null,null,null,null,null,null,null,null,null,null,null,null,null,null,null,null,null,null,null,null,null,null,null,null,null,null,null,null,null,null,null,null,null,null,null,null,null,null,null,null,null,null,null,null,null,null,null,null,null,null,null,null,null,null,null,null,null,null,null,null,null,null,null,null,null,null,null,null,null,null,null,null,null,null,null,null,null,null,null,null,null,null,null,null,null,null,null,null,null,null,null,null,null,null,null,null,null,null,null,null,null,null,null,null,null,null,null,null,null,null,null,null,null,null,null,null,null,null,null,null,null,null,null,null,null,null,null,null,null,null,null,0,null,null,null,null,null,null,null,null,null,null,null,null,null,null,null,null,null,null,null,null,null,null,"","",""]
[null,"Domestic water boiler peripherals",null,null,null,null,null,null,null,null,null,null,null,null,null,null,null,null,null,null,null,null,null,null,null,null,null,null,null,null,null,null,null,null,null,null,null,null,null,null,null,null,null,null,null,null,null,null,null,null,null,null,null,null,null,null,null,null,null,null,null,null,null,null,null,null,null,null,null,null,null,null,null,null,null,null,null,null,null,null,null,null,null,null,null,null,null,null,null,null,null,null,null,null,null,null,null,null,null,null,null,null,null,null,null,null,null,null,null,null,null,null,null,null,null,null,null,null,null,null,null,null,null,null,null,null,null,null,null,null,null,null,null,null,null,null,null,null,null,null,null,null,null,null,null,null,null,null,null,null,null,null,null,null,null,null,null,null,null,null,null,null,null,null,null,null,null,null,null,null,null,null,null,null,null,null,null,null,null,null,null,null,null,null,null,null,null,null,null,null,null,null,null,null,null,null,null,null,null,null,null,null,null,null,null,null,null,null,null,null,null,null,null,null,null,null,0,null,null,null,null,null,null,null,null,null,null,null,null,null,null,null,null,null,null,null,null,null,null,"","",""]
[null,"Domestic water heaters",null,null,null,null,null,null,null,null,null,null,null,null,null,null,null,null,null,null,null,null,null,null,null,null,null,null,null,null,null,null,null,null,null,null,null,null,null,null,null,null,null,null,null,null,null,null,null,null,null,null,null,null,null,null,null,null,null,null,null,null,null,null,null,null,null,null,null,null,null,null,null,null,null,null,null,null,null,null,null,null,null,null,null,null,null,null,null,null,null,null,null,null,null,null,null,null,null,null,null,null,null,null,null,null,null,null,null,null,null,null,null,null,null,null,null,null,null,null,null,null,null,null,null,null,null,null,null,null,null,null,null,null,null,null,null,null,null,null,null,null,null,null,null,null,null,null,null,null,null,null,null,null,null,null,null,null,null,null,null,null,null,null,null,null,null,null,null,null,null,null,null,null,null,null,null,null,null,null,null,null,null,null,null,null,null,null,null,null,null,null,null,null,null,null,null,null,null,null,null,null,null,null,null,null,null,null,null,null,null,null,null,null,null,null,0,null,null,null,null,null,null,null,null,null,null,null,null,null,null,null,null,null,null,null,null,null,null,"","",""]
[null,"Domestic water pumps",null,null,null,null,null,null,null,null,null,null,null,null,null,null,null,null,null,null,null,null,null,null,null,null,null,null,null,null,null,null,null,null,null,null,null,null,null,null,null,null,null,null,null,null,null,null,null,null,null,null,null,null,null,null,null,null,null,null,null,null,null,null,null,null,null,null,null,null,null,null,null,null,null,null,null,null,null,null,null,null,null,null,null,null,null,null,null,null,null,null,null,null,null,null,null,null,null,null,null,null,null,null,null,null,null,null,null,null,null,null,null,null,null,null,null,null,null,null,null,null,null,null,null,null,null,null,null,null,null,null,null,null,null,null,null,null,null,null,null,null,null,null,null,null,null,null,null,null,null,null,null,null,null,null,null,null,null,null,null,null,null,null,null,null,null,null,null,null,null,null,null,null,null,null,null,null,null,null,null,null,null,null,null,null,null,null,null,null,null,null,null,null,null,null,null,null,null,null,null,null,null,null,null,null,null,null,null,null,null,null,null,null,null,null,0,null,null,null,null,null,null,null,null,null,null,null,null,null,null,null,null,null,null,null,null,null,null,"","",""]
[null,"Sanitary waste and vent (sewer)",null,null,null,null,null,null,null,null,null,null,null,null,null,null,null,null,null,null,null,null,null,null,null,null,null,null,null,null,null,null,null,null,null,null,null,null,null,null,null,null,null,null,null,null,null,null,null,null,null,null,null,null,null,null,null,null,null,null,null,null,null,null,null,null,null,null,null,null,null,null,null,null,null,null,null,null,null,null,null,null,null,null,null,null,null,null,null,null,null,null,null,null,null,null,null,null,null,null,null,null,null,null,null,null,null,null,null,null,null,null,null,null,null,null,null,null,null,null,null,null,null,null,null,null,null,null,null,null,null,null,null,null,null,null,null,null,null,null,null,null,null,null,null,null,null,null,null,null,null,null,null,null,null,null,null,null,null,null,null,null,null,null,null,null,null,null,null,null,null,null,null,null,null,null,null,null,null,null,null,null,null,null,null,null,null,null,null,null,null,null,null,null,null,null,null,null,null,null,null,null,null,null,null,null,null,null,null,null,null,null,null,null,null,null,0,null,null,null,null,null,null,null,null,null,null,null,null,null,null,null,null,null,null,null,null,null,null,"","",""]
[null,"Mechanical/HVAC",null,null,null,null,null,null,null,null,null,null,null,null,null,null,null,null,null,null,null,null,null,null,null,null,null,null,null,null,null,null,null,null,null,null,null,null,null,null,null,null,null,null,null,null,null,null,null,null,null,null,null,null,null,null,null,null,null,null,null,null,null,null,null,null,null,null,null,null,null,null,null,null,null,null,null,null,null,null,null,null,null,null,null,null,null,null,null,null,null,null,null,null,null,null,null,null,null,null,null,null,null,null,null,null,null,null,null,null,null,null,null,null,null,null,null,null,null,null,null,null,null,null,null,null,null,null,null,null,null,null,null,null,null,null,null,null,null,null,null,null,null,null,null,null,null,null,null,null,null,null,null,null,null,null,null,null,null,null,null,null,null,null,null,null,null,null,null,null,null,null,null,null,null,null,null,null,null,null,null,null,null,null,null,null,null,null,null,null,null,null,null,null,null,null,null,null,null,null,null,null,null,null,null,null,null,null,null,null,null,null,null,null,null,null,0,null,null,null,null,null,null,null,null,null,null,null,null,null,null,null,null,null,null,null,null,null,null,"","",""]
[null,"Heating system",null,null,null,null,null,null,null,null,null,null,null,null,null,null,null,null,null,null,null,{"$f":"II!V104","v":"(describe)"},null,null,null,null,null,null,null,null,null,null,null,null,null,null,null,null,null,null,null,null,null,null,null,null,null,null,null,null,null,null,null,null,null,null,null,null,null,null,null,null,null,null,null,null,null,null,null,null,null,null,null,null,null,null,null,null,null,null,null,null,null,null,null,null,null,null,null,null,null,null,null,null,null,null,null,null,null,null,null,null,null,null,null,null,null,null,null,null,null,null,null,null,null,null,null,null,null,null,null,null,null,null,null,null,null,null,null,null,null,null,null,null,null,null,null,null,null,null,null,null,null,null,null,null,null,null,null,null,null,null,null,null,null,null,null,null,null,null,null,null,null,null,null,null,null,null,null,null,null,null,null,null,null,null,null,null,null,null,null,null,null,null,null,null,null,null,null,null,null,null,null,null,null,null,null,null,null,null,null,null,null,null,null,null,null,null,null,null,null,null,null,null,null,null,0,null,null,null,null,null,null,null,null,null,null,null,null,null,null,null,null,null,null,null,null,null,null,"","",""]
[null,"Cooling system",null,null,null,null,null,null,null,null,null,null,null,null,null,null,null,null,null,null,null,{"$f":"II!V105","v":"(describe)"},null,null,null,null,null,null,null,null,null,null,null,null,null,null,null,null,null,null,null,null,null,null,null,null,null,null,null,null,null,null,null,null,null,null,null,null,null,null,null,null,null,null,null,null,null,null,null,null,null,null,null,null,null,null,null,null,null,null,null,null,null,null,null,null,null,null,null,null,null,null,null,null,null,null,null,null,null,null,null,null,null,null,null,null,null,null,null,null,null,null,null,null,null,null,null,null,null,null,null,null,null,null,null,null,null,null,null,null,null,null,null,null,null,null,null,null,null,null,null,null,null,null,null,null,null,null,null,null,null,null,null,null,null,null,null,null,null,null,null,null,null,null,null,null,null,null,null,null,null,null,null,null,null,null,null,null,null,null,null,null,null,null,null,null,null,null,null,null,null,null,null,null,null,null,null,null,null,null,null,null,null,null,null,null,null,null,null,null,null,null,null,null,null,null,0,null,null,null,null,null,null,null,null,null,null,null,null,null,null,null,null,null,null,null,null,null,null,"","",""]
[null,"Electrical",null,null,null,null,null,null,null,null,null,null,null,null,null,null,null,null,null,null,null,null,null,null,null,null,null,null,null,null,null,null,null,null,null,null,null,null,null,null,null,null,null,null,null,null,null,null,null,null,null,null,null,null,null,null,null,null,null,null,null,null,null,null,null,null,null,null,null,null,null,null,null,null,null,null,null,null,null,null,null,null,null,null,null,null,null,null,null,null,null,null,null,null,null,null,null,null,null,null,null,null,null,null,null,null,null,null,null,null,null,null,null,null,null,null,null,null,null,null,null,null,null,null,null,null,null,null,null,null,null,null,null,null,null,null,null,null,null,null,null,null,null,null,null,null,null,null,null,null,null,null,null,null,null,null,null,null,null,null,null,null,null,null,null,null,null,null,null,null,null,null,null,null,null,null,null,null,null,null,null,null,null,null,null,null,null,null,null,null,null,null,null,null,null,null,null,null,null,null,null,null,null,null,null,null,null,null,null,null,null,null,null,null,null,null,0,null,null,null,null,null,null,null,null,null,null,null,null,null,null,null,null,null,null,null,null,null,null,"","",""]
[null,"Building power/wiring",null,null,null,null,null,null,null,null,null,null,null,null,null,null,null,null,null,null,null,null,null,null,null,null,null,null,null,null,null,null,null,null,null,null,null,null,null,null,null,null,null,null,null,null,null,null,null,null,null,null,null,null,null,null,null,null,null,null,null,null,null,null,null,null,null,null,null,null,null,null,null,null,null,null,null,null,null,null,null,null,null,null,null,null,null,null,null,null,null,null,null,null,null,null,null,null,null,null,null,null,null,null,null,null,null,null,null,null,null,null,null,null,null,null,null,null,null,null,null,null,null,null,null,null,null,null,null,null,null,null,null,null,null,null,null,null,null,null,null,null,null,null,null,null,null,null,null,null,null,null,null,null,null,null,null,null,null,null,null,null,null,null,null,null,null,null,null,null,null,null,null,null,null,null,null,null,null,null,null,null,null,null,null,null,null,null,null,null,null,null,null,null,null,null,null,null,null,null,null,null,null,null,null,null,null,null,null,null,null,null,null,null,null,null,0,null,null,null,null,null,null,null,null,null,null,null,null,null,null,null,null,null,null,null,null,null,null,"","",""]
[null,"Switchgear/metering",null,null,null,null,null,null,null,null,null,null,null,null,null,null,null,null,null,null,null,null,null,null,null,null,null,null,null,null,null,null,null,null,null,null,null,null,null,null,null,null,null,null,null,null,null,null,null,null,null,null,null,null,null,null,null,null,null,null,null,null,null,null,null,null,null,null,null,null,null,null,null,null,null,null,null,null,null,null,null,null,null,null,null,null,null,null,null,null,null,null,null,null,null,null,null,null,null,null,null,null,null,null,null,null,null,null,null,null,null,null,null,null,null,null,null,null,null,null,null,null,null,null,null,null,null,null,null,null,null,null,null,null,null,null,null,null,null,null,null,null,null,null,null,null,null,null,null,null,null,null,null,null,null,null,null,null,null,null,null,null,null,null,null,null,null,null,null,null,null,null,null,null,null,null,null,null,null,null,null,null,null,null,null,null,null,null,null,null,null,null,null,null,null,null,null,null,null,null,null,null,null,null,null,null,null,null,null,null,null,null,null,null,null,null,0,null,null,null,null,null,null,null,null,null,null,null,null,null,null,null,null,null,null,null,null,null,null,"","",""]
[null,"Emergency lighting/generator",null,null,null,null,null,null,null,null,null,null,null,null,null,null,null,null,null,null,null,null,null,null,null,null,null,null,null,null,null,null,null,null,null,null,null,null,null,null,null,null,null,null,null,null,null,null,null,null,null,null,null,null,null,null,null,null,null,null,null,null,null,null,null,null,null,null,null,null,null,null,null,null,null,null,null,null,null,null,null,null,null,null,null,null,null,null,null,null,null,null,null,null,null,null,null,null,null,null,null,null,null,null,null,null,null,null,null,null,null,null,null,null,null,null,null,null,null,null,null,null,null,null,null,null,null,null,null,null,null,null,null,null,null,null,null,null,null,null,null,null,null,null,null,null,null,null,null,null,null,null,null,null,null,null,null,null,null,null,null,null,null,null,null,null,null,null,null,null,null,null,null,null,null,null,null,null,null,null,null,null,null,null,null,null,null,null,null,null,null,null,null,null,null,null,null,null,null,null,null,null,null,null,null,null,null,null,null,null,null,null,null,null,null,null,0,null,null,null,null,null,null,null,null,null,null,null,null,null,null,null,null,null,null,null,null,null,null,"","",""]
[null,"Smoke and fire detection",null,null,null,null,null,null,null,null,null,null,null,null,null,null,null,null,null,null,null,null,null,null,null,null,null,null,null,null,null,null,null,null,null,null,null,null,null,null,null,null,null,null,null,null,null,null,null,null,null,null,null,null,null,null,null,null,null,null,null,null,null,null,null,null,null,null,null,null,null,null,null,null,null,null,null,null,null,null,null,null,null,null,null,null,null,null,null,null,null,null,null,null,null,null,null,null,null,null,null,null,null,null,null,null,null,null,null,null,null,null,null,null,null,null,null,null,null,null,null,null,null,null,null,null,null,null,null,null,null,null,null,null,null,null,null,null,null,null,null,null,null,null,null,null,null,null,null,null,null,null,null,null,null,null,null,null,null,null,null,null,null,null,null,null,null,null,null,null,null,null,null,null,null,null,null,null,null,null,null,null,null,null,null,null,null,null,null,null,null,null,null,null,null,null,null,null,null,null,null,null,null,null,null,null,null,null,null,null,null,null,null,null,null,null,0,null,null,null,null,null,null,null,null,null,null,null,null,null,null,null,null,null,null,null,null,null,null,"","",""]
[null,"Buzzer/intercom (security)",null,null,null,null,null,null,null,null,null,null,null,null,null,null,null,null,null,null,null,null,null,null,null,null,null,null,null,null,null,null,null,null,null,null,null,null,null,null,null,null,null,null,null,null,null,null,null,null,null,null,null,null,null,null,null,null,null,null,null,null,null,null,null,null,null,null,null,null,null,null,null,null,null,null,null,null,null,null,null,null,null,null,null,null,null,null,null,null,null,null,null,null,null,null,null,null,null,null,null,null,null,null,null,null,null,null,null,null,null,null,null,null,null,null,null,null,null,null,null,null,null,null,null,null,null,null,null,null,null,null,null,null,null,null,null,null,null,null,null,null,null,null,null,null,null,null,null,null,null,null,null,null,null,null,null,null,null,null,null,null,null,null,null,null,null,null,null,null,null,null,null,null,null,null,null,null,null,null,null,null,null,null,null,null,null,null,null,null,null,null,null,null,null,null,null,null,null,null,null,null,null,null,null,null,null,null,null,null,null,null,null,null,null,null,0,null,null,null,null,null,null,null,null,null,null,null,null,null,null,null,null,null,null,null,null,null,null,"","",""]
[null,"Fire suppression",null,null,null,null,null,null,null,null,null,null,null,null,null,null,null,null,null,null,null,null,null,null,null,null,null,null,null,null,null,null,null,null,null,null,null,null,null,null,null,null,null,null,null,null,null,null,null,null,null,null,null,null,null,null,null,null,null,null,null,null,null,null,null,null,null,null,null,null,null,null,null,null,null,null,null,null,null,null,null,null,null,null,null,null,null,null,null,null,null,null,null,null,null,null,null,null,null,null,null,null,null,null,null,null,null,null,null,null,null,null,null,null,null,null,null,null,null,null,null,null,null,null,null,null,null,null,null,null,null,null,null,null,null,null,null,null,null,null,null,null,null,null,null,null,null,null,null,null,null,null,null,null,null,null,null,null,null,null,null,null,null,null,null,null,null,null,null,null,null,null,null,null,null,null,null,null,null,null,null,null,null,null,null,null,null,null,null,null,null,null,null,null,null,null,null,null,null,null,null,null,null,null,null,null,null,null,null,null,null,null,null,null,null,null,0,null,null,null,null,null,null,null,null,null,null,null,null,null,null,null,null,null,null,null,null,null,null,"","",""]
[null,"Elevators",null,null,null,null,null,null,null,null,null,null,null,null,null,null,null,null,null,null,null,null,null,null,null,null,null,null,null,null,null,null,null,null,null,null,null,null,null,null,null,null,null,null,null,null,null,null,null,null,null,null,null,null,null,null,null,null,null,null,null,null,null,null,null,null,null,null,null,null,null,null,null,null,null,null,null,null,null,null,null,null,null,null,null,null,null,null,null,null,null,null,null,null,null,null,null,null,null,null,null,null,null,null,null,null,null,null,null,null,null,null,null,null,null,null,null,null,null,null,null,null,null,null,null,null,null,null,null,null,null,null,null,null,null,null,null,null,null,null,null,null,null,null,null,null,null,null,null,null,null,null,null,null,null,null,null,null,null,null,null,null,null,null,null,null,null,null,null,null,null,null,null,null,null,null,null,null,null,null,null,null,null,null,null,null,null,null,null,null,null,null,null,null,null,null,null,null,null,null,null,null,null,null,null,null,null,null,null,null,null,null,null,null,null,null,0,null,null,null,null,null,null,null,null,null,null,null,null,null,null,null,null,null,null,null,null,null,null,"","",""]
[null,"Security",null,null,null,null,null,null,null,null,null,null,null,null,null,null,null,null,null,null,null,null,null,null,null,null,null,null,null,null,null,null,null,null,null,null,null,null,null,null,null,null,null,null,null,null,null,null,null,null,null,null,null,null,null,null,null,null,null,null,null,null,null,null,null,null,null,null,null,null,null,null,null,null,null,null,null,null,null,null,null,null,null,null,null,null,null,null,null,null,null,null,null,null,null,null,null,null,null,null,null,null,null,null,null,null,null,null,null,null,null,null,null,null,null,null,null,null,null,null,null,null,null,null,null,null,null,null,null,null,null,null,null,null,null,null,null,null,null,null,null,null,null,null,null,null,null,null,null,null,null,null,null,null,null,null,null,null,null,null,null,null,null,null,null,null,null,null,null,null,null,null,null,null,null,null,null,null,null,null,null,null,null,null,null,null,null,null,null,null,null,null,null,null,null,null,null,null,null,null,null,null,null,null,null,null,null,null,null,null,null,null,null,null,null,null,0,null,null,null,null,null,null,null,null,null,null,null,null,null,null,null,null,null,null,null,null,null,null,"","",""]
[null,{"$f":"II!B115","v":"Other"},null,null,null,null,null,null,null,null,null,null,null,null,null,null,null,null,null,null,null,null,null,null,null,null,null,null,null,null,null,null,null,null,null,null,null,null,null,null,null,null,null,null,null,null,null,null,null,null,null,null,null,null,null,null,null,null,null,null,null,null,null,null,null,null,null,null,null,null,null,null,null,null,null,null,null,null,null,null,null,null,null,null,null,null,null,null,null,null,null,null,null,null,null,null,null,null,null,null,null,null,null,null,null,null,null,null,null,null,null,null,null,null,null,null,null,null,null,null,null,null,null,null,null,null,null,null,null,null,null,null,null,null,null,null,null,null,null,null,null,null,null,null,null,null,null,null,null,null,null,null,null,null,null,null,null,null,null,null,null,null,null,null,null,null,null,null,null,null,null,null,null,null,null,null,null,null,null,null,null,null,null,null,null,null,null,null,null,null,null,null,null,null,null,null,null,null,null,null,null,null,null,null,null,null,null,null,null,null,null,null,null,null,null,null,0,null,null,null,null,null,null,null,null,null,null,null,null,null,null,null,null,null,null,null,null,null,null,"","",""]
[null,{"$f":"II!B116","v":"Other"},null,null,null,null,null,null,null,null,null,null,null,null,null,null,null,null,null,null,null,null,null,null,null,null,null,null,null,null,null,null,null,null,null,null,null,null,null,null,null,null,null,null,null,null,null,null,null,null,null,null,null,null,null,null,null,null,null,null,null,null,null,null,null,null,null,null,null,null,null,null,null,null,null,null,null,null,null,null,null,null,null,null,null,null,null,null,null,null,null,null,null,null,null,null,null,null,null,null,null,null,null,null,null,null,null,null,null,null,null,null,null,null,null,null,null,null,null,null,null,null,null,null,null,null,null,null,null,null,null,null,null,null,null,null,null,null,null,null,null,null,null,null,null,null,null,null,null,null,null,null,null,null,null,null,null,null,null,null,null,null,null,null,null,null,null,null,null,null,null,null,null,null,null,null,null,null,null,null,null,null,null,null,null,null,null,null,null,null,null,null,null,null,null,null,null,null,null,null,null,null,null,null,null,null,null,null,null,null,null,null,null,null,null,null,0,null,null,null,null,null,null,null,null,null,null,null,null,null,null,null,null,null,null,null,null,null,null,"","",""]
[null,{"$f":"II!B117","v":"Other"},null,null,null,null,null,null,null,null,null,null,null,null,null,null,null,null,null,null,null,null,null,null,null,null,null,null,null,null,null,null,null,null,null,null,null,null,null,null,null,null,null,null,null,null,null,null,null,null,null,null,null,null,null,null,null,null,null,null,null,null,null,null,null,null,null,null,null,null,null,null,null,null,null,null,null,null,null,null,null,null,null,null,null,null,null,null,null,null,null,null,null,null,null,null,null,null,null,null,null,null,null,null,null,null,null,null,null,null,null,null,null,null,null,null,null,null,null,null,null,null,null,null,null,null,null,null,null,null,null,null,null,null,null,null,null,null,null,null,null,null,null,null,null,null,null,null,null,null,null,null,null,null,null,null,null,null,null,null,null,null,null,null,null,null,null,null,null,null,null,null,null,null,null,null,null,null,null,null,null,null,null,null,null,null,null,null,null,null,null,null,null,null,null,null,null,null,null,null,null,null,null,null,null,null,null,null,null,null,null,null,null,null,null,null,0,null,null,null,null,null,null,null,null,null,null,null,null,null,null,null,null,null,null,null,null,null,null,"","",""]
[null,{"$f":"II!B118","v":"Other"},null,null,null,null,null,null,null,null,null,null,null,null,null,null,null,null,null,null,null,null,null,null,null,null,null,null,null,null,null,null,null,null,null,null,null,null,null,null,null,null,null,null,null,null,null,null,null,null,null,null,null,null,null,null,null,null,null,null,null,null,null,null,null,null,null,null,null,null,null,null,null,null,null,null,null,null,null,null,null,null,null,null,null,null,null,null,null,null,null,null,null,null,null,null,null,null,null,null,null,null,null,null,null,null,null,null,null,null,null,null,null,null,null,null,null,null,null,null,null,null,null,null,null,null,null,null,null,null,null,null,null,null,null,null,null,null,null,null,null,null,null,null,null,null,null,null,null,null,null,null,null,null,null,null,null,null,null,null,null,null,null,null,null,null,null,null,null,null,null,null,null,null,null,null,null,null,null,null,null,null,null,null,null,null,null,null,null,null,null,null,null,null,null,null,null,null,null,null,null,null,null,null,null,null,null,null,null,null,null,null,null,null,null,null,0,null,null,null,null,null,null,null,null,null,null,null,null,null,null,null,null,null,null,null,null,null,null,"","",""]
[null,{"$f":"II!B119","v":"Other"},null,null,null,null,null,null,null,null,null,null,null,null,null,null,null,null,null,null,null,null,null,null,null,null,null,null,null,null,null,null,null,null,null,null,null,null,null,null,null,null,null,null,null,null,null,null,null,null,null,null,null,null,null,null,null,null,null,null,null,null,null,null,null,null,null,null,null,null,null,null,null,null,null,null,null,null,null,null,null,null,null,null,null,null,null,null,null,null,null,null,null,null,null,null,null,null,null,null,null,null,null,null,null,null,null,null,null,null,null,null,null,null,null,null,null,null,null,null,null,null,null,null,null,null,null,null,null,null,null,null,null,null,null,null,null,null,null,null,null,null,null,null,null,null,null,null,null,null,null,null,null,null,null,null,null,null,null,null,null,null,null,null,null,null,null,null,null,null,null,null,null,null,null,null,null,null,null,null,null,null,null,null,null,null,null,null,null,null,null,null,null,null,null,null,null,null,null,null,null,null,null,null,null,null,null,null,null,null,null,null,null,null,null,null,0,null,null,null,null,null,null,null,null,null,null,null,null,null,null,null,null,null,null,null,null,null,null,"","",""]
[]
[]
[null,"DWELLING UNITS"]
[]
[null,"Item",null,null,null,null,null,null,null,null,null,null,null,null,null,null,null,null,null,null,null,null,null,null,null,null,null,null,null,null,null,null,null,null,null,null,null,null,null,null,null,null,null,null,null,null,"Quantity",null,null,null,null,null,null,null,null,null,null,null,"Unit of Measure",null,null,null,null,null,null,null,null,null,null,null,"Per Item Cost",null,null,null,null,null,null,null,null,null,null,null,null,null,"Year 1",null,null,null,null,null,null,null,null,null,null,"Year 2",null,null,null,null,null,null,null,null,null,null,"Year 3",null,null,null,null,null,null,null,null,null,null,"Year 4",null,null,null,null,null,null,null,null,null,null,"Year 5",null,null,null,null,null,null,null,null,null,null,"Year 6",null,null,null,null,null,null,null,null,null,null,"Year 7",null,null,null,null,null,null,null,null,null,null,"Year 8",null,null,null,null,null,null,null,null,null,null,"Year 9",null,null,null,null,null,null,null,null,null,null,"Year 10",null,null,null,null,null,null,null,null,null,null,"Year 11",null,null,null,null,null,null,null,null,null,null,"Year 12",null,null,null,null,null,null,null,null,null,null,"Total"]
[null,"Unity entry door(s) and frame(s)",null,null,null,null,null,null,null,null,null,null,null,null,null,null,null,null,null,null,null,null,null,null,null,null,null,null,null,null,null,null,null,null,null,null,null,null,null,null,null,null,null,null,null,null,null,null,null,null,null,null,null,null,null,null,null,null,null,null,null,null,null,null,null,null,null,null,null,null,null,null,null,null,null,null,null,null,null,null,null,null,null,null,null,null,null,null,null,null,null,null,null,null,null,null,null,null,null,null,null,null,null,null,null,null,null,null,null,null,null,null,null,null,null,null,null,null,null,null,null,null,null,null,null,null,null,null,null,null,null,null,null,null,null,null,null,null,null,null,null,null,null,null,null,null,null,null,null,null,null,null,null,null,null,null,null,null,null,null,null,null,null,null,null,null,null,null,null,null,null,null,null,null,null,null,null,null,null,null,null,null,null,null,null,null,null,null,null,null,null,null,null,null,null,null,null,null,null,null,null,null,null,null,null,null,null,null,null,null,null,null,null,null,null,null,{"$f":"IF(COUNTIF(IF126:IH126,\"x\")>0,\"CORRECT ERROR\",SUM(CG126:HH126))","v":0},null,null,null,null,null,null,null,null,null,null,null,null,null,null,null,null,null,null,null,null,null,null,{"$f":"IF(AND(OR(AU126<>\"\",BG126<>\"\",BS126<>\"\")=TRUE,SUM(CG126:HH126)=0)=TRUE,\"x\",\"\")","v":""},{"$f":"IF(AND(OR(AU126=\"\",BG126=\"\",BS126=\"\")=TRUE,SUM(CG126:HH126)>0)=TRUE,\"x\",\"\")","v":""},{"$f":"IF(AU126*BS126=SUM(CG126:HH126),\"\",\"x\")","v":""}]
[null,"Patio doors",null,null,null,null,null,null,null,null,null,null,null,null,null,null,null,null,null,null,null,null,null,null,null,null,null,null,null,null,null,null,null,null,null,null,null,null,null,null,null,null,null,null,null,null,null,null,null,null,null,null,null,null,null,null,null,null,null,null,null,null,null,null,null,null,null,null,null,null,null,null,null,null,null,null,null,null,null,null,null,null,null,null,null,null,null,null,null,null,null,null,null,null,null,null,null,null,null,null,null,null,null,null,null,null,null,null,null,null,null,null,null,null,null,null,null,null,null,null,null,null,null,null,null,null,null,null,null,null,null,null,null,null,null,null,null,null,null,null,null,null,null,null,null,null,null,null,null,null,null,null,null,null,null,null,null,null,null,null,null,null,null,null,null,null,null,null,null,null,null,null,null,null,null,null,null,null,null,null,null,null,null,null,null,null,null,null,null,null,null,null,null,null,null,null,null,null,null,null,null,null,null,null,null,null,null,null,null,null,null,null,null,null,null,null,0,null,null,null,null,null,null,null,null,null,null,null,null,null,null,null,null,null,null,null,null,null,null,"","",""]
[null,"Smoke/fire detector",null,null,null,null,null,null,null,null,null,null,null,null,null,null,null,null,null,null,null,null,null,null,null,null,null,null,null,null,null,null,null,null,null,null,null,null,null,null,null,null,null,null,null,null,null,null,null,null,null,null,null,null,null,null,null,null,null,null,null,null,null,null,null,null,null,null,null,null,null,null,null,null,null,null,null,null,null,null,null,null,null,null,null,null,null,null,null,null,null,null,null,null,null,null,null,null,null,null,null,null,null,null,null,null,null,null,null,null,null,null,null,null,null,null,null,null,null,null,null,null,null,null,null,null,null,null,null,null,null,null,null,null,null,null,null,null,null,null,null,null,null,null,null,null,null,null,null,null,null,null,null,null,null,null,null,null,null,null,null,null,null,null,null,null,null,null,null,null,null,null,null,null,null,null,null,null,null,null,null,null,null,null,null,null,null,null,null,null,null,null,null,null,null,null,null,null,null,null,null,null,null,null,null,null,null,null,null,null,null,null,null,null,null,null,0,null,null,null,null,null,null,null,null,null,null,null,null,null,null,null,null,null,null,null,null,null,null,"","",""]
[null,"Buzzer/intercom (security)",null,null,null,null,null,null,null,null,null,null,null,null,null,null,null,null,null,null,null,null,null,null,null,null,null,null,null,null,null,null,null,null,null,null,null,null,null,null,null,null,null,null,null,null,null,null,null,null,null,null,null,null,null,null,null,null,null,null,null,null,null,null,null,null,null,null,null,null,null,null,null,null,null,null,null,null,null,null,null,null,null,null,null,null,null,null,null,null,null,null,null,null,null,null,null,null,null,null,null,null,null,null,null,null,null,null,null,null,null,null,null,null,null,null,null,null,null,null,null,null,null,null,null,null,null,null,null,null,null,null,null,null,null,null,null,null,null,null,null,null,null,null,null,null,null,null,null,null,null,null,null,null,null,null,null,null,null,null,null,null,null,null,null,null,null,null,null,null,null,null,null,null,null,null,null,null,null,null,null,null,null,null,null,null,null,null,null,null,null,null,null,null,null,null,null,null,null,null,null,null,null,null,null,null,null,null,null,null,null,null,null,null,null,null,0,null,null,null,null,null,null,null,null,null,null,null,null,null,null,null,null,null,null,null,null,null,null,"","",""]
[null,"Window covering",null,null,null,null,null,null,null,null,null,null,null,null,null,null,null,null,null,null,null,null,null,null,null,null,null,null,null,null,null,null,null,null,null,null,null,null,null,null,null,null,null,null,null,null,null,null,null,null,null,null,null,null,null,null,null,null,null,null,null,null,null,null,null,null,null,null,null,null,null,null,null,null,null,null,null,null,null,null,null,null,null,null,null,null,null,null,null,null,null,null,null,null,null,null,null,null,null,null,null,null,null,null,null,null,null,null,null,null,null,null,null,null,null,null,null,null,null,null,null,null,null,null,null,null,null,null,null,null,null,null,null,null,null,null,null,null,null,null,null,null,null,null,null,null,null,null,null,null,null,null,null,null,null,null,null,null,null,null,null,null,null,null,null,null,null,null,null,null,null,null,null,null,null,null,null,null,null,null,null,null,null,null,null,null,null,null,null,null,null,null,null,null,null,null,null,null,null,null,null,null,null,null,null,null,null,null,null,null,null,null,null,null,null,null,0,null,null,null,null,null,null,null,null,null,null,null,null,null,null,null,null,null,null,null,null,null,null,"","",""]
[null,"Flooring",null,null,null,null,null,null,null,null,null,null,null,null,null,null,null,null,null,null,null,null,null,null,null,null,null,null,null,null,null,null,null,null,null,null,null,null,null,null,null,null,null,null,null,null,null,null,null,null,null,null,null,null,null,null,null,null,null,null,null,null,null,null,null,null,null,null,null,null,null,null,null,null,null,null,null,null,null,null,null,null,null,null,null,null,null,null,null,null,null,null,null,null,null,null,null,null,null,null,null,null,null,null,null,null,null,null,null,null,null,null,null,null,null,null,null,null,null,null,null,null,null,null,null,null,null,null,null,null,null,null,null,null,null,null,null,null,null,null,null,null,null,null,null,null,null,null,null,null,null,null,null,null,null,null,null,null,null,null,null,null,null,null,null,null,null,null,null,null,null,null,null,null,null,null,null,null,null,null,null,null,null,null,null,null,null,null,null,null,null,null,null,null,null,null,null,null,null,null,null,null,null,null,null,null,null,null,null,null,null,null,null,null,null,null,0,null,null,null,null,null,null,null,null,null,null,null,null,null,null,null,null,null,null,null,null,null,null,"","",""]
[null,"Carpet",null,null,null,null,null,null,null,null,null,null,null,null,null,null,null,null,null,null,null,null,null,null,null,null,null,null,null,null,null,null,null,null,null,null,null,null,null,null,null,null,null,null,null,null,null,null,null,null,null,null,null,null,null,null,null,null,null,null,null,null,null,null,null,null,null,null,null,null,null,null,null,null,null,null,null,null,null,null,null,null,null,null,null,null,null,null,null,null,null,null,null,null,null,null,null,null,null,null,null,null,null,null,null,null,null,null,null,null,null,null,null,null,null,null,null,null,null,null,null,null,null,null,null,null,null,null,null,null,null,null,null,null,null,null,null,null,null,null,null,null,null,null,null,null,null,null,null,null,null,null,null,null,null,null,null,null,null,null,null,null,null,null,null,null,null,null,null,null,null,null,null,null,null,null,null,null,null,null,null,null,null,null,null,null,null,null,null,null,null,null,null,null,null,null,null,null,null,null,null,null,null,null,null,null,null,null,null,null,null,null,null,null,null,null,0,null,null,null,null,null,null,null,null,null,null,null,null,null,null,null,null,null,null,null,null,null,null,"","",""]
[null,"Resilient flooring (vinyl)",null,null,null,null,null,null,null,null,null,null,null,null,null,null,null,null,null,null,null,null,null,null,null,null,null,null,null,null,null,null,null,null,null,null,null,null,null,null,null,null,null,null,null,null,null,null,null,null,null,null,null,null,null,null,null,null,null,null,null,null,null,null,null,null,null,null,null,null,null,null,null,null,null,null,null,null,null,null,null,null,null,null,null,null,null,null,null,null,null,null,null,null,null,null,null,null,null,null,null,null,null,null,null,null,null,null,null,null,null,null,null,null,null,null,null,null,null,null,null,null,null,null,null,null,null,null,null,null,null,null,null,null,null,null,null,null,null,null,null,null,null,null,null,null,null,null,null,null,null,null,null,null,null,null,null,null,null,null,null,null,null,null,null,null,null,null,null,null,null,null,null,null,null,null,null,null,null,null,null,null,null,null,null,null,null,null,null,null,null,null,null,null,null,null,null,null,null,null,null,null,null,null,null,null,null,null,null,null,null,null,null,null,null,null,0,null,null,null,null,null,null,null,null,null,null,null,null,null,null,null,null,null,null,null,null,null,null,"","",""]
[null,{"$f":"II!B134","v":"Other"},null,null,null,null,null,null,null,null,null,null,null,null,null,null,null,null,null,null,null,null,null,null,null,null,null,null,null,null,null,null,null,null,null,null,null,null,null,null,null,null,null,null,null,null,null,null,null,null,null,null,null,null,null,null,null,null,null,null,null,null,null,null,null,null,null,null,null,null,null,null,null,null,null,null,null,null,null,null,null,null,null,null,null,null,null,null,null,null,null,null,null,null,null,null,null,null,null,null,null,null,null,null,null,null,null,null,null,null,null,null,null,null,null,null,null,null,null,null,null,null,null,null,null,null,null,null,null,null,null,null,null,null,null,null,null,null,null,null,null,null,null,null,null,null,null,null,null,null,null,null,null,null,null,null,null,null,null,null,null,null,null,null,null,null,null,null,null,null,null,null,null,null,null,null,null,null,null,null,null,null,null,null,null,null,null,null,null,null,null,null,null,null,null,null,null,null,null,null,null,null,null,null,null,null,null,null,null,null,null,null,null,null,null,null,0,null,null,null,null,null,null,null,null,null,null,null,null,null,null,null,null,null,null,null,null,null,null,"","",""]
[null,"Cabinetry",null,null,null,null,null,null,null,null,null,null,null,null,null,null,null,null,null,null,null,null,null,null,null,null,null,null,null,null,null,null,null,null,null,null,null,null,null,null,null,null,null,null,null,null,null,null,null,null,null,null,null,null,null,null,null,null,null,null,null,null,null,null,null,null,null,null,null,null,null,null,null,null,null,null,null,null,null,null,null,null,null,null,null,null,null,null,null,null,null,null,null,null,null,null,null,null,null,null,null,null,null,null,null,null,null,null,null,null,null,null,null,null,null,null,null,null,null,null,null,null,null,null,null,null,null,null,null,null,null,null,null,null,null,null,null,null,null,null,null,null,null,null,null,null,null,null,null,null,null,null,null,null,null,null,null,null,null,null,null,null,null,null,null,null,null,null,null,null,null,null,null,null,null,null,null,null,null,null,null,null,null,null,null,null,null,null,null,null,null,null,null,null,null,null,null,null,null,null,null,null,null,null,null,null,null,null,null,null,null,null,null,null,null,null,0,null,null,null,null,null,null,null,null,null,null,null,null,null,null,null,null,null,null,null,null,null,null,"","",""]
[null,"Kitchen",null,null,null,null,null,null,null,null,null,null,null,null,null,null,null,null,null,null,null,null,null,null,null,null,null,null,null,null,null,null,null,null,null,null,null,null,null,null,null,null,null,null,null,null,null,null,null,null,null,null,null,null,null,null,null,null,null,null,null,null,null,null,null,null,null,null,null,null,null,null,null,null,null,null,null,null,null,null,null,null,null,null,null,null,null,null,null,null,null,null,null,null,null,null,null,null,null,null,null,null,null,null,null,null,null,null,null,null,null,null,null,null,null,null,null,null,null,null,null,null,null,null,null,null,null,null,null,null,null,null,null,null,null,null,null,null,null,null,null,null,null,null,null,null,null,null,null,null,null,null,null,null,null,null,null,null,null,null,null,null,null,null,null,null,null,null,null,null,null,null,null,null,null,null,null,null,null,null,null,null,null,null,null,null,null,null,null,null,null,null,null,null,null,null,null,null,null,null,null,null,null,null,null,null,null,null,null,null,null,null,null,null,null,null,0,null,null,null,null,null,null,null,null,null,null,null,null,null,null,null,null,null,null,null,null,null,null,"","",""]
[null,"Bathrooms",null,null,null,null,null,null,null,null,null,null,null,null,null,null,null,null,null,null,null,null,null,null,null,null,null,null,null,null,null,null,null,null,null,null,null,null,null,null,null,null,null,null,null,null,null,null,null,null,null,null,null,null,null,null,null,null,null,null,null,null,null,null,null,null,null,null,null,null,null,null,null,null,null,null,null,null,null,null,null,null,null,null,null,null,null,null,null,null,null,null,null,null,null,null,null,null,null,null,null,null,null,null,null,null,null,null,null,null,null,null,null,null,null,null,null,null,null,null,null,null,null,null,null,null,null,null,null,null,null,null,null,null,null,null,null,null,null,null,null,null,null,null,null,null,null,null,null,null,null,null,null,null,null,null,null,null,null,null,null,null,null,null,null,null,null,null,null,null,null,null,null,null,null,null,null,null,null,null,null,null,null,null,null,null,null,null,null,null,null,null,null,null,null,null,null,null,null,null,null,null,null,null,null,null,null,null,null,null,null,null,null,null,null,null,0,null,null,null,null,null,null,null,null,null,null,null,null,null,null,null,null,null,null,null,null,null,null,"","",""]
[null,{"$f":"II!B138","v":"Other"},null,null,null,null,null,null,null,null,null,null,null,null,null,null,null,null,null,null,null,null,null,null,null,null,null,null,null,null,null,null,null,null,null,null,null,null,null,null,null,null,null,null,null,null,null,null,null,null,null,null,null,null,null,null,null,null,null,null,null,null,null,null,null,null,null,null,null,null,null,null,null,null,null,null,null,null,null,null,null,null,null,null,null,null,null,null,null,null,null,null,null,null,null,null,null,null,null,null,null,null,null,null,null,null,null,null,null,null,null,null,null,null,null,null,null,null,null,null,null,null,null,null,null,null,null,null,null,null,null,null,null,null,null,null,null,null,null,null,null,null,null,null,null,null,null,null,null,null,null,null,null,null,null,null,null,null,null,null,null,null,null,null,null,null,null,null,null,null,null,null,null,null,null,null,null,null,null,null,null,null,null,null,null,null,null,null,null,null,null,null,null,null,null,null,null,null,null,null,null,null,null,null,null,null,null,null,null,null,null,null,null,null,null,null,0,null,null,null,null,null,null,null,null,null,null,null,null,null,null,null,null,null,null,null,null,null,null,"","",""]
[null,"Countertops and sinks",null,null,null,null,null,null,null,null,null,null,null,null,null,null,null,null,null,null,null,null,null,null,null,null,null,null,null,null,null,null,null,null,null,null,null,null,null,null,null,null,null,null,null,null,null,null,null,null,null,null,null,null,null,null,null,null,null,null,null,null,null,null,null,null,null,null,null,null,null,null,null,null,null,null,null,null,null,null,null,null,null,null,null,null,null,null,null,null,null,null,null,null,null,null,null,null,null,null,null,null,null,null,null,null,null,null,null,null,null,null,null,null,null,null,null,null,null,null,null,null,null,null,null,null,null,null,null,null,null,null,null,null,null,null,null,null,null,null,null,null,null,null,null,null,null,null,null,null,null,null,null,null,null,null,null,null,null,null,null,null,null,null,null,null,null,null,null,null,null,null,null,null,null,null,null,null,null,null,null,null,null,null,null,null,null,null,null,null,null,null,null,null,null,null,null,null,null,null,null,null,null,null,null,null,null,null,null,null,null,null,null,null,null,null,0,null,null,null,null,null,null,null,null,null,null,null,null,null,null,null,null,null,null,null,null,null,null,"","",""]
[null,"Kitchen",null,null,null,null,null,null,null,null,null,null,null,null,null,null,null,null,null,null,null,null,null,null,null,null,null,null,null,null,null,null,null,null,null,null,null,null,null,null,null,null,null,null,null,null,null,null,null,null,null,null,null,null,null,null,null,null,null,null,null,null,null,null,null,null,null,null,null,null,null,null,null,null,null,null,null,null,null,null,null,null,null,null,null,null,null,null,null,null,null,null,null,null,null,null,null,null,null,null,null,null,null,null,null,null,null,null,null,null,null,null,null,null,null,null,null,null,null,null,null,null,null,null,null,null,null,null,null,null,null,null,null,null,null,null,null,null,null,null,null,null,null,null,null,null,null,null,null,null,null,null,null,null,null,null,null,null,null,null,null,null,null,null,null,null,null,null,null,null,null,null,null,null,null,null,null,null,null,null,null,null,null,null,null,null,null,null,null,null,null,null,null,null,null,null,null,null,null,null,null,null,null,null,null,null,null,null,null,null,null,null,null,null,null,null,0,null,null,null,null,null,null,null,null,null,null,null,null,null,null,null,null,null,null,null,null,null,null,"","",""]
[null,"Bathrooms",null,null,null,null,null,null,null,null,null,null,null,null,null,null,null,null,null,null,null,null,null,null,null,null,null,null,null,null,null,null,null,null,null,null,null,null,null,null,null,null,null,null,null,null,null,null,null,null,null,null,null,null,null,null,null,null,null,null,null,null,null,null,null,null,null,null,null,null,null,null,null,null,null,null,null,null,null,null,null,null,null,null,null,null,null,null,null,null,null,null,null,null,null,null,null,null,null,null,null,null,null,null,null,null,null,null,null,null,null,null,null,null,null,null,null,null,null,null,null,null,null,null,null,null,null,null,null,null,null,null,null,null,null,null,null,null,null,null,null,null,null,null,null,null,null,null,null,null,null,null,null,null,null,null,null,null,null,null,null,null,null,null,null,null,null,null,null,null,null,null,null,null,null,null,null,null,null,null,null,null,null,null,null,null,null,null,null,null,null,null,null,null,null,null,null,null,null,null,null,null,null,null,null,null,null,null,null,null,null,null,null,null,null,null,0,null,null,null,null,null,null,null,null,null,null,null,null,null,null,null,null,null,null,null,null,null,null,"","",""]
[null,{"$f":"II!B142","v":"Other"},null,null,null,null,null,null,null,null,null,null,null,null,null,null,null,null,null,null,null,null,null,null,null,null,null,null,null,null,null,null,null,null,null,null,null,null,null,null,null,null,null,null,null,null,null,null,null,null,null,null,null,null,null,null,null,null,null,null,null,null,null,null,null,null,null,null,null,null,null,null,null,null,null,null,null,null,null,null,null,null,null,null,null,null,null,null,null,null,null,null,null,null,null,null,null,null,null,null,null,null,null,null,null,null,null,null,null,null,null,null,null,null,null,null,null,null,null,null,null,null,null,null,null,null,null,null,null,null,null,null,null,null,null,null,null,null,null,null,null,null,null,null,null,null,null,null,null,null,null,null,null,null,null,null,null,null,null,null,null,null,null,null,null,null,null,null,null,null,null,null,null,null,null,null,null,null,null,null,null,null,null,null,null,null,null,null,null,null,null,null,null,null,null,null,null,null,null,null,null,null,null,null,null,null,null,null,null,null,null,null,null,null,null,null,0,null,null,null,null,null,null,null,null,null,null,null,null,null,null,null,null,null,null,null,null,null,null,"","",""]
[null,"Appliances",null,null,null,null,null,null,null,null,null,null,null,null,null,null,null,null,null,null,null,null,null,null,null,null,null,null,null,null,null,null,null,null,null,null,null,null,null,null,null,null,null,null,null,null,null,null,null,null,null,null,null,null,null,null,null,null,null,null,null,null,null,null,null,null,null,null,null,null,null,null,null,null,null,null,null,null,null,null,null,null,null,null,null,null,null,null,null,null,null,null,null,null,null,null,null,null,null,null,null,null,null,null,null,null,null,null,null,null,null,null,null,null,null,null,null,null,null,null,null,null,null,null,null,null,null,null,null,null,null,null,null,null,null,null,null,null,null,null,null,null,null,null,null,null,null,null,null,null,null,null,null,null,null,null,null,null,null,null,null,null,null,null,null,null,null,null,null,null,null,null,null,null,null,null,null,null,null,null,null,null,null,null,null,null,null,null,null,null,null,null,null,null,null,null,null,null,null,null,null,null,null,null,null,null,null,null,null,null,null,null,null,null,null,null,0,null,null,null,null,null,null,null,null,null,null,null,null,null,null,null,null,null,null,null,null,null,null,"","",""]
[null,"Refrigerator",null,null,null,null,null,null,null,null,null,null,null,null,null,null,null,null,null,null,null,null,null,null,null,null,null,null,null,null,null,null,null,null,null,null,null,null,null,null,null,null,null,null,null,null,null,null,null,null,null,null,null,null,null,null,null,null,null,null,null,null,null,null,null,null,null,null,null,null,null,null,null,null,null,null,null,null,null,null,null,null,null,null,null,null,null,null,null,null,null,null,null,null,null,null,null,null,null,null,null,null,null,null,null,null,null,null,null,null,null,null,null,null,null,null,null,null,null,null,null,null,null,null,null,null,null,null,null,null,null,null,null,null,null,null,null,null,null,null,null,null,null,null,null,null,null,null,null,null,null,null,null,null,null,null,null,null,null,null,null,null,null,null,null,null,null,null,null,null,null,null,null,null,null,null,null,null,null,null,null,null,null,null,null,null,null,null,null,null,null,null,null,null,null,null,null,null,null,null,null,null,null,null,null,null,null,null,null,null,null,null,null,null,null,null,0,null,null,null,null,null,null,null,null,null,null,null,null,null,null,null,null,null,null,null,null,null,null,"","",""]
[null,"Range/stove",null,null,null,null,null,null,null,null,null,null,null,null,null,null,null,null,null,null,null,null,null,null,null,null,null,null,null,null,null,null,null,null,null,null,null,null,null,null,null,null,null,null,null,null,null,null,null,null,null,null,null,null,null,null,null,null,null,null,null,null,null,null,null,null,null,null,null,null,null,null,null,null,null,null,null,null,null,null,null,null,null,null,null,null,null,null,null,null,null,null,null,null,null,null,null,null,null,null,null,null,null,null,null,null,null,null,null,null,null,null,null,null,null,null,null,null,null,null,null,null,null,null,null,null,null,null,null,null,null,null,null,null,null,null,null,null,null,null,null,null,null,null,null,null,null,null,null,null,null,null,null,null,null,null,null,null,null,null,null,null,null,null,null,null,null,null,null,null,null,null,null,null,null,null,null,null,null,null,null,null,null,null,null,null,null,null,null,null,null,null,null,null,null,null,null,null,null,null,null,null,null,null,null,null,null,null,null,null,null,null,null,null,null,null,0,null,null,null,null,null,null,null,null,null,null,null,null,null,null,null,null,null,null,null,null,null,null,"","",""]
[null,"Range vent",null,null,null,null,null,null,null,null,null,null,null,null,null,null,null,null,null,null,null,null,null,null,null,null,null,null,null,null,null,null,null,null,null,null,null,null,null,null,null,null,null,null,null,null,null,null,null,null,null,null,null,null,null,null,null,null,null,null,null,null,null,null,null,null,null,null,null,null,null,null,null,null,null,null,null,null,null,null,null,null,null,null,null,null,null,null,null,null,null,null,null,null,null,null,null,null,null,null,null,null,null,null,null,null,null,null,null,null,null,null,null,null,null,null,null,null,null,null,null,null,null,null,null,null,null,null,null,null,null,null,null,null,null,null,null,null,null,null,null,null,null,null,null,null,null,null,null,null,null,null,null,null,null,null,null,null,null,null,null,null,null,null,null,null,null,null,null,null,null,null,null,null,null,null,null,null,null,null,null,null,null,null,null,null,null,null,null,null,null,null,null,null,null,null,null,null,null,null,null,null,null,null,null,null,null,null,null,null,null,null,null,null,null,null,0,null,null,null,null,null,null,null,null,null,null,null,null,null,null,null,null,null,null,null,null,null,null,"","",""]
[null,"Dishwasher",null,null,null,null,null,null,null,null,null,null,null,null,null,null,null,null,null,null,null,null,null,null,null,null,null,null,null,null,null,null,null,null,null,null,null,null,null,null,null,null,null,null,null,null,null,null,null,null,null,null,null,null,null,null,null,null,null,null,null,null,null,null,null,null,null,null,null,null,null,null,null,null,null,null,null,null,null,null,null,null,null,null,null,null,null,null,null,null,null,null,null,null,null,null,null,null,null,null,null,null,null,null,null,null,null,null,null,null,null,null,null,null,null,null,null,null,null,null,null,null,null,null,null,null,null,null,null,null,null,null,null,null,null,null,null,null,null,null,null,null,null,null,null,null,null,null,null,null,null,null,null,null,null,null,null,null,null,null,null,null,null,null,null,null,null,null,null,null,null,null,null,null,null,null,null,null,null,null,null,null,null,null,null,null,null,null,null,null,null,null,null,null,null,null,null,null,null,null,null,null,null,null,null,null,null,null,null,null,null,null,null,null,null,null,0,null,null,null,null,null,null,null,null,null,null,null,null,null,null,null,null,null,null,null,null,null,null,"","",""]
[null,"Disposal",null,null,null,null,null,null,null,null,null,null,null,null,null,null,null,null,null,null,null,null,null,null,null,null,null,null,null,null,null,null,null,null,null,null,null,null,null,null,null,null,null,null,null,null,null,null,null,null,null,null,null,null,null,null,null,null,null,null,null,null,null,null,null,null,null,null,null,null,null,null,null,null,null,null,null,null,null,null,null,null,null,null,null,null,null,null,null,null,null,null,null,null,null,null,null,null,null,null,null,null,null,null,null,null,null,null,null,null,null,null,null,null,null,null,null,null,null,null,null,null,null,null,null,null,null,null,null,null,null,null,null,null,null,null,null,null,null,null,null,null,null,null,null,null,null,null,null,null,null,null,null,null,null,null,null,null,null,null,null,null,null,null,null,null,null,null,null,null,null,null,null,null,null,null,null,null,null,null,null,null,null,null,null,null,null,null,null,null,null,null,null,null,null,null,null,null,null,null,null,null,null,null,null,null,null,null,null,null,null,null,null,null,null,null,0,null,null,null,null,null,null,null,null,null,null,null,null,null,null,null,null,null,null,null,null,null,null,"","",""]
[null,"Microwave",null,null,null,null,null,null,null,null,null,null,null,null,null,null,null,null,null,null,null,null,null,null,null,null,null,null,null,null,null,null,null,null,null,null,null,null,null,null,null,null,null,null,null,null,null,null,null,null,null,null,null,null,null,null,null,null,null,null,null,null,null,null,null,null,null,null,null,null,null,null,null,null,null,null,null,null,null,null,null,null,null,null,null,null,null,null,null,null,null,null,null,null,null,null,null,null,null,null,null,null,null,null,null,null,null,null,null,null,null,null,null,null,null,null,null,null,null,null,null,null,null,null,null,null,null,null,null,null,null,null,null,null,null,null,null,null,null,null,null,null,null,null,null,null,null,null,null,null,null,null,null,null,null,null,null,null,null,null,null,null,null,null,null,null,null,null,null,null,null,null,null,null,null,null,null,null,null,null,null,null,null,null,null,null,null,null,null,null,null,null,null,null,null,null,null,null,null,null,null,null,null,null,null,null,null,null,null,null,null,null,null,null,null,null,0,null,null,null,null,null,null,null,null,null,null,null,null,null,null,null,null,null,null,null,null,null,null,"","",""]
[null,"Clothes washer",null,null,null,null,null,null,null,null,null,null,null,null,null,null,null,null,null,null,null,null,null,null,null,null,null,null,null,null,null,null,null,null,null,null,null,null,null,null,null,null,null,null,null,null,null,null,null,null,null,null,null,null,null,null,null,null,null,null,null,null,null,null,null,null,null,null,null,null,null,null,null,null,null,null,null,null,null,null,null,null,null,null,null,null,null,null,null,null,null,null,null,null,null,null,null,null,null,null,null,null,null,null,null,null,null,null,null,null,null,null,null,null,null,null,null,null,null,null,null,null,null,null,null,null,null,null,null,null,null,null,null,null,null,null,null,null,null,null,null,null,null,null,null,null,null,null,null,null,null,null,null,null,null,null,null,null,null,null,null,null,null,null,null,null,null,null,null,null,null,null,null,null,null,null,null,null,null,null,null,null,null,null,null,null,null,null,null,null,null,null,null,null,null,null,null,null,null,null,null,null,null,null,null,null,null,null,null,null,null,null,null,null,null,null,0,null,null,null,null,null,null,null,null,null,null,null,null,null,null,null,null,null,null,null,null,null,null,"","",""]
[null,"Clothes dryer",null,null,null,null,null,null,null,null,null,null,null,null,null,null,null,null,null,null,null,null,null,null,null,null,null,null,null,null,null,null,null,null,null,null,null,null,null,null,null,null,null,null,null,null,null,null,null,null,null,null,null,null,null,null,null,null,null,null,null,null,null,null,null,null,null,null,null,null,null,null,null,null,null,null,null,null,null,null,null,null,null,null,null,null,null,null,null,null,null,null,null,null,null,null,null,null,null,null,null,null,null,null,null,null,null,null,null,null,null,null,null,null,null,null,null,null,null,null,null,null,null,null,null,null,null,null,null,null,null,null,null,null,null,null,null,null,null,null,null,null,null,null,null,null,null,null,null,null,null,null,null,null,null,null,null,null,null,null,null,null,null,null,null,null,null,null,null,null,null,null,null,null,null,null,null,null,null,null,null,null,null,null,null,null,null,null,null,null,null,null,null,null,null,null,null,null,null,null,null,null,null,null,null,null,null,null,null,null,null,null,null,null,null,null,0,null,null,null,null,null,null,null,null,null,null,null,null,null,null,null,null,null,null,null,null,null,null,"","",""]
[null,"Bathroom improvements",null,null,null,null,null,null,null,null,null,null,null,null,null,null,null,null,null,null,null,null,null,null,null,null,null,null,null,null,null,null,null,null,null,null,null,null,null,null,null,null,null,null,null,null,null,null,null,null,null,null,null,null,null,null,null,null,null,null,null,null,null,null,null,null,null,null,null,null,null,null,null,null,null,null,null,null,null,null,null,null,null,null,null,null,null,null,null,null,null,null,null,null,null,null,null,null,null,null,null,null,null,null,null,null,null,null,null,null,null,null,null,null,null,null,null,null,null,null,null,null,null,null,null,null,null,null,null,null,null,null,null,null,null,null,null,null,null,null,null,null,null,null,null,null,null,null,null,null,null,null,null,null,null,null,null,null,null,null,null,null,null,null,null,null,null,null,null,null,null,null,null,null,null,null,null,null,null,null,null,null,null,null,null,null,null,null,null,null,null,null,null,null,null,null,null,null,null,null,null,null,null,null,null,null,null,null,null,null,null,null,null,null,null,null,0,null,null,null,null,null,null,null,null,null,null,null,null,null,null,null,null,null,null,null,null,null,null,"","",""]
[null,"Toilet",null,null,null,null,null,null,null,null,null,null,null,null,null,null,null,null,null,null,null,null,null,null,null,null,null,null,null,null,null,null,null,null,null,null,null,null,null,null,null,null,null,null,null,null,null,null,null,null,null,null,null,null,null,null,null,null,null,null,null,null,null,null,null,null,null,null,null,null,null,null,null,null,null,null,null,null,null,null,null,null,null,null,null,null,null,null,null,null,null,null,null,null,null,null,null,null,null,null,null,null,null,null,null,null,null,null,null,null,null,null,null,null,null,null,null,null,null,null,null,null,null,null,null,null,null,null,null,null,null,null,null,null,null,null,null,null,null,null,null,null,null,null,null,null,null,null,null,null,null,null,null,null,null,null,null,null,null,null,null,null,null,null,null,null,null,null,null,null,null,null,null,null,null,null,null,null,null,null,null,null,null,null,null,null,null,null,null,null,null,null,null,null,null,null,null,null,null,null,null,null,null,null,null,null,null,null,null,null,null,null,null,null,null,null,0,null,null,null,null,null,null,null,null,null,null,null,null,null,null,null,null,null,null,null,null,null,null,"","",""]
[null,"Tub/shower and enclosures",null,null,null,null,null,null,null,null,null,null,null,null,null,null,null,null,null,null,null,null,null,null,null,null,null,null,null,null,null,null,null,null,null,null,null,null,null,null,null,null,null,null,null,null,null,null,null,null,null,null,null,null,null,null,null,null,null,null,null,null,null,null,null,null,null,null,null,null,null,null,null,null,null,null,null,null,null,null,null,null,null,null,null,null,null,null,null,null,null,null,null,null,null,null,null,null,null,null,null,null,null,null,null,null,null,null,null,null,null,null,null,null,null,null,null,null,null,null,null,null,null,null,null,null,null,null,null,null,null,null,null,null,null,null,null,null,null,null,null,null,null,null,null,null,null,null,null,null,null,null,null,null,null,null,null,null,null,null,null,null,null,null,null,null,null,null,null,null,null,null,null,null,null,null,null,null,null,null,null,null,null,null,null,null,null,null,null,null,null,null,null,null,null,null,null,null,null,null,null,null,null,null,null,null,null,null,null,null,null,null,null,null,null,null,0,null,null,null,null,null,null,null,null,null,null,null,null,null,null,null,null,null,null,null,null,null,null,"","",""]
[null,"Accessories",null,null,null,null,null,null,null,null,null,null,null,null,null,null,null,null,null,null,null,null,null,null,null,null,null,null,null,null,null,null,null,null,null,null,null,null,null,null,null,null,null,null,null,null,null,null,null,null,null,null,null,null,null,null,null,null,null,null,null,null,null,null,null,null,null,null,null,null,null,null,null,null,null,null,null,null,null,null,null,null,null,null,null,null,null,null,null,null,null,null,null,null,null,null,null,null,null,null,null,null,null,null,null,null,null,null,null,null,null,null,null,null,null,null,null,null,null,null,null,null,null,null,null,null,null,null,null,null,null,null,null,null,null,null,null,null,null,null,null,null,null,null,null,null,null,null,null,null,null,null,null,null,null,null,null,null,null,null,null,null,null,null,null,null,null,null,null,null,null,null,null,null,null,null,null,null,null,null,null,null,null,null,null,null,null,null,null,null,null,null,null,null,null,null,null,null,null,null,null,null,null,null,null,null,null,null,null,null,null,null,null,null,null,null,0,null,null,null,null,null,null,null,null,null,null,null,null,null,null,null,null,null,null,null,null,null,null,"","",""]
[null,{"$f":"II!B156","v":"Other"},null,null,null,null,null,null,null,null,null,null,null,null,null,null,null,null,null,null,null,null,null,null,null,null,null,null,null,null,null,null,null,null,null,null,null,null,null,null,null,null,null,null,null,null,null,null,null,null,null,null,null,null,null,null,null,null,null,null,null,null,null,null,null,null,null,null,null,null,null,null,null,null,null,null,null,null,null,null,null,null,null,null,null,null,null,null,null,null,null,null,null,null,null,null,null,null,null,null,null,null,null,null,null,null,null,null,null,null,null,null,null,null,null,null,null,null,null,null,null,null,null,null,null,null,null,null,null,null,null,null,null,null,null,null,null,null,null,null,null,null,null,null,null,null,null,null,null,null,null,null,null,null,null,null,null,null,null,null,null,null,null,null,null,null,null,null,null,null,null,null,null,null,null,null,null,null,null,null,null,null,null,null,null,null,null,null,null,null,null,null,null,null,null,null,null,null,null,null,null,null,null,null,null,null,null,null,null,null,null,null,null,null,null,null,0,null,null,null,null,null,null,null,null,null,null,null,null,null,null,null,null,null,null,null,null,null,null,"","",""]
[null,{"$f":"II!B157","v":"Other"},null,null,null,null,null,null,null,null,null,null,null,null,null,null,null,null,null,null,null,null,null,null,null,null,null,null,null,null,null,null,null,null,null,null,null,null,null,null,null,null,null,null,null,null,null,null,null,null,null,null,null,null,null,null,null,null,null,null,null,null,null,null,null,null,null,null,null,null,null,null,null,null,null,null,null,null,null,null,null,null,null,null,null,null,null,null,null,null,null,null,null,null,null,null,null,null,null,null,null,null,null,null,null,null,null,null,null,null,null,null,null,null,null,null,null,null,null,null,null,null,null,null,null,null,null,null,null,null,null,null,null,null,null,null,null,null,null,null,null,null,null,null,null,null,null,null,null,null,null,null,null,null,null,null,null,null,null,null,null,null,null,null,null,null,null,null,null,null,null,null,null,null,null,null,null,null,null,null,null,null,null,null,null,null,null,null,null,null,null,null,null,null,null,null,null,null,null,null,null,null,null,null,null,null,null,null,null,null,null,null,null,null,null,null,0,null,null,null,null,null,null,null,null,null,null,null,null,null,null,null,null,null,null,null,null,null,null,"","",""]
[]
[]
[null,"TOTALS"]
[]
[null,null,null,null,null,null,null,null,null,null,null,null,null,null,null,null,null,null,null,null,null,null,null,null,null,null,null,null,null,"Year 1",null,null,null,null,null,null,null,null,null,null,null,null,null,null,null,null,"Year 2",null,null,null,null,null,null,null,null,null,null,null,null,null,null,null,null,"Year 3",null,null,null,null,null,null,null,null,null,null,null,null,null,null,null,null,"Year 4",null,null,null,null,null,null,null,null,null,null,null,null,null,null,null,null,"Year 5",null,null,null,null,null,null,null,null,null,null,null,null,null,null,null,null,"Year 6",null,null,null,null,null,null,null,null,null,null,null,null,null,null,null,null,"Year 7",null,null,null,null,null,null,null,null,null,null,null,null,null,null,null,null,"Year 8",null,null,null,null,null,null,null,null,null,null,null,null,null,null,null,null,"Year 9",null,null,null,null,null,null,null,null,null,null,null,null,null,null,null,null,"Year 10",null,null,null,null,null,null,null,null,null,null,null,null,null,null,null,null,"Year 11",null,null,null,null,null,null,null,null,null,null,null,null,null,null,null,null,"Year 12"]
[null,null,null,null,null,null,"Total (uninflated)",null,null,null,null,null,null,null,null,null,null,null,null,null,null,null,null,null,null,null,null,null,null,{"$f":"IF(COUNTIF(HI27:ID157,\"CORRECT ERROR\")>0,\"ERROR\",SUM(CG27:CQ59,CG65:CQ91,CG97:CQ120,CG126:CQ157))","v":0},null,null,null,null,null,null,null,null,null,null,null,null,null,null,null,null,{"$f":"IF(COUNTIF(HI27:ID157,\"CORRECT ERROR\")>0,\"ERROR\",SUM(CR27:DB59,CR65:DB91,CR97:DB120,CR126:DB157))","v":0},null,null,null,null,null,null,null,null,null,null,null,null,null,null,null,null,{"$f":"IF(COUNTIF(HI27:ID157,\"CORRECT ERROR\")>0,\"ERROR\",SUM(DC27:DM59,DC65:DM91,DC97:DM120,DC126:DM157))","v":0},null,null,null,null,null,null,null,null,null,null,null,null,null,null,null,null,{"$f":"IF(COUNTIF(HI27:ID157,\"CORRECT ERROR\")>0,\"ERROR\",SUM(DN27:DX59,DN65:DX91,DN97:DX120,DN126:DX157))","v":0},null,null,null,null,null,null,null,null,null,null,null,null,null,null,null,null,{"$f":"IF(COUNTIF(HI27:ID157,\"CORRECT ERROR\")>0,\"ERROR\",SUM(DY27:EI59,DY65:EI91,DY97:EI120,DY126:EI157))","v":0},null,null,null,null,null,null,null,null,null,null,null,null,null,null,null,null,{"$f":"IF(COUNTIF(HI27:ID157,\"CORRECT ERROR\")>0,\"ERROR\",SUM(EJ27:ET59,EJ65:ET91,EJ97:ET120,EJ126:ET157))","v":0},null,null,null,null,null,null,null,null,null,null,null,null,null,null,null,null,{"$f":"IF(COUNTIF(HI27:ID157,\"CORRECT ERROR\")>0,\"ERROR\",SUM(EU27:FE59,EU65:FE91,EU97:FE120,EU126:FE157))","v":0},null,null,null,null,null,null,null,null,null,null,null,null,null,null,null,null,{"$f":"IF(COUNTIF(HI27:ID157,\"CORRECT ERROR\")>0,\"ERROR\",SUM(FF27:FP59,FF65:FP91,FF97:FP120,FF126:FP157))","v":0},null,null,null,null,null,null,null,null,null,null,null,null,null,null,null,null,{"$f":"IF(COUNTIF(HI27:ID157,\"CORRECT ERROR\")>0,\"ERROR\",SUM(FQ27:GA59,FQ65:GA91,FQ97:GA120,FQ126:GA157))","v":0},null,null,null,null,null,null,null,null,null,null,null,null,null,null,null,null,{"$f":"IF(COUNTIF(HI27:ID157,\"CORRECT ERROR\")>0,\"ERROR\",SUM(GB27:GL59,GB65:GL91,GB97:GL120,GB126:GL157))","v":0},null,null,null,null,null,null,null,null,null,null,null,null,null,null,null,null,{"$f":"IF(COUNTIF(HI27:ID157,\"CORRECT ERROR\")>0,\"ERROR\",SUM(GM27:GW59,GM65:GW91,GM97:GW120,GM126:GW157))","v":0},null,null,null,null,null,null,null,null,null,null,null,null,null,null,null,null,{"$f":"IF(COUNTIF(HI27:ID157,\"CORRECT ERROR\")>0,\"ERROR\",SUM(GX27:HH59,GX65:HH91,GX97:HH120,GX126:HH157))","v":0}]
[null,null,null,null,null,null,"Inflation factor @ 3%",null,null,null,null,null,null,null,null,null,null,null,null,null,null,null,null,null,null,null,null,null,null,1,null,null,null,null,null,null,null,null,null,null,null,null,null,null,null,null,{"$f":"AD164*1.03","v":1.03},null,null,null,null,null,null,null,null,null,null,null,null,null,null,null,null,{"$f":"AU164*1.03","v":1.0609},null,null,null,null,null,null,null,null,null,null,null,null,null,null,null,null,{"$f":"BL164*1.03","v":1.092727},null,null,null,null,null,null,null,null,null,null,null,null,null,null,null,null,{"$f":"CC164*1.03","v":1.1255088100000001},null,null,null,null,null,null,null,null,null,null,null,null,null,null,null,null,{"$f":"CT164*1.03","v":1.1592740743000001},null,null,null,null,null,null,null,null,null,null,null,null,null,null,null,null,{"$f":"DK164*1.03","v":1.1940522965290001},null,null,null,null,null,null,null,null,null,null,null,null,null,null,null,null,{"$f":"EB164*1.03","v":1.2298738654248702},null,null,null,null,null,null,null,null,null,null,null,null,null,null,null,null,{"$f":"ES164*1.03","v":1.2667700813876164},null,null,null,null,null,null,null,null,null,null,null,null,null,null,null,null,{"$f":"FJ164*1.03","v":1.3047731838292449},null,null,null,null,null,null,null,null,null,null,null,null,null,null,null,null,{"$f":"GA164*1.03","v":1.3439163793441222},null,null,null,null,null,null,null,null,null,null,null,null,null,null,null,null,{"$f":"GR164*1.03","v":1.3842338707244459}]
[null,null,null,null,null,null,"Total inflated",null,null,null,null,null,null,null,null,null,null,null,null,null,null,null,null,null,null,null,null,null,null,{"$f":"AD164*AD163","v":0},null,null,null,null,null,null,null,null,null,null,null,null,null,null,null,null,{"$f":"AU164*AU163","v":0},null,null,null,null,null,null,null,null,null,null,null,null,null,null,null,null,{"$f":"BL164*BL163","v":0},null,null,null,null,null,null,null,null,null,null,null,null,null,null,null,null,{"$f":"CC164*CC163","v":0},null,null,null,null,null,null,null,null,null,null,null,null,null,null,null,null,{"$f":"CT164*CT163","v":0},null,null,null,null,null,null,null,null,null,null,null,null,null,null,null,null,{"$f":"DK164*DK163","v":0},null,null,null,null,null,null,null,null,null,null,null,null,null,null,null,null,{"$f":"EB164*EB163","v":0},null,null,null,null,null,null,null,null,null,null,null,null,null,null,null,null,{"$f":"ES164*ES163","v":0},null,null,null,null,null,null,null,null,null,null,null,null,null,null,null,null,{"$f":"FJ164*FJ163","v":0},null,null,null,null,null,null,null,null,null,null,null,null,null,null,null,null,{"$f":"GA164*GA163","v":0},null,null,null,null,null,null,null,null,null,null,null,null,null,null,null,null,{"$f":"GR164*GR163","v":0},null,null,null,null,null,null,null,null,null,null,null,null,null,null,null,null,{"$f":"HI164*HI163","v":0}]
[]
[null,null,null,null,null,null,"Total expenditures (uninflated)",null,null,null,null,null,null,null,null,null,null,null,null,null,null,null,null,null,null,null,null,null,null,null,null,null,null,null,null,null,null,null,null,null,null,null,{"$f":"SUM(AD163:HY163)","v":0},null,null,null,null,null,null,null,null,null,null,null,null,null,null,null,null,null,null,null,null,null,null,null,null,null,null,null,null,null,null,null,"Total expenditures per unit per year (uninflated)",null,null,null,null,null,null,null,null,null,null,null,null,null,null,null,null,null,null,null,null,null,null,null,null,null,null,null,null,null,null,null,null,null,null,null,null,null,null,null,null,null,null,null,null,null,null,null,null,null,null,null,null,{"$f":"IF(ISERROR(SUM(AD163:HY163)/GF17/(GF14+2))=TRUE,\"\",SUM(AD163:HY163)/GF17/(GF14+2))","v":""}]
[null,null,null,null,null,null,"Total expenditures (inflated)",null,null,null,null,null,null,null,null,null,null,null,null,null,null,null,null,null,null,null,null,null,null,null,null,null,null,null,null,null,null,null,null,null,null,null,{"$f":"SUM(AD165:HY165)","v":0},null,null,null,null,null,null,null,null,null,null,null,null,null,null,null,null,null,null,null,null,null,null,null,null,null,null,null,null,null,null,null,"Total expenditures per unit per year (inflated)",null,null,null,null,null,null,null,null,null,null,null,null,null,null,null,null,null,null,null,null,null,null,null,null,null,null,null,null,null,null,null,null,null,null,null,null,null,null,null,null,null,null,null,null,null,null,null,null,null,null,null,null,{"$f":"IF(ISERROR(SUM(AD165:HY165)/GF17/(GF14+2))=TRUE,\"\",SUM(AD165:HY165)/GF17/(GF14+2))","v":""}]
[]
[]
[null,{"$f":"I!B239","v":"Freddie Mac Multifamily Form 1105 (12/2024)"}]
[]
[]
[]
[]
[]
[]
[]
[]
[]
[]
[]
[]
[]
[]
[]
[]
[]
[]
[]
[]
[]
[]
[]
[]
[]
[]
[]
[]
[]
[]
[]
[]
[]
[]
[]
[]
[]
[]
[]
[]
[]
[]
[]
[]
[]
[]
[]
[]
[]
[]
[]
[]
[]
[]
[]
[]
[]
[]
[]
[]
[]
[]
[null,null,null,null,null,null,null,null,null,null,null,null,null,null,null,null,null,null,null,null,null,null,null,null,null,null,null,null,null,null,null,null,null,null,null,null,null,null,null,null,null,null,null,null,null,null,null,null,null,null,null,null,null,null,null,null,null,null,null,null,null,null,null,null,null,null,null,null,null,null,null,null,null,null,null,null,null,null,null,null,null,null,null,null,null,null,null,null,null,null,null,null,null,null,null,null,null,null,null,null,null,null,null,null,null,null,null,null,null,null,null,null,null,null,null,null,null,null,null,null,null,null,null,null,null,null,null,null,null,null,null,null,null,null,null,null,null,null,null,null,null,null,"2024-12-03T10:54:08.750"]
[null,null,null,null,null,null,null,null,null,null,null,null,null,null,null,null,null,null,null,null,null,null,null,null,null,null,null,null,null,null,null,null,null,null,null,null,null,null,null,null,null,null,null,null,null,null,null,null,null,null,null,null,null,null,null,null,null,null,null,null,null,null,null,null,null,null,null,null,null,null,null,null,null,null,null,null,null,null,null,null,null,null,null,null,null,null,null,null,null,null,null,null,null,null,null,null,null,null,null,null,null,null,null,null,null,null,null,null,null,null,null,null,null,null,null,null,null,null,null,null,null,null,null,null,null,null,null,null,null,null,null,null,null,null,null,null,null,null,null,null,null,null,"2024-11-20T10:46:28.200"]

{"sheet":"VII","index":7,"n_rows":231,"n_cols":143,"rows_kept":231,"cut":false,"hidden":false,"merged":[[25,6,25,7],[25,9,25,140],[26,6,26,7],[26,9,26,140],[21,1,21,140],[23,6,23,7],[23,9,23,140],[24,6,24,7],[24,9,24,140],[2,1,2,140],[5,1,5,140],[7,1,7,140],[8,1,8,140],[15,1,15,140],[17,6,17,7],[17,9,17,140],[18,6,18,7],[18,9,18,140],[9,1,9,140],[12,1,12,140]]}
[]
[]
[null,{"$f":"I!B3","v":"Property Condition Assessment "}]
[]
[]
[null,"Section VII: Repair Categories"]
[]
[null,"Repair Categories"]
[]
[null,"List all Critical, PR-90, and Priority Repairs on Form 1105. See Section Section 62.3(b) of the Freddie Mac Multifamily Seller/Servicer Guide for full repair category definitions."]
[]
[null,"Critical Repairs"]
[null,"Repairs and replacements required to address conditions that significantly impair habitability, safety, value, income or marketability due to the failure or combination of failing conditions of any major building system or structure and that must be corrected before Freddie Mac will proceed with the transaction"]
[]
[null,"PR-90 Repairs"]
[null,"These are repairs and replacements of conditions that must be addressed within 90 days and consist of:"]
[]
[null,null,null,null,null,null," •",null,null,"Any Life Safety Hazard that is about to cause harm and represents an imminent or immediate risk to tenants that encounter the hazard"]
[null,null,null,null,null,null," •",null,null,"Any condition that may cause imminent damage or is the cause of immediate damage to any major building system or structure that if left uncorrected, could result in a Critical Repair"]
[]
[null,"Priority Repairs"]
[null,"These are repairs and replacements of conditions that must be addressed within 365 days and consist of:"]
[]
[null,null,null,null,null,null," •",null,null,"All life safety hazards not identified as PR-90 repairs"]
[null,null,null,null,null,null," •",null,null,"Violations of any federal, State or local law, ordinance or code relating to zoning, subdivision and use, building and housing accessibility (including the Americans with Disabilities and Fair Housing Acts), health matters, fire safety or energy-related requirements"]
[null,null,null,null,null,null," •",null,null,"Physical deficiencies"]
[null,null,null,null,null,null," •",null,null,"Deferred maintenance"]
[]
[]
[null,{"$f":"I!B239","v":"Freddie Mac Multifamily Form 1105 (12/2024)"}]
[]
[]
[]
[]
[]
[]
[]
[]
[]
[]
[]
[]
[]
[]
[]
[]
[]
[]
[]
[]
[]
[]
[]
[]
[]
[]
[]
[]
[]
[]
[]
[]
[]
[]
[]
[]
[]
[]
[]
[]
[]
[]
[]
[]
[]
[]
[]
[]
[]
[]
[]
[]
[]
[]
[]
[]
[]
[]
[]
[]
[]
[]
[]
[]
[]
[]
[]
[]
[]
[]
[]
[]
[]
[]
[]
[]
[]
[]
[]
[]
[]
[]
[]
[]
[]
[]
[]
[]
[]
[]
[]
[]
[]
[]
[]
[]
[]
[]
[]
[]
[]
[]
[]
[]
[]
[]
[]
[]
[]
[]
[]
[]
[]
[]
[]
[]
[]
[]
[]
[]
[]
[]
[]
[]
[]
[]
[]
[]
[]
[]
[]
[]
[]
[]
[]
[]
[]
[]
[]
[]
[]
[]
[]
[]
[]
[]
[]
[]
[]
[]
[]
[]
[]
[]
[]
[]
[]
[]
[]
[]
[]
[]
[]
[]
[]
[]
[]
[]
[]
[]
[]
[]
[]
[]
[]
[]
[]
[]
[]
[]
[]
[]
[]
[]
[]
[]
[]
[]
[]
[]
[null,null,null,null,null,null,null,null,null,null,null,null,null,null,null,null,null,null,null,null,null,null,null,null,null,null,null,null,null,null,null,null,null,null,null,null,null,null,null,null,null,null,null,null,null,null,null,null,null,null,null,null,null,null,null,null,null,null,null,null,null,null,null,null,null,null,null,null,null,null,null,null,null,null,null,null,null,null,null,null,null,null,null,null,null,null,null,null,null,null,null,null,null,null,null,null,null,null,null,null,null,null,null,null,null,null,null,null,null,null,null,null,null,null,null,null,null,null,null,null,null,null,null,null,null,null,null,null,null,null,null,null,null,null,null,null,null,null,null,null,null,null,"2024-11-20T10:57:01.190"]
[null,null,null,null,null,null,null,null,null,null,null,null,null,null,null,null,null,null,null,null,null,null,null,null,null,null,null,null,null,null,null,null,null,null,null,null,null,null,null,null,null,null,null,null,null,null,null,null,null,null,null,null,null,null,null,null,null,null,null,null,null,null,null,null,null,null,null,null,null,null,null,null,null,null,null,null,null,null,null,null,null,null,null,null,null,null,null,null,null,null,null,null,null,null,null,null,null,null,null,null,null,null,null,null,null,null,null,null,null,null,null,null,null,null,null,null,null,null,null,null,null,null,null,null,null,null,null,null,null,null,null,null,null,null,null,null,null,null,null,null,null,null,"2024-11-20T10:46:28.200"]
[]
[]
[]
[]
[]
[]
[]
[]
[null,null,null,null,null,null,null,null,null,null,null,null,null,null,null,null,null,null,null,null,null,null,null,null,null,null,null,null,null,null,null,null,null,null,null,null,null,null,null,null,null,null,null,null,null,null,null,null,null,null,null,null,null,null,null,null,null,null,null,null,null,null,null,null,null,null,null,null,null,null,null,null,null,null,null,null,null,null,null,null,null,null,null,null,null,null,null,null,null,null,null,null,null,null,null,null,null,null,null,null,null,null,null,null,null,null,null,null,null,null,null,null,null,null,null,null,null,null,null,null,null,null,null,null,null,null,null,null,null,null,null,null,null,null,null,null,null,null,null,null,null,null,"2024-12-03T10:54:08.750"]

{"sheet":"UnitMixDump","index":8,"n_rows":2880,"n_cols":14,"rows_kept":2880,"cut":false,"hidden":false,"merged":[]}
["BR1",null,"BedroomCount",null,null,null,null,null,null,null,"Total Number of Units Inspected"]
["BA1",null,"BathroomCount",null,null,null,null,null,null,null,"Occupied",{"$f":"I!CP125","v":0},null,"RsdntlDownInspectedUnitCount"]
["SF1",null,"AvgSquareFeetNumber",null,null,null,null,null,null,null,"Vacant",{"$f":"I!DB125","v":0},null,"RsdntlOccupiedInspectedUnitCount"]
["Style1",null,"StyleType",null,null,null,null,null,null,null,"Down",{"$f":"I!DN125","v":0},null,"RsdntlOtherInspectedUnitCount"]
["unitsOccupied1",null,"PptyUnitTypeOccupiedUnitCount",null,null,null,null,null,null,null,"Other",{"$f":"I!DZ125","v":0},null,"RsdntlVacantInspectedUnitCount"]
["unitsVacant1",null,"VacantUnitCount"]
["unitsDown1",null,"PptyUnitTypeDownUnitCount"]
["unitsOther1",null,"PptyUnitTypeOtherUnitCount"]
["unitsInspOccupied1",null,"PptyUnitTypeOccupiedInspectedUnitCount"]
["unitsInspVacant1",null,"PptyUnitTypeVacantInspectedUnitCount"]
["unitsInspDown1",null,"PptyUnitTypeDownInspectedUnitCount"]
["unitsInspOther1",null,"PptyUnitTypeOtherInspectedUnitCount"]
[null,null,"BedroomCount"]
[null,null,"BathroomCount"]
[null,null,"AvgSquareFeetNumber"]
[null,null,"StyleType"]
[null,null,"PptyUnitTypeOccupiedUnitCount"]
[null,null,"VacantUnitCount"]
[null,null,"PptyUnitTypeDownUnitCount"]
[null,null,"PptyUnitTypeOtherUnitCount"]
[null,null,"PptyUnitTypeOccupiedInspectedUnitCount"]
[null,null,"PptyUnitTypeVacantInspectedUnitCount"]
[null,null,"PptyUnitTypeDownInspectedUnitCount"]
[null,null,"PptyUnitTypeOtherInspectedUnitCount"]
[null,null,"BedroomCount"]
[null,null,"BathroomCount"]
[null,null,"AvgSquareFeetNumber"]
[null,null,"StyleType"]
[null,null,"PptyUnitTypeOccupiedUnitCount"]
[null,null,"VacantUnitCount"]
[null,null,"PptyUnitTypeDownUnitCount"]
[null,null,"PptyUnitTypeOtherUnitCount"]
[null,null,"PptyUnitTypeOccupiedInspectedUnitCount"]
[null,null,"PptyUnitTypeVacantInspectedUnitCount"]
[null,null,"PptyUnitTypeDownInspectedUnitCount"]
[null,null,"PptyUnitTypeOtherInspectedUnitCount"]
[null,null,"BedroomCount"]
[null,null,"BathroomCount"]
[null,null,"AvgSquareFeetNumber"]
[null,null,"StyleType"]
[null,null,"PptyUnitTypeOccupiedUnitCount"]
[null,null,"VacantUnitCount"]
[null,null,"PptyUnitTypeDownUnitCount"]
[null,null,"PptyUnitTypeOtherUnitCount"]
[null,null,"PptyUnitTypeOccupiedInspectedUnitCount"]
[null,null,"PptyUnitTypeVacantInspectedUnitCount"]
[null,null,"PptyUnitTypeDownInspectedUnitCount"]
[null,null,"PptyUnitTypeOtherInspectedUnitCount"]
[null,null,"BedroomCount"]
[null,null,"BathroomCount"]
[null,null,"AvgSquareFeetNumber"]
[null,null,"StyleType"]
[null,null,"PptyUnitTypeOccupiedUnitCount"]
[null,null,"VacantUnitCount"]
[null,null,"PptyUnitTypeDownUnitCount"]
[null,null,"PptyUnitTypeOtherUnitCount"]
[null,null,"PptyUnitTypeOccupiedInspectedUnitCount"]
[null,null,"PptyUnitTypeVacantInspectedUnitCount"]
[null,null,"PptyUnitTypeDownInspectedUnitCount"]
[null,null,"PptyUnitTypeOtherInspectedUnitCount"]
[null,null,"BedroomCount"]
[null,null,"BathroomCount"]
[null,null,"AvgSquareFeetNumber"]
[null,null,"StyleType"]
[null,null,"PptyUnitTypeOccupiedUnitCount"]
[null,null,"VacantUnitCount"]
[null,null,"PptyUnitTypeDownUnitCount"]
[null,null,"PptyUnitTypeOtherUnitCount"]
[null,null,"PptyUnitTypeOccupiedInspectedUnitCount"]
[null,null,"PptyUnitTypeVacantInspectedUnitCount"]
[null,null,"PptyUnitTypeDownInspectedUnitCount"]
[null,null,"PptyUnitTypeOtherInspectedUnitCount"]
[null,null,"BedroomCount"]
[null,null,"BathroomCount"]
[null,null,"AvgSquareFeetNumber"]
[null,null,"StyleType"]
[null,null,"PptyUnitTypeOccupiedUnitCount"]
[null,null,"VacantUnitCount"]
[null,null,"PptyUnitTypeDownUnitCount"]
[null,null,"PptyUnitTypeOtherUnitCount"]
[null,null,"PptyUnitTypeOccupiedInspectedUnitCount"]
[null,null,"PptyUnitTypeVacantInspectedUnitCount"]
[null,null,"PptyUnitTypeDownInspectedUnitCount"]
[null,null,"PptyUnitTypeOtherInspectedUnitCount"]
[null,null,"BedroomCount"]
[null,null,"BathroomCount"]
[null,null,"AvgSquareFeetNumber"]
[null,null,"StyleType"]
[null,null,"PptyUnitTypeOccupiedUnitCount"]
[null,null,"VacantUnitCount"]
[null,null,"PptyUnitTypeDownUnitCount"]
[null,null,"PptyUnitTypeOtherUnitCount"]
[null,null,"PptyUnitTypeOccupiedInspectedUnitCount"]
[null,null,"PptyUnitTypeVacantInspectedUnitCount"]
[null,null,"PptyUnitTypeDownInspectedUnitCount"]
[null,null,"PptyUnitTypeOtherInspectedUnitCount"]
[null,null,"BedroomCount"]
[null,null,"BathroomCount"]
[null,null,"AvgSquareFeetNumber"]
[null,null,"StyleType"]
[null,null,"PptyUnitTypeOccupiedUnitCount"]
[null,null,"VacantUnitCount"]
[null,null,"PptyUnitTypeDownUnitCount"]
[null,null,"PptyUnitTypeOtherUnitCount"]
[null,null,"PptyUnitTypeOccupiedInspectedUnitCount"]
[null,null,"PptyUnitTypeVacantInspectedUnitCount"]
[null,null,"PptyUnitTypeDownInspectedUnitCount"]
[null,null,"PptyUnitTypeOtherInspectedUnitCount"]
[null,null,"BedroomCount"]
[null,null,"BathroomCount"]
[null,null,"AvgSquareFeetNumber"]
[null,null,"StyleType"]
[null,null,"PptyUnitTypeOccupiedUnitCount"]
[null,null,"VacantUnitCount"]
[null,null,"PptyUnitTypeDownUnitCount"]
[null,null,"PptyUnitTypeOtherUnitCount"]
[null,null,"PptyUnitTypeOccupiedInspectedUnitCount"]
[null,null,"PptyUnitTypeVacantInspectedUnitCount"]
[null,null,"PptyUnitTypeDownInspectedUnitCount"]
[null,null,"PptyUnitTypeOtherInspectedUnitCount"]
[null,null,"BedroomCount"]
[null,null,"BathroomCount"]
[null,null,"AvgSquareFeetNumber"]
[null,null,"StyleType"]
[null,null,"PptyUnitTypeOccupiedUnitCount"]
[null,null,"VacantUnitCount"]
[null,null,"PptyUnitTypeDownUnitCount"]
[null,null,"PptyUnitTypeOtherUnitCount"]
[null,null,"PptyUnitTypeOccupiedInspectedUnitCount"]
[null,null,"PptyUnitTypeVacantInspectedUnitCount"]
[null,null,"PptyUnitTypeDownInspectedUnitCount"]
[null,null,"PptyUnitTypeOtherInspectedUnitCount"]
[null,null,"BedroomCount"]
[null,null,"BathroomCount"]
[null,null,"AvgSquareFeetNumber"]
[null,null,"StyleType"]
[null,null,"PptyUnitTypeOccupiedUnitCount"]
[null,null,"VacantUnitCount"]
[null,null,"PptyUnitTypeDownUnitCount"]
[null,null,"PptyUnitTypeOtherUnitCount"]
[null,null,"PptyUnitTypeOccupiedInspectedUnitCount"]
[null,null,"PptyUnitTypeVacantInspectedUnitCount"]
[null,null,"PptyUnitTypeDownInspectedUnitCount"]
[null,null,"PptyUnitTypeOtherInspectedUnitCount"]
[null,null,"BedroomCount"]
[null,null,"BathroomCount"]
[null,null,"AvgSquareFeetNumber"]
[null,null,"StyleType"]
[null,null,"PptyUnitTypeOccupiedUnitCount"]
[null,null,"VacantUnitCount"]
[null,null,"PptyUnitTypeDownUnitCount"]
[null,null,"PptyUnitTypeOtherUnitCount"]
[null,null,"PptyUnitTypeOccupiedInspectedUnitCount"]
[null,null,"PptyUnitTypeVacantInspectedUnitCount"]
[null,null,"PptyUnitTypeDownInspectedUnitCount"]
[null,null,"PptyUnitTypeOtherInspectedUnitCount"]
[null,null,"BedroomCount"]
[null,null,"BathroomCount"]
[null,null,"AvgSquareFeetNumber"]
[null,null,"StyleType"]
[null,null,"PptyUnitTypeOccupiedUnitCount"]
[null,null,"VacantUnitCount"]
[null,null,"PptyUnitTypeDownUnitCount"]
[null,null,"PptyUnitTypeOtherUnitCount"]
[null,null,"PptyUnitTypeOccupiedInspectedUnitCount"]
[null,null,"PptyUnitTypeVacantInspectedUnitCount"]
[null,null,"PptyUnitTypeDownInspectedUnitCount"]
[null,null,"PptyUnitTypeOtherInspectedUnitCount"]
[null,null,"BedroomCount"]
[null,null,"BathroomCount"]
[null,null,"AvgSquareFeetNumber"]
[null,null,"StyleType"]
[null,null,"PptyUnitTypeOccupiedUnitCount"]
[null,null,"VacantUnitCount"]
[null,null,"PptyUnitTypeDownUnitCount"]
[null,null,"PptyUnitTypeOtherUnitCount"]
[null,null,"PptyUnitTypeOccupiedInspectedUnitCount"]
[null,null,"PptyUnitTypeVacantInspectedUnitCount"]
[null,null,"PptyUnitTypeDownInspectedUnitCount"]
[null,null,"PptyUnitTypeOtherInspectedUnitCount"]
[null,null,"BedroomCount"]
[null,null,"BathroomCount"]
[null,null,"AvgSquareFeetNumber"]
[null,null,"StyleType"]
[null,null,"PptyUnitTypeOccupiedUnitCount"]
[null,null,"VacantUnitCount"]
[null,null,"PptyUnitTypeDownUnitCount"]
[null,null,"PptyUnitTypeOtherUnitCount"]
[null,null,"PptyUnitTypeOccupiedInspectedUnitCount"]
[null,null,"PptyUnitTypeVacantInspectedUnitCount"]
[null,null,"PptyUnitTypeDownInspectedUnitCount"]
[null,null,"PptyUnitTypeOtherInspectedUnitCount"]
[null,null,"BedroomCount"]
[null,null,"BathroomCount"]
[null,null,"AvgSquareFeetNumber"]
[null,null,"StyleType"]
[null,null,"PptyUnitTypeOccupiedUnitCount"]
[null,null,"VacantUnitCount"]
[null,null,"PptyUnitTypeDownUnitCount"]
[null,null,"PptyUnitTypeOtherUnitCount"]
[null,null,"PptyUnitTypeOccupiedInspectedUnitCount"]
[null,null,"PptyUnitTypeVacantInspectedUnitCount"]
[null,null,"PptyUnitTypeDownInspectedUnitCount"]
[null,null,"PptyUnitTypeOtherInspectedUnitCount"]
[null,null,"BedroomCount"]
[null,null,"BathroomCount"]
[null,null,"AvgSquareFeetNumber"]
[null,null,"StyleType"]
[null,null,"PptyUnitTypeOccupiedUnitCount"]
[null,null,"VacantUnitCount"]
[null,null,"PptyUnitTypeDownUnitCount"]
[null,null,"PptyUnitTypeOtherUnitCount"]
[null,null,"PptyUnitTypeOccupiedInspectedUnitCount"]
[null,null,"PptyUnitTypeVacantInspectedUnitCount"]
[null,null,"PptyUnitTypeDownInspectedUnitCount"]
[null,null,"PptyUnitTypeOtherInspectedUnitCount"]
[null,null,"BedroomCount"]
[null,null,"BathroomCount"]
[null,null,"AvgSquareFeetNumber"]
[null,null,"StyleType"]
[null,null,"PptyUnitTypeOccupiedUnitCount"]
[null,null,"VacantUnitCount"]
[null,null,"PptyUnitTypeDownUnitCount"]
[null,null,"PptyUnitTypeOtherUnitCount"]
[null,null,"PptyUnitTypeOccupiedInspectedUnitCount"]
[null,null,"PptyUnitTypeVacantInspectedUnitCount"]
[null,null,"PptyUnitTypeDownInspectedUnitCount"]
[null,null,"PptyUnitTypeOtherInspectedUnitCount"]
[null,null,"BedroomCount"]
[null,null,"BathroomCount"]
[null,null,"AvgSquareFeetNumber"]
[null,null,"StyleType"]
[null,null,"PptyUnitTypeOccupiedUnitCount"]
[null,null,"VacantUnitCount"]
[null,null,"PptyUnitTypeDownUnitCount"]
[null,null,"PptyUnitTypeOtherUnitCount"]
[null,null,"PptyUnitTypeOccupiedInspectedUnitCount"]
[null,null,"PptyUnitTypeVacantInspectedUnitCount"]
[null,null,"PptyUnitTypeDownInspectedUnitCount"]
[null,null,"PptyUnitTypeOtherInspectedUnitCount"]
[null,null,"BedroomCount"]
[null,null,"BathroomCount"]
[null,null,"AvgSquareFeetNumber"]
[null,null,"StyleType"]
[null,null,"PptyUnitTypeOccupiedUnitCount"]
[null,null,"VacantUnitCount"]
[null,null,"PptyUnitTypeDownUnitCount"]
[null,null,"PptyUnitTypeOtherUnitCount"]
[null,null,"PptyUnitTypeOccupiedInspectedUnitCount"]
[null,null,"PptyUnitTypeVacantInspectedUnitCount"]
[null,null,"PptyUnitTypeDownInspectedUnitCount"]
[null,null,"PptyUnitTypeOtherInspectedUnitCount"]
[null,null,"BedroomCount"]
[null,null,"BathroomCount"]
[null,null,"AvgSquareFeetNumber"]
[null,null,"StyleType"]
[null,null,"PptyUnitTypeOccupiedUnitCount"]
[null,null,"VacantUnitCount"]
[null,null,"PptyUnitTypeDownUnitCount"]
[null,null,"PptyUnitTypeOtherUnitCount"]
[null,null,"PptyUnitTypeOccupiedInspectedUnitCount"]
[null,null,"PptyUnitTypeVacantInspectedUnitCount"]
[null,null,"PptyUnitTypeDownInspectedUnitCount"]
[null,null,"PptyUnitTypeOtherInspectedUnitCount"]
[null,null,"BedroomCount"]
[null,null,"BathroomCount"]
[null,null,"AvgSquareFeetNumber"]
[null,null,"StyleType"]
[null,null,"PptyUnitTypeOccupiedUnitCount"]
[null,null,"VacantUnitCount"]
[null,null,"PptyUnitTypeDownUnitCount"]
[null,null,"PptyUnitTypeOtherUnitCount"]
[null,null,"PptyUnitTypeOccupiedInspectedUnitCount"]
[null,null,"PptyUnitTypeVacantInspectedUnitCount"]
[null,null,"PptyUnitTypeDownInspectedUnitCount"]
[null,null,"PptyUnitTypeOtherInspectedUnitCount"]
[null,null,"BedroomCount"]
[null,null,"BathroomCount"]
[null,null,"AvgSquareFeetNumber"]
[null,null,"StyleType"]
[null,null,"PptyUnitTypeOccupiedUnitCount"]
[null,null,"VacantUnitCount"]
[null,null,"PptyUnitTypeDownUnitCount"]
[null,null,"PptyUnitTypeOtherUnitCount"]
[null,null,"PptyUnitTypeOccupiedInspectedUnitCount"]
[null,null,"PptyUnitTypeVacantInspectedUnitCount"]
[null,null,"PptyUnitTypeDownInspectedUnitCount"]
[null,null,"PptyUnitTypeOtherInspectedUnitCount"]
[null,null,"BedroomCount"]
[null,null,"BathroomCount"]
[null,null,"AvgSquareFeetNumber"]
[null,null,"StyleType"]
[null,null,"PptyUnitTypeOccupiedUnitCount"]
[null,null,"VacantUnitCount"]
[null,null,"PptyUnitTypeDownUnitCount"]
[null,null,"PptyUnitTypeOtherUnitCount"]
[null,null,"PptyUnitTypeOccupiedInspectedUnitCount"]
[null,null,"PptyUnitTypeVacantInspectedUnitCount"]
[null,null,"PptyUnitTypeDownInspectedUnitCount"]
[null,null,"PptyUnitTypeOtherInspectedUnitCount"]
[null,null,"BedroomCount"]
[null,null,"BathroomCount"]
[null,null,"AvgSquareFeetNumber"]
[null,null,"StyleType"]
[null,null,"PptyUnitTypeOccupiedUnitCount"]
[null,null,"VacantUnitCount"]
[null,null,"PptyUnitTypeDownUnitCount"]
[null,null,"PptyUnitTypeOtherUnitCount"]
[null,null,"PptyUnitTypeOccupiedInspectedUnitCount"]
[null,null,"PptyUnitTypeVacantInspectedUnitCount"]
[null,null,"PptyUnitTypeDownInspectedUnitCount"]
[null,null,"PptyUnitTypeOtherInspectedUnitCount"]
[null,null,"BedroomCount"]
[null,null,"BathroomCount"]
[null,null,"AvgSquareFeetNumber"]
[null,null,"StyleType"]
[null,null,"PptyUnitTypeOccupiedUnitCount"]
[null,null,"VacantUnitCount"]
[null,null,"PptyUnitTypeDownUnitCount"]
[null,null,"PptyUnitTypeOtherUnitCount"]
[null,null,"PptyUnitTypeOccupiedInspectedUnitCount"]
[null,null,"PptyUnitTypeVacantInspectedUnitCount"]
[null,null,"PptyUnitTypeDownInspectedUnitCount"]
[null,null,"PptyUnitTypeOtherInspectedUnitCount"]
[null,null,"BedroomCount"]
[null,null,"BathroomCount"]
[null,null,"AvgSquareFeetNumber"]
[null,null,"StyleType"]
[null,null,"PptyUnitTypeOccupiedUnitCount"]
[null,null,"VacantUnitCount"]
[null,null,"PptyUnitTypeDownUnitCount"]
[null,null,"PptyUnitTypeOtherUnitCount"]
[null,null,"PptyUnitTypeOccupiedInspectedUnitCount"]
[null,null,"PptyUnitTypeVacantInspectedUnitCount"]
[null,null,"PptyUnitTypeDownInspectedUnitCount"]
[null,null,"PptyUnitTypeOtherInspectedUnitCount"]
[null,null,"BedroomCount"]
[null,null,"BathroomCount"]
[null,null,"AvgSquareFeetNumber"]
[null,null,"StyleType"]
[null,null,"PptyUnitTypeOccupiedUnitCount"]
[null,null,"VacantUnitCount"]
[null,null,"PptyUnitTypeDownUnitCount"]
[null,null,"PptyUnitTypeOtherUnitCount"]
[null,null,"PptyUnitTypeOccupiedInspectedUnitCount"]
[null,null,"PptyUnitTypeVacantInspectedUnitCount"]
[null,null,"PptyUnitTypeDownInspectedUnitCount"]
[null,null,"PptyUnitTypeOtherInspectedUnitCount"]
[null,null,"BedroomCount"]
[null,null,"BathroomCount"]
[null,null,"AvgSquareFeetNumber"]
[null,null,"StyleType"]
[null,null,"PptyUnitTypeOccupiedUnitCount"]
[null,null,"VacantUnitCount"]
[null,null,"PptyUnitTypeDownUnitCount"]
[null,null,"PptyUnitTypeOtherUnitCount"]
[null,null,"PptyUnitTypeOccupiedInspectedUnitCount"]
[null,null,"PptyUnitTypeVacantInspectedUnitCount"]
[null,null,"PptyUnitTypeDownInspectedUnitCount"]
[null,null,"PptyUnitTypeOtherInspectedUnitCount"]
[null,null,"BedroomCount"]
[null,null,"BathroomCount"]
[null,null,"AvgSquareFeetNumber"]
[null,null,"StyleType"]
[null,null,"PptyUnitTypeOccupiedUnitCount"]
[null,null,"VacantUnitCount"]
[null,null,"PptyUnitTypeDownUnitCount"]
[null,null,"PptyUnitTypeOtherUnitCount"]
[null,null,"PptyUnitTypeOccupiedInspectedUnitCount"]
[null,null,"PptyUnitTypeVacantInspectedUnitCount"]
[null,null,"PptyUnitTypeDownInspectedUnitCount"]
[null,null,"PptyUnitTypeOtherInspectedUnitCount"]
[null,null,"BedroomCount"]
[null,null,"BathroomCount"]
[null,null,"AvgSquareFeetNumber"]
[null,null,"StyleType"]
[null,null,"PptyUnitTypeOccupiedUnitCount"]
[null,null,"VacantUnitCount"]
[null,null,"PptyUnitTypeDownUnitCount"]
[null,null,"PptyUnitTypeOtherUnitCount"]
[null,null,"PptyUnitTypeOccupiedInspectedUnitCount"]
[null,null,"PptyUnitTypeVacantInspectedUnitCount"]
[null,null,"PptyUnitTypeDownInspectedUnitCount"]
[null,null,"PptyUnitTypeOtherInspectedUnitCount"]
[null,null,"BedroomCount"]
[null,null,"BathroomCount"]
[null,null,"AvgSquareFeetNumber"]
[null,null,"StyleType"]
[null,null,"PptyUnitTypeOccupiedUnitCount"]
[null,null,"VacantUnitCount"]
[null,null,"PptyUnitTypeDownUnitCount"]
[null,null,"PptyUnitTypeOtherUnitCount"]
[null,null,"PptyUnitTypeOccupiedInspectedUnitCount"]
[null,null,"PptyUnitTypeVacantInspectedUnitCount"]
[null,null,"PptyUnitTypeDownInspectedUnitCount"]
[null,null,"PptyUnitTypeOtherInspectedUnitCount"]
[null,null,"BedroomCount"]
[null,null,"BathroomCount"]
[null,null,"AvgSquareFeetNumber"]
[null,null,"StyleType"]
[null,null,"PptyUnitTypeOccupiedUnitCount"]
[null,null,"VacantUnitCount"]
[null,null,"PptyUnitTypeDownUnitCount"]
[null,null,"PptyUnitTypeOtherUnitCount"]
[null,null,"PptyUnitTypeOccupiedInspectedUnitCount"]
[null,null,"PptyUnitTypeVacantInspectedUnitCount"]
[null,null,"PptyUnitTypeDownInspectedUnitCount"]
[null,null,"PptyUnitTypeOtherInspectedUnitCount"]
[null,null,"BedroomCount"]
[null,null,"BathroomCount"]
[null,null,"AvgSquareFeetNumber"]
[null,null,"StyleType"]
[null,null,"PptyUnitTypeOccupiedUnitCount"]
[null,null,"VacantUnitCount"]
[null,null,"PptyUnitTypeDownUnitCount"]
[null,null,"PptyUnitTypeOtherUnitCount"]
[null,null,"PptyUnitTypeOccupiedInspectedUnitCount"]
[null,null,"PptyUnitTypeVacantInspectedUnitCount"]
[null,null,"PptyUnitTypeDownInspectedUnitCount"]
[null,null,"PptyUnitTypeOtherInspectedUnitCount"]
[null,null,"BedroomCount"]
[null,null,"BathroomCount"]
[null,null,"AvgSquareFeetNumber"]
[null,null,"StyleType"]
[null,null,"PptyUnitTypeOccupiedUnitCount"]
[null,null,"VacantUnitCount"]
[null,null,"PptyUnitTypeDownUnitCount"]
[null,null,"PptyUnitTypeOtherUnitCount"]
[null,null,"PptyUnitTypeOccupiedInspectedUnitCount"]
[null,null,"PptyUnitTypeVacantInspectedUnitCount"]
[null,null,"PptyUnitTypeDownInspectedUnitCount"]
[null,null,"PptyUnitTypeOtherInspectedUnitCount"]
[null,null,"BedroomCount"]
[null,null,"BathroomCount"]
[null,null,"AvgSquareFeetNumber"]
[null,null,"StyleType"]
[null,null,"PptyUnitTypeOccupiedUnitCount"]
[null,null,"VacantUnitCount"]
[null,null,"PptyUnitTypeDownUnitCount"]
[null,null,"PptyUnitTypeOtherUnitCount"]
[null,null,"PptyUnitTypeOccupiedInspectedUnitCount"]
[null,null,"PptyUnitTypeVacantInspectedUnitCount"]
[null,null,"PptyUnitTypeDownInspectedUnitCount"]
[null,null,"PptyUnitTypeOtherInspectedUnitCount"]
[null,null,"BedroomCount"]
[null,null,"BathroomCount"]
[null,null,"AvgSquareFeetNumber"]
[null,null,"StyleType"]
[null,null,"PptyUnitTypeOccupiedUnitCount"]
[null,null,"VacantUnitCount"]
[null,null,"PptyUnitTypeDownUnitCount"]
[null,null,"PptyUnitTypeOtherUnitCount"]
[null,null,"PptyUnitTypeOccupiedInspectedUnitCount"]
[null,null,"PptyUnitTypeVacantInspectedUnitCount"]
[null,null,"PptyUnitTypeDownInspectedUnitCount"]
[null,null,"PptyUnitTypeOtherInspectedUnitCount"]
[null,null,"BedroomCount"]
[null,null,"BathroomCount"]
[null,null,"AvgSquareFeetNumber"]
[null,null,"StyleType"]
[null,null,"PptyUnitTypeOccupiedUnitCount"]
[null,null,"VacantUnitCount"]
[null,null,"PptyUnitTypeDownUnitCount"]
[null,null,"PptyUnitTypeOtherUnitCount"]
[null,null,"PptyUnitTypeOccupiedInspectedUnitCount"]
[null,null,"PptyUnitTypeVacantInspectedUnitCount"]
[null,null,"PptyUnitTypeDownInspectedUnitCount"]
[null,null,"PptyUnitTypeOtherInspectedUnitCount"]
[null,null,"BedroomCount"]
[null,null,"BathroomCount"]
[null,null,"AvgSquareFeetNumber"]
[null,null,"StyleType"]
[null,null,"PptyUnitTypeOccupiedUnitCount"]
[null,null,"VacantUnitCount"]
[null,null,"PptyUnitTypeDownUnitCount"]
[null,null,"PptyUnitTypeOtherUnitCount"]
[null,null,"PptyUnitTypeOccupiedInspectedUnitCount"]
[null,null,"PptyUnitTypeVacantInspectedUnitCount"]
[null,null,"PptyUnitTypeDownInspectedUnitCount"]
[null,null,"PptyUnitTypeOtherInspectedUnitCount"]
[null,null,"BedroomCount"]
[null,null,"BathroomCount"]
[null,null,"AvgSquareFeetNumber"]
[null,null,"StyleType"]
[null,null,"PptyUnitTypeOccupiedUnitCount"]
[null,null,"VacantUnitCount"]
[null,null,"PptyUnitTypeDownUnitCount"]
[null,null,"PptyUnitTypeOtherUnitCount"]
[null,null,"PptyUnitTypeOccupiedInspectedUnitCount"]
[null,null,"PptyUnitTypeVacantInspectedUnitCount"]
[null,null,"PptyUnitTypeDownInspectedUnitCount"]
[null,null,"PptyUnitTypeOtherInspectedUnitCount"]
[null,null,"BedroomCount"]
[null,null,"BathroomCount"]
[null,null,"AvgSquareFeetNumber"]
[null,null,"StyleType"]
[null,null,"PptyUnitTypeOccupiedUnitCount"]
[null,null,"VacantUnitCount"]
[null,null,"PptyUnitTypeDownUnitCount"]
[null,null,"PptyUnitTypeOtherUnitCount"]
[null,null,"PptyUnitTypeOccupiedInspectedUnitCount"]
[null,null,"PptyUnitTypeVacantInspectedUnitCount"]
[null,null,"PptyUnitTypeDownInspectedUnitCount"]
[null,null,"PptyUnitTypeOtherInspectedUnitCount"]
[null,null,"BedroomCount"]
[null,null,"BathroomCount"]
[null,null,"AvgSquareFeetNumber"]
[null,null,"StyleType"]
[null,null,"PptyUnitTypeOccupiedUnitCount"]
[null,null,"VacantUnitCount"]
[null,null,"PptyUnitTypeDownUnitCount"]
[null,null,"PptyUnitTypeOtherUnitCount"]
[null,null,"PptyUnitTypeOccupiedInspectedUnitCount"]
[null,null,"PptyUnitTypeVacantInspectedUnitCount"]
[null,null,"PptyUnitTypeDownInspectedUnitCount"]
[null,null,"PptyUnitTypeOtherInspectedUnitCount"]
[null,null,"BedroomCount"]
[null,null,"BathroomCount"]
[null,null,"AvgSquareFeetNumber"]
[null,null,"StyleType"]
[null,null,"PptyUnitTypeOccupiedUnitCount"]
[null,null,"VacantUnitCount"]
[null,null,"PptyUnitTypeDownUnitCount"]
[null,null,"PptyUnitTypeOtherUnitCount"]
[null,null,"PptyUnitTypeOccupiedInspectedUnitCount"]
[null,null,"PptyUnitTypeVacantInspectedUnitCount"]
[null,null,"PptyUnitTypeDownInspectedUnitCount"]
[null,null,"PptyUnitTypeOtherInspectedUnitCount"]
[null,null,"BedroomCount"]
[null,null,"BathroomCount"]
[null,null,"AvgSquareFeetNumber"]
[null,null,"StyleType"]
[null,null,"PptyUnitTypeOccupiedUnitCount"]
[null,null,"VacantUnitCount"]
[null,null,"PptyUnitTypeDownUnitCount"]
[null,null,"PptyUnitTypeOtherUnitCount"]
[null,null,"PptyUnitTypeOccupiedInspectedUnitCount"]
[null,null,"PptyUnitTypeVacantInspectedUnitCount"]
[null,null,"PptyUnitTypeDownInspectedUnitCount"]
[null,null,"PptyUnitTypeOtherInspectedUnitCount"]
[null,null,"BedroomCount"]
[null,null,"BathroomCount"]
[null,null,"AvgSquareFeetNumber"]
[null,null,"StyleType"]
[null,null,"PptyUnitTypeOccupiedUnitCount"]
[null,null,"VacantUnitCount"]
[null,null,"PptyUnitTypeDownUnitCount"]
[null,null,"PptyUnitTypeOtherUnitCount"]
[null,null,"PptyUnitTypeOccupiedInspectedUnitCount"]
[null,null,"PptyUnitTypeVacantInspectedUnitCount"]
[null,null,"PptyUnitTypeDownInspectedUnitCount"]
[null,null,"PptyUnitTypeOtherInspectedUnitCount"]
[null,null,"BedroomCount"]
[null,null,"BathroomCount"]
[null,null,"AvgSquareFeetNumber"]
[null,null,"StyleType"]
[null,null,"PptyUnitTypeOccupiedUnitCount"]
[null,null,"VacantUnitCount"]
[null,null,"PptyUnitTypeDownUnitCount"]
[null,null,"PptyUnitTypeOtherUnitCount"]
[null,null,"PptyUnitTypeOccupiedInspectedUnitCount"]
[null,null,"PptyUnitTypeVacantInspectedUnitCount"]
[null,null,"PptyUnitTypeDownInspectedUnitCount"]
[null,null,"PptyUnitTypeOtherInspectedUnitCount"]
[null,null,"BedroomCount"]
[null,null,"BathroomCount"]
[null,null,"AvgSquareFeetNumber"]
[null,null,"StyleType"]
[null,null,"PptyUnitTypeOccupiedUnitCount"]
[null,null,"VacantUnitCount"]
[null,null,"PptyUnitTypeDownUnitCount"]
[null,null,"PptyUnitTypeOtherUnitCount"]
[null,null,"PptyUnitTypeOccupiedInspectedUnitCount"]
[null,null,"PptyUnitTypeVacantInspectedUnitCount"]
[null,null,"PptyUnitTypeDownInspectedUnitCount"]
[null,null,"PptyUnitTypeOtherInspectedUnitCount"]
[null,null,"BedroomCount"]
[null,null,"BathroomCount"]
[null,null,"AvgSquareFeetNumber"]
[null,null,"StyleType"]
[null,null,"PptyUnitTypeOccupiedUnitCount"]
[null,null,"VacantUnitCount"]
[null,null,"PptyUnitTypeDownUnitCount"]
[null,null,"PptyUnitTypeOtherUnitCount"]
[null,null,"PptyUnitTypeOccupiedInspectedUnitCount"]
[null,null,"PptyUnitTypeVacantInspectedUnitCount"]
[null,null,"PptyUnitTypeDownInspectedUnitCount"]
[null,null,"PptyUnitTypeOtherInspectedUnitCount"]
[null,null,"BedroomCount"]
[null,null,"BathroomCount"]
[null,null,"AvgSquareFeetNumber"]
[null,null,"StyleType"]
[null,null,"PptyUnitTypeOccupiedUnitCount"]
[null,null,"VacantUnitCount"]
[null,null,"PptyUnitTypeDownUnitCount"]
[null,null,"PptyUnitTypeOtherUnitCount"]
[null,null,"PptyUnitTypeOccupiedInspectedUnitCount"]
[null,null,"PptyUnitTypeVacantInspectedUnitCount"]
[null,null,"PptyUnitTypeDownInspectedUnitCount"]
[null,null,"PptyUnitTypeOtherInspectedUnitCount"]
[null,null,"BedroomCount"]
[null,null,"BathroomCount"]
[null,null,"AvgSquareFeetNumber"]
[null,null,"StyleType"]
[null,null,"PptyUnitTypeOccupiedUnitCount"]
[null,null,"VacantUnitCount"]
[null,null,"PptyUnitTypeDownUnitCount"]
[null,null,"PptyUnitTypeOtherUnitCount"]
[null,null,"PptyUnitTypeOccupiedInspectedUnitCount"]
[null,null,"PptyUnitTypeVacantInspectedUnitCount"]
[null,null,"PptyUnitTypeDownInspectedUnitCount"]
[null,null,"PptyUnitTypeOtherInspectedUnitCount"]
[null,null,"BedroomCount"]
[null,null,"BathroomCount"]
[null,null,"AvgSquareFeetNumber"]
[null,null,"StyleType"]
[null,null,"PptyUnitTypeOccupiedUnitCount"]
[null,null,"VacantUnitCount"]
[null,null,"PptyUnitTypeDownUnitCount"]
[null,null,"PptyUnitTypeOtherUnitCount"]
[null,null,"PptyUnitTypeOccupiedInspectedUnitCount"]
[null,null,"PptyUnitTypeVacantInspectedUnitCount"]
[null,null,"PptyUnitTypeDownInspectedUnitCount"]
[null,null,"PptyUnitTypeOtherInspectedUnitCount"]
[null,null,"BedroomCount"]
[null,null,"BathroomCount"]
[null,null,"AvgSquareFeetNumber"]
[null,null,"StyleType"]
[null,null,"PptyUnitTypeOccupiedUnitCount"]
[null,null,"VacantUnitCount"]
[null,null,"PptyUnitTypeDownUnitCount"]
[null,null,"PptyUnitTypeOtherUnitCount"]
[null,null,"PptyUnitTypeOccupiedInspectedUnitCount"]
[null,null,"PptyUnitTypeVacantInspectedUnitCount"]
[null,null,"PptyUnitTypeDownInspectedUnitCount"]
[null,null,"PptyUnitTypeOtherInspectedUnitCount"]
[null,null,"BedroomCount"]
[null,null,"BathroomCount"]
[null,null,"AvgSquareFeetNumber"]
[null,null,"StyleType"]
[null,null,"PptyUnitTypeOccupiedUnitCount"]
[null,null,"VacantUnitCount"]
[null,null,"PptyUnitTypeDownUnitCount"]
[null,null,"PptyUnitTypeOtherUnitCount"]
[null,null,"PptyUnitTypeOccupiedInspectedUnitCount"]
[null,null,"PptyUnitTypeVacantInspectedUnitCount"]
[null,null,"PptyUnitTypeDownInspectedUnitCount"]
[null,null,"PptyUnitTypeOtherInspectedUnitCount"]
[null,null,"BedroomCount"]
[null,null,"BathroomCount"]
[null,null,"AvgSquareFeetNumber"]
[null,null,"StyleType"]
[null,null,"PptyUnitTypeOccupiedUnitCount"]
[null,null,"VacantUnitCount"]
[null,null,"PptyUnitTypeDownUnitCount"]
[null,null,"PptyUnitTypeOtherUnitCount"]
[null,null,"PptyUnitTypeOccupiedInspectedUnitCount"]
[null,null,"PptyUnitTypeVacantInspectedUnitCount"]
[null,null,"PptyUnitTypeDownInspectedUnitCount"]
[null,null,"PptyUnitTypeOtherInspectedUnitCount"]
[null,null,"BedroomCount"]
[null,null,"BathroomCount"]
[null,null,"AvgSquareFeetNumber"]
[null,null,"StyleType"]
[null,null,"PptyUnitTypeOccupiedUnitCount"]
[null,null,"VacantUnitCount"]
[null,null,"PptyUnitTypeDownUnitCount"]
[null,null,"PptyUnitTypeOtherUnitCount"]
[null,null,"PptyUnitTypeOccupiedInspectedUnitCount"]
[null,null,"PptyUnitTypeVacantInspectedUnitCount"]
[null,null,"PptyUnitTypeDownInspectedUnitCount"]
[null,null,"PptyUnitTypeOtherInspectedUnitCount"]
[null,null,"BedroomCount"]
[null,null,"BathroomCount"]
[null,null,"AvgSquareFeetNumber"]
[null,null,"StyleType"]
[null,null,"PptyUnitTypeOccupiedUnitCount"]
[null,null,"VacantUnitCount"]
[null,null,"PptyUnitTypeDownUnitCount"]
[null,null,"PptyUnitTypeOtherUnitCount"]
[null,null,"PptyUnitTypeOccupiedInspectedUnitCount"]
[null,null,"PptyUnitTypeVacantInspectedUnitCount"]
[null,null,"PptyUnitTypeDownInspectedUnitCount"]
[null,null,"PptyUnitTypeOtherInspectedUnitCount"]
[null,null,"BedroomCount"]
[null,null,"BathroomCount"]
[null,null,"AvgSquareFeetNumber"]
[null,null,"StyleType"]
[null,null,"PptyUnitTypeOccupiedUnitCount"]
[null,null,"VacantUnitCount"]
[null,null,"PptyUnitTypeDownUnitCount"]
[null,null,"PptyUnitTypeOtherUnitCount"]
[null,null,"PptyUnitTypeOccupiedInspectedUnitCount"]
[null,null,"PptyUnitTypeVacantInspectedUnitCount"]
[null,null,"PptyUnitTypeDownInspectedUnitCount"]
[null,null,"PptyUnitTypeOtherInspectedUnitCount"]
[null,null,"BedroomCount"]
[null,null,"BathroomCount"]
[null,null,"AvgSquareFeetNumber"]
[null,null,"StyleType"]
[null,null,"PptyUnitTypeOccupiedUnitCount"]
[null,null,"VacantUnitCount"]
[null,null,"PptyUnitTypeDownUnitCount"]
[null,null,"PptyUnitTypeOtherUnitCount"]
[null,null,"PptyUnitTypeOccupiedInspectedUnitCount"]
[null,null,"PptyUnitTypeVacantInspectedUnitCount"]
[null,null,"PptyUnitTypeDownInspectedUnitCount"]
[null,null,"PptyUnitTypeOtherInspectedUnitCount"]
[null,null,"BedroomCount"]
[null,null,"BathroomCount"]
[null,null,"AvgSquareFeetNumber"]
[null,null,"StyleType"]
[null,null,"PptyUnitTypeOccupiedUnitCount"]
[null,null,"VacantUnitCount"]
[null,null,"PptyUnitTypeDownUnitCount"]
[null,null,"PptyUnitTypeOtherUnitCount"]
[null,null,"PptyUnitTypeOccupiedInspectedUnitCount"]
[null,null,"PptyUnitTypeVacantInspectedUnitCount"]
[null,null,"PptyUnitTypeDownInspectedUnitCount"]
[null,null,"PptyUnitTypeOtherInspectedUnitCount"]
[null,null,"BedroomCount"]
[null,null,"BathroomCount"]
[null,null,"AvgSquareFeetNumber"]
[null,null,"StyleType"]
[null,null,"PptyUnitTypeOccupiedUnitCount"]
[null,null,"VacantUnitCount"]
[null,null,"PptyUnitTypeDownUnitCount"]
[null,null,"PptyUnitTypeOtherUnitCount"]
[null,null,"PptyUnitTypeOccupiedInspectedUnitCount"]
[null,null,"PptyUnitTypeVacantInspectedUnitCount"]
[null,null,"PptyUnitTypeDownInspectedUnitCount"]
[null,null,"PptyUnitTypeOtherInspectedUnitCount"]
[null,null,"BedroomCount"]
[null,null,"BathroomCount"]
[null,null,"AvgSquareFeetNumber"]
[null,null,"StyleType"]
[null,null,"PptyUnitTypeOccupiedUnitCount"]
[null,null,"VacantUnitCount"]
[null,null,"PptyUnitTypeDownUnitCount"]
[null,null,"PptyUnitTypeOtherUnitCount"]
[null,null,"PptyUnitTypeOccupiedInspectedUnitCount"]
[null,null,"PptyUnitTypeVacantInspectedUnitCount"]
[null,null,"PptyUnitTypeDownInspectedUnitCount"]
[null,null,"PptyUnitTypeOtherInspectedUnitCount"]
[null,null,"BedroomCount"]
[null,null,"BathroomCount"]
[null,null,"AvgSquareFeetNumber"]
[null,null,"StyleType"]
[null,null,"PptyUnitTypeOccupiedUnitCount"]
[null,null,"VacantUnitCount"]
[null,null,"PptyUnitTypeDownUnitCount"]
[null,null,"PptyUnitTypeOtherUnitCount"]
[null,null,"PptyUnitTypeOccupiedInspectedUnitCount"]
[null,null,"PptyUnitTypeVacantInspectedUnitCount"]
[null,null,"PptyUnitTypeDownInspectedUnitCount"]
[null,null,"PptyUnitTypeOtherInspectedUnitCount"]
[null,null,"BedroomCount"]
[null,null,"BathroomCount"]
[null,null,"AvgSquareFeetNumber"]
[null,null,"StyleType"]
[null,null,"PptyUnitTypeOccupiedUnitCount"]
[null,null,"VacantUnitCount"]
[null,null,"PptyUnitTypeDownUnitCount"]
[null,null,"PptyUnitTypeOtherUnitCount"]
[null,null,"PptyUnitTypeOccupiedInspectedUnitCount"]
[null,null,"PptyUnitTypeVacantInspectedUnitCount"]
[null,null,"PptyUnitTypeDownInspectedUnitCount"]
[null,null,"PptyUnitTypeOtherInspectedUnitCount"]
[null,null,"BedroomCount"]
[null,null,"BathroomCount"]
[null,null,"AvgSquareFeetNumber"]
[null,null,"StyleType"]
[null,null,"PptyUnitTypeOccupiedUnitCount"]
[null,null,"VacantUnitCount"]
[null,null,"PptyUnitTypeDownUnitCount"]
[null,null,"PptyUnitTypeOtherUnitCount"]
[null,null,"PptyUnitTypeOccupiedInspectedUnitCount"]
[null,null,"PptyUnitTypeVacantInspectedUnitCount"]
[null,null,"PptyUnitTypeDownInspectedUnitCount"]
[null,null,"PptyUnitTypeOtherInspectedUnitCount"]
[null,null,"BedroomCount"]
[null,null,"BathroomCount"]
[null,null,"AvgSquareFeetNumber"]
[null,null,"StyleType"]
[null,null,"PptyUnitTypeOccupiedUnitCount"]
[null,null,"VacantUnitCount"]
[null,null,"PptyUnitTypeDownUnitCount"]
[null,null,"PptyUnitTypeOtherUnitCount"]
[null,null,"PptyUnitTypeOccupiedInspectedUnitCount"]
[null,null,"PptyUnitTypeVacantInspectedUnitCount"]
[null,null,"PptyUnitTypeDownInspectedUnitCount"]
[null,null,"PptyUnitTypeOtherInspectedUnitCount"]
[null,null,"BedroomCount"]
[null,null,"BathroomCount"]
[null,null,"AvgSquareFeetNumber"]
[null,null,"StyleType"]
[null,null,"PptyUnitTypeOccupiedUnitCount"]
[null,null,"VacantUnitCount"]
[null,null,"PptyUnitTypeDownUnitCount"]
[null,null,"PptyUnitTypeOtherUnitCount"]
[null,null,"PptyUnitTypeOccupiedInspectedUnitCount"]
[null,null,"PptyUnitTypeVacantInspectedUnitCount"]
[null,null,"PptyUnitTypeDownInspectedUnitCount"]
[null,null,"PptyUnitTypeOtherInspectedUnitCount"]
[null,null,"BedroomCount"]
[null,null,"BathroomCount"]
[null,null,"AvgSquareFeetNumber"]
[null,null,"StyleType"]
[null,null,"PptyUnitTypeOccupiedUnitCount"]
[null,null,"VacantUnitCount"]
[null,null,"PptyUnitTypeDownUnitCount"]
[null,null,"PptyUnitTypeOtherUnitCount"]
[null,null,"PptyUnitTypeOccupiedInspectedUnitCount"]
[null,null,"PptyUnitTypeVacantInspectedUnitCount"]
[null,null,"PptyUnitTypeDownInspectedUnitCount"]
[null,null,"PptyUnitTypeOtherInspectedUnitCount"]
[null,null,"BedroomCount"]
[null,null,"BathroomCount"]
[null,null,"AvgSquareFeetNumber"]
[null,null,"StyleType"]
[null,null,"PptyUnitTypeOccupiedUnitCount"]
[null,null,"VacantUnitCount"]
[null,null,"PptyUnitTypeDownUnitCount"]
[null,null,"PptyUnitTypeOtherUnitCount"]
[null,null,"PptyUnitTypeOccupiedInspectedUnitCount"]
[null,null,"PptyUnitTypeVacantInspectedUnitCount"]
[null,null,"PptyUnitTypeDownInspectedUnitCount"]
[null,null,"PptyUnitTypeOtherInspectedUnitCount"]
[null,null,"BedroomCount"]
[null,null,"BathroomCount"]
[null,null,"AvgSquareFeetNumber"]
[null,null,"StyleType"]
[null,null,"PptyUnitTypeOccupiedUnitCount"]
[null,null,"VacantUnitCount"]
[null,null,"PptyUnitTypeDownUnitCount"]
[null,null,"PptyUnitTypeOtherUnitCount"]
[null,null,"PptyUnitTypeOccupiedInspectedUnitCount"]
[null,null,"PptyUnitTypeVacantInspectedUnitCount"]
[null,null,"PptyUnitTypeDownInspectedUnitCount"]
[null,null,"PptyUnitTypeOtherInspectedUnitCount"]
[null,null,"BedroomCount"]
[null,null,"BathroomCount"]
[null,null,"AvgSquareFeetNumber"]
[null,null,"StyleType"]
[null,null,"PptyUnitTypeOccupiedUnitCount"]
[null,null,"VacantUnitCount"]
[null,null,"PptyUnitTypeDownUnitCount"]
[null,null,"PptyUnitTypeOtherUnitCount"]
[null,null,"PptyUnitTypeOccupiedInspectedUnitCount"]
[null,null,"PptyUnitTypeVacantInspectedUnitCount"]
[null,null,"PptyUnitTypeDownInspectedUnitCount"]
[null,null,"PptyUnitTypeOtherInspectedUnitCount"]
[null,null,"BedroomCount"]
[null,null,"BathroomCount"]
[null,null,"AvgSquareFeetNumber"]
[null,null,"StyleType"]
[null,null,"PptyUnitTypeOccupiedUnitCount"]
[null,null,"VacantUnitCount"]
[null,null,"PptyUnitTypeDownUnitCount"]
[null,null,"PptyUnitTypeOtherUnitCount"]
[null,null,"PptyUnitTypeOccupiedInspectedUnitCount"]
[null,null,"PptyUnitTypeVacantInspectedUnitCount"]
[null,null,"PptyUnitTypeDownInspectedUnitCount"]
[null,null,"PptyUnitTypeOtherInspectedUnitCount"]
[null,null,"BedroomCount"]
[null,null,"BathroomCount"]
[null,null,"AvgSquareFeetNumber"]
[null,null,"StyleType"]
[null,null,"PptyUnitTypeOccupiedUnitCount"]
[null,null,"VacantUnitCount"]
[null,null,"PptyUnitTypeDownUnitCount"]
[null,null,"PptyUnitTypeOtherUnitCount"]
[null,null,"PptyUnitTypeOccupiedInspectedUnitCount"]
[null,null,"PptyUnitTypeVacantInspectedUnitCount"]
[null,null,"PptyUnitTypeDownInspectedUnitCount"]
[null,null,"PptyUnitTypeOtherInspectedUnitCount"]
[null,null,"BedroomCount"]
[null,null,"BathroomCount"]
[null,null,"AvgSquareFeetNumber"]
[null,null,"StyleType"]
[null,null,"PptyUnitTypeOccupiedUnitCount"]
[null,null,"VacantUnitCount"]
[null,null,"PptyUnitTypeDownUnitCount"]
[null,null,"PptyUnitTypeOtherUnitCount"]
[null,null,"PptyUnitTypeOccupiedInspectedUnitCount"]
[null,null,"PptyUnitTypeVacantInspectedUnitCount"]
[null,null,"PptyUnitTypeDownInspectedUnitCount"]
[null,null,"PptyUnitTypeOtherInspectedUnitCount"]
[null,null,"BedroomCount"]
[null,null,"BathroomCount"]
[null,null,"AvgSquareFeetNumber"]
[null,null,"StyleType"]
[null,null,"PptyUnitTypeOccupiedUnitCount"]
[null,null,"VacantUnitCount"]
[null,null,"PptyUnitTypeDownUnitCount"]
[null,null,"PptyUnitTypeOtherUnitCount"]
[null,null,"PptyUnitTypeOccupiedInspectedUnitCount"]
[null,null,"PptyUnitTypeVacantInspectedUnitCount"]
[null,null,"PptyUnitTypeDownInspectedUnitCount"]
[null,null,"PptyUnitTypeOtherInspectedUnitCount"]
[null,null,"BedroomCount"]
[null,null,"BathroomCount"]
[null,null,"AvgSquareFeetNumber"]
[null,null,"StyleType"]
[null,null,"PptyUnitTypeOccupiedUnitCount"]
[null,null,"VacantUnitCount"]
[null,null,"PptyUnitTypeDownUnitCount"]
[null,null,"PptyUnitTypeOtherUnitCount"]
[null,null,"PptyUnitTypeOccupiedInspectedUnitCount"]
[null,null,"PptyUnitTypeVacantInspectedUnitCount"]
[null,null,"PptyUnitTypeDownInspectedUnitCount"]
[null,null,"PptyUnitTypeOtherInspectedUnitCount"]
[null,null,"BedroomCount"]
[null,null,"BathroomCount"]
[null,null,"AvgSquareFeetNumber"]
[null,null,"StyleType"]
[null,null,"PptyUnitTypeOccupiedUnitCount"]
[null,null,"VacantUnitCount"]
[null,null,"PptyUnitTypeDownUnitCount"]
[null,null,"PptyUnitTypeOtherUnitCount"]
[null,null,"PptyUnitTypeOccupiedInspectedUnitCount"]
[null,null,"PptyUnitTypeVacantInspectedUnitCount"]
[null,null,"PptyUnitTypeDownInspectedUnitCount"]
[null,null,"PptyUnitTypeOtherInspectedUnitCount"]
[null,null,"BedroomCount"]
[null,null,"BathroomCount"]
[null,null,"AvgSquareFeetNumber"]
[null,null,"StyleType"]
[null,null,"PptyUnitTypeOccupiedUnitCount"]
[null,null,"VacantUnitCount"]
[null,null,"PptyUnitTypeDownUnitCount"]
[null,null,"PptyUnitTypeOtherUnitCount"]
[null,null,"PptyUnitTypeOccupiedInspectedUnitCount"]
[null,null,"PptyUnitTypeVacantInspectedUnitCount"]
[null,null,"PptyUnitTypeDownInspectedUnitCount"]
[null,null,"PptyUnitTypeOtherInspectedUnitCount"]
[null,null,"BedroomCount"]
[null,null,"BathroomCount"]
[null,null,"AvgSquareFeetNumber"]
[null,null,"StyleType"]
[null,null,"PptyUnitTypeOccupiedUnitCount"]
[null,null,"VacantUnitCount"]
[null,null,"PptyUnitTypeDownUnitCount"]
[null,null,"PptyUnitTypeOtherUnitCount"]
[null,null,"PptyUnitTypeOccupiedInspectedUnitCount"]
[null,null,"PptyUnitTypeVacantInspectedUnitCount"]
[null,null,"PptyUnitTypeDownInspectedUnitCount"]
[null,null,"PptyUnitTypeOtherInspectedUnitCount"]
[null,null,"BedroomCount"]
[null,null,"BathroomCount"]
[null,null,"AvgSquareFeetNumber"]
[null,null,"StyleType"]
[null,null,"PptyUnitTypeOccupiedUnitCount"]
[null,null,"VacantUnitCount"]
[null,null,"PptyUnitTypeDownUnitCount"]
[null,null,"PptyUnitTypeOtherUnitCount"]
[null,null,"PptyUnitTypeOccupiedInspectedUnitCount"]
[null,null,"PptyUnitTypeVacantInspectedUnitCount"]
[null,null,"PptyUnitTypeDownInspectedUnitCount"]
[null,null,"PptyUnitTypeOtherInspectedUnitCount"]
[null,null,"BedroomCount"]
[null,null,"BathroomCount"]
[null,null,"AvgSquareFeetNumber"]
[null,null,"StyleType"]
[null,null,"PptyUnitTypeOccupiedUnitCount"]
[null,null,"VacantUnitCount"]
[null,null,"PptyUnitTypeDownUnitCount"]
[null,null,"PptyUnitTypeOtherUnitCount"]
[null,null,"PptyUnitTypeOccupiedInspectedUnitCount"]
[null,null,"PptyUnitTypeVacantInspectedUnitCount"]
[null,null,"PptyUnitTypeDownInspectedUnitCount"]
[null,null,"PptyUnitTypeOtherInspectedUnitCount"]
[null,null,"BedroomCount"]
[null,null,"BathroomCount"]
[null,null,"AvgSquareFeetNumber"]
[null,null,"StyleType"]
[null,null,"PptyUnitTypeOccupiedUnitCount"]
[null,null,"VacantUnitCount"]
[null,null,"PptyUnitTypeDownUnitCount"]
[null,null,"PptyUnitTypeOtherUnitCount"]
[null,null,"PptyUnitTypeOccupiedInspectedUnitCount"]
[null,null,"PptyUnitTypeVacantInspectedUnitCount"]
[null,null,"PptyUnitTypeDownInspectedUnitCount"]
[null,null,"PptyUnitTypeOtherInspectedUnitCount"]
[null,null,"BedroomCount"]
[null,null,"BathroomCount"]
[null,null,"AvgSquareFeetNumber"]
[null,null,"StyleType"]
[null,null,"PptyUnitTypeOccupiedUnitCount"]
[null,null,"VacantUnitCount"]
[null,null,"PptyUnitTypeDownUnitCount"]
[null,null,"PptyUnitTypeOtherUnitCount"]
[null,null,"PptyUnitTypeOccupiedInspectedUnitCount"]
[null,null,"PptyUnitTypeVacantInspectedUnitCount"]
[null,null,"PptyUnitTypeDownInspectedUnitCount"]
[null,null,"PptyUnitTypeOtherInspectedUnitCount"]
[null,null,"BedroomCount"]
[null,null,"BathroomCount"]
[null,null,"AvgSquareFeetNumber"]
[null,null,"StyleType"]
[null,null,"PptyUnitTypeOccupiedUnitCount"]
[null,null,"VacantUnitCount"]
[null,null,"PptyUnitTypeDownUnitCount"]
[null,null,"PptyUnitTypeOtherUnitCount"]
[null,null,"PptyUnitTypeOccupiedInspectedUnitCount"]
[null,null,"PptyUnitTypeVacantInspectedUnitCount"]
[null,null,"PptyUnitTypeDownInspectedUnitCount"]
[null,null,"PptyUnitTypeOtherInspectedUnitCount"]
[null,null,"BedroomCount"]
[null,null,"BathroomCount"]
[null,null,"AvgSquareFeetNumber"]
[null,null,"StyleType"]
[null,null,"PptyUnitTypeOccupiedUnitCount"]
[null,null,"VacantUnitCount"]
[null,null,"PptyUnitTypeDownUnitCount"]
[null,null,"PptyUnitTypeOtherUnitCount"]
[null,null,"PptyUnitTypeOccupiedInspectedUnitCount"]
[null,null,"PptyUnitTypeVacantInspectedUnitCount"]
[null,null,"PptyUnitTypeDownInspectedUnitCount"]
[null,null,"PptyUnitTypeOtherInspectedUnitCount"]
[null,null,"BedroomCount"]
[null,null,"BathroomCount"]
[null,null,"AvgSquareFeetNumber"]
[null,null,"StyleType"]
[null,null,"PptyUnitTypeOccupiedUnitCount"]
[null,null,"VacantUnitCount"]
[null,null,"PptyUnitTypeDownUnitCount"]
[null,null,"PptyUnitTypeOtherUnitCount"]
[null,null,"PptyUnitTypeOccupiedInspectedUnitCount"]
[null,null,"PptyUnitTypeVacantInspectedUnitCount"]
[null,null,"PptyUnitTypeDownInspectedUnitCount"]
[null,null,"PptyUnitTypeOtherInspectedUnitCount"]
[null,null,"BedroomCount"]
[null,null,"BathroomCount"]
[null,null,"AvgSquareFeetNumber"]
[null,null,"StyleType"]
[null,null,"PptyUnitTypeOccupiedUnitCount"]
[null,null,"VacantUnitCount"]
[null,null,"PptyUnitTypeDownUnitCount"]
[null,null,"PptyUnitTypeOtherUnitCount"]
[null,null,"PptyUnitTypeOccupiedInspectedUnitCount"]
[null,null,"PptyUnitTypeVacantInspectedUnitCount"]
[null,null,"PptyUnitTypeDownInspectedUnitCount"]
[null,null,"PptyUnitTypeOtherInspectedUnitCount"]
[null,null,"BedroomCount"]
[null,null,"BathroomCount"]
[null,null,"AvgSquareFeetNumber"]
[null,null,"StyleType"]
[null,null,"PptyUnitTypeOccupiedUnitCount"]
[null,null,"VacantUnitCount"]
[null,null,"PptyUnitTypeDownUnitCount"]
[null,null,"PptyUnitTypeOtherUnitCount"]
[null,null,"PptyUnitTypeOccupiedInspectedUnitCount"]
[null,null,"PptyUnitTypeVacantInspectedUnitCount"]
[null,null,"PptyUnitTypeDownInspectedUnitCount"]
[null,null,"PptyUnitTypeOtherInspectedUnitCount"]
[null,null,"BedroomCount"]
[null,null,"BathroomCount"]
[null,null,"AvgSquareFeetNumber"]
[null,null,"StyleType"]
[null,null,"PptyUnitTypeOccupiedUnitCount"]
[null,null,"VacantUnitCount"]
[null,null,"PptyUnitTypeDownUnitCount"]
[null,null,"PptyUnitTypeOtherUnitCount"]
[null,null,"PptyUnitTypeOccupiedInspectedUnitCount"]
[null,null,"PptyUnitTypeVacantInspectedUnitCount"]
[null,null,"PptyUnitTypeDownInspectedUnitCount"]
[null,null,"PptyUnitTypeOtherInspectedUnitCount"]
[null,null,"BedroomCount"]
[null,null,"BathroomCount"]
[null,null,"AvgSquareFeetNumber"]
[null,null,"StyleType"]
[null,null,"PptyUnitTypeOccupiedUnitCount"]
[null,null,"VacantUnitCount"]
[null,null,"PptyUnitTypeDownUnitCount"]
[null,null,"PptyUnitTypeOtherUnitCount"]
[null,null,"PptyUnitTypeOccupiedInspectedUnitCount"]
[null,null,"PptyUnitTypeVacantInspectedUnitCount"]
[null,null,"PptyUnitTypeDownInspectedUnitCount"]
[null,null,"PptyUnitTypeOtherInspectedUnitCount"]
[null,null,"BedroomCount"]
[null,null,"BathroomCount"]
[null,null,"AvgSquareFeetNumber"]
[null,null,"StyleType"]
[null,null,"PptyUnitTypeOccupiedUnitCount"]
[null,null,"VacantUnitCount"]
[null,null,"PptyUnitTypeDownUnitCount"]
[null,null,"PptyUnitTypeOtherUnitCount"]
[null,null,"PptyUnitTypeOccupiedInspectedUnitCount"]
[null,null,"PptyUnitTypeVacantInspectedUnitCount"]
[null,null,"PptyUnitTypeDownInspectedUnitCount"]
[null,null,"PptyUnitTypeOtherInspectedUnitCount"]
[null,null,"BedroomCount"]
[null,null,"BathroomCount"]
[null,null,"AvgSquareFeetNumber"]
[null,null,"StyleType"]
[null,null,"PptyUnitTypeOccupiedUnitCount"]
[null,null,"VacantUnitCount"]
[null,null,"PptyUnitTypeDownUnitCount"]
[null,null,"PptyUnitTypeOtherUnitCount"]
[null,null,"PptyUnitTypeOccupiedInspectedUnitCount"]
[null,null,"PptyUnitTypeVacantInspectedUnitCount"]
[null,null,"PptyUnitTypeDownInspectedUnitCount"]
[null,null,"PptyUnitTypeOtherInspectedUnitCount"]
[null,null,"BedroomCount"]
[null,null,"BathroomCount"]
[null,null,"AvgSquareFeetNumber"]
[null,null,"StyleType"]
[null,null,"PptyUnitTypeOccupiedUnitCount"]
[null,null,"VacantUnitCount"]
[null,null,"PptyUnitTypeDownUnitCount"]
[null,null,"PptyUnitTypeOtherUnitCount"]
[null,null,"PptyUnitTypeOccupiedInspectedUnitCount"]
[null,null,"PptyUnitTypeVacantInspectedUnitCount"]
[null,null,"PptyUnitTypeDownInspectedUnitCount"]
[null,null,"PptyUnitTypeOtherInspectedUnitCount"]
[null,null,"BedroomCount"]
[null,null,"BathroomCount"]
[null,null,"AvgSquareFeetNumber"]
[null,null,"StyleType"]
[null,null,"PptyUnitTypeOccupiedUnitCount"]
[null,null,"VacantUnitCount"]
[null,null,"PptyUnitTypeDownUnitCount"]
[null,null,"PptyUnitTypeOtherUnitCount"]
[null,null,"PptyUnitTypeOccupiedInspectedUnitCount"]
[null,null,"PptyUnitTypeVacantInspectedUnitCount"]
[null,null,"PptyUnitTypeDownInspectedUnitCount"]
[null,null,"PptyUnitTypeOtherInspectedUnitCount"]
[null,null,"BedroomCount"]
[null,null,"BathroomCount"]
[null,null,"AvgSquareFeetNumber"]
[null,null,"StyleType"]
[null,null,"PptyUnitTypeOccupiedUnitCount"]
[null,null,"VacantUnitCount"]
[null,null,"PptyUnitTypeDownUnitCount"]
[null,null,"PptyUnitTypeOtherUnitCount"]
[null,null,"PptyUnitTypeOccupiedInspectedUnitCount"]
[null,null,"PptyUnitTypeVacantInspectedUnitCount"]
[null,null,"PptyUnitTypeDownInspectedUnitCount"]
[null,null,"PptyUnitTypeOtherInspectedUnitCount"]
[null,null,"BedroomCount"]
[null,null,"BathroomCount"]
[null,null,"AvgSquareFeetNumber"]
[null,null,"StyleType"]
[null,null,"PptyUnitTypeOccupiedUnitCount"]
[null,null,"VacantUnitCount"]
[null,null,"PptyUnitTypeDownUnitCount"]
[null,null,"PptyUnitTypeOtherUnitCount"]
[null,null,"PptyUnitTypeOccupiedInspectedUnitCount"]
[null,null,"PptyUnitTypeVacantInspectedUnitCount"]
[null,null,"PptyUnitTypeDownInspectedUnitCount"]
[null,null,"PptyUnitTypeOtherInspectedUnitCount"]
[null,null,"BedroomCount"]
[null,null,"BathroomCount"]
[null,null,"AvgSquareFeetNumber"]
[null,null,"StyleType"]
[null,null,"PptyUnitTypeOccupiedUnitCount"]
[null,null,"VacantUnitCount"]
[null,null,"PptyUnitTypeDownUnitCount"]
[null,null,"PptyUnitTypeOtherUnitCount"]
[null,null,"PptyUnitTypeOccupiedInspectedUnitCount"]
[null,null,"PptyUnitTypeVacantInspectedUnitCount"]
[null,null,"PptyUnitTypeDownInspectedUnitCount"]
[null,null,"PptyUnitTypeOtherInspectedUnitCount"]
[null,null,"BedroomCount"]
[null,null,"BathroomCount"]
[null,null,"AvgSquareFeetNumber"]
[null,null,"StyleType"]
[null,null,"PptyUnitTypeOccupiedUnitCount"]
[null,null,"VacantUnitCount"]
[null,null,"PptyUnitTypeDownUnitCount"]
[null,null,"PptyUnitTypeOtherUnitCount"]
[null,null,"PptyUnitTypeOccupiedInspectedUnitCount"]
[null,null,"PptyUnitTypeVacantInspectedUnitCount"]
[null,null,"PptyUnitTypeDownInspectedUnitCount"]
[null,null,"PptyUnitTypeOtherInspectedUnitCount"]
[null,null,"BedroomCount"]
[null,null,"BathroomCount"]
[null,null,"AvgSquareFeetNumber"]
[null,null,"StyleType"]
[null,null,"PptyUnitTypeOccupiedUnitCount"]
[null,null,"VacantUnitCount"]
[null,null,"PptyUnitTypeDownUnitCount"]
[null,null,"PptyUnitTypeOtherUnitCount"]
[null,null,"PptyUnitTypeOccupiedInspectedUnitCount"]
[null,null,"PptyUnitTypeVacantInspectedUnitCount"]
[null,null,"PptyUnitTypeDownInspectedUnitCount"]
[null,null,"PptyUnitTypeOtherInspectedUnitCount"]
[null,null,"BedroomCount"]
[null,null,"BathroomCount"]
[null,null,"AvgSquareFeetNumber"]
[null,null,"StyleType"]
[null,null,"PptyUnitTypeOccupiedUnitCount"]
[null,null,"VacantUnitCount"]
[null,null,"PptyUnitTypeDownUnitCount"]
[null,null,"PptyUnitTypeOtherUnitCount"]
[null,null,"PptyUnitTypeOccupiedInspectedUnitCount"]
[null,null,"PptyUnitTypeVacantInspectedUnitCount"]
[null,null,"PptyUnitTypeDownInspectedUnitCount"]
[null,null,"PptyUnitTypeOtherInspectedUnitCount"]
[null,null,"BedroomCount"]
[null,null,"BathroomCount"]
[null,null,"AvgSquareFeetNumber"]
[null,null,"StyleType"]
[null,null,"PptyUnitTypeOccupiedUnitCount"]
[null,null,"VacantUnitCount"]
[null,null,"PptyUnitTypeDownUnitCount"]
[null,null,"PptyUnitTypeOtherUnitCount"]
[null,null,"PptyUnitTypeOccupiedInspectedUnitCount"]
[null,null,"PptyUnitTypeVacantInspectedUnitCount"]
[null,null,"PptyUnitTypeDownInspectedUnitCount"]
[null,null,"PptyUnitTypeOtherInspectedUnitCount"]
[null,null,"BedroomCount"]
[null,null,"BathroomCount"]
[null,null,"AvgSquareFeetNumber"]
[null,null,"StyleType"]
[null,null,"PptyUnitTypeOccupiedUnitCount"]
[null,null,"VacantUnitCount"]
[null,null,"PptyUnitTypeDownUnitCount"]
[null,null,"PptyUnitTypeOtherUnitCount"]
[null,null,"PptyUnitTypeOccupiedInspectedUnitCount"]
[null,null,"PptyUnitTypeVacantInspectedUnitCount"]
[null,null,"PptyUnitTypeDownInspectedUnitCount"]
[null,null,"PptyUnitTypeOtherInspectedUnitCount"]
[null,null,"BedroomCount"]
[null,null,"BathroomCount"]
[null,null,"AvgSquareFeetNumber"]
[null,null,"StyleType"]
[null,null,"PptyUnitTypeOccupiedUnitCount"]
[null,null,"VacantUnitCount"]
[null,null,"PptyUnitTypeDownUnitCount"]
[null,null,"PptyUnitTypeOtherUnitCount"]
[null,null,"PptyUnitTypeOccupiedInspectedUnitCount"]
[null,null,"PptyUnitTypeVacantInspectedUnitCount"]
[null,null,"PptyUnitTypeDownInspectedUnitCount"]
[null,null,"PptyUnitTypeOtherInspectedUnitCount"]
[null,null,"BedroomCount"]
[null,null,"BathroomCount"]
[null,null,"AvgSquareFeetNumber"]
[null,null,"StyleType"]
[null,null,"PptyUnitTypeOccupiedUnitCount"]
[null,null,"VacantUnitCount"]
[null,null,"PptyUnitTypeDownUnitCount"]
[null,null,"PptyUnitTypeOtherUnitCount"]
[null,null,"PptyUnitTypeOccupiedInspectedUnitCount"]
[null,null,"PptyUnitTypeVacantInspectedUnitCount"]
[null,null,"PptyUnitTypeDownInspectedUnitCount"]
[null,null,"PptyUnitTypeOtherInspectedUnitCount"]
[null,null,"BedroomCount"]
[null,null,"BathroomCount"]
[null,null,"AvgSquareFeetNumber"]
[null,null,"StyleType"]
[null,null,"PptyUnitTypeOccupiedUnitCount"]
[null,null,"VacantUnitCount"]
[null,null,"PptyUnitTypeDownUnitCount"]
[null,null,"PptyUnitTypeOtherUnitCount"]
[null,null,"PptyUnitTypeOccupiedInspectedUnitCount"]
[null,null,"PptyUnitTypeVacantInspectedUnitCount"]
[null,null,"PptyUnitTypeDownInspectedUnitCount"]
[null,null,"PptyUnitTypeOtherInspectedUnitCount"]
[null,null,"BedroomCount"]
[null,null,"BathroomCount"]
[null,null,"AvgSquareFeetNumber"]
[null,null,"StyleType"]
[null,null,"PptyUnitTypeOccupiedUnitCount"]
[null,null,"VacantUnitCount"]
[null,null,"PptyUnitTypeDownUnitCount"]
[null,null,"PptyUnitTypeOtherUnitCount"]
[null,null,"PptyUnitTypeOccupiedInspectedUnitCount"]
[null,null,"PptyUnitTypeVacantInspectedUnitCount"]
[null,null,"PptyUnitTypeDownInspectedUnitCount"]
[null,null,"PptyUnitTypeOtherInspectedUnitCount"]
[null,null,"BedroomCount"]
[null,null,"BathroomCount"]
[null,null,"AvgSquareFeetNumber"]
[null,null,"StyleType"]
[null,null,"PptyUnitTypeOccupiedUnitCount"]
[null,null,"VacantUnitCount"]
[null,null,"PptyUnitTypeDownUnitCount"]
[null,null,"PptyUnitTypeOtherUnitCount"]
[null,null,"PptyUnitTypeOccupiedInspectedUnitCount"]
[null,null,"PptyUnitTypeVacantInspectedUnitCount"]
[null,null,"PptyUnitTypeDownInspectedUnitCount"]
[null,null,"PptyUnitTypeOtherInspectedUnitCount"]
[null,null,"BedroomCount"]
[null,null,"BathroomCount"]
[null,null,"AvgSquareFeetNumber"]
[null,null,"StyleType"]
[null,null,"PptyUnitTypeOccupiedUnitCount"]
[null,null,"VacantUnitCount"]
[null,null,"PptyUnitTypeDownUnitCount"]
[null,null,"PptyUnitTypeOtherUnitCount"]
[null,null,"PptyUnitTypeOccupiedInspectedUnitCount"]
[null,null,"PptyUnitTypeVacantInspectedUnitCount"]
[null,null,"PptyUnitTypeDownInspectedUnitCount"]
[null,null,"PptyUnitTypeOtherInspectedUnitCount"]
[null,null,"BedroomCount"]
[null,null,"BathroomCount"]
[null,null,"AvgSquareFeetNumber"]
[null,null,"StyleType"]
[null,null,"PptyUnitTypeOccupiedUnitCount"]
[null,null,"VacantUnitCount"]
[null,null,"PptyUnitTypeDownUnitCount"]
[null,null,"PptyUnitTypeOtherUnitCount"]
[null,null,"PptyUnitTypeOccupiedInspectedUnitCount"]
[null,null,"PptyUnitTypeVacantInspectedUnitCount"]
[null,null,"PptyUnitTypeDownInspectedUnitCount"]
[null,null,"PptyUnitTypeOtherInspectedUnitCount"]
[null,null,"BedroomCount"]
[null,null,"BathroomCount"]
[null,null,"AvgSquareFeetNumber"]
[null,null,"StyleType"]
[null,null,"PptyUnitTypeOccupiedUnitCount"]
[null,null,"VacantUnitCount"]
[null,null,"PptyUnitTypeDownUnitCount"]
[null,null,"PptyUnitTypeOtherUnitCount"]
[null,null,"PptyUnitTypeOccupiedInspectedUnitCount"]
[null,null,"PptyUnitTypeVacantInspectedUnitCount"]
[null,null,"PptyUnitTypeDownInspectedUnitCount"]
[null,null,"PptyUnitTypeOtherInspectedUnitCount"]
[null,null,"BedroomCount"]
[null,null,"BathroomCount"]
[null,null,"AvgSquareFeetNumber"]
[null,null,"StyleType"]
[null,null,"PptyUnitTypeOccupiedUnitCount"]
[null,null,"VacantUnitCount"]
[null,null,"PptyUnitTypeDownUnitCount"]
[null,null,"PptyUnitTypeOtherUnitCount"]
[null,null,"PptyUnitTypeOccupiedInspectedUnitCount"]
[null,null,"PptyUnitTypeVacantInspectedUnitCount"]
[null,null,"PptyUnitTypeDownInspectedUnitCount"]
[null,null,"PptyUnitTypeOtherInspectedUnitCount"]
[null,null,"BedroomCount"]
[null,null,"BathroomCount"]
[null,null,"AvgSquareFeetNumber"]
[null,null,"StyleType"]
[null,null,"PptyUnitTypeOccupiedUnitCount"]
[null,null,"VacantUnitCount"]
[null,null,"PptyUnitTypeDownUnitCount"]
[null,null,"PptyUnitTypeOtherUnitCount"]
[null,null,"PptyUnitTypeOccupiedInspectedUnitCount"]
[null,null,"PptyUnitTypeVacantInspectedUnitCount"]
[null,null,"PptyUnitTypeDownInspectedUnitCount"]
[null,null,"PptyUnitTypeOtherInspectedUnitCount"]
[null,null,"BedroomCount"]
[null,null,"BathroomCount"]
[null,null,"AvgSquareFeetNumber"]
[null,null,"StyleType"]
[null,null,"PptyUnitTypeOccupiedUnitCount"]
[null,null,"VacantUnitCount"]
[null,null,"PptyUnitTypeDownUnitCount"]
[null,null,"PptyUnitTypeOtherUnitCount"]
[null,null,"PptyUnitTypeOccupiedInspectedUnitCount"]
[null,null,"PptyUnitTypeVacantInspectedUnitCount"]
[null,null,"PptyUnitTypeDownInspectedUnitCount"]
[null,null,"PptyUnitTypeOtherInspectedUnitCount"]
[null,null,"BedroomCount"]
[null,null,"BathroomCount"]
[null,null,"AvgSquareFeetNumber"]
[null,null,"StyleType"]
[null,null,"PptyUnitTypeOccupiedUnitCount"]
[null,null,"VacantUnitCount"]
[null,null,"PptyUnitTypeDownUnitCount"]
[null,null,"PptyUnitTypeOtherUnitCount"]
[null,null,"PptyUnitTypeOccupiedInspectedUnitCount"]
[null,null,"PptyUnitTypeVacantInspectedUnitCount"]
[null,null,"PptyUnitTypeDownInspectedUnitCount"]
[null,null,"PptyUnitTypeOtherInspectedUnitCount"]
[null,null,"BedroomCount"]
[null,null,"BathroomCount"]
[null,null,"AvgSquareFeetNumber"]
[null,null,"StyleType"]
[null,null,"PptyUnitTypeOccupiedUnitCount"]
[null,null,"VacantUnitCount"]
[null,null,"PptyUnitTypeDownUnitCount"]
[null,null,"PptyUnitTypeOtherUnitCount"]
[null,null,"PptyUnitTypeOccupiedInspectedUnitCount"]
[null,null,"PptyUnitTypeVacantInspectedUnitCount"]
[null,null,"PptyUnitTypeDownInspectedUnitCount"]
[null,null,"PptyUnitTypeOtherInspectedUnitCount"]
[null,null,"BedroomCount"]
[null,null,"BathroomCount"]
[null,null,"AvgSquareFeetNumber"]
[null,null,"StyleType"]
[null,null,"PptyUnitTypeOccupiedUnitCount"]
[null,null,"VacantUnitCount"]
[null,null,"PptyUnitTypeDownUnitCount"]
[null,null,"PptyUnitTypeOtherUnitCount"]
[null,null,"PptyUnitTypeOccupiedInspectedUnitCount"]
[null,null,"PptyUnitTypeVacantInspectedUnitCount"]
[null,null,"PptyUnitTypeDownInspectedUnitCount"]
[null,null,"PptyUnitTypeOtherInspectedUnitCount"]
[null,null,"BedroomCount"]
[null,null,"BathroomCount"]
[null,null,"AvgSquareFeetNumber"]
[null,null,"StyleType"]
[null,null,"PptyUnitTypeOccupiedUnitCount"]
[null,null,"VacantUnitCount"]
[null,null,"PptyUnitTypeDownUnitCount"]
[null,null,"PptyUnitTypeOtherUnitCount"]
[null,null,"PptyUnitTypeOccupiedInspectedUnitCount"]
[null,null,"PptyUnitTypeVacantInspectedUnitCount"]
[null,null,"PptyUnitTypeDownInspectedUnitCount"]
[null,null,"PptyUnitTypeOtherInspectedUnitCount"]
[null,null,"BedroomCount"]
[null,null,"BathroomCount"]
[null,null,"AvgSquareFeetNumber"]
[null,null,"StyleType"]
[null,null,"PptyUnitTypeOccupiedUnitCount"]
[null,null,"VacantUnitCount"]
[null,null,"PptyUnitTypeDownUnitCount"]
[null,null,"PptyUnitTypeOtherUnitCount"]
[null,null,"PptyUnitTypeOccupiedInspectedUnitCount"]
[null,null,"PptyUnitTypeVacantInspectedUnitCount"]
[null,null,"PptyUnitTypeDownInspectedUnitCount"]
[null,null,"PptyUnitTypeOtherInspectedUnitCount"]
[null,null,"BedroomCount"]
[null,null,"BathroomCount"]
[null,null,"AvgSquareFeetNumber"]
[null,null,"StyleType"]
[null,null,"PptyUnitTypeOccupiedUnitCount"]
[null,null,"VacantUnitCount"]
[null,null,"PptyUnitTypeDownUnitCount"]
[null,null,"PptyUnitTypeOtherUnitCount"]
[null,null,"PptyUnitTypeOccupiedInspectedUnitCount"]
[null,null,"PptyUnitTypeVacantInspectedUnitCount"]
[null,null,"PptyUnitTypeDownInspectedUnitCount"]
[null,null,"PptyUnitTypeOtherInspectedUnitCount"]
[null,null,"BedroomCount"]
[null,null,"BathroomCount"]
[null,null,"AvgSquareFeetNumber"]
[null,null,"StyleType"]
[null,null,"PptyUnitTypeOccupiedUnitCount"]
[null,null,"VacantUnitCount"]
[null,null,"PptyUnitTypeDownUnitCount"]
[null,null,"PptyUnitTypeOtherUnitCount"]
[null,null,"PptyUnitTypeOccupiedInspectedUnitCount"]
[null,null,"PptyUnitTypeVacantInspectedUnitCount"]
[null,null,"PptyUnitTypeDownInspectedUnitCount"]
[null,null,"PptyUnitTypeOtherInspectedUnitCount"]
[null,null,"BedroomCount"]
[null,null,"BathroomCount"]
[null,null,"AvgSquareFeetNumber"]
[null,null,"StyleType"]
[null,null,"PptyUnitTypeOccupiedUnitCount"]
[null,null,"VacantUnitCount"]
[null,null,"PptyUnitTypeDownUnitCount"]
[null,null,"PptyUnitTypeOtherUnitCount"]
[null,null,"PptyUnitTypeOccupiedInspectedUnitCount"]
[null,null,"PptyUnitTypeVacantInspectedUnitCount"]
[null,null,"PptyUnitTypeDownInspectedUnitCount"]
[null,null,"PptyUnitTypeOtherInspectedUnitCount"]
[null,null,"BedroomCount"]
[null,null,"BathroomCount"]
[null,null,"AvgSquareFeetNumber"]
[null,null,"StyleType"]
[null,null,"PptyUnitTypeOccupiedUnitCount"]
[null,null,"VacantUnitCount"]
[null,null,"PptyUnitTypeDownUnitCount"]
[null,null,"PptyUnitTypeOtherUnitCount"]
[null,null,"PptyUnitTypeOccupiedInspectedUnitCount"]
[null,null,"PptyUnitTypeVacantInspectedUnitCount"]
[null,null,"PptyUnitTypeDownInspectedUnitCount"]
[null,null,"PptyUnitTypeOtherInspectedUnitCount"]
[null,null,"BedroomCount"]
[null,null,"BathroomCount"]
[null,null,"AvgSquareFeetNumber"]
[null,null,"StyleType"]
[null,null,"PptyUnitTypeOccupiedUnitCount"]
[null,null,"VacantUnitCount"]
[null,null,"PptyUnitTypeDownUnitCount"]
[null,null,"PptyUnitTypeOtherUnitCount"]
[null,null,"PptyUnitTypeOccupiedInspectedUnitCount"]
[null,null,"PptyUnitTypeVacantInspectedUnitCount"]
[null,null,"PptyUnitTypeDownInspectedUnitCount"]
[null,null,"PptyUnitTypeOtherInspectedUnitCount"]
[null,null,"BedroomCount"]
[null,null,"BathroomCount"]
[null,null,"AvgSquareFeetNumber"]
[null,null,"StyleType"]
[null,null,"PptyUnitTypeOccupiedUnitCount"]
[null,null,"VacantUnitCount"]
[null,null,"PptyUnitTypeDownUnitCount"]
[null,null,"PptyUnitTypeOtherUnitCount"]
[null,null,"PptyUnitTypeOccupiedInspectedUnitCount"]
[null,null,"PptyUnitTypeVacantInspectedUnitCount"]
[null,null,"PptyUnitTypeDownInspectedUnitCount"]
[null,null,"PptyUnitTypeOtherInspectedUnitCount"]
[null,null,"BedroomCount"]
[null,null,"BathroomCount"]
[null,null,"AvgSquareFeetNumber"]
[null,null,"StyleType"]
[null,null,"PptyUnitTypeOccupiedUnitCount"]
[null,null,"VacantUnitCount"]
[null,null,"PptyUnitTypeDownUnitCount"]
[null,null,"PptyUnitTypeOtherUnitCount"]
[null,null,"PptyUnitTypeOccupiedInspectedUnitCount"]
[null,null,"PptyUnitTypeVacantInspectedUnitCount"]
[null,null,"PptyUnitTypeDownInspectedUnitCount"]
[null,null,"PptyUnitTypeOtherInspectedUnitCount"]
[null,null,"BedroomCount"]
[null,null,"BathroomCount"]
[null,null,"AvgSquareFeetNumber"]
[null,null,"StyleType"]
[null,null,"PptyUnitTypeOccupiedUnitCount"]
[null,null,"VacantUnitCount"]
[null,null,"PptyUnitTypeDownUnitCount"]
[null,null,"PptyUnitTypeOtherUnitCount"]
[null,null,"PptyUnitTypeOccupiedInspectedUnitCount"]
[null,null,"PptyUnitTypeVacantInspectedUnitCount"]
[null,null,"PptyUnitTypeDownInspectedUnitCount"]
[null,null,"PptyUnitTypeOtherInspectedUnitCount"]
[null,null,"BedroomCount"]
[null,null,"BathroomCount"]
[null,null,"AvgSquareFeetNumber"]
[null,null,"StyleType"]
[null,null,"PptyUnitTypeOccupiedUnitCount"]
[null,null,"VacantUnitCount"]
[null,null,"PptyUnitTypeDownUnitCount"]
[null,null,"PptyUnitTypeOtherUnitCount"]
[null,null,"PptyUnitTypeOccupiedInspectedUnitCount"]
[null,null,"PptyUnitTypeVacantInspectedUnitCount"]
[null,null,"PptyUnitTypeDownInspectedUnitCount"]
[null,null,"PptyUnitTypeOtherInspectedUnitCount"]
[null,null,"BedroomCount"]
[null,null,"BathroomCount"]
[null,null,"AvgSquareFeetNumber"]
[null,null,"StyleType"]
[null,null,"PptyUnitTypeOccupiedUnitCount"]
[null,null,"VacantUnitCount"]
[null,null,"PptyUnitTypeDownUnitCount"]
[null,null,"PptyUnitTypeOtherUnitCount"]
[null,null,"PptyUnitTypeOccupiedInspectedUnitCount"]
[null,null,"PptyUnitTypeVacantInspectedUnitCount"]
[null,null,"PptyUnitTypeDownInspectedUnitCount"]
[null,null,"PptyUnitTypeOtherInspectedUnitCount"]
[null,null,"BedroomCount"]
[null,null,"BathroomCount"]
[null,null,"AvgSquareFeetNumber"]
[null,null,"StyleType"]
[null,null,"PptyUnitTypeOccupiedUnitCount"]
[null,null,"VacantUnitCount"]
[null,null,"PptyUnitTypeDownUnitCount"]
[null,null,"PptyUnitTypeOtherUnitCount"]
[null,null,"PptyUnitTypeOccupiedInspectedUnitCount"]
[null,null,"PptyUnitTypeVacantInspectedUnitCount"]
[null,null,"PptyUnitTypeDownInspectedUnitCount"]
[null,null,"PptyUnitTypeOtherInspectedUnitCount"]
[null,null,"BedroomCount"]
[null,null,"BathroomCount"]
[null,null,"AvgSquareFeetNumber"]
[null,null,"StyleType"]
[null,null,"PptyUnitTypeOccupiedUnitCount"]
[null,null,"VacantUnitCount"]
[null,null,"PptyUnitTypeDownUnitCount"]
[null,null,"PptyUnitTypeOtherUnitCount"]
[null,null,"PptyUnitTypeOccupiedInspectedUnitCount"]
[null,null,"PptyUnitTypeVacantInspectedUnitCount"]
[null,null,"PptyUnitTypeDownInspectedUnitCount"]
[null,null,"PptyUnitTypeOtherInspectedUnitCount"]
[null,null,"BedroomCount"]
[null,null,"BathroomCount"]
[null,null,"AvgSquareFeetNumber"]
[null,null,"StyleType"]
[null,null,"PptyUnitTypeOccupiedUnitCount"]
[null,null,"VacantUnitCount"]
[null,null,"PptyUnitTypeDownUnitCount"]
[null,null,"PptyUnitTypeOtherUnitCount"]
[null,null,"PptyUnitTypeOccupiedInspectedUnitCount"]
[null,null,"PptyUnitTypeVacantInspectedUnitCount"]
[null,null,"PptyUnitTypeDownInspectedUnitCount"]
[null,null,"PptyUnitTypeOtherInspectedUnitCount"]
[null,null,"BedroomCount"]
[null,null,"BathroomCount"]
[null,null,"AvgSquareFeetNumber"]
[null,null,"StyleType"]
[null,null,"PptyUnitTypeOccupiedUnitCount"]
[null,null,"VacantUnitCount"]
[null,null,"PptyUnitTypeDownUnitCount"]
[null,null,"PptyUnitTypeOtherUnitCount"]
[null,null,"PptyUnitTypeOccupiedInspectedUnitCount"]
[null,null,"PptyUnitTypeVacantInspectedUnitCount"]
[null,null,"PptyUnitTypeDownInspectedUnitCount"]
[null,null,"PptyUnitTypeOtherInspectedUnitCount"]
[null,null,"BedroomCount"]
[null,null,"BathroomCount"]
[null,null,"AvgSquareFeetNumber"]
[null,null,"StyleType"]
[null,null,"PptyUnitTypeOccupiedUnitCount"]
[null,null,"VacantUnitCount"]
[null,null,"PptyUnitTypeDownUnitCount"]
[null,null,"PptyUnitTypeOtherUnitCount"]
[null,null,"PptyUnitTypeOccupiedInspectedUnitCount"]
[null,null,"PptyUnitTypeVacantInspectedUnitCount"]
[null,null,"PptyUnitTypeDownInspectedUnitCount"]
[null,null,"PptyUnitTypeOtherInspectedUnitCount"]
[null,null,"BedroomCount"]
[null,null,"BathroomCount"]
[null,null,"AvgSquareFeetNumber"]
[null,null,"StyleType"]
[null,null,"PptyUnitTypeOccupiedUnitCount"]
[null,null,"VacantUnitCount"]
[null,null,"PptyUnitTypeDownUnitCount"]
[null,null,"PptyUnitTypeOtherUnitCount"]
[null,null,"PptyUnitTypeOccupiedInspectedUnitCount"]
[null,null,"PptyUnitTypeVacantInspectedUnitCount"]
[null,null,"PptyUnitTypeDownInspectedUnitCount"]
[null,null,"PptyUnitTypeOtherInspectedUnitCount"]
[null,null,"BedroomCount"]
[null,null,"BathroomCount"]
[null,null,"AvgSquareFeetNumber"]
[null,null,"StyleType"]
[null,null,"PptyUnitTypeOccupiedUnitCount"]
[null,null,"VacantUnitCount"]
[null,null,"PptyUnitTypeDownUnitCount"]
[null,null,"PptyUnitTypeOtherUnitCount"]
[null,null,"PptyUnitTypeOccupiedInspectedUnitCount"]
[null,null,"PptyUnitTypeVacantInspectedUnitCount"]
[null,null,"PptyUnitTypeDownInspectedUnitCount"]
[null,null,"PptyUnitTypeOtherInspectedUnitCount"]
[null,null,"BedroomCount"]
[null,null,"BathroomCount"]
[null,null,"AvgSquareFeetNumber"]
[null,null,"StyleType"]
[null,null,"PptyUnitTypeOccupiedUnitCount"]
[null,null,"VacantUnitCount"]
[null,null,"PptyUnitTypeDownUnitCount"]
[null,null,"PptyUnitTypeOtherUnitCount"]
[null,null,"PptyUnitTypeOccupiedInspectedUnitCount"]
[null,null,"PptyUnitTypeVacantInspectedUnitCount"]
[null,null,"PptyUnitTypeDownInspectedUnitCount"]
[null,null,"PptyUnitTypeOtherInspectedUnitCount"]
[null,null,"BedroomCount"]
[null,null,"BathroomCount"]
[null,null,"AvgSquareFeetNumber"]
[null,null,"StyleType"]
[null,null,"PptyUnitTypeOccupiedUnitCount"]
[null,null,"VacantUnitCount"]
[null,null,"PptyUnitTypeDownUnitCount"]
[null,null,"PptyUnitTypeOtherUnitCount"]
[null,null,"PptyUnitTypeOccupiedInspectedUnitCount"]
[null,null,"PptyUnitTypeVacantInspectedUnitCount"]
[null,null,"PptyUnitTypeDownInspectedUnitCount"]
[null,null,"PptyUnitTypeOtherInspectedUnitCount"]
[null,null,"BedroomCount"]
[null,null,"BathroomCount"]
[null,null,"AvgSquareFeetNumber"]
[null,null,"StyleType"]
[null,null,"PptyUnitTypeOccupiedUnitCount"]
[null,null,"VacantUnitCount"]
[null,null,"PptyUnitTypeDownUnitCount"]
[null,null,"PptyUnitTypeOtherUnitCount"]
[null,null,"PptyUnitTypeOccupiedInspectedUnitCount"]
[null,null,"PptyUnitTypeVacantInspectedUnitCount"]
[null,null,"PptyUnitTypeDownInspectedUnitCount"]
[null,null,"PptyUnitTypeOtherInspectedUnitCount"]
[null,null,"BedroomCount"]
[null,null,"BathroomCount"]
[null,null,"AvgSquareFeetNumber"]
[null,null,"StyleType"]
[null,null,"PptyUnitTypeOccupiedUnitCount"]
[null,null,"VacantUnitCount"]
[null,null,"PptyUnitTypeDownUnitCount"]
[null,null,"PptyUnitTypeOtherUnitCount"]
[null,null,"PptyUnitTypeOccupiedInspectedUnitCount"]
[null,null,"PptyUnitTypeVacantInspectedUnitCount"]
[null,null,"PptyUnitTypeDownInspectedUnitCount"]
[null,null,"PptyUnitTypeOtherInspectedUnitCount"]
[null,null,"BedroomCount"]
[null,null,"BathroomCount"]
[null,null,"AvgSquareFeetNumber"]
[null,null,"StyleType"]
[null,null,"PptyUnitTypeOccupiedUnitCount"]
[null,null,"VacantUnitCount"]
[null,null,"PptyUnitTypeDownUnitCount"]
[null,null,"PptyUnitTypeOtherUnitCount"]
[null,null,"PptyUnitTypeOccupiedInspectedUnitCount"]
[null,null,"PptyUnitTypeVacantInspectedUnitCount"]
[null,null,"PptyUnitTypeDownInspectedUnitCount"]
[null,null,"PptyUnitTypeOtherInspectedUnitCount"]
[null,null,"BedroomCount"]
[null,null,"BathroomCount"]
[null,null,"AvgSquareFeetNumber"]
[null,null,"StyleType"]
[null,null,"PptyUnitTypeOccupiedUnitCount"]
[null,null,"VacantUnitCount"]
[null,null,"PptyUnitTypeDownUnitCount"]
[null,null,"PptyUnitTypeOtherUnitCount"]
[null,null,"PptyUnitTypeOccupiedInspectedUnitCount"]
[null,null,"PptyUnitTypeVacantInspectedUnitCount"]
[null,null,"PptyUnitTypeDownInspectedUnitCount"]
[null,null,"PptyUnitTypeOtherInspectedUnitCount"]
[null,null,"BedroomCount"]
[null,null,"BathroomCount"]
[null,null,"AvgSquareFeetNumber"]
[null,null,"StyleType"]
[null,null,"PptyUnitTypeOccupiedUnitCount"]
[null,null,"VacantUnitCount"]
[null,null,"PptyUnitTypeDownUnitCount"]
[null,null,"PptyUnitTypeOtherUnitCount"]
[null,null,"PptyUnitTypeOccupiedInspectedUnitCount"]
[null,null,"PptyUnitTypeVacantInspectedUnitCount"]
[null,null,"PptyUnitTypeDownInspectedUnitCount"]
[null,null,"PptyUnitTypeOtherInspectedUnitCount"]
[null,null,"BedroomCount"]
[null,null,"BathroomCount"]
[null,null,"AvgSquareFeetNumber"]
[null,null,"StyleType"]
[null,null,"PptyUnitTypeOccupiedUnitCount"]
[null,null,"VacantUnitCount"]
[null,null,"PptyUnitTypeDownUnitCount"]
[null,null,"PptyUnitTypeOtherUnitCount"]
[null,null,"PptyUnitTypeOccupiedInspectedUnitCount"]
[null,null,"PptyUnitTypeVacantInspectedUnitCount"]
[null,null,"PptyUnitTypeDownInspectedUnitCount"]
[null,null,"PptyUnitTypeOtherInspectedUnitCount"]
[null,null,"BedroomCount"]
[null,null,"BathroomCount"]
[null,null,"AvgSquareFeetNumber"]
[null,null,"StyleType"]
[null,null,"PptyUnitTypeOccupiedUnitCount"]
[null,null,"VacantUnitCount"]
[null,null,"PptyUnitTypeDownUnitCount"]
[null,null,"PptyUnitTypeOtherUnitCount"]
[null,null,"PptyUnitTypeOccupiedInspectedUnitCount"]
[null,null,"PptyUnitTypeVacantInspectedUnitCount"]
[null,null,"PptyUnitTypeDownInspectedUnitCount"]
[null,null,"PptyUnitTypeOtherInspectedUnitCount"]
[null,null,"BedroomCount"]
[null,null,"BathroomCount"]
[null,null,"AvgSquareFeetNumber"]
[null,null,"StyleType"]
[null,null,"PptyUnitTypeOccupiedUnitCount"]
[null,null,"VacantUnitCount"]
[null,null,"PptyUnitTypeDownUnitCount"]
[null,null,"PptyUnitTypeOtherUnitCount"]
[null,null,"PptyUnitTypeOccupiedInspectedUnitCount"]
[null,null,"PptyUnitTypeVacantInspectedUnitCount"]
[null,null,"PptyUnitTypeDownInspectedUnitCount"]
[null,null,"PptyUnitTypeOtherInspectedUnitCount"]
[null,null,"BedroomCount"]
[null,null,"BathroomCount"]
[null,null,"AvgSquareFeetNumber"]
[null,null,"StyleType"]
[null,null,"PptyUnitTypeOccupiedUnitCount"]
[null,null,"VacantUnitCount"]
[null,null,"PptyUnitTypeDownUnitCount"]
[null,null,"PptyUnitTypeOtherUnitCount"]
[null,null,"PptyUnitTypeOccupiedInspectedUnitCount"]
[null,null,"PptyUnitTypeVacantInspectedUnitCount"]
[null,null,"PptyUnitTypeDownInspectedUnitCount"]
[null,null,"PptyUnitTypeOtherInspectedUnitCount"]
[null,null,"BedroomCount"]
[null,null,"BathroomCount"]
[null,null,"AvgSquareFeetNumber"]
[null,null,"StyleType"]
[null,null,"PptyUnitTypeOccupiedUnitCount"]
[null,null,"VacantUnitCount"]
[null,null,"PptyUnitTypeDownUnitCount"]
[null,null,"PptyUnitTypeOtherUnitCount"]
[null,null,"PptyUnitTypeOccupiedInspectedUnitCount"]
[null,null,"PptyUnitTypeVacantInspectedUnitCount"]
[null,null,"PptyUnitTypeDownInspectedUnitCount"]
[null,null,"PptyUnitTypeOtherInspectedUnitCount"]
[null,null,"BedroomCount"]
[null,null,"BathroomCount"]
[null,null,"AvgSquareFeetNumber"]
[null,null,"StyleType"]
[null,null,"PptyUnitTypeOccupiedUnitCount"]
[null,null,"VacantUnitCount"]
[null,null,"PptyUnitTypeDownUnitCount"]
[null,null,"PptyUnitTypeOtherUnitCount"]
[null,null,"PptyUnitTypeOccupiedInspectedUnitCount"]
[null,null,"PptyUnitTypeVacantInspectedUnitCount"]
[null,null,"PptyUnitTypeDownInspectedUnitCount"]
[null,null,"PptyUnitTypeOtherInspectedUnitCount"]
[null,null,"BedroomCount"]
[null,null,"BathroomCount"]
[null,null,"AvgSquareFeetNumber"]
[null,null,"StyleType"]
[null,null,"PptyUnitTypeOccupiedUnitCount"]
[null,null,"VacantUnitCount"]
[null,null,"PptyUnitTypeDownUnitCount"]
[null,null,"PptyUnitTypeOtherUnitCount"]
[null,null,"PptyUnitTypeOccupiedInspectedUnitCount"]
[null,null,"PptyUnitTypeVacantInspectedUnitCount"]
[null,null,"PptyUnitTypeDownInspectedUnitCount"]
[null,null,"PptyUnitTypeOtherInspectedUnitCount"]
[null,null,"BedroomCount"]
[null,null,"BathroomCount"]
[null,null,"AvgSquareFeetNumber"]
[null,null,"StyleType"]
[null,null,"PptyUnitTypeOccupiedUnitCount"]
[null,null,"VacantUnitCount"]
[null,null,"PptyUnitTypeDownUnitCount"]
[null,null,"PptyUnitTypeOtherUnitCount"]
[null,null,"PptyUnitTypeOccupiedInspectedUnitCount"]
[null,null,"PptyUnitTypeVacantInspectedUnitCount"]
[null,null,"PptyUnitTypeDownInspectedUnitCount"]
[null,null,"PptyUnitTypeOtherInspectedUnitCount"]
[null,null,"BedroomCount"]
[null,null,"BathroomCount"]
[null,null,"AvgSquareFeetNumber"]
[null,null,"StyleType"]
[null,null,"PptyUnitTypeOccupiedUnitCount"]
[null,null,"VacantUnitCount"]
[null,null,"PptyUnitTypeDownUnitCount"]
[null,null,"PptyUnitTypeOtherUnitCount"]
[null,null,"PptyUnitTypeOccupiedInspectedUnitCount"]
[null,null,"PptyUnitTypeVacantInspectedUnitCount"]
[null,null,"PptyUnitTypeDownInspectedUnitCount"]
[null,null,"PptyUnitTypeOtherInspectedUnitCount"]
[null,null,"BedroomCount"]
[null,null,"BathroomCount"]
[null,null,"AvgSquareFeetNumber"]
[null,null,"StyleType"]
[null,null,"PptyUnitTypeOccupiedUnitCount"]
[null,null,"VacantUnitCount"]
[null,null,"PptyUnitTypeDownUnitCount"]
[null,null,"PptyUnitTypeOtherUnitCount"]
[null,null,"PptyUnitTypeOccupiedInspectedUnitCount"]
[null,null,"PptyUnitTypeVacantInspectedUnitCount"]
[null,null,"PptyUnitTypeDownInspectedUnitCount"]
[null,null,"PptyUnitTypeOtherInspectedUnitCount"]
[null,null,"BedroomCount"]
[null,null,"BathroomCount"]
[null,null,"AvgSquareFeetNumber"]
[null,null,"StyleType"]
[null,null,"PptyUnitTypeOccupiedUnitCount"]
[null,null,"VacantUnitCount"]
[null,null,"PptyUnitTypeDownUnitCount"]
[null,null,"PptyUnitTypeOtherUnitCount"]
[null,null,"PptyUnitTypeOccupiedInspectedUnitCount"]
[null,null,"PptyUnitTypeVacantInspectedUnitCount"]
[null,null,"PptyUnitTypeDownInspectedUnitCount"]
[null,null,"PptyUnitTypeOtherInspectedUnitCount"]
[null,null,"BedroomCount"]
[null,null,"BathroomCount"]
[null,null,"AvgSquareFeetNumber"]
[null,null,"StyleType"]
[null,null,"PptyUnitTypeOccupiedUnitCount"]
[null,null,"VacantUnitCount"]
[null,null,"PptyUnitTypeDownUnitCount"]
[null,null,"PptyUnitTypeOtherUnitCount"]
[null,null,"PptyUnitTypeOccupiedInspectedUnitCount"]
[null,null,"PptyUnitTypeVacantInspectedUnitCount"]
[null,null,"PptyUnitTypeDownInspectedUnitCount"]
[null,null,"PptyUnitTypeOtherInspectedUnitCount"]
[null,null,"BedroomCount"]
[null,null,"BathroomCount"]
[null,null,"AvgSquareFeetNumber"]
[null,null,"StyleType"]
[null,null,"PptyUnitTypeOccupiedUnitCount"]
[null,null,"VacantUnitCount"]
[null,null,"PptyUnitTypeDownUnitCount"]
[null,null,"PptyUnitTypeOtherUnitCount"]
[null,null,"PptyUnitTypeOccupiedInspectedUnitCount"]
[null,null,"PptyUnitTypeVacantInspectedUnitCount"]
[null,null,"PptyUnitTypeDownInspectedUnitCount"]
[null,null,"PptyUnitTypeOtherInspectedUnitCount"]
[null,null,"BedroomCount"]
[null,null,"BathroomCount"]
[null,null,"AvgSquareFeetNumber"]
[null,null,"StyleType"]
[null,null,"PptyUnitTypeOccupiedUnitCount"]
[null,null,"VacantUnitCount"]
[null,null,"PptyUnitTypeDownUnitCount"]
[null,null,"PptyUnitTypeOtherUnitCount"]
[null,null,"PptyUnitTypeOccupiedInspectedUnitCount"]
[null,null,"PptyUnitTypeVacantInspectedUnitCount"]
[null,null,"PptyUnitTypeDownInspectedUnitCount"]
[null,null,"PptyUnitTypeOtherInspectedUnitCount"]
[null,null,"BedroomCount"]
[null,null,"BathroomCount"]
[null,null,"AvgSquareFeetNumber"]
[null,null,"StyleType"]
[null,null,"PptyUnitTypeOccupiedUnitCount"]
[null,null,"VacantUnitCount"]
[null,null,"PptyUnitTypeDownUnitCount"]
[null,null,"PptyUnitTypeOtherUnitCount"]
[null,null,"PptyUnitTypeOccupiedInspectedUnitCount"]
[null,null,"PptyUnitTypeVacantInspectedUnitCount"]
[null,null,"PptyUnitTypeDownInspectedUnitCount"]
[null,null,"PptyUnitTypeOtherInspectedUnitCount"]
[null,null,"BedroomCount"]
[null,null,"BathroomCount"]
[null,null,"AvgSquareFeetNumber"]
[null,null,"StyleType"]
[null,null,"PptyUnitTypeOccupiedUnitCount"]
[null,null,"VacantUnitCount"]
[null,null,"PptyUnitTypeDownUnitCount"]
[null,null,"PptyUnitTypeOtherUnitCount"]
[null,null,"PptyUnitTypeOccupiedInspectedUnitCount"]
[null,null,"PptyUnitTypeVacantInspectedUnitCount"]
[null,null,"PptyUnitTypeDownInspectedUnitCount"]
[null,null,"PptyUnitTypeOtherInspectedUnitCount"]
[null,null,"BedroomCount"]
[null,null,"BathroomCount"]
[null,null,"AvgSquareFeetNumber"]
[null,null,"StyleType"]
[null,null,"PptyUnitTypeOccupiedUnitCount"]
[null,null,"VacantUnitCount"]
[null,null,"PptyUnitTypeDownUnitCount"]
[null,null,"PptyUnitTypeOtherUnitCount"]
[null,null,"PptyUnitTypeOccupiedInspectedUnitCount"]
[null,null,"PptyUnitTypeVacantInspectedUnitCount"]
[null,null,"PptyUnitTypeDownInspectedUnitCount"]
[null,null,"PptyUnitTypeOtherInspectedUnitCount"]
[null,null,"BedroomCount"]
[null,null,"BathroomCount"]
[null,null,"AvgSquareFeetNumber"]
[null,null,"StyleType"]
[null,null,"PptyUnitTypeOccupiedUnitCount"]
[null,null,"VacantUnitCount"]
[null,null,"PptyUnitTypeDownUnitCount"]
[null,null,"PptyUnitTypeOtherUnitCount"]
[null,null,"PptyUnitTypeOccupiedInspectedUnitCount"]
[null,null,"PptyUnitTypeVacantInspectedUnitCount"]
[null,null,"PptyUnitTypeDownInspectedUnitCount"]
[null,null,"PptyUnitTypeOtherInspectedUnitCount"]
[null,null,"BedroomCount"]
[null,null,"BathroomCount"]
[null,null,"AvgSquareFeetNumber"]
[null,null,"StyleType"]
[null,null,"PptyUnitTypeOccupiedUnitCount"]
[null,null,"VacantUnitCount"]
[null,null,"PptyUnitTypeDownUnitCount"]
[null,null,"PptyUnitTypeOtherUnitCount"]
[null,null,"PptyUnitTypeOccupiedInspectedUnitCount"]
[null,null,"PptyUnitTypeVacantInspectedUnitCount"]
[null,null,"PptyUnitTypeDownInspectedUnitCount"]
[null,null,"PptyUnitTypeOtherInspectedUnitCount"]
[null,null,"BedroomCount"]
[null,null,"BathroomCount"]
[null,null,"AvgSquareFeetNumber"]
[null,null,"StyleType"]
[null,null,"PptyUnitTypeOccupiedUnitCount"]
[null,null,"VacantUnitCount"]
[null,null,"PptyUnitTypeDownUnitCount"]
[null,null,"PptyUnitTypeOtherUnitCount"]
[null,null,"PptyUnitTypeOccupiedInspectedUnitCount"]
[null,null,"PptyUnitTypeVacantInspectedUnitCount"]
[null,null,"PptyUnitTypeDownInspectedUnitCount"]
[null,null,"PptyUnitTypeOtherInspectedUnitCount"]
[null,null,"BedroomCount"]
[null,null,"BathroomCount"]
[null,null,"AvgSquareFeetNumber"]
[null,null,"StyleType"]
[null,null,"PptyUnitTypeOccupiedUnitCount"]
[null,null,"VacantUnitCount"]
[null,null,"PptyUnitTypeDownUnitCount"]
[null,null,"PptyUnitTypeOtherUnitCount"]
[null,null,"PptyUnitTypeOccupiedInspectedUnitCount"]
[null,null,"PptyUnitTypeVacantInspectedUnitCount"]
[null,null,"PptyUnitTypeDownInspectedUnitCount"]
[null,null,"PptyUnitTypeOtherInspectedUnitCount"]
[null,null,"BedroomCount"]
[null,null,"BathroomCount"]
[null,null,"AvgSquareFeetNumber"]
[null,null,"StyleType"]
[null,null,"PptyUnitTypeOccupiedUnitCount"]
[null,null,"VacantUnitCount"]
[null,null,"PptyUnitTypeDownUnitCount"]
[null,null,"PptyUnitTypeOtherUnitCount"]
[null,null,"PptyUnitTypeOccupiedInspectedUnitCount"]
[null,null,"PptyUnitTypeVacantInspectedUnitCount"]
[null,null,"PptyUnitTypeDownInspectedUnitCount"]
[null,null,"PptyUnitTypeOtherInspectedUnitCount"]
[null,null,"BedroomCount"]
[null,null,"BathroomCount"]
[null,null,"AvgSquareFeetNumber"]
[null,null,"StyleType"]
[null,null,"PptyUnitTypeOccupiedUnitCount"]
[null,null,"VacantUnitCount"]
[null,null,"PptyUnitTypeDownUnitCount"]
[null,null,"PptyUnitTypeOtherUnitCount"]
[null,null,"PptyUnitTypeOccupiedInspectedUnitCount"]
[null,null,"PptyUnitTypeVacantInspectedUnitCount"]
[null,null,"PptyUnitTypeDownInspectedUnitCount"]
[null,null,"PptyUnitTypeOtherInspectedUnitCount"]
[null,null,"BedroomCount"]
[null,null,"BathroomCount"]
[null,null,"AvgSquareFeetNumber"]
[null,null,"StyleType"]
[null,null,"PptyUnitTypeOccupiedUnitCount"]
[null,null,"VacantUnitCount"]
[null,null,"PptyUnitTypeDownUnitCount"]
[null,null,"PptyUnitTypeOtherUnitCount"]
[null,null,"PptyUnitTypeOccupiedInspectedUnitCount"]
[null,null,"PptyUnitTypeVacantInspectedUnitCount"]
[null,null,"PptyUnitTypeDownInspectedUnitCount"]
[null,null,"PptyUnitTypeOtherInspectedUnitCount"]
[null,null,"BedroomCount"]
[null,null,"BathroomCount"]
[null,null,"AvgSquareFeetNumber"]
[null,null,"StyleType"]
[null,null,"PptyUnitTypeOccupiedUnitCount"]
[null,null,"VacantUnitCount"]
[null,null,"PptyUnitTypeDownUnitCount"]
[null,null,"PptyUnitTypeOtherUnitCount"]
[null,null,"PptyUnitTypeOccupiedInspectedUnitCount"]
[null,null,"PptyUnitTypeVacantInspectedUnitCount"]
[null,null,"PptyUnitTypeDownInspectedUnitCount"]
[null,null,"PptyUnitTypeOtherInspectedUnitCount"]
[null,null,"BedroomCount"]
[null,null,"BathroomCount"]
[null,null,"AvgSquareFeetNumber"]
[null,null,"StyleType"]
[null,null,"PptyUnitTypeOccupiedUnitCount"]
[null,null,"VacantUnitCount"]
[null,null,"PptyUnitTypeDownUnitCount"]
[null,null,"PptyUnitTypeOtherUnitCount"]
[null,null,"PptyUnitTypeOccupiedInspectedUnitCount"]
[null,null,"PptyUnitTypeVacantInspectedUnitCount"]
[null,null,"PptyUnitTypeDownInspectedUnitCount"]
[null,null,"PptyUnitTypeOtherInspectedUnitCount"]
[null,null,"BedroomCount"]
[null,null,"BathroomCount"]
[null,null,"AvgSquareFeetNumber"]
[null,null,"StyleType"]
[null,null,"PptyUnitTypeOccupiedUnitCount"]
[null,null,"VacantUnitCount"]
[null,null,"PptyUnitTypeDownUnitCount"]
[null,null,"PptyUnitTypeOtherUnitCount"]
[null,null,"PptyUnitTypeOccupiedInspectedUnitCount"]
[null,null,"PptyUnitTypeVacantInspectedUnitCount"]
[null,null,"PptyUnitTypeDownInspectedUnitCount"]
[null,null,"PptyUnitTypeOtherInspectedUnitCount"]
[null,null,"BedroomCount"]
[null,null,"BathroomCount"]
[null,null,"AvgSquareFeetNumber"]
[null,null,"StyleType"]
[null,null,"PptyUnitTypeOccupiedUnitCount"]
[null,null,"VacantUnitCount"]
[null,null,"PptyUnitTypeDownUnitCount"]
[null,null,"PptyUnitTypeOtherUnitCount"]
[null,null,"PptyUnitTypeOccupiedInspectedUnitCount"]
[null,null,"PptyUnitTypeVacantInspectedUnitCount"]
[null,null,"PptyUnitTypeDownInspectedUnitCount"]
[null,null,"PptyUnitTypeOtherInspectedUnitCount"]
[null,null,"BedroomCount"]
[null,null,"BathroomCount"]
[null,null,"AvgSquareFeetNumber"]
[null,null,"StyleType"]
[null,null,"PptyUnitTypeOccupiedUnitCount"]
[null,null,"VacantUnitCount"]
[null,null,"PptyUnitTypeDownUnitCount"]
[null,null,"PptyUnitTypeOtherUnitCount"]
[null,null,"PptyUnitTypeOccupiedInspectedUnitCount"]
[null,null,"PptyUnitTypeVacantInspectedUnitCount"]
[null,null,"PptyUnitTypeDownInspectedUnitCount"]
[null,null,"PptyUnitTypeOtherInspectedUnitCount"]
[null,null,"BedroomCount"]
[null,null,"BathroomCount"]
[null,null,"AvgSquareFeetNumber"]
[null,null,"StyleType"]
[null,null,"PptyUnitTypeOccupiedUnitCount"]
[null,null,"VacantUnitCount"]
[null,null,"PptyUnitTypeDownUnitCount"]
[null,null,"PptyUnitTypeOtherUnitCount"]
[null,null,"PptyUnitTypeOccupiedInspectedUnitCount"]
[null,null,"PptyUnitTypeVacantInspectedUnitCount"]
[null,null,"PptyUnitTypeDownInspectedUnitCount"]
[null,null,"PptyUnitTypeOtherInspectedUnitCount"]
[null,null,"BedroomCount"]
[null,null,"BathroomCount"]
[null,null,"AvgSquareFeetNumber"]
[null,null,"StyleType"]
[null,null,"PptyUnitTypeOccupiedUnitCount"]
[null,null,"VacantUnitCount"]
[null,null,"PptyUnitTypeDownUnitCount"]
[null,null,"PptyUnitTypeOtherUnitCount"]
[null,null,"PptyUnitTypeOccupiedInspectedUnitCount"]
[null,null,"PptyUnitTypeVacantInspectedUnitCount"]
[null,null,"PptyUnitTypeDownInspectedUnitCount"]
[null,null,"PptyUnitTypeOtherInspectedUnitCount"]
[null,null,"BedroomCount"]
[null,null,"BathroomCount"]
[null,null,"AvgSquareFeetNumber"]
[null,null,"StyleType"]
[null,null,"PptyUnitTypeOccupiedUnitCount"]
[null,null,"VacantUnitCount"]
[null,null,"PptyUnitTypeDownUnitCount"]
[null,null,"PptyUnitTypeOtherUnitCount"]
[null,null,"PptyUnitTypeOccupiedInspectedUnitCount"]
[null,null,"PptyUnitTypeVacantInspectedUnitCount"]
[null,null,"PptyUnitTypeDownInspectedUnitCount"]
[null,null,"PptyUnitTypeOtherInspectedUnitCount"]
[null,null,"BedroomCount"]
[null,null,"BathroomCount"]
[null,null,"AvgSquareFeetNumber"]
[null,null,"StyleType"]
[null,null,"PptyUnitTypeOccupiedUnitCount"]
[null,null,"VacantUnitCount"]
[null,null,"PptyUnitTypeDownUnitCount"]
[null,null,"PptyUnitTypeOtherUnitCount"]
[null,null,"PptyUnitTypeOccupiedInspectedUnitCount"]
[null,null,"PptyUnitTypeVacantInspectedUnitCount"]
[null,null,"PptyUnitTypeDownInspectedUnitCount"]
[null,null,"PptyUnitTypeOtherInspectedUnitCount"]
[null,null,"BedroomCount"]
[null,null,"BathroomCount"]
[null,null,"AvgSquareFeetNumber"]
[null,null,"StyleType"]
[null,null,"PptyUnitTypeOccupiedUnitCount"]
[null,null,"VacantUnitCount"]
[null,null,"PptyUnitTypeDownUnitCount"]
[null,null,"PptyUnitTypeOtherUnitCount"]
[null,null,"PptyUnitTypeOccupiedInspectedUnitCount"]
[null,null,"PptyUnitTypeVacantInspectedUnitCount"]
[null,null,"PptyUnitTypeDownInspectedUnitCount"]
[null,null,"PptyUnitTypeOtherInspectedUnitCount"]
[null,null,"BedroomCount"]
[null,null,"BathroomCount"]
[null,null,"AvgSquareFeetNumber"]
[null,null,"StyleType"]
[null,null,"PptyUnitTypeOccupiedUnitCount"]
[null,null,"VacantUnitCount"]
[null,null,"PptyUnitTypeDownUnitCount"]
[null,null,"PptyUnitTypeOtherUnitCount"]
[null,null,"PptyUnitTypeOccupiedInspectedUnitCount"]
[null,null,"PptyUnitTypeVacantInspectedUnitCount"]
[null,null,"PptyUnitTypeDownInspectedUnitCount"]
[null,null,"PptyUnitTypeOtherInspectedUnitCount"]
[null,null,"BedroomCount"]
[null,null,"BathroomCount"]
[null,null,"AvgSquareFeetNumber"]
[null,null,"StyleType"]
[null,null,"PptyUnitTypeOccupiedUnitCount"]
[null,null,"VacantUnitCount"]
[null,null,"PptyUnitTypeDownUnitCount"]
[null,null,"PptyUnitTypeOtherUnitCount"]
[null,null,"PptyUnitTypeOccupiedInspectedUnitCount"]
[null,null,"PptyUnitTypeVacantInspectedUnitCount"]
[null,null,"PptyUnitTypeDownInspectedUnitCount"]
[null,null,"PptyUnitTypeOtherInspectedUnitCount"]
[null,null,"BedroomCount"]
[null,null,"BathroomCount"]
[null,null,"AvgSquareFeetNumber"]
[null,null,"StyleType"]
[null,null,"PptyUnitTypeOccupiedUnitCount"]
[null,null,"VacantUnitCount"]
[null,null,"PptyUnitTypeDownUnitCount"]
[null,null,"PptyUnitTypeOtherUnitCount"]
[null,null,"PptyUnitTypeOccupiedInspectedUnitCount"]
[null,null,"PptyUnitTypeVacantInspectedUnitCount"]
[null,null,"PptyUnitTypeDownInspectedUnitCount"]
[null,null,"PptyUnitTypeOtherInspectedUnitCount"]
[null,null,"BedroomCount"]
[null,null,"BathroomCount"]
[null,null,"AvgSquareFeetNumber"]
[null,null,"StyleType"]
[null,null,"PptyUnitTypeOccupiedUnitCount"]
[null,null,"VacantUnitCount"]
[null,null,"PptyUnitTypeDownUnitCount"]
[null,null,"PptyUnitTypeOtherUnitCount"]
[null,null,"PptyUnitTypeOccupiedInspectedUnitCount"]
[null,null,"PptyUnitTypeVacantInspectedUnitCount"]
[null,null,"PptyUnitTypeDownInspectedUnitCount"]
[null,null,"PptyUnitTypeOtherInspectedUnitCount"]
[null,null,"BedroomCount"]
[null,null,"BathroomCount"]
[null,null,"AvgSquareFeetNumber"]
[null,null,"StyleType"]
[null,null,"PptyUnitTypeOccupiedUnitCount"]
[null,null,"VacantUnitCount"]
[null,null,"PptyUnitTypeDownUnitCount"]
[null,null,"PptyUnitTypeOtherUnitCount"]
[null,null,"PptyUnitTypeOccupiedInspectedUnitCount"]
[null,null,"PptyUnitTypeVacantInspectedUnitCount"]
[null,null,"PptyUnitTypeDownInspectedUnitCount"]
[null,null,"PptyUnitTypeOtherInspectedUnitCount"]
[null,null,"BedroomCount"]
[null,null,"BathroomCount"]
[null,null,"AvgSquareFeetNumber"]
[null,null,"StyleType"]
[null,null,"PptyUnitTypeOccupiedUnitCount"]
[null,null,"VacantUnitCount"]
[null,null,"PptyUnitTypeDownUnitCount"]
[null,null,"PptyUnitTypeOtherUnitCount"]
[null,null,"PptyUnitTypeOccupiedInspectedUnitCount"]
[null,null,"PptyUnitTypeVacantInspectedUnitCount"]
[null,null,"PptyUnitTypeDownInspectedUnitCount"]
[null,null,"PptyUnitTypeOtherInspectedUnitCount"]
[null,null,"BedroomCount"]
[null,null,"BathroomCount"]
[null,null,"AvgSquareFeetNumber"]
[null,null,"StyleType"]
[null,null,"PptyUnitTypeOccupiedUnitCount"]
[null,null,"VacantUnitCount"]
[null,null,"PptyUnitTypeDownUnitCount"]
[null,null,"PptyUnitTypeOtherUnitCount"]
[null,null,"PptyUnitTypeOccupiedInspectedUnitCount"]
[null,null,"PptyUnitTypeVacantInspectedUnitCount"]
[null,null,"PptyUnitTypeDownInspectedUnitCount"]
[null,null,"PptyUnitTypeOtherInspectedUnitCount"]
[null,null,"BedroomCount"]
[null,null,"BathroomCount"]
[null,null,"AvgSquareFeetNumber"]
[null,null,"StyleType"]
[null,null,"PptyUnitTypeOccupiedUnitCount"]
[null,null,"VacantUnitCount"]
[null,null,"PptyUnitTypeDownUnitCount"]
[null,null,"PptyUnitTypeOtherUnitCount"]
[null,null,"PptyUnitTypeOccupiedInspectedUnitCount"]
[null,null,"PptyUnitTypeVacantInspectedUnitCount"]
[null,null,"PptyUnitTypeDownInspectedUnitCount"]
[null,null,"PptyUnitTypeOtherInspectedUnitCount"]
[null,null,"BedroomCount"]
[null,null,"BathroomCount"]
[null,null,"AvgSquareFeetNumber"]
[null,null,"StyleType"]
[null,null,"PptyUnitTypeOccupiedUnitCount"]
[null,null,"VacantUnitCount"]
[null,null,"PptyUnitTypeDownUnitCount"]
[null,null,"PptyUnitTypeOtherUnitCount"]
[null,null,"PptyUnitTypeOccupiedInspectedUnitCount"]
[null,null,"PptyUnitTypeVacantInspectedUnitCount"]
[null,null,"PptyUnitTypeDownInspectedUnitCount"]
[null,null,"PptyUnitTypeOtherInspectedUnitCount"]
[null,null,"BedroomCount"]
[null,null,"BathroomCount"]
[null,null,"AvgSquareFeetNumber"]
[null,null,"StyleType"]
[null,null,"PptyUnitTypeOccupiedUnitCount"]
[null,null,"VacantUnitCount"]
[null,null,"PptyUnitTypeDownUnitCount"]
[null,null,"PptyUnitTypeOtherUnitCount"]
[null,null,"PptyUnitTypeOccupiedInspectedUnitCount"]
[null,null,"PptyUnitTypeVacantInspectedUnitCount"]
[null,null,"PptyUnitTypeDownInspectedUnitCount"]
[null,null,"PptyUnitTypeOtherInspectedUnitCount"]
[null,null,"BedroomCount"]
[null,null,"BathroomCount"]
[null,null,"AvgSquareFeetNumber"]
[null,null,"StyleType"]
[null,null,"PptyUnitTypeOccupiedUnitCount"]
[null,null,"VacantUnitCount"]
[null,null,"PptyUnitTypeDownUnitCount"]
[null,null,"PptyUnitTypeOtherUnitCount"]
[null,null,"PptyUnitTypeOccupiedInspectedUnitCount"]
[null,null,"PptyUnitTypeVacantInspectedUnitCount"]
[null,null,"PptyUnitTypeDownInspectedUnitCount"]
[null,null,"PptyUnitTypeOtherInspectedUnitCount"]
[null,null,"BedroomCount"]
[null,null,"BathroomCount"]
[null,null,"AvgSquareFeetNumber"]
[null,null,"StyleType"]
[null,null,"PptyUnitTypeOccupiedUnitCount"]
[null,null,"VacantUnitCount"]
[null,null,"PptyUnitTypeDownUnitCount"]
[null,null,"PptyUnitTypeOtherUnitCount"]
[null,null,"PptyUnitTypeOccupiedInspectedUnitCount"]
[null,null,"PptyUnitTypeVacantInspectedUnitCount"]
[null,null,"PptyUnitTypeDownInspectedUnitCount"]
[null,null,"PptyUnitTypeOtherInspectedUnitCount"]
[null,null,"BedroomCount"]
[null,null,"BathroomCount"]
[null,null,"AvgSquareFeetNumber"]
[null,null,"StyleType"]
[null,null,"PptyUnitTypeOccupiedUnitCount"]
[null,null,"VacantUnitCount"]
[null,null,"PptyUnitTypeDownUnitCount"]
[null,null,"PptyUnitTypeOtherUnitCount"]
[null,null,"PptyUnitTypeOccupiedInspectedUnitCount"]
[null,null,"PptyUnitTypeVacantInspectedUnitCount"]
[null,null,"PptyUnitTypeDownInspectedUnitCount"]
[null,null,"PptyUnitTypeOtherInspectedUnitCount"]
[null,null,"BedroomCount"]
[null,null,"BathroomCount"]
[null,null,"AvgSquareFeetNumber"]
[null,null,"StyleType"]
[null,null,"PptyUnitTypeOccupiedUnitCount"]
[null,null,"VacantUnitCount"]
[null,null,"PptyUnitTypeDownUnitCount"]
[null,null,"PptyUnitTypeOtherUnitCount"]
[null,null,"PptyUnitTypeOccupiedInspectedUnitCount"]
[null,null,"PptyUnitTypeVacantInspectedUnitCount"]
[null,null,"PptyUnitTypeDownInspectedUnitCount"]
[null,null,"PptyUnitTypeOtherInspectedUnitCount"]
[null,null,"BedroomCount"]
[null,null,"BathroomCount"]
[null,null,"AvgSquareFeetNumber"]
[null,null,"StyleType"]
[null,null,"PptyUnitTypeOccupiedUnitCount"]
[null,null,"VacantUnitCount"]
[null,null,"PptyUnitTypeDownUnitCount"]
[null,null,"PptyUnitTypeOtherUnitCount"]
[null,null,"PptyUnitTypeOccupiedInspectedUnitCount"]
[null,null,"PptyUnitTypeVacantInspectedUnitCount"]
[null,null,"PptyUnitTypeDownInspectedUnitCount"]
[null,null,"PptyUnitTypeOtherInspectedUnitCount"]
[null,null,"BedroomCount"]
[null,null,"BathroomCount"]
[null,null,"AvgSquareFeetNumber"]
[null,null,"StyleType"]
[null,null,"PptyUnitTypeOccupiedUnitCount"]
[null,null,"VacantUnitCount"]
[null,null,"PptyUnitTypeDownUnitCount"]
[null,null,"PptyUnitTypeOtherUnitCount"]
[null,null,"PptyUnitTypeOccupiedInspectedUnitCount"]
[null,null,"PptyUnitTypeVacantInspectedUnitCount"]
[null,null,"PptyUnitTypeDownInspectedUnitCount"]
[null,null,"PptyUnitTypeOtherInspectedUnitCount"]
[null,null,"BedroomCount"]
[null,null,"BathroomCount"]
[null,null,"AvgSquareFeetNumber"]
[null,null,"StyleType"]
[null,null,"PptyUnitTypeOccupiedUnitCount"]
[null,null,"VacantUnitCount"]
[null,null,"PptyUnitTypeDownUnitCount"]
[null,null,"PptyUnitTypeOtherUnitCount"]
[null,null,"PptyUnitTypeOccupiedInspectedUnitCount"]
[null,null,"PptyUnitTypeVacantInspectedUnitCount"]
[null,null,"PptyUnitTypeDownInspectedUnitCount"]
[null,null,"PptyUnitTypeOtherInspectedUnitCount"]
[null,null,"BedroomCount"]
[null,null,"BathroomCount"]
[null,null,"AvgSquareFeetNumber"]
[null,null,"StyleType"]
[null,null,"PptyUnitTypeOccupiedUnitCount"]
[null,null,"VacantUnitCount"]
[null,null,"PptyUnitTypeDownUnitCount"]
[null,null,"PptyUnitTypeOtherUnitCount"]
[null,null,"PptyUnitTypeOccupiedInspectedUnitCount"]
[null,null,"PptyUnitTypeVacantInspectedUnitCount"]
[null,null,"PptyUnitTypeDownInspectedUnitCount"]
[null,null,"PptyUnitTypeOtherInspectedUnitCount"]
[null,null,"BedroomCount"]
[null,null,"BathroomCount"]
[null,null,"AvgSquareFeetNumber"]
[null,null,"StyleType"]
[null,null,"PptyUnitTypeOccupiedUnitCount"]
[null,null,"VacantUnitCount"]
[null,null,"PptyUnitTypeDownUnitCount"]
[null,null,"PptyUnitTypeOtherUnitCount"]
[null,null,"PptyUnitTypeOccupiedInspectedUnitCount"]
[null,null,"PptyUnitTypeVacantInspectedUnitCount"]
[null,null,"PptyUnitTypeDownInspectedUnitCount"]
[null,null,"PptyUnitTypeOtherInspectedUnitCount"]
[null,null,"BedroomCount"]
[null,null,"BathroomCount"]
[null,null,"AvgSquareFeetNumber"]
[null,null,"StyleType"]
[null,null,"PptyUnitTypeOccupiedUnitCount"]
[null,null,"VacantUnitCount"]
[null,null,"PptyUnitTypeDownUnitCount"]
[null,null,"PptyUnitTypeOtherUnitCount"]
[null,null,"PptyUnitTypeOccupiedInspectedUnitCount"]
[null,null,"PptyUnitTypeVacantInspectedUnitCount"]
[null,null,"PptyUnitTypeDownInspectedUnitCount"]
[null,null,"PptyUnitTypeOtherInspectedUnitCount"]
[null,null,"BedroomCount"]
[null,null,"BathroomCount"]
[null,null,"AvgSquareFeetNumber"]
[null,null,"StyleType"]
[null,null,"PptyUnitTypeOccupiedUnitCount"]
[null,null,"VacantUnitCount"]
[null,null,"PptyUnitTypeDownUnitCount"]
[null,null,"PptyUnitTypeOtherUnitCount"]
[null,null,"PptyUnitTypeOccupiedInspectedUnitCount"]
[null,null,"PptyUnitTypeVacantInspectedUnitCount"]
[null,null,"PptyUnitTypeDownInspectedUnitCount"]
[null,null,"PptyUnitTypeOtherInspectedUnitCount"]
[null,null,"BedroomCount"]
[null,null,"BathroomCount"]
[null,null,"AvgSquareFeetNumber"]
[null,null,"StyleType"]
[null,null,"PptyUnitTypeOccupiedUnitCount"]
[null,null,"VacantUnitCount"]
[null,null,"PptyUnitTypeDownUnitCount"]
[null,null,"PptyUnitTypeOtherUnitCount"]
[null,null,"PptyUnitTypeOccupiedInspectedUnitCount"]
[null,null,"PptyUnitTypeVacantInspectedUnitCount"]
[null,null,"PptyUnitTypeDownInspectedUnitCount"]
[null,null,"PptyUnitTypeOtherInspectedUnitCount"]
[null,null,"BedroomCount"]
[null,null,"BathroomCount"]
[null,null,"AvgSquareFeetNumber"]
[null,null,"StyleType"]
[null,null,"PptyUnitTypeOccupiedUnitCount"]
[null,null,"VacantUnitCount"]
[null,null,"PptyUnitTypeDownUnitCount"]
[null,null,"PptyUnitTypeOtherUnitCount"]
[null,null,"PptyUnitTypeOccupiedInspectedUnitCount"]
[null,null,"PptyUnitTypeVacantInspectedUnitCount"]
[null,null,"PptyUnitTypeDownInspectedUnitCount"]
[null,null,"PptyUnitTypeOtherInspectedUnitCount"]
[null,null,"BedroomCount"]
[null,null,"BathroomCount"]
[null,null,"AvgSquareFeetNumber"]
[null,null,"StyleType"]
[null,null,"PptyUnitTypeOccupiedUnitCount"]
[null,null,"VacantUnitCount"]
[null,null,"PptyUnitTypeDownUnitCount"]
[null,null,"PptyUnitTypeOtherUnitCount"]
[null,null,"PptyUnitTypeOccupiedInspectedUnitCount"]
[null,null,"PptyUnitTypeVacantInspectedUnitCount"]
[null,null,"PptyUnitTypeDownInspectedUnitCount"]
[null,null,"PptyUnitTypeOtherInspectedUnitCount"]
[null,null,"BedroomCount"]
[null,null,"BathroomCount"]
[null,null,"AvgSquareFeetNumber"]
[null,null,"StyleType"]
[null,null,"PptyUnitTypeOccupiedUnitCount"]
[null,null,"VacantUnitCount"]
[null,null,"PptyUnitTypeDownUnitCount"]
[null,null,"PptyUnitTypeOtherUnitCount"]
[null,null,"PptyUnitTypeOccupiedInspectedUnitCount"]
[null,null,"PptyUnitTypeVacantInspectedUnitCount"]
[null,null,"PptyUnitTypeDownInspectedUnitCount"]
[null,null,"PptyUnitTypeOtherInspectedUnitCount"]
[null,null,"BedroomCount"]
[null,null,"BathroomCount"]
[null,null,"AvgSquareFeetNumber"]
[null,null,"StyleType"]
[null,null,"PptyUnitTypeOccupiedUnitCount"]
[null,null,"VacantUnitCount"]
[null,null,"PptyUnitTypeDownUnitCount"]
[null,null,"PptyUnitTypeOtherUnitCount"]
[null,null,"PptyUnitTypeOccupiedInspectedUnitCount"]
[null,null,"PptyUnitTypeVacantInspectedUnitCount"]
[null,null,"PptyUnitTypeDownInspectedUnitCount"]
[null,null,"PptyUnitTypeOtherInspectedUnitCount"]
[null,null,"BedroomCount"]
[null,null,"BathroomCount"]
[null,null,"AvgSquareFeetNumber"]
[null,null,"StyleType"]
[null,null,"PptyUnitTypeOccupiedUnitCount"]
[null,null,"VacantUnitCount"]
[null,null,"PptyUnitTypeDownUnitCount"]
[null,null,"PptyUnitTypeOtherUnitCount"]
[null,null,"PptyUnitTypeOccupiedInspectedUnitCount"]
[null,null,"PptyUnitTypeVacantInspectedUnitCount"]
[null,null,"PptyUnitTypeDownInspectedUnitCount"]
[null,null,"PptyUnitTypeOtherInspectedUnitCount"]
[null,null,"BedroomCount"]
[null,null,"BathroomCount"]
[null,null,"AvgSquareFeetNumber"]
[null,null,"StyleType"]
[null,null,"PptyUnitTypeOccupiedUnitCount"]
[null,null,"VacantUnitCount"]
[null,null,"PptyUnitTypeDownUnitCount"]
[null,null,"PptyUnitTypeOtherUnitCount"]
[null,null,"PptyUnitTypeOccupiedInspectedUnitCount"]
[null,null,"PptyUnitTypeVacantInspectedUnitCount"]
[null,null,"PptyUnitTypeDownInspectedUnitCount"]
[null,null,"PptyUnitTypeOtherInspectedUnitCount"]
[null,null,"BedroomCount"]
[null,null,"BathroomCount"]
[null,null,"AvgSquareFeetNumber"]
[null,null,"StyleType"]
[null,null,"PptyUnitTypeOccupiedUnitCount"]
[null,null,"VacantUnitCount"]
[null,null,"PptyUnitTypeDownUnitCount"]
[null,null,"PptyUnitTypeOtherUnitCount"]
[null,null,"PptyUnitTypeOccupiedInspectedUnitCount"]
[null,null,"PptyUnitTypeVacantInspectedUnitCount"]
[null,null,"PptyUnitTypeDownInspectedUnitCount"]
[null,null,"PptyUnitTypeOtherInspectedUnitCount"]
[null,null,"BedroomCount"]
[null,null,"BathroomCount"]
[null,null,"AvgSquareFeetNumber"]
[null,null,"StyleType"]
[null,null,"PptyUnitTypeOccupiedUnitCount"]
[null,null,"VacantUnitCount"]
[null,null,"PptyUnitTypeDownUnitCount"]
[null,null,"PptyUnitTypeOtherUnitCount"]
[null,null,"PptyUnitTypeOccupiedInspectedUnitCount"]
[null,null,"PptyUnitTypeVacantInspectedUnitCount"]
[null,null,"PptyUnitTypeDownInspectedUnitCount"]
[null,null,"PptyUnitTypeOtherInspectedUnitCount"]
[null,null,"BedroomCount"]
[null,null,"BathroomCount"]
[null,null,"AvgSquareFeetNumber"]
[null,null,"StyleType"]
[null,null,"PptyUnitTypeOccupiedUnitCount"]
[null,null,"VacantUnitCount"]
[null,null,"PptyUnitTypeDownUnitCount"]
[null,null,"PptyUnitTypeOtherUnitCount"]
[null,null,"PptyUnitTypeOccupiedInspectedUnitCount"]
[null,null,"PptyUnitTypeVacantInspectedUnitCount"]
[null,null,"PptyUnitTypeDownInspectedUnitCount"]
[null,null,"PptyUnitTypeOtherInspectedUnitCount"]
[null,null,"BedroomCount"]
[null,null,"BathroomCount"]
[null,null,"AvgSquareFeetNumber"]
[null,null,"StyleType"]
[null,null,"PptyUnitTypeOccupiedUnitCount"]
[null,null,"VacantUnitCount"]
[null,null,"PptyUnitTypeDownUnitCount"]
[null,null,"PptyUnitTypeOtherUnitCount"]
[null,null,"PptyUnitTypeOccupiedInspectedUnitCount"]
[null,null,"PptyUnitTypeVacantInspectedUnitCount"]
[null,null,"PptyUnitTypeDownInspectedUnitCount"]
[null,null,"PptyUnitTypeOtherInspectedUnitCount"]
[null,null,"BedroomCount"]
[null,null,"BathroomCount"]
[null,null,"AvgSquareFeetNumber"]
[null,null,"StyleType"]
[null,null,"PptyUnitTypeOccupiedUnitCount"]
[null,null,"VacantUnitCount"]
[null,null,"PptyUnitTypeDownUnitCount"]
[null,null,"PptyUnitTypeOtherUnitCount"]
[null,null,"PptyUnitTypeOccupiedInspectedUnitCount"]
[null,null,"PptyUnitTypeVacantInspectedUnitCount"]
[null,null,"PptyUnitTypeDownInspectedUnitCount"]
[null,null,"PptyUnitTypeOtherInspectedUnitCount"]
[null,null,"BedroomCount"]
[null,null,"BathroomCount"]
[null,null,"AvgSquareFeetNumber"]
[null,null,"StyleType"]
[null,null,"PptyUnitTypeOccupiedUnitCount"]
[null,null,"VacantUnitCount"]
[null,null,"PptyUnitTypeDownUnitCount"]
[null,null,"PptyUnitTypeOtherUnitCount"]
[null,null,"PptyUnitTypeOccupiedInspectedUnitCount"]
[null,null,"PptyUnitTypeVacantInspectedUnitCount"]
[null,null,"PptyUnitTypeDownInspectedUnitCount"]
[null,null,"PptyUnitTypeOtherInspectedUnitCount"]
[null,null,"BedroomCount"]
[null,null,"BathroomCount"]
[null,null,"AvgSquareFeetNumber"]
[null,null,"StyleType"]
[null,null,"PptyUnitTypeOccupiedUnitCount"]
[null,null,"VacantUnitCount"]
[null,null,"PptyUnitTypeDownUnitCount"]
[null,null,"PptyUnitTypeOtherUnitCount"]
[null,null,"PptyUnitTypeOccupiedInspectedUnitCount"]
[null,null,"PptyUnitTypeVacantInspectedUnitCount"]
[null,null,"PptyUnitTypeDownInspectedUnitCount"]
[null,null,"PptyUnitTypeOtherInspectedUnitCount"]
[null,null,"BedroomCount"]
[null,null,"BathroomCount"]
[null,null,"AvgSquareFeetNumber"]
[null,null,"StyleType"]
[null,null,"PptyUnitTypeOccupiedUnitCount"]
[null,null,"VacantUnitCount"]
[null,null,"PptyUnitTypeDownUnitCount"]
[null,null,"PptyUnitTypeOtherUnitCount"]
[null,null,"PptyUnitTypeOccupiedInspectedUnitCount"]
[null,null,"PptyUnitTypeVacantInspectedUnitCount"]
[null,null,"PptyUnitTypeDownInspectedUnitCount"]
[null,null,"PptyUnitTypeOtherInspectedUnitCount"]
[null,null,"BedroomCount"]
[null,null,"BathroomCount"]
[null,null,"AvgSquareFeetNumber"]
[null,null,"StyleType"]
[null,null,"PptyUnitTypeOccupiedUnitCount"]
[null,null,"VacantUnitCount"]
[null,null,"PptyUnitTypeDownUnitCount"]
[null,null,"PptyUnitTypeOtherUnitCount"]
[null,null,"PptyUnitTypeOccupiedInspectedUnitCount"]
[null,null,"PptyUnitTypeVacantInspectedUnitCount"]
[null,null,"PptyUnitTypeDownInspectedUnitCount"]
[null,null,"PptyUnitTypeOtherInspectedUnitCount"]
[null,null,"BedroomCount"]
[null,null,"BathroomCount"]
[null,null,"AvgSquareFeetNumber"]
[null,null,"StyleType"]
[null,null,"PptyUnitTypeOccupiedUnitCount"]
[null,null,"VacantUnitCount"]
[null,null,"PptyUnitTypeDownUnitCount"]
[null,null,"PptyUnitTypeOtherUnitCount"]
[null,null,"PptyUnitTypeOccupiedInspectedUnitCount"]
[null,null,"PptyUnitTypeVacantInspectedUnitCount"]
[null,null,"PptyUnitTypeDownInspectedUnitCount"]
[null,null,"PptyUnitTypeOtherInspectedUnitCount"]
[null,null,"BedroomCount"]
[null,null,"BathroomCount"]
[null,null,"AvgSquareFeetNumber"]
[null,null,"StyleType"]
[null,null,"PptyUnitTypeOccupiedUnitCount"]
[null,null,"VacantUnitCount"]
[null,null,"PptyUnitTypeDownUnitCount"]
[null,null,"PptyUnitTypeOtherUnitCount"]
[null,null,"PptyUnitTypeOccupiedInspectedUnitCount"]
[null,null,"PptyUnitTypeVacantInspectedUnitCount"]
[null,null,"PptyUnitTypeDownInspectedUnitCount"]
[null,null,"PptyUnitTypeOtherInspectedUnitCount"]
[null,null,"BedroomCount"]
[null,null,"BathroomCount"]
[null,null,"AvgSquareFeetNumber"]
[null,null,"StyleType"]
[null,null,"PptyUnitTypeOccupiedUnitCount"]
[null,null,"VacantUnitCount"]
[null,null,"PptyUnitTypeDownUnitCount"]
[null,null,"PptyUnitTypeOtherUnitCount"]
[null,null,"PptyUnitTypeOccupiedInspectedUnitCount"]
[null,null,"PptyUnitTypeVacantInspectedUnitCount"]
[null,null,"PptyUnitTypeDownInspectedUnitCount"]
[null,null,"PptyUnitTypeOtherInspectedUnitCount"]
[null,null,"BedroomCount"]
[null,null,"BathroomCount"]
[null,null,"AvgSquareFeetNumber"]
[null,null,"StyleType"]
[null,null,"PptyUnitTypeOccupiedUnitCount"]
[null,null,"VacantUnitCount"]
[null,null,"PptyUnitTypeDownUnitCount"]
[null,null,"PptyUnitTypeOtherUnitCount"]
[null,null,"PptyUnitTypeOccupiedInspectedUnitCount"]
[null,null,"PptyUnitTypeVacantInspectedUnitCount"]
[null,null,"PptyUnitTypeDownInspectedUnitCount"]
[null,null,"PptyUnitTypeOtherInspectedUnitCount"]
[null,null,"BedroomCount"]
[null,null,"BathroomCount"]
[null,null,"AvgSquareFeetNumber"]
[null,null,"StyleType"]
[null,null,"PptyUnitTypeOccupiedUnitCount"]
[null,null,"VacantUnitCount"]
[null,null,"PptyUnitTypeDownUnitCount"]
[null,null,"PptyUnitTypeOtherUnitCount"]
[null,null,"PptyUnitTypeOccupiedInspectedUnitCount"]
[null,null,"PptyUnitTypeVacantInspectedUnitCount"]
[null,null,"PptyUnitTypeDownInspectedUnitCount"]
[null,null,"PptyUnitTypeOtherInspectedUnitCount"]
[null,null,"BedroomCount"]
[null,null,"BathroomCount"]
[null,null,"AvgSquareFeetNumber"]
[null,null,"StyleType"]
[null,null,"PptyUnitTypeOccupiedUnitCount"]
[null,null,"VacantUnitCount"]
[null,null,"PptyUnitTypeDownUnitCount"]
[null,null,"PptyUnitTypeOtherUnitCount"]
[null,null,"PptyUnitTypeOccupiedInspectedUnitCount"]
[null,null,"PptyUnitTypeVacantInspectedUnitCount"]
[null,null,"PptyUnitTypeDownInspectedUnitCount"]
[null,null,"PptyUnitTypeOtherInspectedUnitCount"]
[null,null,"BedroomCount"]
[null,null,"BathroomCount"]
[null,null,"AvgSquareFeetNumber"]
[null,null,"StyleType"]
[null,null,"PptyUnitTypeOccupiedUnitCount"]
[null,null,"VacantUnitCount"]
[null,null,"PptyUnitTypeDownUnitCount"]
[null,null,"PptyUnitTypeOtherUnitCount"]
[null,null,"PptyUnitTypeOccupiedInspectedUnitCount"]
[null,null,"PptyUnitTypeVacantInspectedUnitCount"]
[null,null,"PptyUnitTypeDownInspectedUnitCount"]
[null,null,"PptyUnitTypeOtherInspectedUnitCount"]
[null,null,"BedroomCount"]
[null,null,"BathroomCount"]
[null,null,"AvgSquareFeetNumber"]
[null,null,"StyleType"]
[null,null,"PptyUnitTypeOccupiedUnitCount"]
[null,null,"VacantUnitCount"]
[null,null,"PptyUnitTypeDownUnitCount"]
[null,null,"PptyUnitTypeOtherUnitCount"]
[null,null,"PptyUnitTypeOccupiedInspectedUnitCount"]
[null,null,"PptyUnitTypeVacantInspectedUnitCount"]
[null,null,"PptyUnitTypeDownInspectedUnitCount"]
[null,null,"PptyUnitTypeOtherInspectedUnitCount"]
[null,null,"BedroomCount"]
[null,null,"BathroomCount"]
[null,null,"AvgSquareFeetNumber"]
[null,null,"StyleType"]
[null,null,"PptyUnitTypeOccupiedUnitCount"]
[null,null,"VacantUnitCount"]
[null,null,"PptyUnitTypeDownUnitCount"]
[null,null,"PptyUnitTypeOtherUnitCount"]
[null,null,"PptyUnitTypeOccupiedInspectedUnitCount"]
[null,null,"PptyUnitTypeVacantInspectedUnitCount"]
[null,null,"PptyUnitTypeDownInspectedUnitCount"]
[null,null,"PptyUnitTypeOtherInspectedUnitCount"]
[null,null,"BedroomCount"]
[null,null,"BathroomCount"]
[null,null,"AvgSquareFeetNumber"]
[null,null,"StyleType"]
[null,null,"PptyUnitTypeOccupiedUnitCount"]
[null,null,"VacantUnitCount"]
[null,null,"PptyUnitTypeDownUnitCount"]
[null,null,"PptyUnitTypeOtherUnitCount"]
[null,null,"PptyUnitTypeOccupiedInspectedUnitCount"]
[null,null,"PptyUnitTypeVacantInspectedUnitCount"]
[null,null,"PptyUnitTypeDownInspectedUnitCount"]
[null,null,"PptyUnitTypeOtherInspectedUnitCount"]
[null,null,"BedroomCount"]
[null,null,"BathroomCount"]
[null,null,"AvgSquareFeetNumber"]
[null,null,"StyleType"]
[null,null,"PptyUnitTypeOccupiedUnitCount"]
[null,null,"VacantUnitCount"]
[null,null,"PptyUnitTypeDownUnitCount"]
[null,null,"PptyUnitTypeOtherUnitCount"]
[null,null,"PptyUnitTypeOccupiedInspectedUnitCount"]
[null,null,"PptyUnitTypeVacantInspectedUnitCount"]
[null,null,"PptyUnitTypeDownInspectedUnitCount"]
[null,null,"PptyUnitTypeOtherInspectedUnitCount"]
[null,null,"BedroomCount"]
[null,null,"BathroomCount"]
[null,null,"AvgSquareFeetNumber"]
[null,null,"StyleType"]
[null,null,"PptyUnitTypeOccupiedUnitCount"]
[null,null,"VacantUnitCount"]
[null,null,"PptyUnitTypeDownUnitCount"]
[null,null,"PptyUnitTypeOtherUnitCount"]
[null,null,"PptyUnitTypeOccupiedInspectedUnitCount"]
[null,null,"PptyUnitTypeVacantInspectedUnitCount"]
[null,null,"PptyUnitTypeDownInspectedUnitCount"]
[null,null,"PptyUnitTypeOtherInspectedUnitCount"]
[null,null,"BedroomCount"]
[null,null,"BathroomCount"]
[null,null,"AvgSquareFeetNumber"]
[null,null,"StyleType"]
[null,null,"PptyUnitTypeOccupiedUnitCount"]
[null,null,"VacantUnitCount"]
[null,null,"PptyUnitTypeDownUnitCount"]
[null,null,"PptyUnitTypeOtherUnitCount"]
[null,null,"PptyUnitTypeOccupiedInspectedUnitCount"]
[null,null,"PptyUnitTypeVacantInspectedUnitCount"]
[null,null,"PptyUnitTypeDownInspectedUnitCount"]
[null,null,"PptyUnitTypeOtherInspectedUnitCount"]
[null,null,"BedroomCount"]
[null,null,"BathroomCount"]
[null,null,"AvgSquareFeetNumber"]
[null,null,"StyleType"]
[null,null,"PptyUnitTypeOccupiedUnitCount"]
[null,null,"VacantUnitCount"]
[null,null,"PptyUnitTypeDownUnitCount"]
[null,null,"PptyUnitTypeOtherUnitCount"]
[null,null,"PptyUnitTypeOccupiedInspectedUnitCount"]
[null,null,"PptyUnitTypeVacantInspectedUnitCount"]
[null,null,"PptyUnitTypeDownInspectedUnitCount"]
[null,null,"PptyUnitTypeOtherInspectedUnitCount"]
[null,null,"BedroomCount"]
[null,null,"BathroomCount"]
[null,null,"AvgSquareFeetNumber"]
[null,null,"StyleType"]
[null,null,"PptyUnitTypeOccupiedUnitCount"]
[null,null,"VacantUnitCount"]
[null,null,"PptyUnitTypeDownUnitCount"]
[null,null,"PptyUnitTypeOtherUnitCount"]
[null,null,"PptyUnitTypeOccupiedInspectedUnitCount"]
[null,null,"PptyUnitTypeVacantInspectedUnitCount"]
[null,null,"PptyUnitTypeDownInspectedUnitCount"]
[null,null,"PptyUnitTypeOtherInspectedUnitCount"]
[null,null,"BedroomCount"]
[null,null,"BathroomCount"]
[null,null,"AvgSquareFeetNumber"]
[null,null,"StyleType"]
[null,null,"PptyUnitTypeOccupiedUnitCount"]
[null,null,"VacantUnitCount"]
[null,null,"PptyUnitTypeDownUnitCount"]
[null,null,"PptyUnitTypeOtherUnitCount"]
[null,null,"PptyUnitTypeOccupiedInspectedUnitCount"]
[null,null,"PptyUnitTypeVacantInspectedUnitCount"]
[null,null,"PptyUnitTypeDownInspectedUnitCount"]
[null,null,"PptyUnitTypeOtherInspectedUnitCount"]
[null,null,"BedroomCount"]
[null,null,"BathroomCount"]
[null,null,"AvgSquareFeetNumber"]
[null,null,"StyleType"]
[null,null,"PptyUnitTypeOccupiedUnitCount"]
[null,null,"VacantUnitCount"]
[null,null,"PptyUnitTypeDownUnitCount"]
[null,null,"PptyUnitTypeOtherUnitCount"]
[null,null,"PptyUnitTypeOccupiedInspectedUnitCount"]
[null,null,"PptyUnitTypeVacantInspectedUnitCount"]
[null,null,"PptyUnitTypeDownInspectedUnitCount"]
[null,null,"PptyUnitTypeOtherInspectedUnitCount"]
[null,null,"BedroomCount"]
[null,null,"BathroomCount"]
[null,null,"AvgSquareFeetNumber"]
[null,null,"StyleType"]
[null,null,"PptyUnitTypeOccupiedUnitCount"]
[null,null,"VacantUnitCount"]
[null,null,"PptyUnitTypeDownUnitCount"]
[null,null,"PptyUnitTypeOtherUnitCount"]
[null,null,"PptyUnitTypeOccupiedInspectedUnitCount"]
[null,null,"PptyUnitTypeVacantInspectedUnitCount"]
[null,null,"PptyUnitTypeDownInspectedUnitCount"]
[null,null,"PptyUnitTypeOtherInspectedUnitCount"]
[null,null,"BedroomCount"]
[null,null,"BathroomCount"]
[null,null,"AvgSquareFeetNumber"]
[null,null,"StyleType"]
[null,null,"PptyUnitTypeOccupiedUnitCount"]
[null,null,"VacantUnitCount"]
[null,null,"PptyUnitTypeDownUnitCount"]
[null,null,"PptyUnitTypeOtherUnitCount"]
[null,null,"PptyUnitTypeOccupiedInspectedUnitCount"]
[null,null,"PptyUnitTypeVacantInspectedUnitCount"]
[null,null,"PptyUnitTypeDownInspectedUnitCount"]
[null,null,"PptyUnitTypeOtherInspectedUnitCount"]
[null,null,"BedroomCount"]
[null,null,"BathroomCount"]
[null,null,"AvgSquareFeetNumber"]
[null,null,"StyleType"]
[null,null,"PptyUnitTypeOccupiedUnitCount"]
[null,null,"VacantUnitCount"]
[null,null,"PptyUnitTypeDownUnitCount"]
[null,null,"PptyUnitTypeOtherUnitCount"]
[null,null,"PptyUnitTypeOccupiedInspectedUnitCount"]
[null,null,"PptyUnitTypeVacantInspectedUnitCount"]
[null,null,"PptyUnitTypeDownInspectedUnitCount"]
[null,null,"PptyUnitTypeOtherInspectedUnitCount"]
[null,null,"BedroomCount"]
[null,null,"BathroomCount"]
[null,null,"AvgSquareFeetNumber"]
[null,null,"StyleType"]
[null,null,"PptyUnitTypeOccupiedUnitCount"]
[null,null,"VacantUnitCount"]
[null,null,"PptyUnitTypeDownUnitCount"]
[null,null,"PptyUnitTypeOtherUnitCount"]
[null,null,"PptyUnitTypeOccupiedInspectedUnitCount"]
[null,null,"PptyUnitTypeVacantInspectedUnitCount"]
[null,null,"PptyUnitTypeDownInspectedUnitCount"]
[null,null,"PptyUnitTypeOtherInspectedUnitCount"]
[null,null,"BedroomCount"]
[null,null,"BathroomCount"]
[null,null,"AvgSquareFeetNumber"]
[null,null,"StyleType"]
[null,null,"PptyUnitTypeOccupiedUnitCount"]
[null,null,"VacantUnitCount"]
[null,null,"PptyUnitTypeDownUnitCount"]
[null,null,"PptyUnitTypeOtherUnitCount"]
[null,null,"PptyUnitTypeOccupiedInspectedUnitCount"]
[null,null,"PptyUnitTypeVacantInspectedUnitCount"]
[null,null,"PptyUnitTypeDownInspectedUnitCount"]
[null,null,"PptyUnitTypeOtherInspectedUnitCount"]
[null,null,"BedroomCount"]
[null,null,"BathroomCount"]
[null,null,"AvgSquareFeetNumber"]
[null,null,"StyleType"]
[null,null,"PptyUnitTypeOccupiedUnitCount"]
[null,null,"VacantUnitCount"]
[null,null,"PptyUnitTypeDownUnitCount"]
[null,null,"PptyUnitTypeOtherUnitCount"]
[null,null,"PptyUnitTypeOccupiedInspectedUnitCount"]
[null,null,"PptyUnitTypeVacantInspectedUnitCount"]
[null,null,"PptyUnitTypeDownInspectedUnitCount"]
[null,null,"PptyUnitTypeOtherInspectedUnitCount"]
[null,null,"BedroomCount"]
[null,null,"BathroomCount"]
[null,null,"AvgSquareFeetNumber"]
[null,null,"StyleType"]
[null,null,"PptyUnitTypeOccupiedUnitCount"]
[null,null,"VacantUnitCount"]
[null,null,"PptyUnitTypeDownUnitCount"]
[null,null,"PptyUnitTypeOtherUnitCount"]
[null,null,"PptyUnitTypeOccupiedInspectedUnitCount"]
[null,null,"PptyUnitTypeVacantInspectedUnitCount"]
[null,null,"PptyUnitTypeDownInspectedUnitCount"]
[null,null,"PptyUnitTypeOtherInspectedUnitCount"]
[null,null,"BedroomCount"]
[null,null,"BathroomCount"]
[null,null,"AvgSquareFeetNumber"]
[null,null,"StyleType"]
[null,null,"PptyUnitTypeOccupiedUnitCount"]
[null,null,"VacantUnitCount"]
[null,null,"PptyUnitTypeDownUnitCount"]
[null,null,"PptyUnitTypeOtherUnitCount"]
[null,null,"PptyUnitTypeOccupiedInspectedUnitCount"]
[null,null,"PptyUnitTypeVacantInspectedUnitCount"]
[null,null,"PptyUnitTypeDownInspectedUnitCount"]
[null,null,"PptyUnitTypeOtherInspectedUnitCount"]
[null,null,"BedroomCount"]
[null,null,"BathroomCount"]
[null,null,"AvgSquareFeetNumber"]
[null,null,"StyleType"]
[null,null,"PptyUnitTypeOccupiedUnitCount"]
[null,null,"VacantUnitCount"]
[null,null,"PptyUnitTypeDownUnitCount"]
[null,null,"PptyUnitTypeOtherUnitCount"]
[null,null,"PptyUnitTypeOccupiedInspectedUnitCount"]
[null,null,"PptyUnitTypeVacantInspectedUnitCount"]
[null,null,"PptyUnitTypeDownInspectedUnitCount"]
[null,null,"PptyUnitTypeOtherInspectedUnitCount"]
[null,null,"BedroomCount"]
[null,null,"BathroomCount"]
[null,null,"AvgSquareFeetNumber"]
[null,null,"StyleType"]
[null,null,"PptyUnitTypeOccupiedUnitCount"]
[null,null,"VacantUnitCount"]
[null,null,"PptyUnitTypeDownUnitCount"]
[null,null,"PptyUnitTypeOtherUnitCount"]
[null,null,"PptyUnitTypeOccupiedInspectedUnitCount"]
[null,null,"PptyUnitTypeVacantInspectedUnitCount"]
[null,null,"PptyUnitTypeDownInspectedUnitCount"]
[null,null,"PptyUnitTypeOtherInspectedUnitCount"]

{"sheet":"UnitInspectionDump","index":9,"n_rows":3997,"n_cols":4,"rows_kept":3997,"cut":false,"hidden":false,"merged":[]}
["Unit Inspection Information",null,null,"PropertyResidentialRentalUnit"]
["UnitType",null,null,"UnitType"]
["SlrDesignatedUnitId",null,null,"SlrDesignatedUnitId"]
["OccupancyStatusType",null,null,"OccupancyStatusType"]
["UnitType",null,null,"UnitType"]
["SlrDesignatedUnitId",null,null,"SlrDesignatedUnitId"]
["OccupancyStatusType",null,null,"OccupancyStatusType"]
["UnitType",null,null,"UnitType"]
["SlrDesignatedUnitId",null,null,"SlrDesignatedUnitId"]
["OccupancyStatusType",null,null,"OccupancyStatusType"]
["UnitType",null,null,"UnitType"]
["SlrDesignatedUnitId",null,null,"SlrDesignatedUnitId"]
["OccupancyStatusType",null,null,"OccupancyStatusType"]
["UnitType",null,null,"UnitType"]
["SlrDesignatedUnitId",null,null,"SlrDesignatedUnitId"]
["OccupancyStatusType",null,null,"OccupancyStatusType"]
["UnitType",null,null,"UnitType"]
["SlrDesignatedUnitId",null,null,"SlrDesignatedUnitId"]
["OccupancyStatusType",null,null,"OccupancyStatusType"]
["UnitType",null,null,"UnitType"]
["SlrDesignatedUnitId",null,null,"SlrDesignatedUnitId"]
["OccupancyStatusType",null,null,"OccupancyStatusType"]
["UnitType",null,null,"UnitType"]
["SlrDesignatedUnitId",null,null,"SlrDesignatedUnitId"]
["OccupancyStatusType",null,null,"OccupancyStatusType"]
["UnitType",null,null,"UnitType"]
["SlrDesignatedUnitId",null,null,"SlrDesignatedUnitId"]
["OccupancyStatusType",null,null,"OccupancyStatusType"]
["UnitType",null,null,"UnitType"]
["SlrDesignatedUnitId",null,null,"SlrDesignatedUnitId"]
["OccupancyStatusType",null,null,"OccupancyStatusType"]
["UnitType",null,null,"UnitType"]
["SlrDesignatedUnitId",null,null,"SlrDesignatedUnitId"]
["OccupancyStatusType",null,null,"OccupancyStatusType"]
["UnitType",null,null,"UnitType"]
["SlrDesignatedUnitId",null,null,"SlrDesignatedUnitId"]
["OccupancyStatusType",null,null,"OccupancyStatusType"]
["UnitType",null,null,"UnitType"]
["SlrDesignatedUnitId",null,null,"SlrDesignatedUnitId"]
["OccupancyStatusType",null,null,"OccupancyStatusType"]
["UnitType",null,null,"UnitType"]
["SlrDesignatedUnitId",null,null,"SlrDesignatedUnitId"]
["OccupancyStatusType",null,null,"OccupancyStatusType"]
["UnitType",null,null,"UnitType"]
["SlrDesignatedUnitId",null,null,"SlrDesignatedUnitId"]
["OccupancyStatusType",null,null,"OccupancyStatusType"]
["UnitType",null,null,"UnitType"]
["SlrDesignatedUnitId",null,null,"SlrDesignatedUnitId"]
["OccupancyStatusType",null,null,"OccupancyStatusType"]
["UnitType",null,null,"UnitType"]
["SlrDesignatedUnitId",null,null,"SlrDesignatedUnitId"]
["OccupancyStatusType",null,null,"OccupancyStatusType"]
["UnitType",null,null,"UnitType"]
["SlrDesignatedUnitId",null,null,"SlrDesignatedUnitId"]
["OccupancyStatusType",null,null,"OccupancyStatusType"]
["UnitType",null,null,"UnitType"]
["SlrDesignatedUnitId",null,null,"SlrDesignatedUnitId"]
["OccupancyStatusType",null,null,"OccupancyStatusType"]
["UnitType",null,null,"UnitType"]
["SlrDesignatedUnitId",null,null,"SlrDesignatedUnitId"]
["OccupancyStatusType",null,null,"OccupancyStatusType"]
["UnitType",null,null,"UnitType"]
["SlrDesignatedUnitId",null,null,"SlrDesignatedUnitId"]
["OccupancyStatusType",null,null,"OccupancyStatusType"]
["UnitType",null,null,"UnitType"]
["SlrDesignatedUnitId",null,null,"SlrDesignatedUnitId"]
["OccupancyStatusType",null,null,"OccupancyStatusType"]
["UnitType",null,null,"UnitType"]
["SlrDesignatedUnitId",null,null,"SlrDesignatedUnitId"]
["OccupancyStatusType",null,null,"OccupancyStatusType"]
["UnitType",null,null,"UnitType"]
["SlrDesignatedUnitId",null,null,"SlrDesignatedUnitId"]
["OccupancyStatusType",null,null,"OccupancyStatusType"]
["UnitType",null,null,"UnitType"]
["SlrDesignatedUnitId",null,null,"SlrDesignatedUnitId"]
["OccupancyStatusType",null,null,"OccupancyStatusType"]
["UnitType",null,null,"UnitType"]
["SlrDesignatedUnitId",null,null,"SlrDesignatedUnitId"]
["OccupancyStatusType",null,null,"OccupancyStatusType"]
["UnitType",null,null,"UnitType"]
["SlrDesignatedUnitId",null,null,"SlrDesignatedUnitId"]
["OccupancyStatusType",null,null,"OccupancyStatusType"]
["UnitType",null,null,"UnitType"]
["SlrDesignatedUnitId",null,null,"SlrDesignatedUnitId"]
["OccupancyStatusType",null,null,"OccupancyStatusType"]
["UnitType",null,null,"UnitType"]
["SlrDesignatedUnitId",null,null,"SlrDesignatedUnitId"]
["OccupancyStatusType",null,null,"OccupancyStatusType"]
["UnitType",null,null,"UnitType"]
["SlrDesignatedUnitId",null,null,"SlrDesignatedUnitId"]
["OccupancyStatusType",null,null,"OccupancyStatusType"]
["UnitType",null,null,"UnitType"]
["SlrDesignatedUnitId",null,null,"SlrDesignatedUnitId"]
["OccupancyStatusType",null,null,"OccupancyStatusType"]
["UnitType",null,null,"UnitType"]
["SlrDesignatedUnitId",null,null,"SlrDesignatedUnitId"]
["OccupancyStatusType",null,null,"OccupancyStatusType"]
["UnitType",null,null,"UnitType"]
["SlrDesignatedUnitId",null,null,"SlrDesignatedUnitId"]
["OccupancyStatusType",null,null,"OccupancyStatusType"]
["UnitType",null,null,"UnitType"]
["SlrDesignatedUnitId",null,null,"SlrDesignatedUnitId"]
["OccupancyStatusType",null,null,"OccupancyStatusType"]
["UnitType",null,null,"UnitType"]
["SlrDesignatedUnitId",null,null,"SlrDesignatedUnitId"]
["OccupancyStatusType",null,null,"OccupancyStatusType"]
["UnitType",null,null,"UnitType"]
["SlrDesignatedUnitId",null,null,"SlrDesignatedUnitId"]
["OccupancyStatusType",null,null,"OccupancyStatusType"]
["UnitType",null,null,"UnitType"]
["SlrDesignatedUnitId",null,null,"SlrDesignatedUnitId"]
["OccupancyStatusType",null,null,"OccupancyStatusType"]
["UnitType",null,null,"UnitType"]
["SlrDesignatedUnitId",null,null,"SlrDesignatedUnitId"]
["OccupancyStatusType",null,null,"OccupancyStatusType"]
["UnitType",null,null,"UnitType"]
["SlrDesignatedUnitId",null,null,"SlrDesignatedUnitId"]
["OccupancyStatusType",null,null,"OccupancyStatusType"]
["UnitType",null,null,"UnitType"]
["SlrDesignatedUnitId",null,null,"SlrDesignatedUnitId"]
["OccupancyStatusType",null,null,"OccupancyStatusType"]
["UnitType",null,null,"UnitType"]
["SlrDesignatedUnitId",null,null,"SlrDesignatedUnitId"]
["OccupancyStatusType",null,null,"OccupancyStatusType"]
["UnitType",null,null,"UnitType"]
["SlrDesignatedUnitId",null,null,"SlrDesignatedUnitId"]
["OccupancyStatusType",null,null,"OccupancyStatusType"]
["UnitType",null,null,"UnitType"]
["SlrDesignatedUnitId",null,null,"SlrDesignatedUnitId"]
["OccupancyStatusType",null,null,"OccupancyStatusType"]
["UnitType",null,null,"UnitType"]
["SlrDesignatedUnitId",null,null,"SlrDesignatedUnitId"]
["OccupancyStatusType",null,null,"OccupancyStatusType"]
["UnitType",null,null,"UnitType"]
["SlrDesignatedUnitId",null,null,"SlrDesignatedUnitId"]
["OccupancyStatusType",null,null,"OccupancyStatusType"]
["UnitType",null,null,"UnitType"]
["SlrDesignatedUnitId",null,null,"SlrDesignatedUnitId"]
["OccupancyStatusType",null,null,"OccupancyStatusType"]
["UnitType",null,null,"UnitType"]
["SlrDesignatedUnitId",null,null,"SlrDesignatedUnitId"]
["OccupancyStatusType",null,null,"OccupancyStatusType"]
["UnitType",null,null,"UnitType"]
["SlrDesignatedUnitId",null,null,"SlrDesignatedUnitId"]
["OccupancyStatusType",null,null,"OccupancyStatusType"]
["UnitType",null,null,"UnitType"]
["SlrDesignatedUnitId",null,null,"SlrDesignatedUnitId"]
["OccupancyStatusType",null,null,"OccupancyStatusType"]
["UnitType",null,null,"UnitType"]
["SlrDesignatedUnitId",null,null,"SlrDesignatedUnitId"]
["OccupancyStatusType",null,null,"OccupancyStatusType"]
["UnitType",null,null,"UnitType"]
["SlrDesignatedUnitId",null,null,"SlrDesignatedUnitId"]
["OccupancyStatusType",null,null,"OccupancyStatusType"]
["UnitType",null,null,"UnitType"]
["SlrDesignatedUnitId",null,null,"SlrDesignatedUnitId"]
["OccupancyStatusType",null,null,"OccupancyStatusType"]
["UnitType",null,null,"UnitType"]
["SlrDesignatedUnitId",null,null,"SlrDesignatedUnitId"]
["OccupancyStatusType",null,null,"OccupancyStatusType"]
["UnitType",null,null,"UnitType"]
["SlrDesignatedUnitId",null,null,"SlrDesignatedUnitId"]
["OccupancyStatusType",null,null,"OccupancyStatusType"]
["UnitType",null,null,"UnitType"]
["SlrDesignatedUnitId",null,null,"SlrDesignatedUnitId"]
["OccupancyStatusType",null,null,"OccupancyStatusType"]
["UnitType",null,null,"UnitType"]
["SlrDesignatedUnitId",null,null,"SlrDesignatedUnitId"]
["OccupancyStatusType",null,null,"OccupancyStatusType"]
["UnitType",null,null,"UnitType"]
["SlrDesignatedUnitId",null,null,"SlrDesignatedUnitId"]
["OccupancyStatusType",null,null,"OccupancyStatusType"]
["UnitType",null,null,"UnitType"]
["SlrDesignatedUnitId",null,null,"SlrDesignatedUnitId"]
["OccupancyStatusType",null,null,"OccupancyStatusType"]
["UnitType",null,null,"UnitType"]
["SlrDesignatedUnitId",null,null,"SlrDesignatedUnitId"]
["OccupancyStatusType",null,null,"OccupancyStatusType"]
["UnitType",null,null,"UnitType"]
["SlrDesignatedUnitId",null,null,"SlrDesignatedUnitId"]
["OccupancyStatusType",null,null,"OccupancyStatusType"]
["UnitType",null,null,"UnitType"]
["SlrDesignatedUnitId",null,null,"SlrDesignatedUnitId"]
["OccupancyStatusType",null,null,"OccupancyStatusType"]
["UnitType",null,null,"UnitType"]
["SlrDesignatedUnitId",null,null,"SlrDesignatedUnitId"]
["OccupancyStatusType",null,null,"OccupancyStatusType"]
["UnitType",null,null,"UnitType"]
["SlrDesignatedUnitId",null,null,"SlrDesignatedUnitId"]
["OccupancyStatusType",null,null,"OccupancyStatusType"]
["UnitType",null,null,"UnitType"]
["SlrDesignatedUnitId",null,null,"SlrDesignatedUnitId"]
["OccupancyStatusType",null,null,"OccupancyStatusType"]
["UnitType",null,null,"UnitType"]
["SlrDesignatedUnitId",null,null,"SlrDesignatedUnitId"]
["OccupancyStatusType",null,null,"OccupancyStatusType"]
["UnitType",null,null,"UnitType"]
["SlrDesignatedUnitId",null,null,"SlrDesignatedUnitId"]
["OccupancyStatusType",null,null,"OccupancyStatusType"]
["UnitType",null,null,"UnitType"]
["SlrDesignatedUnitId",null,null,"SlrDesignatedUnitId"]
["OccupancyStatusType",null,null,"OccupancyStatusType"]
["UnitType",null,null,"UnitType"]
["SlrDesignatedUnitId",null,null,"SlrDesignatedUnitId"]
["OccupancyStatusType",null,null,"OccupancyStatusType"]
["UnitType",null,null,"UnitType"]
["SlrDesignatedUnitId",null,null,"SlrDesignatedUnitId"]
["OccupancyStatusType",null,null,"OccupancyStatusType"]
["UnitType",null,null,"UnitType"]
["SlrDesignatedUnitId",null,null,"SlrDesignatedUnitId"]
["OccupancyStatusType",null,null,"OccupancyStatusType"]
["UnitType",null,null,"UnitType"]
["SlrDesignatedUnitId",null,null,"SlrDesignatedUnitId"]
["OccupancyStatusType",null,null,"OccupancyStatusType"]
["UnitType",null,null,"UnitType"]
["SlrDesignatedUnitId",null,null,"SlrDesignatedUnitId"]
["OccupancyStatusType",null,null,"OccupancyStatusType"]
["UnitType",null,null,"UnitType"]
["SlrDesignatedUnitId",null,null,"SlrDesignatedUnitId"]
["OccupancyStatusType",null,null,"OccupancyStatusType"]
["UnitType",null,null,"UnitType"]
["SlrDesignatedUnitId",null,null,"SlrDesignatedUnitId"]
["OccupancyStatusType",null,null,"OccupancyStatusType"]
["UnitType",null,null,"UnitType"]
["SlrDesignatedUnitId",null,null,"SlrDesignatedUnitId"]
["OccupancyStatusType",null,null,"OccupancyStatusType"]
["UnitType",null,null,"UnitType"]
["SlrDesignatedUnitId",null,null,"SlrDesignatedUnitId"]
["OccupancyStatusType",null,null,"OccupancyStatusType"]
["UnitType",null,null,"UnitType"]
["SlrDesignatedUnitId",null,null,"SlrDesignatedUnitId"]
["OccupancyStatusType",null,null,"OccupancyStatusType"]
["UnitType",null,null,"UnitType"]
["SlrDesignatedUnitId",null,null,"SlrDesignatedUnitId"]
["OccupancyStatusType",null,null,"OccupancyStatusType"]
["UnitType",null,null,"UnitType"]
["SlrDesignatedUnitId",null,null,"SlrDesignatedUnitId"]
["OccupancyStatusType",null,null,"OccupancyStatusType"]
["UnitType",null,null,"UnitType"]
["SlrDesignatedUnitId",null,null,"SlrDesignatedUnitId"]
["OccupancyStatusType",null,null,"OccupancyStatusType"]
["UnitType",null,null,"UnitType"]
["SlrDesignatedUnitId",null,null,"SlrDesignatedUnitId"]
["OccupancyStatusType",null,null,"OccupancyStatusType"]
["UnitType",null,null,"UnitType"]
["SlrDesignatedUnitId",null,null,"SlrDesignatedUnitId"]
["OccupancyStatusType",null,null,"OccupancyStatusType"]
["UnitType",null,null,"UnitType"]
["SlrDesignatedUnitId",null,null,"SlrDesignatedUnitId"]
["OccupancyStatusType",null,null,"OccupancyStatusType"]
["UnitType",null,null,"UnitType"]
["SlrDesignatedUnitId",null,null,"SlrDesignatedUnitId"]
["OccupancyStatusType",null,null,"OccupancyStatusType"]
["UnitType",null,null,"UnitType"]
["SlrDesignatedUnitId",null,null,"SlrDesignatedUnitId"]
["OccupancyStatusType",null,null,"OccupancyStatusType"]
["UnitType",null,null,"UnitType"]
["SlrDesignatedUnitId",null,null,"SlrDesignatedUnitId"]
["OccupancyStatusType",null,null,"OccupancyStatusType"]
["UnitType",null,null,"UnitType"]
["SlrDesignatedUnitId",null,null,"SlrDesignatedUnitId"]
["OccupancyStatusType",null,null,"OccupancyStatusType"]
["UnitType",null,null,"UnitType"]
["SlrDesignatedUnitId",null,null,"SlrDesignatedUnitId"]
["OccupancyStatusType",null,null,"OccupancyStatusType"]
["UnitType",null,null,"UnitType"]
["SlrDesignatedUnitId",null,null,"SlrDesignatedUnitId"]
["OccupancyStatusType",null,null,"OccupancyStatusType"]
["UnitType",null,null,"UnitType"]
["SlrDesignatedUnitId",null,null,"SlrDesignatedUnitId"]
["OccupancyStatusType",null,null,"OccupancyStatusType"]
["UnitType",null,null,"UnitType"]
["SlrDesignatedUnitId",null,null,"SlrDesignatedUnitId"]
["OccupancyStatusType",null,null,"OccupancyStatusType"]
["UnitType",null,null,"UnitType"]
["SlrDesignatedUnitId",null,null,"SlrDesignatedUnitId"]
["OccupancyStatusType",null,null,"OccupancyStatusType"]
["UnitType",null,null,"UnitType"]
["SlrDesignatedUnitId",null,null,"SlrDesignatedUnitId"]
["OccupancyStatusType",null,null,"OccupancyStatusType"]
["UnitType",null,null,"UnitType"]
["SlrDesignatedUnitId",null,null,"SlrDesignatedUnitId"]
["OccupancyStatusType",null,null,"OccupancyStatusType"]
["UnitType",null,null,"UnitType"]
["SlrDesignatedUnitId",null,null,"SlrDesignatedUnitId"]
["OccupancyStatusType",null,null,"OccupancyStatusType"]
["UnitType",null,null,"UnitType"]
["SlrDesignatedUnitId",null,null,"SlrDesignatedUnitId"]
["OccupancyStatusType",null,null,"OccupancyStatusType"]
["UnitType",null,null,"UnitType"]
["SlrDesignatedUnitId",null,null,"SlrDesignatedUnitId"]
["OccupancyStatusType",null,null,"OccupancyStatusType"]
["UnitType",null,null,"UnitType"]
["SlrDesignatedUnitId",null,null,"SlrDesignatedUnitId"]
["OccupancyStatusType",null,null,"OccupancyStatusType"]
["UnitType",null,null,"UnitType"]
["SlrDesignatedUnitId",null,null,"SlrDesignatedUnitId"]
["OccupancyStatusType",null,null,"OccupancyStatusType"]
["UnitType",null,null,"UnitType"]
["SlrDesignatedUnitId",null,null,"SlrDesignatedUnitId"]
["OccupancyStatusType",null,null,"OccupancyStatusType"]
["UnitType",null,null,"UnitType"]
["SlrDesignatedUnitId",null,null,"SlrDesignatedUnitId"]
["OccupancyStatusType",null,null,"OccupancyStatusType"]
["UnitType",null,null,"UnitType"]
["SlrDesignatedUnitId",null,null,"SlrDesignatedUnitId"]
["OccupancyStatusType",null,null,"OccupancyStatusType"]
["UnitType",null,null,"UnitType"]
["SlrDesignatedUnitId",null,null,"SlrDesignatedUnitId"]
["OccupancyStatusType",null,null,"OccupancyStatusType"]
["UnitType",null,null,"UnitType"]
["SlrDesignatedUnitId",null,null,"SlrDesignatedUnitId"]
["OccupancyStatusType",null,null,"OccupancyStatusType"]
["UnitType",null,null,"UnitType"]
["SlrDesignatedUnitId",null,null,"SlrDesignatedUnitId"]
["OccupancyStatusType",null,null,"OccupancyStatusType"]
["UnitType",null,null,"UnitType"]
["SlrDesignatedUnitId",null,null,"SlrDesignatedUnitId"]
["OccupancyStatusType",null,null,"OccupancyStatusType"]
["UnitType",null,null,"UnitType"]
["SlrDesignatedUnitId",null,null,"SlrDesignatedUnitId"]
["OccupancyStatusType",null,null,"OccupancyStatusType"]
["UnitType",null,null,"UnitType"]
["SlrDesignatedUnitId",null,null,"SlrDesignatedUnitId"]
["OccupancyStatusType",null,null,"OccupancyStatusType"]
["UnitType",null,null,"UnitType"]
["SlrDesignatedUnitId",null,null,"SlrDesignatedUnitId"]
["OccupancyStatusType",null,null,"OccupancyStatusType"]
["UnitType",null,null,"UnitType"]
["SlrDesignatedUnitId",null,null,"SlrDesignatedUnitId"]
["OccupancyStatusType",null,null,"OccupancyStatusType"]
["UnitType",null,null,"UnitType"]
["SlrDesignatedUnitId",null,null,"SlrDesignatedUnitId"]
["OccupancyStatusType",null,null,"OccupancyStatusType"]
["UnitType",null,null,"UnitType"]
["SlrDesignatedUnitId",null,null,"SlrDesignatedUnitId"]
["OccupancyStatusType",null,null,"OccupancyStatusType"]
["UnitType",null,null,"UnitType"]
["SlrDesignatedUnitId",null,null,"SlrDesignatedUnitId"]
["OccupancyStatusType",null,null,"OccupancyStatusType"]
["UnitType",null,null,"UnitType"]
["SlrDesignatedUnitId",null,null,"SlrDesignatedUnitId"]
["OccupancyStatusType",null,null,"OccupancyStatusType"]
["UnitType",null,null,"UnitType"]
["SlrDesignatedUnitId",null,null,"SlrDesignatedUnitId"]
["OccupancyStatusType",null,null,"OccupancyStatusType"]
["UnitType",null,null,"UnitType"]
["SlrDesignatedUnitId",null,null,"SlrDesignatedUnitId"]
["OccupancyStatusType",null,null,"OccupancyStatusType"]
["UnitType",null,null,"UnitType"]
["SlrDesignatedUnitId",null,null,"SlrDesignatedUnitId"]
["OccupancyStatusType",null,null,"OccupancyStatusType"]
["UnitType",null,null,"UnitType"]
["SlrDesignatedUnitId",null,null,"SlrDesignatedUnitId"]
["OccupancyStatusType",null,null,"OccupancyStatusType"]
["UnitType",null,null,"UnitType"]
["SlrDesignatedUnitId",null,null,"SlrDesignatedUnitId"]
["OccupancyStatusType",null,null,"OccupancyStatusType"]
["UnitType",null,null,"UnitType"]
["SlrDesignatedUnitId",null,null,"SlrDesignatedUnitId"]
["OccupancyStatusType",null,null,"OccupancyStatusType"]
["UnitType",null,null,"UnitType"]
["SlrDesignatedUnitId",null,null,"SlrDesignatedUnitId"]
["OccupancyStatusType",null,null,"OccupancyStatusType"]
["UnitType",null,null,"UnitType"]
["SlrDesignatedUnitId",null,null,"SlrDesignatedUnitId"]
["OccupancyStatusType",null,null,"OccupancyStatusType"]
["UnitType",null,null,"UnitType"]
["SlrDesignatedUnitId",null,null,"SlrDesignatedUnitId"]
["OccupancyStatusType",null,null,"OccupancyStatusType"]
["UnitType",null,null,"UnitType"]
["SlrDesignatedUnitId",null,null,"SlrDesignatedUnitId"]
["OccupancyStatusType",null,null,"OccupancyStatusType"]
["UnitType",null,null,"UnitType"]
["SlrDesignatedUnitId",null,null,"SlrDesignatedUnitId"]
["OccupancyStatusType",null,null,"OccupancyStatusType"]
["UnitType",null,null,"UnitType"]
["SlrDesignatedUnitId",null,null,"SlrDesignatedUnitId"]
["OccupancyStatusType",null,null,"OccupancyStatusType"]
["UnitType",null,null,"UnitType"]
["SlrDesignatedUnitId",null,null,"SlrDesignatedUnitId"]
["OccupancyStatusType",null,null,"OccupancyStatusType"]
["UnitType",null,null,"UnitType"]
["SlrDesignatedUnitId",null,null,"SlrDesignatedUnitId"]
["OccupancyStatusType",null,null,"OccupancyStatusType"]
["UnitType",null,null,"UnitType"]
["SlrDesignatedUnitId",null,null,"SlrDesignatedUnitId"]
["OccupancyStatusType",null,null,"OccupancyStatusType"]
["UnitType",null,null,"UnitType"]
["SlrDesignatedUnitId",null,null,"SlrDesignatedUnitId"]
["OccupancyStatusType",null,null,"OccupancyStatusType"]
["UnitType",null,null,"UnitType"]
["SlrDesignatedUnitId",null,null,"SlrDesignatedUnitId"]
["OccupancyStatusType",null,null,"OccupancyStatusType"]
["UnitType",null,null,"UnitType"]
["SlrDesignatedUnitId",null,null,"SlrDesignatedUnitId"]
["OccupancyStatusType",null,null,"OccupancyStatusType"]
["UnitType",null,null,"UnitType"]
["SlrDesignatedUnitId",null,null,"SlrDesignatedUnitId"]
["OccupancyStatusType",null,null,"OccupancyStatusType"]
["UnitType",null,null,"UnitType"]
["SlrDesignatedUnitId",null,null,"SlrDesignatedUnitId"]
["OccupancyStatusType",null,null,"OccupancyStatusType"]
["UnitType",null,null,"UnitType"]
["SlrDesignatedUnitId",null,null,"SlrDesignatedUnitId"]
["OccupancyStatusType",null,null,"OccupancyStatusType"]
["UnitType",null,null,"UnitType"]
["SlrDesignatedUnitId",null,null,"SlrDesignatedUnitId"]
["OccupancyStatusType",null,null,"OccupancyStatusType"]
["UnitType",null,null,"UnitType"]
["SlrDesignatedUnitId",null,null,"SlrDesignatedUnitId"]
["OccupancyStatusType",null,null,"OccupancyStatusType"]
["UnitType",null,null,"UnitType"]
["SlrDesignatedUnitId",null,null,"SlrDesignatedUnitId"]
["OccupancyStatusType",null,null,"OccupancyStatusType"]
["UnitType",null,null,"UnitType"]
["SlrDesignatedUnitId",null,null,"SlrDesignatedUnitId"]
["OccupancyStatusType",null,null,"OccupancyStatusType"]
["UnitType",null,null,"UnitType"]
["SlrDesignatedUnitId",null,null,"SlrDesignatedUnitId"]
["OccupancyStatusType",null,null,"OccupancyStatusType"]
["UnitType",null,null,"UnitType"]
["SlrDesignatedUnitId",null,null,"SlrDesignatedUnitId"]
["OccupancyStatusType",null,null,"OccupancyStatusType"]
["UnitType",null,null,"UnitType"]
["SlrDesignatedUnitId",null,null,"SlrDesignatedUnitId"]
["OccupancyStatusType",null,null,"OccupancyStatusType"]
["UnitType",null,null,"UnitType"]
["SlrDesignatedUnitId",null,null,"SlrDesignatedUnitId"]
["OccupancyStatusType",null,null,"OccupancyStatusType"]
["UnitType",null,null,"UnitType"]
["SlrDesignatedUnitId",null,null,"SlrDesignatedUnitId"]
["OccupancyStatusType",null,null,"OccupancyStatusType"]
["UnitType",null,null,"UnitType"]
["SlrDesignatedUnitId",null,null,"SlrDesignatedUnitId"]
["OccupancyStatusType",null,null,"OccupancyStatusType"]
["UnitType",null,null,"UnitType"]
["SlrDesignatedUnitId",null,null,"SlrDesignatedUnitId"]
["OccupancyStatusType",null,null,"OccupancyStatusType"]
["UnitType",null,null,"UnitType"]
["SlrDesignatedUnitId",null,null,"SlrDesignatedUnitId"]
["OccupancyStatusType",null,null,"OccupancyStatusType"]
["UnitType",null,null,"UnitType"]
["SlrDesignatedUnitId",null,null,"SlrDesignatedUnitId"]
["OccupancyStatusType",null,null,"OccupancyStatusType"]
["UnitType",null,null,"UnitType"]
["SlrDesignatedUnitId",null,null,"SlrDesignatedUnitId"]
["OccupancyStatusType",null,null,"OccupancyStatusType"]
["UnitType",null,null,"UnitType"]
["SlrDesignatedUnitId",null,null,"SlrDesignatedUnitId"]
["OccupancyStatusType",null,null,"OccupancyStatusType"]
["UnitType",null,null,"UnitType"]
["SlrDesignatedUnitId",null,null,"SlrDesignatedUnitId"]
["OccupancyStatusType",null,null,"OccupancyStatusType"]
["UnitType",null,null,"UnitType"]
["SlrDesignatedUnitId",null,null,"SlrDesignatedUnitId"]
["OccupancyStatusType",null,null,"OccupancyStatusType"]
["UnitType",null,null,"UnitType"]
["SlrDesignatedUnitId",null,null,"SlrDesignatedUnitId"]
["OccupancyStatusType",null,null,"OccupancyStatusType"]
["UnitType",null,null,"UnitType"]
["SlrDesignatedUnitId",null,null,"SlrDesignatedUnitId"]
["OccupancyStatusType",null,null,"OccupancyStatusType"]
["UnitType",null,null,"UnitType"]
["SlrDesignatedUnitId",null,null,"SlrDesignatedUnitId"]
["OccupancyStatusType",null,null,"OccupancyStatusType"]
["UnitType",null,null,"UnitType"]
["SlrDesignatedUnitId",null,null,"SlrDesignatedUnitId"]
["OccupancyStatusType",null,null,"OccupancyStatusType"]
["UnitType",null,null,"UnitType"]
["SlrDesignatedUnitId",null,null,"SlrDesignatedUnitId"]
["OccupancyStatusType",null,null,"OccupancyStatusType"]
["UnitType",null,null,"UnitType"]
["SlrDesignatedUnitId",null,null,"SlrDesignatedUnitId"]
["OccupancyStatusType",null,null,"OccupancyStatusType"]
["UnitType",null,null,"UnitType"]
["SlrDesignatedUnitId",null,null,"SlrDesignatedUnitId"]
["OccupancyStatusType",null,null,"OccupancyStatusType"]
["UnitType",null,null,"UnitType"]
["SlrDesignatedUnitId",null,null,"SlrDesignatedUnitId"]
["OccupancyStatusType",null,null,"OccupancyStatusType"]
["UnitType",null,null,"UnitType"]
["SlrDesignatedUnitId",null,null,"SlrDesignatedUnitId"]
["OccupancyStatusType",null,null,"OccupancyStatusType"]
["UnitType",null,null,"UnitType"]
["SlrDesignatedUnitId",null,null,"SlrDesignatedUnitId"]
["OccupancyStatusType",null,null,"OccupancyStatusType"]
["UnitType",null,null,"UnitType"]
["SlrDesignatedUnitId",null,null,"SlrDesignatedUnitId"]
["OccupancyStatusType",null,null,"OccupancyStatusType"]
["UnitType",null,null,"UnitType"]
["SlrDesignatedUnitId",null,null,"SlrDesignatedUnitId"]
["OccupancyStatusType",null,null,"OccupancyStatusType"]
["UnitType",null,null,"UnitType"]
["SlrDesignatedUnitId",null,null,"SlrDesignatedUnitId"]
["OccupancyStatusType",null,null,"OccupancyStatusType"]
["UnitType",null,null,"UnitType"]
["SlrDesignatedUnitId",null,null,"SlrDesignatedUnitId"]
["OccupancyStatusType",null,null,"OccupancyStatusType"]
["UnitType",null,null,"UnitType"]
["SlrDesignatedUnitId",null,null,"SlrDesignatedUnitId"]
["OccupancyStatusType",null,null,"OccupancyStatusType"]
["UnitType",null,null,"UnitType"]
["SlrDesignatedUnitId",null,null,"SlrDesignatedUnitId"]
["OccupancyStatusType",null,null,"OccupancyStatusType"]
["UnitType",null,null,"UnitType"]
["SlrDesignatedUnitId",null,null,"SlrDesignatedUnitId"]
["OccupancyStatusType",null,null,"OccupancyStatusType"]
["UnitType",null,null,"UnitType"]
["SlrDesignatedUnitId",null,null,"SlrDesignatedUnitId"]
["OccupancyStatusType",null,null,"OccupancyStatusType"]
["UnitType",null,null,"UnitType"]
["SlrDesignatedUnitId",null,null,"SlrDesignatedUnitId"]
["OccupancyStatusType",null,null,"OccupancyStatusType"]
["UnitType",null,null,"UnitType"]
["SlrDesignatedUnitId",null,null,"SlrDesignatedUnitId"]
["OccupancyStatusType",null,null,"OccupancyStatusType"]
["UnitType",null,null,"UnitType"]
["SlrDesignatedUnitId",null,null,"SlrDesignatedUnitId"]
["OccupancyStatusType",null,null,"OccupancyStatusType"]
["UnitType",null,null,"UnitType"]
["SlrDesignatedUnitId",null,null,"SlrDesignatedUnitId"]
["OccupancyStatusType",null,null,"OccupancyStatusType"]
["UnitType",null,null,"UnitType"]
["SlrDesignatedUnitId",null,null,"SlrDesignatedUnitId"]
["OccupancyStatusType",null,null,"OccupancyStatusType"]
["UnitType",null,null,"UnitType"]
["SlrDesignatedUnitId",null,null,"SlrDesignatedUnitId"]
["OccupancyStatusType",null,null,"OccupancyStatusType"]
["UnitType",null,null,"UnitType"]
["SlrDesignatedUnitId",null,null,"SlrDesignatedUnitId"]
["OccupancyStatusType",null,null,"OccupancyStatusType"]
["UnitType",null,null,"UnitType"]
["SlrDesignatedUnitId",null,null,"SlrDesignatedUnitId"]
["OccupancyStatusType",null,null,"OccupancyStatusType"]
["UnitType",null,null,"UnitType"]
["SlrDesignatedUnitId",null,null,"SlrDesignatedUnitId"]
["OccupancyStatusType",null,null,"OccupancyStatusType"]
["UnitType",null,null,"UnitType"]
["SlrDesignatedUnitId",null,null,"SlrDesignatedUnitId"]
["OccupancyStatusType",null,null,"OccupancyStatusType"]
["UnitType",null,null,"UnitType"]
["SlrDesignatedUnitId",null,null,"SlrDesignatedUnitId"]
["OccupancyStatusType",null,null,"OccupancyStatusType"]
["UnitType",null,null,"UnitType"]
["SlrDesignatedUnitId",null,null,"SlrDesignatedUnitId"]
["OccupancyStatusType",null,null,"OccupancyStatusType"]
["UnitType",null,null,"UnitType"]
["SlrDesignatedUnitId",null,null,"SlrDesignatedUnitId"]
["OccupancyStatusType",null,null,"OccupancyStatusType"]
["UnitType",null,null,"UnitType"]
["SlrDesignatedUnitId",null,null,"SlrDesignatedUnitId"]
["OccupancyStatusType",null,null,"OccupancyStatusType"]
["UnitType",null,null,"UnitType"]
["SlrDesignatedUnitId",null,null,"SlrDesignatedUnitId"]
["OccupancyStatusType",null,null,"OccupancyStatusType"]
["UnitType",null,null,"UnitType"]
["SlrDesignatedUnitId",null,null,"SlrDesignatedUnitId"]
["OccupancyStatusType",null,null,"OccupancyStatusType"]
["UnitType",null,null,"UnitType"]
["SlrDesignatedUnitId",null,null,"SlrDesignatedUnitId"]
["OccupancyStatusType",null,null,"OccupancyStatusType"]
["UnitType",null,null,"UnitType"]
["SlrDesignatedUnitId",null,null,"SlrDesignatedUnitId"]
["OccupancyStatusType",null,null,"OccupancyStatusType"]
["UnitType",null,null,"UnitType"]
["SlrDesignatedUnitId",null,null,"SlrDesignatedUnitId"]
["OccupancyStatusType",null,null,"OccupancyStatusType"]
["UnitType",null,null,"UnitType"]
["SlrDesignatedUnitId",null,null,"SlrDesignatedUnitId"]
["OccupancyStatusType",null,null,"OccupancyStatusType"]
["UnitType",null,null,"UnitType"]
["SlrDesignatedUnitId",null,null,"SlrDesignatedUnitId"]
["OccupancyStatusType",null,null,"OccupancyStatusType"]
["UnitType",null,null,"UnitType"]
["SlrDesignatedUnitId",null,null,"SlrDesignatedUnitId"]
["OccupancyStatusType",null,null,"OccupancyStatusType"]
["UnitType",null,null,"UnitType"]
["SlrDesignatedUnitId",null,null,"SlrDesignatedUnitId"]
["OccupancyStatusType",null,null,"OccupancyStatusType"]
["UnitType",null,null,"UnitType"]
["SlrDesignatedUnitId",null,null,"SlrDesignatedUnitId"]
["OccupancyStatusType",null,null,"OccupancyStatusType"]
["UnitType",null,null,"UnitType"]
["SlrDesignatedUnitId",null,null,"SlrDesignatedUnitId"]
["OccupancyStatusType",null,null,"OccupancyStatusType"]
["UnitType",null,null,"UnitType"]
["SlrDesignatedUnitId",null,null,"SlrDesignatedUnitId"]
["OccupancyStatusType",null,null,"OccupancyStatusType"]
["UnitType",null,null,"UnitType"]
["SlrDesignatedUnitId",null,null,"SlrDesignatedUnitId"]
["OccupancyStatusType",null,null,"OccupancyStatusType"]
["UnitType",null,null,"UnitType"]
["SlrDesignatedUnitId",null,null,"SlrDesignatedUnitId"]
["OccupancyStatusType",null,null,"OccupancyStatusType"]
["UnitType",null,null,"UnitType"]
["SlrDesignatedUnitId",null,null,"SlrDesignatedUnitId"]
["OccupancyStatusType",null,null,"OccupancyStatusType"]
["UnitType",null,null,"UnitType"]
["SlrDesignatedUnitId",null,null,"SlrDesignatedUnitId"]
["OccupancyStatusType",null,null,"OccupancyStatusType"]
["UnitType",null,null,"UnitType"]
["SlrDesignatedUnitId",null,null,"SlrDesignatedUnitId"]
["OccupancyStatusType",null,null,"OccupancyStatusType"]
["UnitType",null,null,"UnitType"]
["SlrDesignatedUnitId",null,null,"SlrDesignatedUnitId"]
["OccupancyStatusType",null,null,"OccupancyStatusType"]
["UnitType",null,null,"UnitType"]
["SlrDesignatedUnitId",null,null,"SlrDesignatedUnitId"]
["OccupancyStatusType",null,null,"OccupancyStatusType"]
["UnitType",null,null,"UnitType"]
["SlrDesignatedUnitId",null,null,"SlrDesignatedUnitId"]
["OccupancyStatusType",null,null,"OccupancyStatusType"]
["UnitType",null,null,"UnitType"]
["SlrDesignatedUnitId",null,null,"SlrDesignatedUnitId"]
["OccupancyStatusType",null,null,"OccupancyStatusType"]
["UnitType",null,null,"UnitType"]
["SlrDesignatedUnitId",null,null,"SlrDesignatedUnitId"]
["OccupancyStatusType",null,null,"OccupancyStatusType"]
["UnitType",null,null,"UnitType"]
["SlrDesignatedUnitId",null,null,"SlrDesignatedUnitId"]
["OccupancyStatusType",null,null,"OccupancyStatusType"]
["UnitType",null,null,"UnitType"]
["SlrDesignatedUnitId",null,null,"SlrDesignatedUnitId"]
["OccupancyStatusType",null,null,"OccupancyStatusType"]
["UnitType",null,null,"UnitType"]
["SlrDesignatedUnitId",null,null,"SlrDesignatedUnitId"]
["OccupancyStatusType",null,null,"OccupancyStatusType"]
["UnitType",null,null,"UnitType"]
["SlrDesignatedUnitId",null,null,"SlrDesignatedUnitId"]
["OccupancyStatusType",null,null,"OccupancyStatusType"]
["UnitType",null,null,"UnitType"]
["SlrDesignatedUnitId",null,null,"SlrDesignatedUnitId"]
["OccupancyStatusType",null,null,"OccupancyStatusType"]
["UnitType",null,null,"UnitType"]
["SlrDesignatedUnitId",null,null,"SlrDesignatedUnitId"]
["OccupancyStatusType",null,null,"OccupancyStatusType"]
["UnitType",null,null,"UnitType"]
["SlrDesignatedUnitId",null,null,"SlrDesignatedUnitId"]
["OccupancyStatusType",null,null,"OccupancyStatusType"]
["UnitType",null,null,"UnitType"]
["SlrDesignatedUnitId",null,null,"SlrDesignatedUnitId"]
["OccupancyStatusType",null,null,"OccupancyStatusType"]
["UnitType",null,null,"UnitType"]
["SlrDesignatedUnitId",null,null,"SlrDesignatedUnitId"]
["OccupancyStatusType",null,null,"OccupancyStatusType"]
["UnitType",null,null,"UnitType"]
["SlrDesignatedUnitId",null,null,"SlrDesignatedUnitId"]
["OccupancyStatusType",null,null,"OccupancyStatusType"]
["UnitType",null,null,"UnitType"]
["SlrDesignatedUnitId",null,null,"SlrDesignatedUnitId"]
["OccupancyStatusType",null,null,"OccupancyStatusType"]
["UnitType",null,null,"UnitType"]
["SlrDesignatedUnitId",null,null,"SlrDesignatedUnitId"]
["OccupancyStatusType",null,null,"OccupancyStatusType"]
["UnitType",null,null,"UnitType"]
["SlrDesignatedUnitId",null,null,"SlrDesignatedUnitId"]
["OccupancyStatusType",null,null,"OccupancyStatusType"]
["UnitType",null,null,"UnitType"]
["SlrDesignatedUnitId",null,null,"SlrDesignatedUnitId"]
["OccupancyStatusType",null,null,"OccupancyStatusType"]
["UnitType",null,null,"UnitType"]
["SlrDesignatedUnitId",null,null,"SlrDesignatedUnitId"]
["OccupancyStatusType",null,null,"OccupancyStatusType"]
["UnitType",null,null,"UnitType"]
["SlrDesignatedUnitId",null,null,"SlrDesignatedUnitId"]
["OccupancyStatusType",null,null,"OccupancyStatusType"]
["UnitType",null,null,"UnitType"]
["SlrDesignatedUnitId",null,null,"SlrDesignatedUnitId"]
["OccupancyStatusType",null,null,"OccupancyStatusType"]
["UnitType",null,null,"UnitType"]
["SlrDesignatedUnitId",null,null,"SlrDesignatedUnitId"]
["OccupancyStatusType",null,null,"OccupancyStatusType"]
["UnitType",null,null,"UnitType"]
["SlrDesignatedUnitId",null,null,"SlrDesignatedUnitId"]
["OccupancyStatusType",null,null,"OccupancyStatusType"]
["UnitType",null,null,"UnitType"]
["SlrDesignatedUnitId",null,null,"SlrDesignatedUnitId"]
["OccupancyStatusType",null,null,"OccupancyStatusType"]
["UnitType",null,null,"UnitType"]
["SlrDesignatedUnitId",null,null,"SlrDesignatedUnitId"]
["OccupancyStatusType",null,null,"OccupancyStatusType"]
["UnitType",null,null,"UnitType"]
["SlrDesignatedUnitId",null,null,"SlrDesignatedUnitId"]
["OccupancyStatusType",null,null,"OccupancyStatusType"]
["UnitType",null,null,"UnitType"]
["SlrDesignatedUnitId",null,null,"SlrDesignatedUnitId"]
["OccupancyStatusType",null,null,"OccupancyStatusType"]
["UnitType",null,null,"UnitType"]
["SlrDesignatedUnitId",null,null,"SlrDesignatedUnitId"]
["OccupancyStatusType",null,null,"OccupancyStatusType"]
["UnitType",null,null,"UnitType"]
["SlrDesignatedUnitId",null,null,"SlrDesignatedUnitId"]
["OccupancyStatusType",null,null,"OccupancyStatusType"]
["UnitType",null,null,"UnitType"]
["SlrDesignatedUnitId",null,null,"SlrDesignatedUnitId"]
["OccupancyStatusType",null,null,"OccupancyStatusType"]
["UnitType",null,null,"UnitType"]
["SlrDesignatedUnitId",null,null,"SlrDesignatedUnitId"]
["OccupancyStatusType",null,null,"OccupancyStatusType"]
["UnitType",null,null,"UnitType"]
["SlrDesignatedUnitId",null,null,"SlrDesignatedUnitId"]
["OccupancyStatusType",null,null,"OccupancyStatusType"]
["UnitType",null,null,"UnitType"]
["SlrDesignatedUnitId",null,null,"SlrDesignatedUnitId"]
["OccupancyStatusType",null,null,"OccupancyStatusType"]
["UnitType",null,null,"UnitType"]
["SlrDesignatedUnitId",null,null,"SlrDesignatedUnitId"]
["OccupancyStatusType",null,null,"OccupancyStatusType"]
["UnitType",null,null,"UnitType"]
["SlrDesignatedUnitId",null,null,"SlrDesignatedUnitId"]
["OccupancyStatusType",null,null,"OccupancyStatusType"]
["UnitType",null,null,"UnitType"]
["SlrDesignatedUnitId",null,null,"SlrDesignatedUnitId"]
["OccupancyStatusType",null,null,"OccupancyStatusType"]
["UnitType",null,null,"UnitType"]
["SlrDesignatedUnitId",null,null,"SlrDesignatedUnitId"]
["OccupancyStatusType",null,null,"OccupancyStatusType"]
["UnitType",null,null,"UnitType"]
["SlrDesignatedUnitId",null,null,"SlrDesignatedUnitId"]
["OccupancyStatusType",null,null,"OccupancyStatusType"]
["UnitType",null,null,"UnitType"]
["SlrDesignatedUnitId",null,null,"SlrDesignatedUnitId"]
["OccupancyStatusType",null,null,"OccupancyStatusType"]
["UnitType",null,null,"UnitType"]
["SlrDesignatedUnitId",null,null,"SlrDesignatedUnitId"]
["OccupancyStatusType",null,null,"OccupancyStatusType"]
["UnitType",null,null,"UnitType"]
["SlrDesignatedUnitId",null,null,"SlrDesignatedUnitId"]
["OccupancyStatusType",null,null,"OccupancyStatusType"]
["UnitType",null,null,"UnitType"]
["SlrDesignatedUnitId",null,null,"SlrDesignatedUnitId"]
["OccupancyStatusType",null,null,"OccupancyStatusType"]
["UnitType",null,null,"UnitType"]
["SlrDesignatedUnitId",null,null,"SlrDesignatedUnitId"]
["OccupancyStatusType",null,null,"OccupancyStatusType"]
["UnitType",null,null,"UnitType"]
["SlrDesignatedUnitId",null,null,"SlrDesignatedUnitId"]
["OccupancyStatusType",null,null,"OccupancyStatusType"]
["UnitType",null,null,"UnitType"]
["SlrDesignatedUnitId",null,null,"SlrDesignatedUnitId"]
["OccupancyStatusType",null,null,"OccupancyStatusType"]
["UnitType",null,null,"UnitType"]
["SlrDesignatedUnitId",null,null,"SlrDesignatedUnitId"]
["OccupancyStatusType",null,null,"OccupancyStatusType"]
["UnitType",null,null,"UnitType"]
["SlrDesignatedUnitId",null,null,"SlrDesignatedUnitId"]
["OccupancyStatusType",null,null,"OccupancyStatusType"]
["UnitType",null,null,"UnitType"]
["SlrDesignatedUnitId",null,null,"SlrDesignatedUnitId"]
["OccupancyStatusType",null,null,"OccupancyStatusType"]
["UnitType",null,null,"UnitType"]
["SlrDesignatedUnitId",null,null,"SlrDesignatedUnitId"]
["OccupancyStatusType",null,null,"OccupancyStatusType"]
["UnitType",null,null,"UnitType"]
["SlrDesignatedUnitId",null,null,"SlrDesignatedUnitId"]
["OccupancyStatusType",null,null,"OccupancyStatusType"]
["UnitType",null,null,"UnitType"]
["SlrDesignatedUnitId",null,null,"SlrDesignatedUnitId"]
["OccupancyStatusType",null,null,"OccupancyStatusType"]
["UnitType",null,null,"UnitType"]
["SlrDesignatedUnitId",null,null,"SlrDesignatedUnitId"]
["OccupancyStatusType",null,null,"OccupancyStatusType"]
["UnitType",null,null,"UnitType"]
["SlrDesignatedUnitId",null,null,"SlrDesignatedUnitId"]
["OccupancyStatusType",null,null,"OccupancyStatusType"]
["UnitType",null,null,"UnitType"]
["SlrDesignatedUnitId",null,null,"SlrDesignatedUnitId"]
["OccupancyStatusType",null,null,"OccupancyStatusType"]
["UnitType",null,null,"UnitType"]
["SlrDesignatedUnitId",null,null,"SlrDesignatedUnitId"]
["OccupancyStatusType",null,null,"OccupancyStatusType"]
["UnitType",null,null,"UnitType"]
["SlrDesignatedUnitId",null,null,"SlrDesignatedUnitId"]
["OccupancyStatusType",null,null,"OccupancyStatusType"]
["UnitType",null,null,"UnitType"]
["SlrDesignatedUnitId",null,null,"SlrDesignatedUnitId"]
["OccupancyStatusType",null,null,"OccupancyStatusType"]
["UnitType",null,null,"UnitType"]
["SlrDesignatedUnitId",null,null,"SlrDesignatedUnitId"]
["OccupancyStatusType",null,null,"OccupancyStatusType"]
["UnitType",null,null,"UnitType"]
["SlrDesignatedUnitId",null,null,"SlrDesignatedUnitId"]
["OccupancyStatusType",null,null,"OccupancyStatusType"]
["UnitType",null,null,"UnitType"]
["SlrDesignatedUnitId",null,null,"SlrDesignatedUnitId"]
["OccupancyStatusType",null,null,"OccupancyStatusType"]
["UnitType",null,null,"UnitType"]
["SlrDesignatedUnitId",null,null,"SlrDesignatedUnitId"]
["OccupancyStatusType",null,null,"OccupancyStatusType"]
["UnitType",null,null,"UnitType"]
["SlrDesignatedUnitId",null,null,"SlrDesignatedUnitId"]
["OccupancyStatusType",null,null,"OccupancyStatusType"]
["UnitType",null,null,"UnitType"]
["SlrDesignatedUnitId",null,null,"SlrDesignatedUnitId"]
["OccupancyStatusType",null,null,"OccupancyStatusType"]
["UnitType",null,null,"UnitType"]
["SlrDesignatedUnitId",null,null,"SlrDesignatedUnitId"]
["OccupancyStatusType",null,null,"OccupancyStatusType"]
["UnitType",null,null,"UnitType"]
["SlrDesignatedUnitId",null,null,"SlrDesignatedUnitId"]
["OccupancyStatusType",null,null,"OccupancyStatusType"]
["UnitType",null,null,"UnitType"]
["SlrDesignatedUnitId",null,null,"SlrDesignatedUnitId"]
["OccupancyStatusType",null,null,"OccupancyStatusType"]
["UnitType",null,null,"UnitType"]
["SlrDesignatedUnitId",null,null,"SlrDesignatedUnitId"]
["OccupancyStatusType",null,null,"OccupancyStatusType"]
["UnitType",null,null,"UnitType"]
["SlrDesignatedUnitId",null,null,"SlrDesignatedUnitId"]
["OccupancyStatusType",null,null,"OccupancyStatusType"]
["UnitType",null,null,"UnitType"]
["SlrDesignatedUnitId",null,null,"SlrDesignatedUnitId"]
["OccupancyStatusType",null,null,"OccupancyStatusType"]
["UnitType",null,null,"UnitType"]
["SlrDesignatedUnitId",null,null,"SlrDesignatedUnitId"]
["OccupancyStatusType",null,null,"OccupancyStatusType"]
["UnitType",null,null,"UnitType"]
["SlrDesignatedUnitId",null,null,"SlrDesignatedUnitId"]
["OccupancyStatusType",null,null,"OccupancyStatusType"]
["UnitType",null,null,"UnitType"]
["SlrDesignatedUnitId",null,null,"SlrDesignatedUnitId"]
["OccupancyStatusType",null,null,"OccupancyStatusType"]
["UnitType",null,null,"UnitType"]
["SlrDesignatedUnitId",null,null,"SlrDesignatedUnitId"]
["OccupancyStatusType",null,null,"OccupancyStatusType"]
["UnitType",null,null,"UnitType"]
["SlrDesignatedUnitId",null,null,"SlrDesignatedUnitId"]
["OccupancyStatusType",null,null,"OccupancyStatusType"]
["UnitType",null,null,"UnitType"]
["SlrDesignatedUnitId",null,null,"SlrDesignatedUnitId"]
["OccupancyStatusType",null,null,"OccupancyStatusType"]
["UnitType",null,null,"UnitType"]
["SlrDesignatedUnitId",null,null,"SlrDesignatedUnitId"]
["OccupancyStatusType",null,null,"OccupancyStatusType"]
["UnitType",null,null,"UnitType"]
["SlrDesignatedUnitId",null,null,"SlrDesignatedUnitId"]
["OccupancyStatusType",null,null,"OccupancyStatusType"]
["UnitType",null,null,"UnitType"]
["SlrDesignatedUnitId",null,null,"SlrDesignatedUnitId"]
["OccupancyStatusType",null,null,"OccupancyStatusType"]
["UnitType",null,null,"UnitType"]
["SlrDesignatedUnitId",null,null,"SlrDesignatedUnitId"]
["OccupancyStatusType",null,null,"OccupancyStatusType"]
["UnitType",null,null,"UnitType"]
["SlrDesignatedUnitId",null,null,"SlrDesignatedUnitId"]
["OccupancyStatusType",null,null,"OccupancyStatusType"]
["UnitType",null,null,"UnitType"]
["SlrDesignatedUnitId",null,null,"SlrDesignatedUnitId"]
["OccupancyStatusType",null,null,"OccupancyStatusType"]
["UnitType",null,null,"UnitType"]
["SlrDesignatedUnitId",null,null,"SlrDesignatedUnitId"]
["OccupancyStatusType",null,null,"OccupancyStatusType"]
["UnitType",null,null,"UnitType"]
["SlrDesignatedUnitId",null,null,"SlrDesignatedUnitId"]
["OccupancyStatusType",null,null,"OccupancyStatusType"]
["UnitType",null,null,"UnitType"]
["SlrDesignatedUnitId",null,null,"SlrDesignatedUnitId"]
["OccupancyStatusType",null,null,"OccupancyStatusType"]
["UnitType",null,null,"UnitType"]
["SlrDesignatedUnitId",null,null,"SlrDesignatedUnitId"]
["OccupancyStatusType",null,null,"OccupancyStatusType"]
["UnitType",null,null,"UnitType"]
["SlrDesignatedUnitId",null,null,"SlrDesignatedUnitId"]
["OccupancyStatusType",null,null,"OccupancyStatusType"]
["UnitType",null,null,"UnitType"]
["SlrDesignatedUnitId",null,null,"SlrDesignatedUnitId"]
["OccupancyStatusType",null,null,"OccupancyStatusType"]
["UnitType",null,null,"UnitType"]
["SlrDesignatedUnitId",null,null,"SlrDesignatedUnitId"]
["OccupancyStatusType",null,null,"OccupancyStatusType"]
["UnitType",null,null,"UnitType"]
["SlrDesignatedUnitId",null,null,"SlrDesignatedUnitId"]
["OccupancyStatusType",null,null,"OccupancyStatusType"]
["UnitType",null,null,"UnitType"]
["SlrDesignatedUnitId",null,null,"SlrDesignatedUnitId"]
["OccupancyStatusType",null,null,"OccupancyStatusType"]
["UnitType",null,null,"UnitType"]
["SlrDesignatedUnitId",null,null,"SlrDesignatedUnitId"]
["OccupancyStatusType",null,null,"OccupancyStatusType"]
["UnitType",null,null,"UnitType"]
["SlrDesignatedUnitId",null,null,"SlrDesignatedUnitId"]
["OccupancyStatusType",null,null,"OccupancyStatusType"]
["UnitType",null,null,"UnitType"]
["SlrDesignatedUnitId",null,null,"SlrDesignatedUnitId"]
["OccupancyStatusType",null,null,"OccupancyStatusType"]
["UnitType",null,null,"UnitType"]
["SlrDesignatedUnitId",null,null,"SlrDesignatedUnitId"]
["OccupancyStatusType",null,null,"OccupancyStatusType"]
["UnitType",null,null,"UnitType"]
["SlrDesignatedUnitId",null,null,"SlrDesignatedUnitId"]
["OccupancyStatusType",null,null,"OccupancyStatusType"]
["UnitType",null,null,"UnitType"]
["SlrDesignatedUnitId",null,null,"SlrDesignatedUnitId"]
["OccupancyStatusType",null,null,"OccupancyStatusType"]
["UnitType",null,null,"UnitType"]
["SlrDesignatedUnitId",null,null,"SlrDesignatedUnitId"]
["OccupancyStatusType",null,null,"OccupancyStatusType"]
["UnitType",null,null,"UnitType"]
["SlrDesignatedUnitId",null,null,"SlrDesignatedUnitId"]
["OccupancyStatusType",null,null,"OccupancyStatusType"]
["UnitType",null,null,"UnitType"]
["SlrDesignatedUnitId",null,null,"SlrDesignatedUnitId"]
["OccupancyStatusType",null,null,"OccupancyStatusType"]
["UnitType",null,null,"UnitType"]
["SlrDesignatedUnitId",null,null,"SlrDesignatedUnitId"]
["OccupancyStatusType",null,null,"OccupancyStatusType"]
["UnitType",null,null,"UnitType"]
["SlrDesignatedUnitId",null,null,"SlrDesignatedUnitId"]
["OccupancyStatusType",null,null,"OccupancyStatusType"]
["UnitType",null,null,"UnitType"]
["SlrDesignatedUnitId",null,null,"SlrDesignatedUnitId"]
["OccupancyStatusType",null,null,"OccupancyStatusType"]
["UnitType",null,null,"UnitType"]
["SlrDesignatedUnitId",null,null,"SlrDesignatedUnitId"]
["OccupancyStatusType",null,null,"OccupancyStatusType"]
["UnitType",null,null,"UnitType"]
["SlrDesignatedUnitId",null,null,"SlrDesignatedUnitId"]
["OccupancyStatusType",null,null,"OccupancyStatusType"]
["UnitType",null,null,"UnitType"]
["SlrDesignatedUnitId",null,null,"SlrDesignatedUnitId"]
["OccupancyStatusType",null,null,"OccupancyStatusType"]
["UnitType",null,null,"UnitType"]
["SlrDesignatedUnitId",null,null,"SlrDesignatedUnitId"]
["OccupancyStatusType",null,null,"OccupancyStatusType"]
["UnitType",null,null,"UnitType"]
["SlrDesignatedUnitId",null,null,"SlrDesignatedUnitId"]
["OccupancyStatusType",null,null,"OccupancyStatusType"]
["UnitType",null,null,"UnitType"]
["SlrDesignatedUnitId",null,null,"SlrDesignatedUnitId"]
["OccupancyStatusType",null,null,"OccupancyStatusType"]
["UnitType",null,null,"UnitType"]
["SlrDesignatedUnitId",null,null,"SlrDesignatedUnitId"]
["OccupancyStatusType",null,null,"OccupancyStatusType"]
["UnitType",null,null,"UnitType"]
["SlrDesignatedUnitId",null,null,"SlrDesignatedUnitId"]
["OccupancyStatusType",null,null,"OccupancyStatusType"]
["UnitType",null,null,"UnitType"]
["SlrDesignatedUnitId",null,null,"SlrDesignatedUnitId"]
["OccupancyStatusType",null,null,"OccupancyStatusType"]
["UnitType",null,null,"UnitType"]
["SlrDesignatedUnitId",null,null,"SlrDesignatedUnitId"]
["OccupancyStatusType",null,null,"OccupancyStatusType"]
["UnitType",null,null,"UnitType"]
["SlrDesignatedUnitId",null,null,"SlrDesignatedUnitId"]
["OccupancyStatusType",null,null,"OccupancyStatusType"]
["UnitType",null,null,"UnitType"]
["SlrDesignatedUnitId",null,null,"SlrDesignatedUnitId"]
["OccupancyStatusType",null,null,"OccupancyStatusType"]
["UnitType",null,null,"UnitType"]
["SlrDesignatedUnitId",null,null,"SlrDesignatedUnitId"]
["OccupancyStatusType",null,null,"OccupancyStatusType"]
["UnitType",null,null,"UnitType"]
["SlrDesignatedUnitId",null,null,"SlrDesignatedUnitId"]
["OccupancyStatusType",null,null,"OccupancyStatusType"]
["UnitType",null,null,"UnitType"]
["SlrDesignatedUnitId",null,null,"SlrDesignatedUnitId"]
["OccupancyStatusType",null,null,"OccupancyStatusType"]
["UnitType",null,null,"UnitType"]
["SlrDesignatedUnitId",null,null,"SlrDesignatedUnitId"]
["OccupancyStatusType",null,null,"OccupancyStatusType"]
["UnitType",null,null,"UnitType"]
["SlrDesignatedUnitId",null,null,"SlrDesignatedUnitId"]
["OccupancyStatusType",null,null,"OccupancyStatusType"]
["UnitType",null,null,"UnitType"]
["SlrDesignatedUnitId",null,null,"SlrDesignatedUnitId"]
["OccupancyStatusType",null,null,"OccupancyStatusType"]
["UnitType",null,null,"UnitType"]
["SlrDesignatedUnitId",null,null,"SlrDesignatedUnitId"]
["OccupancyStatusType",null,null,"OccupancyStatusType"]
["UnitType",null,null,"UnitType"]
["SlrDesignatedUnitId",null,null,"SlrDesignatedUnitId"]
["OccupancyStatusType",null,null,"OccupancyStatusType"]
["UnitType",null,null,"UnitType"]
["SlrDesignatedUnitId",null,null,"SlrDesignatedUnitId"]
["OccupancyStatusType",null,null,"OccupancyStatusType"]
["UnitType",null,null,"UnitType"]
["SlrDesignatedUnitId",null,null,"SlrDesignatedUnitId"]
["OccupancyStatusType",null,null,"OccupancyStatusType"]
["UnitType",null,null,"UnitType"]
["SlrDesignatedUnitId",null,null,"SlrDesignatedUnitId"]
["OccupancyStatusType",null,null,"OccupancyStatusType"]
["UnitType",null,null,"UnitType"]
["SlrDesignatedUnitId",null,null,"SlrDesignatedUnitId"]
["OccupancyStatusType",null,null,"OccupancyStatusType"]
["UnitType",null,null,"UnitType"]
["SlrDesignatedUnitId",null,null,"SlrDesignatedUnitId"]
["OccupancyStatusType",null,null,"OccupancyStatusType"]
["UnitType",null,null,"UnitType"]
["SlrDesignatedUnitId",null,null,"SlrDesignatedUnitId"]
["OccupancyStatusType",null,null,"OccupancyStatusType"]
["UnitType",null,null,"UnitType"]
["SlrDesignatedUnitId",null,null,"SlrDesignatedUnitId"]
["OccupancyStatusType",null,null,"OccupancyStatusType"]
["UnitType",null,null,"UnitType"]
["SlrDesignatedUnitId",null,null,"SlrDesignatedUnitId"]
["OccupancyStatusType",null,null,"OccupancyStatusType"]
["UnitType",null,null,"UnitType"]
["SlrDesignatedUnitId",null,null,"SlrDesignatedUnitId"]
["OccupancyStatusType",null,null,"OccupancyStatusType"]
["UnitType",null,null,"UnitType"]
["SlrDesignatedUnitId",null,null,"SlrDesignatedUnitId"]
["OccupancyStatusType",null,null,"OccupancyStatusType"]
["UnitType",null,null,"UnitType"]
["SlrDesignatedUnitId",null,null,"SlrDesignatedUnitId"]
["OccupancyStatusType",null,null,"OccupancyStatusType"]
["UnitType",null,null,"UnitType"]
["SlrDesignatedUnitId",null,null,"SlrDesignatedUnitId"]
["OccupancyStatusType",null,null,"OccupancyStatusType"]
["UnitType",null,null,"UnitType"]
["SlrDesignatedUnitId",null,null,"SlrDesignatedUnitId"]
["OccupancyStatusType",null,null,"OccupancyStatusType"]
["UnitType",null,null,"UnitType"]
["SlrDesignatedUnitId",null,null,"SlrDesignatedUnitId"]
["OccupancyStatusType",null,null,"OccupancyStatusType"]
["UnitType",null,null,"UnitType"]
["SlrDesignatedUnitId",null,null,"SlrDesignatedUnitId"]
["OccupancyStatusType",null,null,"OccupancyStatusType"]
["UnitType",null,null,"UnitType"]
["SlrDesignatedUnitId",null,null,"SlrDesignatedUnitId"]
["OccupancyStatusType",null,null,"OccupancyStatusType"]
["UnitType",null,null,"UnitType"]
["SlrDesignatedUnitId",null,null,"SlrDesignatedUnitId"]
["OccupancyStatusType",null,null,"OccupancyStatusType"]
["UnitType",null,null,"UnitType"]
["SlrDesignatedUnitId",null,null,"SlrDesignatedUnitId"]
["OccupancyStatusType",null,null,"OccupancyStatusType"]
["UnitType",null,null,"UnitType"]
["SlrDesignatedUnitId",null,null,"SlrDesignatedUnitId"]
["OccupancyStatusType",null,null,"OccupancyStatusType"]
["UnitType",null,null,"UnitType"]
["SlrDesignatedUnitId",null,null,"SlrDesignatedUnitId"]
["OccupancyStatusType",null,null,"OccupancyStatusType"]
["UnitType",null,null,"UnitType"]
["SlrDesignatedUnitId",null,null,"SlrDesignatedUnitId"]
["OccupancyStatusType",null,null,"OccupancyStatusType"]
["UnitType",null,null,"UnitType"]
["SlrDesignatedUnitId",null,null,"SlrDesignatedUnitId"]
["OccupancyStatusType",null,null,"OccupancyStatusType"]
["UnitType",null,null,"UnitType"]
["SlrDesignatedUnitId",null,null,"SlrDesignatedUnitId"]
["OccupancyStatusType",null,null,"OccupancyStatusType"]
["UnitType",null,null,"UnitType"]
["SlrDesignatedUnitId",null,null,"SlrDesignatedUnitId"]
["OccupancyStatusType",null,null,"OccupancyStatusType"]
["UnitType",null,null,"UnitType"]
["SlrDesignatedUnitId",null,null,"SlrDesignatedUnitId"]
["OccupancyStatusType",null,null,"OccupancyStatusType"]
["UnitType",null,null,"UnitType"]
["SlrDesignatedUnitId",null,null,"SlrDesignatedUnitId"]
["OccupancyStatusType",null,null,"OccupancyStatusType"]
["UnitType",null,null,"UnitType"]
["SlrDesignatedUnitId",null,null,"SlrDesignatedUnitId"]
["OccupancyStatusType",null,null,"OccupancyStatusType"]
["UnitType",null,null,"UnitType"]
["SlrDesignatedUnitId",null,null,"SlrDesignatedUnitId"]
["OccupancyStatusType",null,null,"OccupancyStatusType"]
["UnitType",null,null,"UnitType"]
["SlrDesignatedUnitId",null,null,"SlrDesignatedUnitId"]
["OccupancyStatusType",null,null,"OccupancyStatusType"]
["UnitType",null,null,"UnitType"]
["SlrDesignatedUnitId",null,null,"SlrDesignatedUnitId"]
["OccupancyStatusType",null,null,"OccupancyStatusType"]
["UnitType",null,null,"UnitType"]
["SlrDesignatedUnitId",null,null,"SlrDesignatedUnitId"]
["OccupancyStatusType",null,null,"OccupancyStatusType"]
["UnitType",null,null,"UnitType"]
["SlrDesignatedUnitId",null,null,"SlrDesignatedUnitId"]
["OccupancyStatusType",null,null,"OccupancyStatusType"]
["UnitType",null,null,"UnitType"]
["SlrDesignatedUnitId",null,null,"SlrDesignatedUnitId"]
["OccupancyStatusType",null,null,"OccupancyStatusType"]
["UnitType",null,null,"UnitType"]
["SlrDesignatedUnitId",null,null,"SlrDesignatedUnitId"]
["OccupancyStatusType",null,null,"OccupancyStatusType"]
["UnitType",null,null,"UnitType"]
["SlrDesignatedUnitId",null,null,"SlrDesignatedUnitId"]
["OccupancyStatusType",null,null,"OccupancyStatusType"]
["UnitType",null,null,"UnitType"]
["SlrDesignatedUnitId",null,null,"SlrDesignatedUnitId"]
["OccupancyStatusType",null,null,"OccupancyStatusType"]
["UnitType",null,null,"UnitType"]
["SlrDesignatedUnitId",null,null,"SlrDesignatedUnitId"]
["OccupancyStatusType",null,null,"OccupancyStatusType"]
["UnitType",null,null,"UnitType"]
["SlrDesignatedUnitId",null,null,"SlrDesignatedUnitId"]
["OccupancyStatusType",null,null,"OccupancyStatusType"]
["UnitType",null,null,"UnitType"]
["SlrDesignatedUnitId",null,null,"SlrDesignatedUnitId"]
["OccupancyStatusType",null,null,"OccupancyStatusType"]
["UnitType",null,null,"UnitType"]
["SlrDesignatedUnitId",null,null,"SlrDesignatedUnitId"]
["OccupancyStatusType",null,null,"OccupancyStatusType"]
["UnitType",null,null,"UnitType"]
["SlrDesignatedUnitId",null,null,"SlrDesignatedUnitId"]
["OccupancyStatusType",null,null,"OccupancyStatusType"]
["UnitType",null,null,"UnitType"]
["SlrDesignatedUnitId",null,null,"SlrDesignatedUnitId"]
["OccupancyStatusType",null,null,"OccupancyStatusType"]
["UnitType",null,null,"UnitType"]
["SlrDesignatedUnitId",null,null,"SlrDesignatedUnitId"]
["OccupancyStatusType",null,null,"OccupancyStatusType"]
["UnitType",null,null,"UnitType"]
["SlrDesignatedUnitId",null,null,"SlrDesignatedUnitId"]
["OccupancyStatusType",null,null,"OccupancyStatusType"]
["UnitType",null,null,"UnitType"]
["SlrDesignatedUnitId",null,null,"SlrDesignatedUnitId"]
["OccupancyStatusType",null,null,"OccupancyStatusType"]
["UnitType",null,null,"UnitType"]
["SlrDesignatedUnitId",null,null,"SlrDesignatedUnitId"]
["OccupancyStatusType",null,null,"OccupancyStatusType"]
["UnitType",null,null,"UnitType"]
["SlrDesignatedUnitId",null,null,"SlrDesignatedUnitId"]
["OccupancyStatusType",null,null,"OccupancyStatusType"]
["UnitType",null,null,"UnitType"]
["SlrDesignatedUnitId",null,null,"SlrDesignatedUnitId"]
["OccupancyStatusType",null,null,"OccupancyStatusType"]
["UnitType",null,null,"UnitType"]
["SlrDesignatedUnitId",null,null,"SlrDesignatedUnitId"]
["OccupancyStatusType",null,null,"OccupancyStatusType"]
["UnitType",null,null,"UnitType"]
["SlrDesignatedUnitId",null,null,"SlrDesignatedUnitId"]
["OccupancyStatusType",null,null,"OccupancyStatusType"]
["UnitType",null,null,"UnitType"]
["SlrDesignatedUnitId",null,null,"SlrDesignatedUnitId"]
["OccupancyStatusType",null,null,"OccupancyStatusType"]
["UnitType",null,null,"UnitType"]
["SlrDesignatedUnitId",null,null,"SlrDesignatedUnitId"]
["OccupancyStatusType",null,null,"OccupancyStatusType"]
["UnitType",null,null,"UnitType"]
["SlrDesignatedUnitId",null,null,"SlrDesignatedUnitId"]
["OccupancyStatusType",null,null,"OccupancyStatusType"]
["UnitType",null,null,"UnitType"]
["SlrDesignatedUnitId",null,null,"SlrDesignatedUnitId"]
["OccupancyStatusType",null,null,"OccupancyStatusType"]
["UnitType",null,null,"UnitType"]
["SlrDesignatedUnitId",null,null,"SlrDesignatedUnitId"]
["OccupancyStatusType",null,null,"OccupancyStatusType"]
["UnitType",null,null,"UnitType"]
["SlrDesignatedUnitId",null,null,"SlrDesignatedUnitId"]
["OccupancyStatusType",null,null,"OccupancyStatusType"]
["UnitType",null,null,"UnitType"]
["SlrDesignatedUnitId",null,null,"SlrDesignatedUnitId"]
["OccupancyStatusType",null,null,"OccupancyStatusType"]
["UnitType",null,null,"UnitType"]
["SlrDesignatedUnitId",null,null,"SlrDesignatedUnitId"]
["OccupancyStatusType",null,null,"OccupancyStatusType"]
["UnitType",null,null,"UnitType"]
["SlrDesignatedUnitId",null,null,"SlrDesignatedUnitId"]
["OccupancyStatusType",null,null,"OccupancyStatusType"]
["UnitType",null,null,"UnitType"]
["SlrDesignatedUnitId",null,null,"SlrDesignatedUnitId"]
["OccupancyStatusType",null,null,"OccupancyStatusType"]
["UnitType",null,null,"UnitType"]
["SlrDesignatedUnitId",null,null,"SlrDesignatedUnitId"]
["OccupancyStatusType",null,null,"OccupancyStatusType"]
["UnitType",null,null,"UnitType"]
["SlrDesignatedUnitId",null,null,"SlrDesignatedUnitId"]
["OccupancyStatusType",null,null,"OccupancyStatusType"]
["UnitType",null,null,"UnitType"]
["SlrDesignatedUnitId",null,null,"SlrDesignatedUnitId"]
["OccupancyStatusType",null,null,"OccupancyStatusType"]
["UnitType",null,null,"UnitType"]
["SlrDesignatedUnitId",null,null,"SlrDesignatedUnitId"]
["OccupancyStatusType",null,null,"OccupancyStatusType"]
["UnitType",null,null,"UnitType"]
["SlrDesignatedUnitId",null,null,"SlrDesignatedUnitId"]
["OccupancyStatusType",null,null,"OccupancyStatusType"]
["UnitType",null,null,"UnitType"]
["SlrDesignatedUnitId",null,null,"SlrDesignatedUnitId"]
["OccupancyStatusType",null,null,"OccupancyStatusType"]
["UnitType",null,null,"UnitType"]
["SlrDesignatedUnitId",null,null,"SlrDesignatedUnitId"]
["OccupancyStatusType",null,null,"OccupancyStatusType"]
["UnitType",null,null,"UnitType"]
["SlrDesignatedUnitId",null,null,"SlrDesignatedUnitId"]
["OccupancyStatusType",null,null,"OccupancyStatusType"]
["UnitType",null,null,"UnitType"]
["SlrDesignatedUnitId",null,null,"SlrDesignatedUnitId"]
["OccupancyStatusType",null,null,"OccupancyStatusType"]
["UnitType",null,null,"UnitType"]
["SlrDesignatedUnitId",null,null,"SlrDesignatedUnitId"]
["OccupancyStatusType",null,null,"OccupancyStatusType"]
["UnitType",null,null,"UnitType"]
["SlrDesignatedUnitId",null,null,"SlrDesignatedUnitId"]
["OccupancyStatusType",null,null,"OccupancyStatusType"]
["UnitType",null,null,"UnitType"]
["SlrDesignatedUnitId",null,null,"SlrDesignatedUnitId"]
["OccupancyStatusType",null,null,"OccupancyStatusType"]
["UnitType",null,null,"UnitType"]
["SlrDesignatedUnitId",null,null,"SlrDesignatedUnitId"]
["OccupancyStatusType",null,null,"OccupancyStatusType"]
["UnitType",null,null,"UnitType"]
["SlrDesignatedUnitId",null,null,"SlrDesignatedUnitId"]
["OccupancyStatusType",null,null,"OccupancyStatusType"]
["UnitType",null,null,"UnitType"]
["SlrDesignatedUnitId",null,null,"SlrDesignatedUnitId"]
["OccupancyStatusType",null,null,"OccupancyStatusType"]
["UnitType",null,null,"UnitType"]
["SlrDesignatedUnitId",null,null,"SlrDesignatedUnitId"]
["OccupancyStatusType",null,null,"OccupancyStatusType"]
["UnitType",null,null,"UnitType"]
["SlrDesignatedUnitId",null,null,"SlrDesignatedUnitId"]
["OccupancyStatusType",null,null,"OccupancyStatusType"]
["UnitType",null,null,"UnitType"]
["SlrDesignatedUnitId",null,null,"SlrDesignatedUnitId"]
["OccupancyStatusType",null,null,"OccupancyStatusType"]
["UnitType",null,null,"UnitType"]
["SlrDesignatedUnitId",null,null,"SlrDesignatedUnitId"]
["OccupancyStatusType",null,null,"OccupancyStatusType"]
["UnitType",null,null,"UnitType"]
["SlrDesignatedUnitId",null,null,"SlrDesignatedUnitId"]
["OccupancyStatusType",null,null,"OccupancyStatusType"]
["UnitType",null,null,"UnitType"]
["SlrDesignatedUnitId",null,null,"SlrDesignatedUnitId"]
["OccupancyStatusType",null,null,"OccupancyStatusType"]
["UnitType",null,null,"UnitType"]
["SlrDesignatedUnitId",null,null,"SlrDesignatedUnitId"]
["OccupancyStatusType",null,null,"OccupancyStatusType"]
["UnitType",null,null,"UnitType"]
["SlrDesignatedUnitId",null,null,"SlrDesignatedUnitId"]
["OccupancyStatusType",null,null,"OccupancyStatusType"]
["UnitType",null,null,"UnitType"]
["SlrDesignatedUnitId",null,null,"SlrDesignatedUnitId"]
["OccupancyStatusType",null,null,"OccupancyStatusType"]
["UnitType",null,null,"UnitType"]
["SlrDesignatedUnitId",null,null,"SlrDesignatedUnitId"]
["OccupancyStatusType",null,null,"OccupancyStatusType"]
["UnitType",null,null,"UnitType"]
["SlrDesignatedUnitId",null,null,"SlrDesignatedUnitId"]
["OccupancyStatusType",null,null,"OccupancyStatusType"]
["UnitType",null,null,"UnitType"]
["SlrDesignatedUnitId",null,null,"SlrDesignatedUnitId"]
["OccupancyStatusType",null,null,"OccupancyStatusType"]
["UnitType",null,null,"UnitType"]
["SlrDesignatedUnitId",null,null,"SlrDesignatedUnitId"]
["OccupancyStatusType",null,null,"OccupancyStatusType"]
["UnitType",null,null,"UnitType"]
["SlrDesignatedUnitId",null,null,"SlrDesignatedUnitId"]
["OccupancyStatusType",null,null,"OccupancyStatusType"]
["UnitType",null,null,"UnitType"]
["SlrDesignatedUnitId",null,null,"SlrDesignatedUnitId"]
["OccupancyStatusType",null,null,"OccupancyStatusType"]
["UnitType",null,null,"UnitType"]
["SlrDesignatedUnitId",null,null,"SlrDesignatedUnitId"]
["OccupancyStatusType",null,null,"OccupancyStatusType"]
["UnitType",null,null,"UnitType"]
["SlrDesignatedUnitId",null,null,"SlrDesignatedUnitId"]
["OccupancyStatusType",null,null,"OccupancyStatusType"]
["UnitType",null,null,"UnitType"]
["SlrDesignatedUnitId",null,null,"SlrDesignatedUnitId"]
["OccupancyStatusType",null,null,"OccupancyStatusType"]
["UnitType",null,null,"UnitType"]
["SlrDesignatedUnitId",null,null,"SlrDesignatedUnitId"]
["OccupancyStatusType",null,null,"OccupancyStatusType"]
["UnitType",null,null,"UnitType"]
["SlrDesignatedUnitId",null,null,"SlrDesignatedUnitId"]
["OccupancyStatusType",null,null,"OccupancyStatusType"]
["UnitType",null,null,"UnitType"]
["SlrDesignatedUnitId",null,null,"SlrDesignatedUnitId"]
["OccupancyStatusType",null,null,"OccupancyStatusType"]
["UnitType",null,null,"UnitType"]
["SlrDesignatedUnitId",null,null,"SlrDesignatedUnitId"]
["OccupancyStatusType",null,null,"OccupancyStatusType"]
["UnitType",null,null,"UnitType"]
["SlrDesignatedUnitId",null,null,"SlrDesignatedUnitId"]
["OccupancyStatusType",null,null,"OccupancyStatusType"]
["UnitType",null,null,"UnitType"]
["SlrDesignatedUnitId",null,null,"SlrDesignatedUnitId"]
["OccupancyStatusType",null,null,"OccupancyStatusType"]
["UnitType",null,null,"UnitType"]
["SlrDesignatedUnitId",null,null,"SlrDesignatedUnitId"]
["OccupancyStatusType",null,null,"OccupancyStatusType"]
["UnitType",null,null,"UnitType"]
["SlrDesignatedUnitId",null,null,"SlrDesignatedUnitId"]
["OccupancyStatusType",null,null,"OccupancyStatusType"]
["UnitType",null,null,"UnitType"]
["SlrDesignatedUnitId",null,null,"SlrDesignatedUnitId"]
["OccupancyStatusType",null,null,"OccupancyStatusType"]
["UnitType",null,null,"UnitType"]
["SlrDesignatedUnitId",null,null,"SlrDesignatedUnitId"]
["OccupancyStatusType",null,null,"OccupancyStatusType"]
["UnitType",null,null,"UnitType"]
["SlrDesignatedUnitId",null,null,"SlrDesignatedUnitId"]
["OccupancyStatusType",null,null,"OccupancyStatusType"]
["UnitType",null,null,"UnitType"]
["SlrDesignatedUnitId",null,null,"SlrDesignatedUnitId"]
["OccupancyStatusType",null,null,"OccupancyStatusType"]
["UnitType",null,null,"UnitType"]
["SlrDesignatedUnitId",null,null,"SlrDesignatedUnitId"]
["OccupancyStatusType",null,null,"OccupancyStatusType"]
["UnitType",null,null,"UnitType"]
["SlrDesignatedUnitId",null,null,"SlrDesignatedUnitId"]
["OccupancyStatusType",null,null,"OccupancyStatusType"]
["UnitType",null,null,"UnitType"]
["SlrDesignatedUnitId",null,null,"SlrDesignatedUnitId"]
["OccupancyStatusType",null,null,"OccupancyStatusType"]
["UnitType",null,null,"UnitType"]
["SlrDesignatedUnitId",null,null,"SlrDesignatedUnitId"]
["OccupancyStatusType",null,null,"OccupancyStatusType"]
["UnitType",null,null,"UnitType"]
["SlrDesignatedUnitId",null,null,"SlrDesignatedUnitId"]
["OccupancyStatusType",null,null,"OccupancyStatusType"]
["UnitType",null,null,"UnitType"]
["SlrDesignatedUnitId",null,null,"SlrDesignatedUnitId"]
["OccupancyStatusType",null,null,"OccupancyStatusType"]
["UnitType",null,null,"UnitType"]
["SlrDesignatedUnitId",null,null,"SlrDesignatedUnitId"]
["OccupancyStatusType",null,null,"OccupancyStatusType"]
["UnitType",null,null,"UnitType"]
["SlrDesignatedUnitId",null,null,"SlrDesignatedUnitId"]
["OccupancyStatusType",null,null,"OccupancyStatusType"]
["UnitType",null,null,"UnitType"]
["SlrDesignatedUnitId",null,null,"SlrDesignatedUnitId"]
["OccupancyStatusType",null,null,"OccupancyStatusType"]
["UnitType",null,null,"UnitType"]
["SlrDesignatedUnitId",null,null,"SlrDesignatedUnitId"]
["OccupancyStatusType",null,null,"OccupancyStatusType"]
["UnitType",null,null,"UnitType"]
["SlrDesignatedUnitId",null,null,"SlrDesignatedUnitId"]
["OccupancyStatusType",null,null,"OccupancyStatusType"]
["UnitType",null,null,"UnitType"]
["SlrDesignatedUnitId",null,null,"SlrDesignatedUnitId"]
["OccupancyStatusType",null,null,"OccupancyStatusType"]
["UnitType",null,null,"UnitType"]
["SlrDesignatedUnitId",null,null,"SlrDesignatedUnitId"]
["OccupancyStatusType",null,null,"OccupancyStatusType"]
["UnitType",null,null,"UnitType"]
["SlrDesignatedUnitId",null,null,"SlrDesignatedUnitId"]
["OccupancyStatusType",null,null,"OccupancyStatusType"]
["UnitType",null,null,"UnitType"]
["SlrDesignatedUnitId",null,null,"SlrDesignatedUnitId"]
["OccupancyStatusType",null,null,"OccupancyStatusType"]
["UnitType",null,null,"UnitType"]
["SlrDesignatedUnitId",null,null,"SlrDesignatedUnitId"]
["OccupancyStatusType",null,null,"OccupancyStatusType"]
["UnitType",null,null,"UnitType"]
["SlrDesignatedUnitId",null,null,"SlrDesignatedUnitId"]
["OccupancyStatusType",null,null,"OccupancyStatusType"]
["UnitType",null,null,"UnitType"]
["SlrDesignatedUnitId",null,null,"SlrDesignatedUnitId"]
["OccupancyStatusType",null,null,"OccupancyStatusType"]
["UnitType",null,null,"UnitType"]
["SlrDesignatedUnitId",null,null,"SlrDesignatedUnitId"]
["OccupancyStatusType",null,null,"OccupancyStatusType"]
["UnitType",null,null,"UnitType"]
["SlrDesignatedUnitId",null,null,"SlrDesignatedUnitId"]
["OccupancyStatusType",null,null,"OccupancyStatusType"]
["UnitType",null,null,"UnitType"]
["SlrDesignatedUnitId",null,null,"SlrDesignatedUnitId"]
["OccupancyStatusType",null,null,"OccupancyStatusType"]
["UnitType",null,null,"UnitType"]
["SlrDesignatedUnitId",null,null,"SlrDesignatedUnitId"]
["OccupancyStatusType",null,null,"OccupancyStatusType"]
["UnitType",null,null,"UnitType"]
["SlrDesignatedUnitId",null,null,"SlrDesignatedUnitId"]
["OccupancyStatusType",null,null,"OccupancyStatusType"]
["UnitType",null,null,"UnitType"]
["SlrDesignatedUnitId",null,null,"SlrDesignatedUnitId"]
["OccupancyStatusType",null,null,"OccupancyStatusType"]
["UnitType",null,null,"UnitType"]
["SlrDesignatedUnitId",null,null,"SlrDesignatedUnitId"]
["OccupancyStatusType",null,null,"OccupancyStatusType"]
["UnitType",null,null,"UnitType"]
["SlrDesignatedUnitId",null,null,"SlrDesignatedUnitId"]
["OccupancyStatusType",null,null,"OccupancyStatusType"]
["UnitType",null,null,"UnitType"]
["SlrDesignatedUnitId",null,null,"SlrDesignatedUnitId"]
["OccupancyStatusType",null,null,"OccupancyStatusType"]
["UnitType",null,null,"UnitType"]
["SlrDesignatedUnitId",null,null,"SlrDesignatedUnitId"]
["OccupancyStatusType",null,null,"OccupancyStatusType"]
["UnitType",null,null,"UnitType"]
["SlrDesignatedUnitId",null,null,"SlrDesignatedUnitId"]
["OccupancyStatusType",null,null,"OccupancyStatusType"]
["UnitType",null,null,"UnitType"]
["SlrDesignatedUnitId",null,null,"SlrDesignatedUnitId"]
["OccupancyStatusType",null,null,"OccupancyStatusType"]
["UnitType",null,null,"UnitType"]
["SlrDesignatedUnitId",null,null,"SlrDesignatedUnitId"]
["OccupancyStatusType",null,null,"OccupancyStatusType"]
["UnitType",null,null,"UnitType"]
["SlrDesignatedUnitId",null,null,"SlrDesignatedUnitId"]
["OccupancyStatusType",null,null,"OccupancyStatusType"]
["UnitType",null,null,"UnitType"]
["SlrDesignatedUnitId",null,null,"SlrDesignatedUnitId"]
["OccupancyStatusType",null,null,"OccupancyStatusType"]
["UnitType",null,null,"UnitType"]
["SlrDesignatedUnitId",null,null,"SlrDesignatedUnitId"]
["OccupancyStatusType",null,null,"OccupancyStatusType"]
["UnitType",null,null,"UnitType"]
["SlrDesignatedUnitId",null,null,"SlrDesignatedUnitId"]
["OccupancyStatusType",null,null,"OccupancyStatusType"]
["UnitType",null,null,"UnitType"]
["SlrDesignatedUnitId",null,null,"SlrDesignatedUnitId"]
["OccupancyStatusType",null,null,"OccupancyStatusType"]
["UnitType",null,null,"UnitType"]
["SlrDesignatedUnitId",null,null,"SlrDesignatedUnitId"]
["OccupancyStatusType",null,null,"OccupancyStatusType"]
["UnitType",null,null,"UnitType"]
["SlrDesignatedUnitId",null,null,"SlrDesignatedUnitId"]
["OccupancyStatusType",null,null,"OccupancyStatusType"]
["UnitType",null,null,"UnitType"]
["SlrDesignatedUnitId",null,null,"SlrDesignatedUnitId"]
["OccupancyStatusType",null,null,"OccupancyStatusType"]
["UnitType",null,null,"UnitType"]
["SlrDesignatedUnitId",null,null,"SlrDesignatedUnitId"]
["OccupancyStatusType",null,null,"OccupancyStatusType"]
["UnitType",null,null,"UnitType"]
["SlrDesignatedUnitId",null,null,"SlrDesignatedUnitId"]
["OccupancyStatusType",null,null,"OccupancyStatusType"]
["UnitType",null,null,"UnitType"]
["SlrDesignatedUnitId",null,null,"SlrDesignatedUnitId"]
["OccupancyStatusType",null,null,"OccupancyStatusType"]
["UnitType",null,null,"UnitType"]
["SlrDesignatedUnitId",null,null,"SlrDesignatedUnitId"]
["OccupancyStatusType",null,null,"OccupancyStatusType"]
["UnitType",null,null,"UnitType"]
["SlrDesignatedUnitId",null,null,"SlrDesignatedUnitId"]
["OccupancyStatusType",null,null,"OccupancyStatusType"]
["UnitType",null,null,"UnitType"]
["SlrDesignatedUnitId",null,null,"SlrDesignatedUnitId"]
["OccupancyStatusType",null,null,"OccupancyStatusType"]
["UnitType",null,null,"UnitType"]
["SlrDesignatedUnitId",null,null,"SlrDesignatedUnitId"]
["OccupancyStatusType",null,null,"OccupancyStatusType"]
["UnitType",null,null,"UnitType"]
["SlrDesignatedUnitId",null,null,"SlrDesignatedUnitId"]
["OccupancyStatusType",null,null,"OccupancyStatusType"]
["UnitType",null,null,"UnitType"]
["SlrDesignatedUnitId",null,null,"SlrDesignatedUnitId"]
["OccupancyStatusType",null,null,"OccupancyStatusType"]
["UnitType",null,null,"UnitType"]
["SlrDesignatedUnitId",null,null,"SlrDesignatedUnitId"]
["OccupancyStatusType",null,null,"OccupancyStatusType"]
["UnitType",null,null,"UnitType"]
["SlrDesignatedUnitId",null,null,"SlrDesignatedUnitId"]
["OccupancyStatusType",null,null,"OccupancyStatusType"]
["UnitType",null,null,"UnitType"]
["SlrDesignatedUnitId",null,null,"SlrDesignatedUnitId"]
["OccupancyStatusType",null,null,"OccupancyStatusType"]
["UnitType",null,null,"UnitType"]
["SlrDesignatedUnitId",null,null,"SlrDesignatedUnitId"]
["OccupancyStatusType",null,null,"OccupancyStatusType"]
["UnitType",null,null,"UnitType"]
["SlrDesignatedUnitId",null,null,"SlrDesignatedUnitId"]
["OccupancyStatusType",null,null,"OccupancyStatusType"]
["UnitType",null,null,"UnitType"]
["SlrDesignatedUnitId",null,null,"SlrDesignatedUnitId"]
["OccupancyStatusType",null,null,"OccupancyStatusType"]
["UnitType",null,null,"UnitType"]
["SlrDesignatedUnitId",null,null,"SlrDesignatedUnitId"]
["OccupancyStatusType",null,null,"OccupancyStatusType"]
["UnitType",null,null,"UnitType"]
["SlrDesignatedUnitId",null,null,"SlrDesignatedUnitId"]
["OccupancyStatusType",null,null,"OccupancyStatusType"]
["UnitType",null,null,"UnitType"]
["SlrDesignatedUnitId",null,null,"SlrDesignatedUnitId"]
["OccupancyStatusType",null,null,"OccupancyStatusType"]
["UnitType",null,null,"UnitType"]
["SlrDesignatedUnitId",null,null,"SlrDesignatedUnitId"]
["OccupancyStatusType",null,null,"OccupancyStatusType"]
["UnitType",null,null,"UnitType"]
["SlrDesignatedUnitId",null,null,"SlrDesignatedUnitId"]
["OccupancyStatusType",null,null,"OccupancyStatusType"]
["UnitType",null,null,"UnitType"]
["SlrDesignatedUnitId",null,null,"SlrDesignatedUnitId"]
["OccupancyStatusType",null,null,"OccupancyStatusType"]
["UnitType",null,null,"UnitType"]
["SlrDesignatedUnitId",null,null,"SlrDesignatedUnitId"]
["OccupancyStatusType",null,null,"OccupancyStatusType"]
["UnitType",null,null,"UnitType"]
["SlrDesignatedUnitId",null,null,"SlrDesignatedUnitId"]
["OccupancyStatusType",null,null,"OccupancyStatusType"]
["UnitType",null,null,"UnitType"]
["SlrDesignatedUnitId",null,null,"SlrDesignatedUnitId"]
["OccupancyStatusType",null,null,"OccupancyStatusType"]
["UnitType",null,null,"UnitType"]
["SlrDesignatedUnitId",null,null,"SlrDesignatedUnitId"]
["OccupancyStatusType",null,null,"OccupancyStatusType"]
["UnitType",null,null,"UnitType"]
["SlrDesignatedUnitId",null,null,"SlrDesignatedUnitId"]
["OccupancyStatusType",null,null,"OccupancyStatusType"]
["UnitType",null,null,"UnitType"]
["SlrDesignatedUnitId",null,null,"SlrDesignatedUnitId"]
["OccupancyStatusType",null,null,"OccupancyStatusType"]
["UnitType",null,null,"UnitType"]
["SlrDesignatedUnitId",null,null,"SlrDesignatedUnitId"]
["OccupancyStatusType",null,null,"OccupancyStatusType"]
["UnitType",null,null,"UnitType"]
["SlrDesignatedUnitId",null,null,"SlrDesignatedUnitId"]
["OccupancyStatusType",null,null,"OccupancyStatusType"]
["UnitType",null,null,"UnitType"]
["SlrDesignatedUnitId",null,null,"SlrDesignatedUnitId"]
["OccupancyStatusType",null,null,"OccupancyStatusType"]
["UnitType",null,null,"UnitType"]
["SlrDesignatedUnitId",null,null,"SlrDesignatedUnitId"]
["OccupancyStatusType",null,null,"OccupancyStatusType"]
["UnitType",null,null,"UnitType"]
["SlrDesignatedUnitId",null,null,"SlrDesignatedUnitId"]
["OccupancyStatusType",null,null,"OccupancyStatusType"]
["UnitType",null,null,"UnitType"]
["SlrDesignatedUnitId",null,null,"SlrDesignatedUnitId"]
["OccupancyStatusType",null,null,"OccupancyStatusType"]
["UnitType",null,null,"UnitType"]
["SlrDesignatedUnitId",null,null,"SlrDesignatedUnitId"]
["OccupancyStatusType",null,null,"OccupancyStatusType"]
["UnitType",null,null,"UnitType"]
["SlrDesignatedUnitId",null,null,"SlrDesignatedUnitId"]
["OccupancyStatusType",null,null,"OccupancyStatusType"]
["UnitType",null,null,"UnitType"]
["SlrDesignatedUnitId",null,null,"SlrDesignatedUnitId"]
["OccupancyStatusType",null,null,"OccupancyStatusType"]
["UnitType",null,null,"UnitType"]
["SlrDesignatedUnitId",null,null,"SlrDesignatedUnitId"]
["OccupancyStatusType",null,null,"OccupancyStatusType"]
["UnitType",null,null,"UnitType"]
["SlrDesignatedUnitId",null,null,"SlrDesignatedUnitId"]
["OccupancyStatusType",null,null,"OccupancyStatusType"]
["UnitType",null,null,"UnitType"]
["SlrDesignatedUnitId",null,null,"SlrDesignatedUnitId"]
["OccupancyStatusType",null,null,"OccupancyStatusType"]
["UnitType",null,null,"UnitType"]
["SlrDesignatedUnitId",null,null,"SlrDesignatedUnitId"]
["OccupancyStatusType",null,null,"OccupancyStatusType"]
["UnitType",null,null,"UnitType"]
["SlrDesignatedUnitId",null,null,"SlrDesignatedUnitId"]
["OccupancyStatusType",null,null,"OccupancyStatusType"]
["UnitType",null,null,"UnitType"]
["SlrDesignatedUnitId",null,null,"SlrDesignatedUnitId"]
["OccupancyStatusType",null,null,"OccupancyStatusType"]
["UnitType",null,null,"UnitType"]
["SlrDesignatedUnitId",null,null,"SlrDesignatedUnitId"]
["OccupancyStatusType",null,null,"OccupancyStatusType"]
["UnitType",null,null,"UnitType"]
["SlrDesignatedUnitId",null,null,"SlrDesignatedUnitId"]
["OccupancyStatusType",null,null,"OccupancyStatusType"]
["UnitType",null,null,"UnitType"]
["SlrDesignatedUnitId",null,null,"SlrDesignatedUnitId"]
["OccupancyStatusType",null,null,"OccupancyStatusType"]
["UnitType",null,null,"UnitType"]
["SlrDesignatedUnitId",null,null,"SlrDesignatedUnitId"]
["OccupancyStatusType",null,null,"OccupancyStatusType"]
["UnitType",null,null,"UnitType"]
["SlrDesignatedUnitId",null,null,"SlrDesignatedUnitId"]
["OccupancyStatusType",null,null,"OccupancyStatusType"]
["UnitType",null,null,"UnitType"]
["SlrDesignatedUnitId",null,null,"SlrDesignatedUnitId"]
["OccupancyStatusType",null,null,"OccupancyStatusType"]
["UnitType",null,null,"UnitType"]
["SlrDesignatedUnitId",null,null,"SlrDesignatedUnitId"]
["OccupancyStatusType",null,null,"OccupancyStatusType"]
["UnitType",null,null,"UnitType"]
["SlrDesignatedUnitId",null,null,"SlrDesignatedUnitId"]
["OccupancyStatusType",null,null,"OccupancyStatusType"]
["UnitType",null,null,"UnitType"]
["SlrDesignatedUnitId",null,null,"SlrDesignatedUnitId"]
["OccupancyStatusType",null,null,"OccupancyStatusType"]
["UnitType",null,null,"UnitType"]
["SlrDesignatedUnitId",null,null,"SlrDesignatedUnitId"]
["OccupancyStatusType",null,null,"OccupancyStatusType"]
["UnitType",null,null,"UnitType"]
["SlrDesignatedUnitId",null,null,"SlrDesignatedUnitId"]
["OccupancyStatusType",null,null,"OccupancyStatusType"]
["UnitType",null,null,"UnitType"]
["SlrDesignatedUnitId",null,null,"SlrDesignatedUnitId"]
["OccupancyStatusType",null,null,"OccupancyStatusType"]
["UnitType",null,null,"UnitType"]
["SlrDesignatedUnitId",null,null,"SlrDesignatedUnitId"]
["OccupancyStatusType",null,null,"OccupancyStatusType"]
["UnitType",null,null,"UnitType"]
["SlrDesignatedUnitId",null,null,"SlrDesignatedUnitId"]
["OccupancyStatusType",null,null,"OccupancyStatusType"]
["UnitType",null,null,"UnitType"]
["SlrDesignatedUnitId",null,null,"SlrDesignatedUnitId"]
["OccupancyStatusType",null,null,"OccupancyStatusType"]
["UnitType",null,null,"UnitType"]
["SlrDesignatedUnitId",null,null,"SlrDesignatedUnitId"]
["OccupancyStatusType",null,null,"OccupancyStatusType"]
["UnitType",null,null,"UnitType"]
["SlrDesignatedUnitId",null,null,"SlrDesignatedUnitId"]
["OccupancyStatusType",null,null,"OccupancyStatusType"]
["UnitType",null,null,"UnitType"]
["SlrDesignatedUnitId",null,null,"SlrDesignatedUnitId"]
["OccupancyStatusType",null,null,"OccupancyStatusType"]
["UnitType",null,null,"UnitType"]
["SlrDesignatedUnitId",null,null,"SlrDesignatedUnitId"]
["OccupancyStatusType",null,null,"OccupancyStatusType"]
["UnitType",null,null,"UnitType"]
["SlrDesignatedUnitId",null,null,"SlrDesignatedUnitId"]
["OccupancyStatusType",null,null,"OccupancyStatusType"]
["UnitType",null,null,"UnitType"]
["SlrDesignatedUnitId",null,null,"SlrDesignatedUnitId"]
["OccupancyStatusType",null,null,"OccupancyStatusType"]
["UnitType",null,null,"UnitType"]
["SlrDesignatedUnitId",null,null,"SlrDesignatedUnitId"]
["OccupancyStatusType",null,null,"OccupancyStatusType"]
["UnitType",null,null,"UnitType"]
["SlrDesignatedUnitId",null,null,"SlrDesignatedUnitId"]
["OccupancyStatusType",null,null,"OccupancyStatusType"]
["UnitType",null,null,"UnitType"]
["SlrDesignatedUnitId",null,null,"SlrDesignatedUnitId"]
["OccupancyStatusType",null,null,"OccupancyStatusType"]
["UnitType",null,null,"UnitType"]
["SlrDesignatedUnitId",null,null,"SlrDesignatedUnitId"]
["OccupancyStatusType",null,null,"OccupancyStatusType"]
["UnitType",null,null,"UnitType"]
["SlrDesignatedUnitId",null,null,"SlrDesignatedUnitId"]
["OccupancyStatusType",null,null,"OccupancyStatusType"]
["UnitType",null,null,"UnitType"]
["SlrDesignatedUnitId",null,null,"SlrDesignatedUnitId"]
["OccupancyStatusType",null,null,"OccupancyStatusType"]
["UnitType",null,null,"UnitType"]
["SlrDesignatedUnitId",null,null,"SlrDesignatedUnitId"]
["OccupancyStatusType",null,null,"OccupancyStatusType"]
["UnitType",null,null,"UnitType"]
["SlrDesignatedUnitId",null,null,"SlrDesignatedUnitId"]
["OccupancyStatusType",null,null,"OccupancyStatusType"]
["UnitType",null,null,"UnitType"]
["SlrDesignatedUnitId",null,null,"SlrDesignatedUnitId"]
["OccupancyStatusType",null,null,"OccupancyStatusType"]
["UnitType",null,null,"UnitType"]
["SlrDesignatedUnitId",null,null,"SlrDesignatedUnitId"]
["OccupancyStatusType",null,null,"OccupancyStatusType"]
["UnitType",null,null,"UnitType"]
["SlrDesignatedUnitId",null,null,"SlrDesignatedUnitId"]
["OccupancyStatusType",null,null,"OccupancyStatusType"]
["UnitType",null,null,"UnitType"]
["SlrDesignatedUnitId",null,null,"SlrDesignatedUnitId"]
["OccupancyStatusType",null,null,"OccupancyStatusType"]
["UnitType",null,null,"UnitType"]
["SlrDesignatedUnitId",null,null,"SlrDesignatedUnitId"]
["OccupancyStatusType",null,null,"OccupancyStatusType"]
["UnitType",null,null,"UnitType"]
["SlrDesignatedUnitId",null,null,"SlrDesignatedUnitId"]
["OccupancyStatusType",null,null,"OccupancyStatusType"]
["UnitType",null,null,"UnitType"]
["SlrDesignatedUnitId",null,null,"SlrDesignatedUnitId"]
["OccupancyStatusType",null,null,"OccupancyStatusType"]
["UnitType",null,null,"UnitType"]
["SlrDesignatedUnitId",null,null,"SlrDesignatedUnitId"]
["OccupancyStatusType",null,null,"OccupancyStatusType"]
["UnitType",null,null,"UnitType"]
["SlrDesignatedUnitId",null,null,"SlrDesignatedUnitId"]
["OccupancyStatusType",null,null,"OccupancyStatusType"]
["UnitType",null,null,"UnitType"]
["SlrDesignatedUnitId",null,null,"SlrDesignatedUnitId"]
["OccupancyStatusType",null,null,"OccupancyStatusType"]
["UnitType",null,null,"UnitType"]
["SlrDesignatedUnitId",null,null,"SlrDesignatedUnitId"]
["OccupancyStatusType",null,null,"OccupancyStatusType"]
["UnitType",null,null,"UnitType"]
["SlrDesignatedUnitId",null,null,"SlrDesignatedUnitId"]
["OccupancyStatusType",null,null,"OccupancyStatusType"]
["UnitType",null,null,"UnitType"]
["SlrDesignatedUnitId",null,null,"SlrDesignatedUnitId"]
["OccupancyStatusType",null,null,"OccupancyStatusType"]
["UnitType",null,null,"UnitType"]
["SlrDesignatedUnitId",null,null,"SlrDesignatedUnitId"]
["OccupancyStatusType",null,null,"OccupancyStatusType"]
["UnitType",null,null,"UnitType"]
["SlrDesignatedUnitId",null,null,"SlrDesignatedUnitId"]
["OccupancyStatusType",null,null,"OccupancyStatusType"]
["UnitType",null,null,"UnitType"]
["SlrDesignatedUnitId",null,null,"SlrDesignatedUnitId"]
["OccupancyStatusType",null,null,"OccupancyStatusType"]
["UnitType",null,null,"UnitType"]
["SlrDesignatedUnitId",null,null,"SlrDesignatedUnitId"]
["OccupancyStatusType",null,null,"OccupancyStatusType"]
["UnitType",null,null,"UnitType"]
["SlrDesignatedUnitId",null,null,"SlrDesignatedUnitId"]
["OccupancyStatusType",null,null,"OccupancyStatusType"]
["UnitType",null,null,"UnitType"]
["SlrDesignatedUnitId",null,null,"SlrDesignatedUnitId"]
["OccupancyStatusType",null,null,"OccupancyStatusType"]
["UnitType",null,null,"UnitType"]
["SlrDesignatedUnitId",null,null,"SlrDesignatedUnitId"]
["OccupancyStatusType",null,null,"OccupancyStatusType"]
["UnitType",null,null,"UnitType"]
["SlrDesignatedUnitId",null,null,"SlrDesignatedUnitId"]
["OccupancyStatusType",null,null,"OccupancyStatusType"]
["UnitType",null,null,"UnitType"]
["SlrDesignatedUnitId",null,null,"SlrDesignatedUnitId"]
["OccupancyStatusType",null,null,"OccupancyStatusType"]
["UnitType",null,null,"UnitType"]
["SlrDesignatedUnitId",null,null,"SlrDesignatedUnitId"]
["OccupancyStatusType",null,null,"OccupancyStatusType"]
["UnitType",null,null,"UnitType"]
["SlrDesignatedUnitId",null,null,"SlrDesignatedUnitId"]
["OccupancyStatusType",null,null,"OccupancyStatusType"]
["UnitType",null,null,"UnitType"]
["SlrDesignatedUnitId",null,null,"SlrDesignatedUnitId"]
["OccupancyStatusType",null,null,"OccupancyStatusType"]
["UnitType",null,null,"UnitType"]
["SlrDesignatedUnitId",null,null,"SlrDesignatedUnitId"]
["OccupancyStatusType",null,null,"OccupancyStatusType"]
["UnitType",null,null,"UnitType"]
["SlrDesignatedUnitId",null,null,"SlrDesignatedUnitId"]
["OccupancyStatusType",null,null,"OccupancyStatusType"]
["UnitType",null,null,"UnitType"]
["SlrDesignatedUnitId",null,null,"SlrDesignatedUnitId"]
["OccupancyStatusType",null,null,"OccupancyStatusType"]
["UnitType",null,null,"UnitType"]
["SlrDesignatedUnitId",null,null,"SlrDesignatedUnitId"]
["OccupancyStatusType",null,null,"OccupancyStatusType"]
["UnitType",null,null,"UnitType"]
["SlrDesignatedUnitId",null,null,"SlrDesignatedUnitId"]
["OccupancyStatusType",null,null,"OccupancyStatusType"]
["UnitType",null,null,"UnitType"]
["SlrDesignatedUnitId",null,null,"SlrDesignatedUnitId"]
["OccupancyStatusType",null,null,"OccupancyStatusType"]
["UnitType",null,null,"UnitType"]
["SlrDesignatedUnitId",null,null,"SlrDesignatedUnitId"]
["OccupancyStatusType",null,null,"OccupancyStatusType"]
["UnitType",null,null,"UnitType"]
["SlrDesignatedUnitId",null,null,"SlrDesignatedUnitId"]
["OccupancyStatusType",null,null,"OccupancyStatusType"]
["UnitType",null,null,"UnitType"]
["SlrDesignatedUnitId",null,null,"SlrDesignatedUnitId"]
["OccupancyStatusType",null,null,"OccupancyStatusType"]
["UnitType",null,null,"UnitType"]
["SlrDesignatedUnitId",null,null,"SlrDesignatedUnitId"]
["OccupancyStatusType",null,null,"OccupancyStatusType"]
["UnitType",null,null,"UnitType"]
["SlrDesignatedUnitId",null,null,"SlrDesignatedUnitId"]
["OccupancyStatusType",null,null,"OccupancyStatusType"]
["UnitType",null,null,"UnitType"]
["SlrDesignatedUnitId",null,null,"SlrDesignatedUnitId"]
["OccupancyStatusType",null,null,"OccupancyStatusType"]
["UnitType",null,null,"UnitType"]
["SlrDesignatedUnitId",null,null,"SlrDesignatedUnitId"]
["OccupancyStatusType",null,null,"OccupancyStatusType"]
["UnitType",null,null,"UnitType"]
["SlrDesignatedUnitId",null,null,"SlrDesignatedUnitId"]
["OccupancyStatusType",null,null,"OccupancyStatusType"]
["UnitType",null,null,"UnitType"]
["SlrDesignatedUnitId",null,null,"SlrDesignatedUnitId"]
["OccupancyStatusType",null,null,"OccupancyStatusType"]
["UnitType",null,null,"UnitType"]
["SlrDesignatedUnitId",null,null,"SlrDesignatedUnitId"]
["OccupancyStatusType",null,null,"OccupancyStatusType"]
["UnitType",null,null,"UnitType"]
["SlrDesignatedUnitId",null,null,"SlrDesignatedUnitId"]
["OccupancyStatusType",null,null,"OccupancyStatusType"]
["UnitType",null,null,"UnitType"]
["SlrDesignatedUnitId",null,null,"SlrDesignatedUnitId"]
["OccupancyStatusType",null,null,"OccupancyStatusType"]
["UnitType",null,null,"UnitType"]
["SlrDesignatedUnitId",null,null,"SlrDesignatedUnitId"]
["OccupancyStatusType",null,null,"OccupancyStatusType"]
["UnitType",null,null,"UnitType"]
["SlrDesignatedUnitId",null,null,"SlrDesignatedUnitId"]
["OccupancyStatusType",null,null,"OccupancyStatusType"]
["UnitType",null,null,"UnitType"]
["SlrDesignatedUnitId",null,null,"SlrDesignatedUnitId"]
["OccupancyStatusType",null,null,"OccupancyStatusType"]
["UnitType",null,null,"UnitType"]
["SlrDesignatedUnitId",null,null,"SlrDesignatedUnitId"]
["OccupancyStatusType",null,null,"OccupancyStatusType"]
["UnitType",null,null,"UnitType"]
["SlrDesignatedUnitId",null,null,"SlrDesignatedUnitId"]
["OccupancyStatusType",null,null,"OccupancyStatusType"]
["UnitType",null,null,"UnitType"]
["SlrDesignatedUnitId",null,null,"SlrDesignatedUnitId"]
["OccupancyStatusType",null,null,"OccupancyStatusType"]
["UnitType",null,null,"UnitType"]
["SlrDesignatedUnitId",null,null,"SlrDesignatedUnitId"]
["OccupancyStatusType",null,null,"OccupancyStatusType"]
["UnitType",null,null,"UnitType"]
["SlrDesignatedUnitId",null,null,"SlrDesignatedUnitId"]
["OccupancyStatusType",null,null,"OccupancyStatusType"]
["UnitType",null,null,"UnitType"]
["SlrDesignatedUnitId",null,null,"SlrDesignatedUnitId"]
["OccupancyStatusType",null,null,"OccupancyStatusType"]
["UnitType",null,null,"UnitType"]
["SlrDesignatedUnitId",null,null,"SlrDesignatedUnitId"]
["OccupancyStatusType",null,null,"OccupancyStatusType"]
["UnitType",null,null,"UnitType"]
["SlrDesignatedUnitId",null,null,"SlrDesignatedUnitId"]
["OccupancyStatusType",null,null,"OccupancyStatusType"]
["UnitType",null,null,"UnitType"]
["SlrDesignatedUnitId",null,null,"SlrDesignatedUnitId"]
["OccupancyStatusType",null,null,"OccupancyStatusType"]
["UnitType",null,null,"UnitType"]
["SlrDesignatedUnitId",null,null,"SlrDesignatedUnitId"]
["OccupancyStatusType",null,null,"OccupancyStatusType"]
["UnitType",null,null,"UnitType"]
["SlrDesignatedUnitId",null,null,"SlrDesignatedUnitId"]
["OccupancyStatusType",null,null,"OccupancyStatusType"]
["UnitType",null,null,"UnitType"]
["SlrDesignatedUnitId",null,null,"SlrDesignatedUnitId"]
["OccupancyStatusType",null,null,"OccupancyStatusType"]
["UnitType",null,null,"UnitType"]
["SlrDesignatedUnitId",null,null,"SlrDesignatedUnitId"]
["OccupancyStatusType",null,null,"OccupancyStatusType"]
["UnitType",null,null,"UnitType"]
["SlrDesignatedUnitId",null,null,"SlrDesignatedUnitId"]
["OccupancyStatusType",null,null,"OccupancyStatusType"]
["UnitType",null,null,"UnitType"]
["SlrDesignatedUnitId",null,null,"SlrDesignatedUnitId"]
["OccupancyStatusType",null,null,"OccupancyStatusType"]
["UnitType",null,null,"UnitType"]
["SlrDesignatedUnitId",null,null,"SlrDesignatedUnitId"]
["OccupancyStatusType",null,null,"OccupancyStatusType"]
["UnitType",null,null,"UnitType"]
["SlrDesignatedUnitId",null,null,"SlrDesignatedUnitId"]
["OccupancyStatusType",null,null,"OccupancyStatusType"]
["UnitType",null,null,"UnitType"]
["SlrDesignatedUnitId",null,null,"SlrDesignatedUnitId"]
["OccupancyStatusType",null,null,"OccupancyStatusType"]
["UnitType",null,null,"UnitType"]
["SlrDesignatedUnitId",null,null,"SlrDesignatedUnitId"]
["OccupancyStatusType",null,null,"OccupancyStatusType"]
["UnitType",null,null,"UnitType"]
["SlrDesignatedUnitId",null,null,"SlrDesignatedUnitId"]
["OccupancyStatusType",null,null,"OccupancyStatusType"]
["UnitType",null,null,"UnitType"]
["SlrDesignatedUnitId",null,null,"SlrDesignatedUnitId"]
["OccupancyStatusType",null,null,"OccupancyStatusType"]
["UnitType",null,null,"UnitType"]
["SlrDesignatedUnitId",null,null,"SlrDesignatedUnitId"]
["OccupancyStatusType",null,null,"OccupancyStatusType"]
["UnitType",null,null,"UnitType"]
["SlrDesignatedUnitId",null,null,"SlrDesignatedUnitId"]
["OccupancyStatusType",null,null,"OccupancyStatusType"]
["UnitType",null,null,"UnitType"]
["SlrDesignatedUnitId",null,null,"SlrDesignatedUnitId"]
["OccupancyStatusType",null,null,"OccupancyStatusType"]
["UnitType",null,null,"UnitType"]
["SlrDesignatedUnitId",null,null,"SlrDesignatedUnitId"]
["OccupancyStatusType",null,null,"OccupancyStatusType"]
["UnitType",null,null,"UnitType"]
["SlrDesignatedUnitId",null,null,"SlrDesignatedUnitId"]
["OccupancyStatusType",null,null,"OccupancyStatusType"]
["UnitType",null,null,"UnitType"]
["SlrDesignatedUnitId",null,null,"SlrDesignatedUnitId"]
["OccupancyStatusType",null,null,"OccupancyStatusType"]
["UnitType",null,null,"UnitType"]
["SlrDesignatedUnitId",null,null,"SlrDesignatedUnitId"]
["OccupancyStatusType",null,null,"OccupancyStatusType"]
["UnitType",null,null,"UnitType"]
["SlrDesignatedUnitId",null,null,"SlrDesignatedUnitId"]
["OccupancyStatusType",null,null,"OccupancyStatusType"]
["UnitType",null,null,"UnitType"]
["SlrDesignatedUnitId",null,null,"SlrDesignatedUnitId"]
["OccupancyStatusType",null,null,"OccupancyStatusType"]
["UnitType",null,null,"UnitType"]
["SlrDesignatedUnitId",null,null,"SlrDesignatedUnitId"]
["OccupancyStatusType",null,null,"OccupancyStatusType"]
["UnitType",null,null,"UnitType"]
["SlrDesignatedUnitId",null,null,"SlrDesignatedUnitId"]
["OccupancyStatusType",null,null,"OccupancyStatusType"]
["UnitType",null,null,"UnitType"]
["SlrDesignatedUnitId",null,null,"SlrDesignatedUnitId"]
["OccupancyStatusType",null,null,"OccupancyStatusType"]
["UnitType",null,null,"UnitType"]
["SlrDesignatedUnitId",null,null,"SlrDesignatedUnitId"]
["OccupancyStatusType",null,null,"OccupancyStatusType"]
["UnitType",null,null,"UnitType"]
["SlrDesignatedUnitId",null,null,"SlrDesignatedUnitId"]
["OccupancyStatusType",null,null,"OccupancyStatusType"]
["UnitType",null,null,"UnitType"]
["SlrDesignatedUnitId",null,null,"SlrDesignatedUnitId"]
["OccupancyStatusType",null,null,"OccupancyStatusType"]
["UnitType",null,null,"UnitType"]
["SlrDesignatedUnitId",null,null,"SlrDesignatedUnitId"]
["OccupancyStatusType",null,null,"OccupancyStatusType"]
["UnitType",null,null,"UnitType"]
["SlrDesignatedUnitId",null,null,"SlrDesignatedUnitId"]
["OccupancyStatusType",null,null,"OccupancyStatusType"]
["UnitType",null,null,"UnitType"]
["SlrDesignatedUnitId",null,null,"SlrDesignatedUnitId"]
["OccupancyStatusType",null,null,"OccupancyStatusType"]
["UnitType",null,null,"UnitType"]
["SlrDesignatedUnitId",null,null,"SlrDesignatedUnitId"]
["OccupancyStatusType",null,null,"OccupancyStatusType"]
["UnitType",null,null,"UnitType"]
["SlrDesignatedUnitId",null,null,"SlrDesignatedUnitId"]
["OccupancyStatusType",null,null,"OccupancyStatusType"]
["UnitType",null,null,"UnitType"]
["SlrDesignatedUnitId",null,null,"SlrDesignatedUnitId"]
["OccupancyStatusType",null,null,"OccupancyStatusType"]
["UnitType",null,null,"UnitType"]
["SlrDesignatedUnitId",null,null,"SlrDesignatedUnitId"]
["OccupancyStatusType",null,null,"OccupancyStatusType"]
["UnitType",null,null,"UnitType"]
["SlrDesignatedUnitId",null,null,"SlrDesignatedUnitId"]
["OccupancyStatusType",null,null,"OccupancyStatusType"]
["UnitType",null,null,"UnitType"]
["SlrDesignatedUnitId",null,null,"SlrDesignatedUnitId"]
["OccupancyStatusType",null,null,"OccupancyStatusType"]
["UnitType",null,null,"UnitType"]
["SlrDesignatedUnitId",null,null,"SlrDesignatedUnitId"]
["OccupancyStatusType",null,null,"OccupancyStatusType"]
["UnitType",null,null,"UnitType"]
["SlrDesignatedUnitId",null,null,"SlrDesignatedUnitId"]
["OccupancyStatusType",null,null,"OccupancyStatusType"]
["UnitType",null,null,"UnitType"]
["SlrDesignatedUnitId",null,null,"SlrDesignatedUnitId"]
["OccupancyStatusType",null,null,"OccupancyStatusType"]
["UnitType",null,null,"UnitType"]
["SlrDesignatedUnitId",null,null,"SlrDesignatedUnitId"]
["OccupancyStatusType",null,null,"OccupancyStatusType"]
["UnitType",null,null,"UnitType"]
["SlrDesignatedUnitId",null,null,"SlrDesignatedUnitId"]
["OccupancyStatusType",null,null,"OccupancyStatusType"]
["UnitType",null,null,"UnitType"]
["SlrDesignatedUnitId",null,null,"SlrDesignatedUnitId"]
["OccupancyStatusType",null,null,"OccupancyStatusType"]
["UnitType",null,null,"UnitType"]
["SlrDesignatedUnitId",null,null,"SlrDesignatedUnitId"]
["OccupancyStatusType",null,null,"OccupancyStatusType"]
["UnitType",null,null,"UnitType"]
["SlrDesignatedUnitId",null,null,"SlrDesignatedUnitId"]
["OccupancyStatusType",null,null,"OccupancyStatusType"]
["UnitType",null,null,"UnitType"]
["SlrDesignatedUnitId",null,null,"SlrDesignatedUnitId"]
["OccupancyStatusType",null,null,"OccupancyStatusType"]
["UnitType",null,null,"UnitType"]
["SlrDesignatedUnitId",null,null,"SlrDesignatedUnitId"]
["OccupancyStatusType",null,null,"OccupancyStatusType"]
["UnitType",null,null,"UnitType"]
["SlrDesignatedUnitId",null,null,"SlrDesignatedUnitId"]
["OccupancyStatusType",null,null,"OccupancyStatusType"]
["UnitType",null,null,"UnitType"]
["SlrDesignatedUnitId",null,null,"SlrDesignatedUnitId"]
["OccupancyStatusType",null,null,"OccupancyStatusType"]
["UnitType",null,null,"UnitType"]
["SlrDesignatedUnitId",null,null,"SlrDesignatedUnitId"]
["OccupancyStatusType",null,null,"OccupancyStatusType"]
["UnitType",null,null,"UnitType"]
["SlrDesignatedUnitId",null,null,"SlrDesignatedUnitId"]
["OccupancyStatusType",null,null,"OccupancyStatusType"]
["UnitType",null,null,"UnitType"]
["SlrDesignatedUnitId",null,null,"SlrDesignatedUnitId"]
["OccupancyStatusType",null,null,"OccupancyStatusType"]
["UnitType",null,null,"UnitType"]
["SlrDesignatedUnitId",null,null,"SlrDesignatedUnitId"]
["OccupancyStatusType",null,null,"OccupancyStatusType"]
["UnitType",null,null,"UnitType"]
["SlrDesignatedUnitId",null,null,"SlrDesignatedUnitId"]
["OccupancyStatusType",null,null,"OccupancyStatusType"]
["UnitType",null,null,"UnitType"]
["SlrDesignatedUnitId",null,null,"SlrDesignatedUnitId"]
["OccupancyStatusType",null,null,"OccupancyStatusType"]
["UnitType",null,null,"UnitType"]
["SlrDesignatedUnitId",null,null,"SlrDesignatedUnitId"]
["OccupancyStatusType",null,null,"OccupancyStatusType"]
["UnitType",null,null,"UnitType"]
["SlrDesignatedUnitId",null,null,"SlrDesignatedUnitId"]
["OccupancyStatusType",null,null,"OccupancyStatusType"]
["UnitType",null,null,"UnitType"]
["SlrDesignatedUnitId",null,null,"SlrDesignatedUnitId"]
["OccupancyStatusType",null,null,"OccupancyStatusType"]
["UnitType",null,null,"UnitType"]
["SlrDesignatedUnitId",null,null,"SlrDesignatedUnitId"]
["OccupancyStatusType",null,null,"OccupancyStatusType"]
["UnitType",null,null,"UnitType"]
["SlrDesignatedUnitId",null,null,"SlrDesignatedUnitId"]
["OccupancyStatusType",null,null,"OccupancyStatusType"]
["UnitType",null,null,"UnitType"]
["SlrDesignatedUnitId",null,null,"SlrDesignatedUnitId"]
["OccupancyStatusType",null,null,"OccupancyStatusType"]
["UnitType",null,null,"UnitType"]
["SlrDesignatedUnitId",null,null,"SlrDesignatedUnitId"]
["OccupancyStatusType",null,null,"OccupancyStatusType"]
["UnitType",null,null,"UnitType"]
["SlrDesignatedUnitId",null,null,"SlrDesignatedUnitId"]
["OccupancyStatusType",null,null,"OccupancyStatusType"]
["UnitType",null,null,"UnitType"]
["SlrDesignatedUnitId",null,null,"SlrDesignatedUnitId"]
["OccupancyStatusType",null,null,"OccupancyStatusType"]
["UnitType",null,null,"UnitType"]
["SlrDesignatedUnitId",null,null,"SlrDesignatedUnitId"]
["OccupancyStatusType",null,null,"OccupancyStatusType"]
["UnitType",null,null,"UnitType"]
["SlrDesignatedUnitId",null,null,"SlrDesignatedUnitId"]
["OccupancyStatusType",null,null,"OccupancyStatusType"]
["UnitType",null,null,"UnitType"]
["SlrDesignatedUnitId",null,null,"SlrDesignatedUnitId"]
["OccupancyStatusType",null,null,"OccupancyStatusType"]
["UnitType",null,null,"UnitType"]
["SlrDesignatedUnitId",null,null,"SlrDesignatedUnitId"]
["OccupancyStatusType",null,null,"OccupancyStatusType"]
["UnitType",null,null,"UnitType"]
["SlrDesignatedUnitId",null,null,"SlrDesignatedUnitId"]
["OccupancyStatusType",null,null,"OccupancyStatusType"]
["UnitType",null,null,"UnitType"]
["SlrDesignatedUnitId",null,null,"SlrDesignatedUnitId"]
["OccupancyStatusType",null,null,"OccupancyStatusType"]
["UnitType",null,null,"UnitType"]
["SlrDesignatedUnitId",null,null,"SlrDesignatedUnitId"]
["OccupancyStatusType",null,null,"OccupancyStatusType"]
["UnitType",null,null,"UnitType"]
["SlrDesignatedUnitId",null,null,"SlrDesignatedUnitId"]
["OccupancyStatusType",null,null,"OccupancyStatusType"]
["UnitType",null,null,"UnitType"]
["SlrDesignatedUnitId",null,null,"SlrDesignatedUnitId"]
["OccupancyStatusType",null,null,"OccupancyStatusType"]
["UnitType",null,null,"UnitType"]
["SlrDesignatedUnitId",null,null,"SlrDesignatedUnitId"]
["OccupancyStatusType",null,null,"OccupancyStatusType"]
["UnitType",null,null,"UnitType"]
["SlrDesignatedUnitId",null,null,"SlrDesignatedUnitId"]
["OccupancyStatusType",null,null,"OccupancyStatusType"]
["UnitType",null,null,"UnitType"]
["SlrDesignatedUnitId",null,null,"SlrDesignatedUnitId"]
["OccupancyStatusType",null,null,"OccupancyStatusType"]
["UnitType",null,null,"UnitType"]
["SlrDesignatedUnitId",null,null,"SlrDesignatedUnitId"]
["OccupancyStatusType",null,null,"OccupancyStatusType"]
["UnitType",null,null,"UnitType"]
["SlrDesignatedUnitId",null,null,"SlrDesignatedUnitId"]
["OccupancyStatusType",null,null,"OccupancyStatusType"]
["UnitType",null,null,"UnitType"]
["SlrDesignatedUnitId",null,null,"SlrDesignatedUnitId"]
["OccupancyStatusType",null,null,"OccupancyStatusType"]
["UnitType",null,null,"UnitType"]
["SlrDesignatedUnitId",null,null,"SlrDesignatedUnitId"]
["OccupancyStatusType",null,null,"OccupancyStatusType"]
["UnitType",null,null,"UnitType"]
["SlrDesignatedUnitId",null,null,"SlrDesignatedUnitId"]
["OccupancyStatusType",null,null,"OccupancyStatusType"]
["UnitType",null,null,"UnitType"]
["SlrDesignatedUnitId",null,null,"SlrDesignatedUnitId"]
["OccupancyStatusType",null,null,"OccupancyStatusType"]
["UnitType",null,null,"UnitType"]
["SlrDesignatedUnitId",null,null,"SlrDesignatedUnitId"]
["OccupancyStatusType",null,null,"OccupancyStatusType"]
["UnitType",null,null,"UnitType"]
["SlrDesignatedUnitId",null,null,"SlrDesignatedUnitId"]
["OccupancyStatusType",null,null,"OccupancyStatusType"]
["UnitType",null,null,"UnitType"]
["SlrDesignatedUnitId",null,null,"SlrDesignatedUnitId"]
["OccupancyStatusType",null,null,"OccupancyStatusType"]
["UnitType",null,null,"UnitType"]
["SlrDesignatedUnitId",null,null,"SlrDesignatedUnitId"]
["OccupancyStatusType",null,null,"OccupancyStatusType"]
["UnitType",null,null,"UnitType"]
["SlrDesignatedUnitId",null,null,"SlrDesignatedUnitId"]
["OccupancyStatusType",null,null,"OccupancyStatusType"]
["UnitType",null,null,"UnitType"]
["SlrDesignatedUnitId",null,null,"SlrDesignatedUnitId"]
["OccupancyStatusType",null,null,"OccupancyStatusType"]
["UnitType",null,null,"UnitType"]
["SlrDesignatedUnitId",null,null,"SlrDesignatedUnitId"]
["OccupancyStatusType",null,null,"OccupancyStatusType"]
["UnitType",null,null,"UnitType"]
["SlrDesignatedUnitId",null,null,"SlrDesignatedUnitId"]
["OccupancyStatusType",null,null,"OccupancyStatusType"]
["UnitType",null,null,"UnitType"]
["SlrDesignatedUnitId",null,null,"SlrDesignatedUnitId"]
["OccupancyStatusType",null,null,"OccupancyStatusType"]
["UnitType",null,null,"UnitType"]
["SlrDesignatedUnitId",null,null,"SlrDesignatedUnitId"]
["OccupancyStatusType",null,null,"OccupancyStatusType"]
["UnitType",null,null,"UnitType"]
["SlrDesignatedUnitId",null,null,"SlrDesignatedUnitId"]
["OccupancyStatusType",null,null,"OccupancyStatusType"]
["UnitType",null,null,"UnitType"]
["SlrDesignatedUnitId",null,null,"SlrDesignatedUnitId"]
["OccupancyStatusType",null,null,"OccupancyStatusType"]
["UnitType",null,null,"UnitType"]
["SlrDesignatedUnitId",null,null,"SlrDesignatedUnitId"]
["OccupancyStatusType",null,null,"OccupancyStatusType"]
["UnitType",null,null,"UnitType"]
["SlrDesignatedUnitId",null,null,"SlrDesignatedUnitId"]
["OccupancyStatusType",null,null,"OccupancyStatusType"]
["UnitType",null,null,"UnitType"]
["SlrDesignatedUnitId",null,null,"SlrDesignatedUnitId"]
["OccupancyStatusType",null,null,"OccupancyStatusType"]
["UnitType",null,null,"UnitType"]
["SlrDesignatedUnitId",null,null,"SlrDesignatedUnitId"]
["OccupancyStatusType",null,null,"OccupancyStatusType"]
["UnitType",null,null,"UnitType"]
["SlrDesignatedUnitId",null,null,"SlrDesignatedUnitId"]
["OccupancyStatusType",null,null,"OccupancyStatusType"]
["UnitType",null,null,"UnitType"]
["SlrDesignatedUnitId",null,null,"SlrDesignatedUnitId"]
["OccupancyStatusType",null,null,"OccupancyStatusType"]
["UnitType",null,null,"UnitType"]
["SlrDesignatedUnitId",null,null,"SlrDesignatedUnitId"]
["OccupancyStatusType",null,null,"OccupancyStatusType"]
["UnitType",null,null,"UnitType"]
["SlrDesignatedUnitId",null,null,"SlrDesignatedUnitId"]
["OccupancyStatusType",null,null,"OccupancyStatusType"]
["UnitType",null,null,"UnitType"]
["SlrDesignatedUnitId",null,null,"SlrDesignatedUnitId"]
["OccupancyStatusType",null,null,"OccupancyStatusType"]
["UnitType",null,null,"UnitType"]
["SlrDesignatedUnitId",null,null,"SlrDesignatedUnitId"]
["OccupancyStatusType",null,null,"OccupancyStatusType"]
["UnitType",null,null,"UnitType"]
["SlrDesignatedUnitId",null,null,"SlrDesignatedUnitId"]
["OccupancyStatusType",null,null,"OccupancyStatusType"]
["UnitType",null,null,"UnitType"]
["SlrDesignatedUnitId",null,null,"SlrDesignatedUnitId"]
["OccupancyStatusType",null,null,"OccupancyStatusType"]
["UnitType",null,null,"UnitType"]
["SlrDesignatedUnitId",null,null,"SlrDesignatedUnitId"]
["OccupancyStatusType",null,null,"OccupancyStatusType"]
["UnitType",null,null,"UnitType"]
["SlrDesignatedUnitId",null,null,"SlrDesignatedUnitId"]
["OccupancyStatusType",null,null,"OccupancyStatusType"]
["UnitType",null,null,"UnitType"]
["SlrDesignatedUnitId",null,null,"SlrDesignatedUnitId"]
["OccupancyStatusType",null,null,"OccupancyStatusType"]
["UnitType",null,null,"UnitType"]
["SlrDesignatedUnitId",null,null,"SlrDesignatedUnitId"]
["OccupancyStatusType",null,null,"OccupancyStatusType"]
["UnitType",null,null,"UnitType"]
["SlrDesignatedUnitId",null,null,"SlrDesignatedUnitId"]
["OccupancyStatusType",null,null,"OccupancyStatusType"]
["UnitType",null,null,"UnitType"]
["SlrDesignatedUnitId",null,null,"SlrDesignatedUnitId"]
["OccupancyStatusType",null,null,"OccupancyStatusType"]
["UnitType",null,null,"UnitType"]
["SlrDesignatedUnitId",null,null,"SlrDesignatedUnitId"]
["OccupancyStatusType",null,null,"OccupancyStatusType"]
["UnitType",null,null,"UnitType"]
["SlrDesignatedUnitId",null,null,"SlrDesignatedUnitId"]
["OccupancyStatusType",null,null,"OccupancyStatusType"]
["UnitType",null,null,"UnitType"]
["SlrDesignatedUnitId",null,null,"SlrDesignatedUnitId"]
["OccupancyStatusType",null,null,"OccupancyStatusType"]
["UnitType",null,null,"UnitType"]
["SlrDesignatedUnitId",null,null,"SlrDesignatedUnitId"]
["OccupancyStatusType",null,null,"OccupancyStatusType"]
["UnitType",null,null,"UnitType"]
["SlrDesignatedUnitId",null,null,"SlrDesignatedUnitId"]
["OccupancyStatusType",null,null,"OccupancyStatusType"]
["UnitType",null,null,"UnitType"]
["SlrDesignatedUnitId",null,null,"SlrDesignatedUnitId"]
["OccupancyStatusType",null,null,"OccupancyStatusType"]
["UnitType",null,null,"UnitType"]
["SlrDesignatedUnitId",null,null,"SlrDesignatedUnitId"]
["OccupancyStatusType",null,null,"OccupancyStatusType"]
["UnitType",null,null,"UnitType"]
["SlrDesignatedUnitId",null,null,"SlrDesignatedUnitId"]
["OccupancyStatusType",null,null,"OccupancyStatusType"]
["UnitType",null,null,"UnitType"]
["SlrDesignatedUnitId",null,null,"SlrDesignatedUnitId"]
["OccupancyStatusType",null,null,"OccupancyStatusType"]
["UnitType",null,null,"UnitType"]
["SlrDesignatedUnitId",null,null,"SlrDesignatedUnitId"]
["OccupancyStatusType",null,null,"OccupancyStatusType"]
["UnitType",null,null,"UnitType"]
["SlrDesignatedUnitId",null,null,"SlrDesignatedUnitId"]
["OccupancyStatusType",null,null,"OccupancyStatusType"]
["UnitType",null,null,"UnitType"]
["SlrDesignatedUnitId",null,null,"SlrDesignatedUnitId"]
["OccupancyStatusType",null,null,"OccupancyStatusType"]
["UnitType",null,null,"UnitType"]
["SlrDesignatedUnitId",null,null,"SlrDesignatedUnitId"]
["OccupancyStatusType",null,null,"OccupancyStatusType"]
["UnitType",null,null,"UnitType"]
["SlrDesignatedUnitId",null,null,"SlrDesignatedUnitId"]
["OccupancyStatusType",null,null,"OccupancyStatusType"]
["UnitType",null,null,"UnitType"]
["SlrDesignatedUnitId",null,null,"SlrDesignatedUnitId"]
["OccupancyStatusType",null,null,"OccupancyStatusType"]
["UnitType",null,null,"UnitType"]
["SlrDesignatedUnitId",null,null,"SlrDesignatedUnitId"]
["OccupancyStatusType",null,null,"OccupancyStatusType"]
["UnitType",null,null,"UnitType"]
["SlrDesignatedUnitId",null,null,"SlrDesignatedUnitId"]
["OccupancyStatusType",null,null,"OccupancyStatusType"]
["UnitType",null,null,"UnitType"]
["SlrDesignatedUnitId",null,null,"SlrDesignatedUnitId"]
["OccupancyStatusType",null,null,"OccupancyStatusType"]
["UnitType",null,null,"UnitType"]
["SlrDesignatedUnitId",null,null,"SlrDesignatedUnitId"]
["OccupancyStatusType",null,null,"OccupancyStatusType"]
["UnitType",null,null,"UnitType"]
["SlrDesignatedUnitId",null,null,"SlrDesignatedUnitId"]
["OccupancyStatusType",null,null,"OccupancyStatusType"]
["UnitType",null,null,"UnitType"]
["SlrDesignatedUnitId",null,null,"SlrDesignatedUnitId"]
["OccupancyStatusType",null,null,"OccupancyStatusType"]
["UnitType",null,null,"UnitType"]
["SlrDesignatedUnitId",null,null,"SlrDesignatedUnitId"]
["OccupancyStatusType",null,null,"OccupancyStatusType"]
["UnitType",null,null,"UnitType"]
["SlrDesignatedUnitId",null,null,"SlrDesignatedUnitId"]
["OccupancyStatusType",null,null,"OccupancyStatusType"]
["UnitType",null,null,"UnitType"]
["SlrDesignatedUnitId",null,null,"SlrDesignatedUnitId"]
["OccupancyStatusType",null,null,"OccupancyStatusType"]
["UnitType",null,null,"UnitType"]
["SlrDesignatedUnitId",null,null,"SlrDesignatedUnitId"]
["OccupancyStatusType",null,null,"OccupancyStatusType"]
["UnitType",null,null,"UnitType"]
["SlrDesignatedUnitId",null,null,"SlrDesignatedUnitId"]
["OccupancyStatusType",null,null,"OccupancyStatusType"]
["UnitType",null,null,"UnitType"]
["SlrDesignatedUnitId",null,null,"SlrDesignatedUnitId"]
["OccupancyStatusType",null,null,"OccupancyStatusType"]
["UnitType",null,null,"UnitType"]
["SlrDesignatedUnitId",null,null,"SlrDesignatedUnitId"]
["OccupancyStatusType",null,null,"OccupancyStatusType"]
["UnitType",null,null,"UnitType"]
["SlrDesignatedUnitId",null,null,"SlrDesignatedUnitId"]
["OccupancyStatusType",null,null,"OccupancyStatusType"]
["UnitType",null,null,"UnitType"]
["SlrDesignatedUnitId",null,null,"SlrDesignatedUnitId"]
["OccupancyStatusType",null,null,"OccupancyStatusType"]
["UnitType",null,null,"UnitType"]
["SlrDesignatedUnitId",null,null,"SlrDesignatedUnitId"]
["OccupancyStatusType",null,null,"OccupancyStatusType"]
["UnitType",null,null,"UnitType"]
["SlrDesignatedUnitId",null,null,"SlrDesignatedUnitId"]
["OccupancyStatusType",null,null,"OccupancyStatusType"]
["UnitType",null,null,"UnitType"]
["SlrDesignatedUnitId",null,null,"SlrDesignatedUnitId"]
["OccupancyStatusType",null,null,"OccupancyStatusType"]
["UnitType",null,null,"UnitType"]
["SlrDesignatedUnitId",null,null,"SlrDesignatedUnitId"]
["OccupancyStatusType",null,null,"OccupancyStatusType"]
["UnitType",null,null,"UnitType"]
["SlrDesignatedUnitId",null,null,"SlrDesignatedUnitId"]
["OccupancyStatusType",null,null,"OccupancyStatusType"]
["UnitType",null,null,"UnitType"]
["SlrDesignatedUnitId",null,null,"SlrDesignatedUnitId"]
["OccupancyStatusType",null,null,"OccupancyStatusType"]
["UnitType",null,null,"UnitType"]
["SlrDesignatedUnitId",null,null,"SlrDesignatedUnitId"]
["OccupancyStatusType",null,null,"OccupancyStatusType"]
["UnitType",null,null,"UnitType"]
["SlrDesignatedUnitId",null,null,"SlrDesignatedUnitId"]
["OccupancyStatusType",null,null,"OccupancyStatusType"]
["UnitType",null,null,"UnitType"]
["SlrDesignatedUnitId",null,null,"SlrDesignatedUnitId"]
["OccupancyStatusType",null,null,"OccupancyStatusType"]
["UnitType",null,null,"UnitType"]
["SlrDesignatedUnitId",null,null,"SlrDesignatedUnitId"]
["OccupancyStatusType",null,null,"OccupancyStatusType"]
["UnitType",null,null,"UnitType"]
["SlrDesignatedUnitId",null,null,"SlrDesignatedUnitId"]
["OccupancyStatusType",null,null,"OccupancyStatusType"]
["UnitType",null,null,"UnitType"]
["SlrDesignatedUnitId",null,null,"SlrDesignatedUnitId"]
["OccupancyStatusType",null,null,"OccupancyStatusType"]
["UnitType",null,null,"UnitType"]
["SlrDesignatedUnitId",null,null,"SlrDesignatedUnitId"]
["OccupancyStatusType",null,null,"OccupancyStatusType"]
["UnitType",null,null,"UnitType"]
["SlrDesignatedUnitId",null,null,"SlrDesignatedUnitId"]
["OccupancyStatusType",null,null,"OccupancyStatusType"]
["UnitType",null,null,"UnitType"]
["SlrDesignatedUnitId",null,null,"SlrDesignatedUnitId"]
["OccupancyStatusType",null,null,"OccupancyStatusType"]
["UnitType",null,null,"UnitType"]
["SlrDesignatedUnitId",null,null,"SlrDesignatedUnitId"]
["OccupancyStatusType",null,null,"OccupancyStatusType"]
["UnitType",null,null,"UnitType"]
["SlrDesignatedUnitId",null,null,"SlrDesignatedUnitId"]
["OccupancyStatusType",null,null,"OccupancyStatusType"]
["UnitType",null,null,"UnitType"]
["SlrDesignatedUnitId",null,null,"SlrDesignatedUnitId"]
["OccupancyStatusType",null,null,"OccupancyStatusType"]
["UnitType",null,null,"UnitType"]
["SlrDesignatedUnitId",null,null,"SlrDesignatedUnitId"]
["OccupancyStatusType",null,null,"OccupancyStatusType"]
["UnitType",null,null,"UnitType"]
["SlrDesignatedUnitId",null,null,"SlrDesignatedUnitId"]
["OccupancyStatusType",null,null,"OccupancyStatusType"]
["UnitType",null,null,"UnitType"]
["SlrDesignatedUnitId",null,null,"SlrDesignatedUnitId"]
["OccupancyStatusType",null,null,"OccupancyStatusType"]
["UnitType",null,null,"UnitType"]
["SlrDesignatedUnitId",null,null,"SlrDesignatedUnitId"]
["OccupancyStatusType",null,null,"OccupancyStatusType"]
["UnitType",null,null,"UnitType"]
["SlrDesignatedUnitId",null,null,"SlrDesignatedUnitId"]
["OccupancyStatusType",null,null,"OccupancyStatusType"]
["UnitType",null,null,"UnitType"]
["SlrDesignatedUnitId",null,null,"SlrDesignatedUnitId"]
["OccupancyStatusType",null,null,"OccupancyStatusType"]
["UnitType",null,null,"UnitType"]
["SlrDesignatedUnitId",null,null,"SlrDesignatedUnitId"]
["OccupancyStatusType",null,null,"OccupancyStatusType"]
["UnitType",null,null,"UnitType"]
["SlrDesignatedUnitId",null,null,"SlrDesignatedUnitId"]
["OccupancyStatusType",null,null,"OccupancyStatusType"]
["UnitType",null,null,"UnitType"]
["SlrDesignatedUnitId",null,null,"SlrDesignatedUnitId"]
["OccupancyStatusType",null,null,"OccupancyStatusType"]
["UnitType",null,null,"UnitType"]
["SlrDesignatedUnitId",null,null,"SlrDesignatedUnitId"]
["OccupancyStatusType",null,null,"OccupancyStatusType"]
["UnitType",null,null,"UnitType"]
["SlrDesignatedUnitId",null,null,"SlrDesignatedUnitId"]
["OccupancyStatusType",null,null,"OccupancyStatusType"]
["UnitType",null,null,"UnitType"]
["SlrDesignatedUnitId",null,null,"SlrDesignatedUnitId"]
["OccupancyStatusType",null,null,"OccupancyStatusType"]
["UnitType",null,null,"UnitType"]
["SlrDesignatedUnitId",null,null,"SlrDesignatedUnitId"]
["OccupancyStatusType",null,null,"OccupancyStatusType"]
["UnitType",null,null,"UnitType"]
["SlrDesignatedUnitId",null,null,"SlrDesignatedUnitId"]
["OccupancyStatusType",null,null,"OccupancyStatusType"]
["UnitType",null,null,"UnitType"]
["SlrDesignatedUnitId",null,null,"SlrDesignatedUnitId"]
["OccupancyStatusType",null,null,"OccupancyStatusType"]
["UnitType",null,null,"UnitType"]
["SlrDesignatedUnitId",null,null,"SlrDesignatedUnitId"]
["OccupancyStatusType",null,null,"OccupancyStatusType"]
["UnitType",null,null,"UnitType"]
["SlrDesignatedUnitId",null,null,"SlrDesignatedUnitId"]
["OccupancyStatusType",null,null,"OccupancyStatusType"]
["UnitType",null,null,"UnitType"]
["SlrDesignatedUnitId",null,null,"SlrDesignatedUnitId"]
["OccupancyStatusType",null,null,"OccupancyStatusType"]
["UnitType",null,null,"UnitType"]
["SlrDesignatedUnitId",null,null,"SlrDesignatedUnitId"]
["OccupancyStatusType",null,null,"OccupancyStatusType"]
["UnitType",null,null,"UnitType"]
["SlrDesignatedUnitId",null,null,"SlrDesignatedUnitId"]
["OccupancyStatusType",null,null,"OccupancyStatusType"]
["UnitType",null,null,"UnitType"]
["SlrDesignatedUnitId",null,null,"SlrDesignatedUnitId"]
["OccupancyStatusType",null,null,"OccupancyStatusType"]
["UnitType",null,null,"UnitType"]
["SlrDesignatedUnitId",null,null,"SlrDesignatedUnitId"]
["OccupancyStatusType",null,null,"OccupancyStatusType"]
["UnitType",null,null,"UnitType"]
["SlrDesignatedUnitId",null,null,"SlrDesignatedUnitId"]
["OccupancyStatusType",null,null,"OccupancyStatusType"]
["UnitType",null,null,"UnitType"]
["SlrDesignatedUnitId",null,null,"SlrDesignatedUnitId"]
["OccupancyStatusType",null,null,"OccupancyStatusType"]
["UnitType",null,null,"UnitType"]
["SlrDesignatedUnitId",null,null,"SlrDesignatedUnitId"]
["OccupancyStatusType",null,null,"OccupancyStatusType"]
["UnitType",null,null,"UnitType"]
["SlrDesignatedUnitId",null,null,"SlrDesignatedUnitId"]
["OccupancyStatusType",null,null,"OccupancyStatusType"]
["UnitType",null,null,"UnitType"]
["SlrDesignatedUnitId",null,null,"SlrDesignatedUnitId"]
["OccupancyStatusType",null,null,"OccupancyStatusType"]
["UnitType",null,null,"UnitType"]
["SlrDesignatedUnitId",null,null,"SlrDesignatedUnitId"]
["OccupancyStatusType",null,null,"OccupancyStatusType"]
["UnitType",null,null,"UnitType"]
["SlrDesignatedUnitId",null,null,"SlrDesignatedUnitId"]
["OccupancyStatusType",null,null,"OccupancyStatusType"]
["UnitType",null,null,"UnitType"]
["SlrDesignatedUnitId",null,null,"SlrDesignatedUnitId"]
["OccupancyStatusType",null,null,"OccupancyStatusType"]
["UnitType",null,null,"UnitType"]
["SlrDesignatedUnitId",null,null,"SlrDesignatedUnitId"]
["OccupancyStatusType",null,null,"OccupancyStatusType"]
["UnitType",null,null,"UnitType"]
["SlrDesignatedUnitId",null,null,"SlrDesignatedUnitId"]
["OccupancyStatusType",null,null,"OccupancyStatusType"]
["UnitType",null,null,"UnitType"]
["SlrDesignatedUnitId",null,null,"SlrDesignatedUnitId"]
["OccupancyStatusType",null,null,"OccupancyStatusType"]
["UnitType",null,null,"UnitType"]
["SlrDesignatedUnitId",null,null,"SlrDesignatedUnitId"]
["OccupancyStatusType",null,null,"OccupancyStatusType"]
["UnitType",null,null,"UnitType"]
["SlrDesignatedUnitId",null,null,"SlrDesignatedUnitId"]
["OccupancyStatusType",null,null,"OccupancyStatusType"]
["UnitType",null,null,"UnitType"]
["SlrDesignatedUnitId",null,null,"SlrDesignatedUnitId"]
["OccupancyStatusType",null,null,"OccupancyStatusType"]
["UnitType",null,null,"UnitType"]
["SlrDesignatedUnitId",null,null,"SlrDesignatedUnitId"]
["OccupancyStatusType",null,null,"OccupancyStatusType"]
["UnitType",null,null,"UnitType"]
["SlrDesignatedUnitId",null,null,"SlrDesignatedUnitId"]
["OccupancyStatusType",null,null,"OccupancyStatusType"]
["UnitType",null,null,"UnitType"]
["SlrDesignatedUnitId",null,null,"SlrDesignatedUnitId"]
["OccupancyStatusType",null,null,"OccupancyStatusType"]
["UnitType",null,null,"UnitType"]
["SlrDesignatedUnitId",null,null,"SlrDesignatedUnitId"]
["OccupancyStatusType",null,null,"OccupancyStatusType"]
["UnitType",null,null,"UnitType"]
["SlrDesignatedUnitId",null,null,"SlrDesignatedUnitId"]
["OccupancyStatusType",null,null,"OccupancyStatusType"]
["UnitType",null,null,"UnitType"]
["SlrDesignatedUnitId",null,null,"SlrDesignatedUnitId"]
["OccupancyStatusType",null,null,"OccupancyStatusType"]
["UnitType",null,null,"UnitType"]
["SlrDesignatedUnitId",null,null,"SlrDesignatedUnitId"]
["OccupancyStatusType",null,null,"OccupancyStatusType"]
["UnitType",null,null,"UnitType"]
["SlrDesignatedUnitId",null,null,"SlrDesignatedUnitId"]
["OccupancyStatusType",null,null,"OccupancyStatusType"]
["UnitType",null,null,"UnitType"]
["SlrDesignatedUnitId",null,null,"SlrDesignatedUnitId"]
["OccupancyStatusType",null,null,"OccupancyStatusType"]
["UnitType",null,null,"UnitType"]
["SlrDesignatedUnitId",null,null,"SlrDesignatedUnitId"]
["OccupancyStatusType",null,null,"OccupancyStatusType"]
["UnitType",null,null,"UnitType"]
["SlrDesignatedUnitId",null,null,"SlrDesignatedUnitId"]
["OccupancyStatusType",null,null,"OccupancyStatusType"]
["UnitType",null,null,"UnitType"]
["SlrDesignatedUnitId",null,null,"SlrDesignatedUnitId"]
["OccupancyStatusType",null,null,"OccupancyStatusType"]
["UnitType",null,null,"UnitType"]
["SlrDesignatedUnitId",null,null,"SlrDesignatedUnitId"]
["OccupancyStatusType",null,null,"OccupancyStatusType"]
["UnitType",null,null,"UnitType"]
["SlrDesignatedUnitId",null,null,"SlrDesignatedUnitId"]
["OccupancyStatusType",null,null,"OccupancyStatusType"]
["UnitType",null,null,"UnitType"]
["SlrDesignatedUnitId",null,null,"SlrDesignatedUnitId"]
["OccupancyStatusType",null,null,"OccupancyStatusType"]
["UnitType",null,null,"UnitType"]
["SlrDesignatedUnitId",null,null,"SlrDesignatedUnitId"]
["OccupancyStatusType",null,null,"OccupancyStatusType"]
["UnitType",null,null,"UnitType"]
["SlrDesignatedUnitId",null,null,"SlrDesignatedUnitId"]
["OccupancyStatusType",null,null,"OccupancyStatusType"]
["UnitType",null,null,"UnitType"]
["SlrDesignatedUnitId",null,null,"SlrDesignatedUnitId"]
["OccupancyStatusType",null,null,"OccupancyStatusType"]
["UnitType",null,null,"UnitType"]
["SlrDesignatedUnitId",null,null,"SlrDesignatedUnitId"]
["OccupancyStatusType",null,null,"OccupancyStatusType"]
["UnitType",null,null,"UnitType"]
["SlrDesignatedUnitId",null,null,"SlrDesignatedUnitId"]
["OccupancyStatusType",null,null,"OccupancyStatusType"]
["UnitType",null,null,"UnitType"]
["SlrDesignatedUnitId",null,null,"SlrDesignatedUnitId"]
["OccupancyStatusType",null,null,"OccupancyStatusType"]
["UnitType",null,null,"UnitType"]
["SlrDesignatedUnitId",null,null,"SlrDesignatedUnitId"]
["OccupancyStatusType",null,null,"OccupancyStatusType"]
["UnitType",null,null,"UnitType"]
["SlrDesignatedUnitId",null,null,"SlrDesignatedUnitId"]
["OccupancyStatusType",null,null,"OccupancyStatusType"]
["UnitType",null,null,"UnitType"]
["SlrDesignatedUnitId",null,null,"SlrDesignatedUnitId"]
["OccupancyStatusType",null,null,"OccupancyStatusType"]
["UnitType",null,null,"UnitType"]
["SlrDesignatedUnitId",null,null,"SlrDesignatedUnitId"]
["OccupancyStatusType",null,null,"OccupancyStatusType"]
["UnitType",null,null,"UnitType"]
["SlrDesignatedUnitId",null,null,"SlrDesignatedUnitId"]
["OccupancyStatusType",null,null,"OccupancyStatusType"]
["UnitType",null,null,"UnitType"]
["SlrDesignatedUnitId",null,null,"SlrDesignatedUnitId"]
["OccupancyStatusType",null,null,"OccupancyStatusType"]
["UnitType",null,null,"UnitType"]
["SlrDesignatedUnitId",null,null,"SlrDesignatedUnitId"]
["OccupancyStatusType",null,null,"OccupancyStatusType"]
["UnitType",null,null,"UnitType"]
["SlrDesignatedUnitId",null,null,"SlrDesignatedUnitId"]
["OccupancyStatusType",null,null,"OccupancyStatusType"]
["UnitType",null,null,"UnitType"]
["SlrDesignatedUnitId",null,null,"SlrDesignatedUnitId"]
["OccupancyStatusType",null,null,"OccupancyStatusType"]
["UnitType",null,null,"UnitType"]
["SlrDesignatedUnitId",null,null,"SlrDesignatedUnitId"]
["OccupancyStatusType",null,null,"OccupancyStatusType"]
["UnitType",null,null,"UnitType"]
["SlrDesignatedUnitId",null,null,"SlrDesignatedUnitId"]
["OccupancyStatusType",null,null,"OccupancyStatusType"]
["UnitType",null,null,"UnitType"]
["SlrDesignatedUnitId",null,null,"SlrDesignatedUnitId"]
["OccupancyStatusType",null,null,"OccupancyStatusType"]
["UnitType",null,null,"UnitType"]
["SlrDesignatedUnitId",null,null,"SlrDesignatedUnitId"]
["OccupancyStatusType",null,null,"OccupancyStatusType"]
["UnitType",null,null,"UnitType"]
["SlrDesignatedUnitId",null,null,"SlrDesignatedUnitId"]
["OccupancyStatusType",null,null,"OccupancyStatusType"]
["UnitType",null,null,"UnitType"]
["SlrDesignatedUnitId",null,null,"SlrDesignatedUnitId"]
["OccupancyStatusType",null,null,"OccupancyStatusType"]
["UnitType",null,null,"UnitType"]
["SlrDesignatedUnitId",null,null,"SlrDesignatedUnitId"]
["OccupancyStatusType",null,null,"OccupancyStatusType"]
["UnitType",null,null,"UnitType"]
["SlrDesignatedUnitId",null,null,"SlrDesignatedUnitId"]
["OccupancyStatusType",null,null,"OccupancyStatusType"]
["UnitType",null,null,"UnitType"]
["SlrDesignatedUnitId",null,null,"SlrDesignatedUnitId"]
["OccupancyStatusType",null,null,"OccupancyStatusType"]
["UnitType",null,null,"UnitType"]
["SlrDesignatedUnitId",null,null,"SlrDesignatedUnitId"]
["OccupancyStatusType",null,null,"OccupancyStatusType"]
["UnitType",null,null,"UnitType"]
["SlrDesignatedUnitId",null,null,"SlrDesignatedUnitId"]
["OccupancyStatusType",null,null,"OccupancyStatusType"]
["UnitType",null,null,"UnitType"]
["SlrDesignatedUnitId",null,null,"SlrDesignatedUnitId"]
["OccupancyStatusType",null,null,"OccupancyStatusType"]
["UnitType",null,null,"UnitType"]
["SlrDesignatedUnitId",null,null,"SlrDesignatedUnitId"]
["OccupancyStatusType",null,null,"OccupancyStatusType"]
["UnitType",null,null,"UnitType"]
["SlrDesignatedUnitId",null,null,"SlrDesignatedUnitId"]
["OccupancyStatusType",null,null,"OccupancyStatusType"]
["UnitType",null,null,"UnitType"]
["SlrDesignatedUnitId",null,null,"SlrDesignatedUnitId"]
["OccupancyStatusType",null,null,"OccupancyStatusType"]
["UnitType",null,null,"UnitType"]
["SlrDesignatedUnitId",null,null,"SlrDesignatedUnitId"]
["OccupancyStatusType",null,null,"OccupancyStatusType"]
["UnitType",null,null,"UnitType"]
["SlrDesignatedUnitId",null,null,"SlrDesignatedUnitId"]
["OccupancyStatusType",null,null,"OccupancyStatusType"]
["UnitType",null,null,"UnitType"]
["SlrDesignatedUnitId",null,null,"SlrDesignatedUnitId"]
["OccupancyStatusType",null,null,"OccupancyStatusType"]
["UnitType",null,null,"UnitType"]
["SlrDesignatedUnitId",null,null,"SlrDesignatedUnitId"]
["OccupancyStatusType",null,null,"OccupancyStatusType"]
["UnitType",null,null,"UnitType"]
["SlrDesignatedUnitId",null,null,"SlrDesignatedUnitId"]
["OccupancyStatusType",null,null,"OccupancyStatusType"]
["UnitType",null,null,"UnitType"]
["SlrDesignatedUnitId",null,null,"SlrDesignatedUnitId"]
["OccupancyStatusType",null,null,"OccupancyStatusType"]
["UnitType",null,null,"UnitType"]
["SlrDesignatedUnitId",null,null,"SlrDesignatedUnitId"]
["OccupancyStatusType",null,null,"OccupancyStatusType"]
["UnitType",null,null,"UnitType"]
["SlrDesignatedUnitId",null,null,"SlrDesignatedUnitId"]
["OccupancyStatusType",null,null,"OccupancyStatusType"]
["UnitType",null,null,"UnitType"]
["SlrDesignatedUnitId",null,null,"SlrDesignatedUnitId"]
["OccupancyStatusType",null,null,"OccupancyStatusType"]
["UnitType",null,null,"UnitType"]
["SlrDesignatedUnitId",null,null,"SlrDesignatedUnitId"]
["OccupancyStatusType",null,null,"OccupancyStatusType"]
["UnitType",null,null,"UnitType"]
["SlrDesignatedUnitId",null,null,"SlrDesignatedUnitId"]
["OccupancyStatusType",null,null,"OccupancyStatusType"]
["UnitType",null,null,"UnitType"]
["SlrDesignatedUnitId",null,null,"SlrDesignatedUnitId"]
["OccupancyStatusType",null,null,"OccupancyStatusType"]
["UnitType",null,null,"UnitType"]
["SlrDesignatedUnitId",null,null,"SlrDesignatedUnitId"]
["OccupancyStatusType",null,null,"OccupancyStatusType"]
["UnitType",null,null,"UnitType"]
["SlrDesignatedUnitId",null,null,"SlrDesignatedUnitId"]
["OccupancyStatusType",null,null,"OccupancyStatusType"]
["UnitType",null,null,"UnitType"]
["SlrDesignatedUnitId",null,null,"SlrDesignatedUnitId"]
["OccupancyStatusType",null,null,"OccupancyStatusType"]
["UnitType",null,null,"UnitType"]
["SlrDesignatedUnitId",null,null,"SlrDesignatedUnitId"]
["OccupancyStatusType",null,null,"OccupancyStatusType"]
["UnitType",null,null,"UnitType"]
["SlrDesignatedUnitId",null,null,"SlrDesignatedUnitId"]
["OccupancyStatusType",null,null,"OccupancyStatusType"]
["UnitType",null,null,"UnitType"]
["SlrDesignatedUnitId",null,null,"SlrDesignatedUnitId"]
["OccupancyStatusType",null,null,"OccupancyStatusType"]
["UnitType",null,null,"UnitType"]
["SlrDesignatedUnitId",null,null,"SlrDesignatedUnitId"]
["OccupancyStatusType",null,null,"OccupancyStatusType"]
["UnitType",null,null,"UnitType"]
["SlrDesignatedUnitId",null,null,"SlrDesignatedUnitId"]
["OccupancyStatusType",null,null,"OccupancyStatusType"]
["UnitType",null,null,"UnitType"]
["SlrDesignatedUnitId",null,null,"SlrDesignatedUnitId"]
["OccupancyStatusType",null,null,"OccupancyStatusType"]
["UnitType",null,null,"UnitType"]
["SlrDesignatedUnitId",null,null,"SlrDesignatedUnitId"]
["OccupancyStatusType",null,null,"OccupancyStatusType"]
["UnitType",null,null,"UnitType"]
["SlrDesignatedUnitId",null,null,"SlrDesignatedUnitId"]
["OccupancyStatusType",null,null,"OccupancyStatusType"]
["UnitType",null,null,"UnitType"]
["SlrDesignatedUnitId",null,null,"SlrDesignatedUnitId"]
["OccupancyStatusType",null,null,"OccupancyStatusType"]
["UnitType",null,null,"UnitType"]
["SlrDesignatedUnitId",null,null,"SlrDesignatedUnitId"]
["OccupancyStatusType",null,null,"OccupancyStatusType"]
["UnitType",null,null,"UnitType"]
["SlrDesignatedUnitId",null,null,"SlrDesignatedUnitId"]
["OccupancyStatusType",null,null,"OccupancyStatusType"]
["UnitType",null,null,"UnitType"]
["SlrDesignatedUnitId",null,null,"SlrDesignatedUnitId"]
["OccupancyStatusType",null,null,"OccupancyStatusType"]
["UnitType",null,null,"UnitType"]
["SlrDesignatedUnitId",null,null,"SlrDesignatedUnitId"]
["OccupancyStatusType",null,null,"OccupancyStatusType"]
["UnitType",null,null,"UnitType"]
["SlrDesignatedUnitId",null,null,"SlrDesignatedUnitId"]
["OccupancyStatusType",null,null,"OccupancyStatusType"]
["UnitType",null,null,"UnitType"]
["SlrDesignatedUnitId",null,null,"SlrDesignatedUnitId"]
["OccupancyStatusType",null,null,"OccupancyStatusType"]
["UnitType",null,null,"UnitType"]
["SlrDesignatedUnitId",null,null,"SlrDesignatedUnitId"]
["OccupancyStatusType",null,null,"OccupancyStatusType"]
["UnitType",null,null,"UnitType"]
["SlrDesignatedUnitId",null,null,"SlrDesignatedUnitId"]
["OccupancyStatusType",null,null,"OccupancyStatusType"]
["UnitType",null,null,"UnitType"]
["SlrDesignatedUnitId",null,null,"SlrDesignatedUnitId"]
["OccupancyStatusType",null,null,"OccupancyStatusType"]
["UnitType",null,null,"UnitType"]
["SlrDesignatedUnitId",null,null,"SlrDesignatedUnitId"]
["OccupancyStatusType",null,null,"OccupancyStatusType"]
["UnitType",null,null,"UnitType"]
["SlrDesignatedUnitId",null,null,"SlrDesignatedUnitId"]
["OccupancyStatusType",null,null,"OccupancyStatusType"]
["UnitType",null,null,"UnitType"]
["SlrDesignatedUnitId",null,null,"SlrDesignatedUnitId"]
["OccupancyStatusType",null,null,"OccupancyStatusType"]
["UnitType",null,null,"UnitType"]
["SlrDesignatedUnitId",null,null,"SlrDesignatedUnitId"]
["OccupancyStatusType",null,null,"OccupancyStatusType"]
["UnitType",null,null,"UnitType"]
["SlrDesignatedUnitId",null,null,"SlrDesignatedUnitId"]
["OccupancyStatusType",null,null,"OccupancyStatusType"]
["UnitType",null,null,"UnitType"]
["SlrDesignatedUnitId",null,null,"SlrDesignatedUnitId"]
["OccupancyStatusType",null,null,"OccupancyStatusType"]
["UnitType",null,null,"UnitType"]
["SlrDesignatedUnitId",null,null,"SlrDesignatedUnitId"]
["OccupancyStatusType",null,null,"OccupancyStatusType"]
["UnitType",null,null,"UnitType"]
["SlrDesignatedUnitId",null,null,"SlrDesignatedUnitId"]
["OccupancyStatusType",null,null,"OccupancyStatusType"]
["UnitType",null,null,"UnitType"]
["SlrDesignatedUnitId",null,null,"SlrDesignatedUnitId"]
["OccupancyStatusType",null,null,"OccupancyStatusType"]
["UnitType",null,null,"UnitType"]
["SlrDesignatedUnitId",null,null,"SlrDesignatedUnitId"]
["OccupancyStatusType",null,null,"OccupancyStatusType"]
["UnitType",null,null,"UnitType"]
["SlrDesignatedUnitId",null,null,"SlrDesignatedUnitId"]
["OccupancyStatusType",null,null,"OccupancyStatusType"]
["UnitType",null,null,"UnitType"]
["SlrDesignatedUnitId",null,null,"SlrDesignatedUnitId"]
["OccupancyStatusType",null,null,"OccupancyStatusType"]
["UnitType",null,null,"UnitType"]
["SlrDesignatedUnitId",null,null,"SlrDesignatedUnitId"]
["OccupancyStatusType",null,null,"OccupancyStatusType"]
["UnitType",null,null,"UnitType"]
["SlrDesignatedUnitId",null,null,"SlrDesignatedUnitId"]
["OccupancyStatusType",null,null,"OccupancyStatusType"]
["UnitType",null,null,"UnitType"]
["SlrDesignatedUnitId",null,null,"SlrDesignatedUnitId"]
["OccupancyStatusType",null,null,"OccupancyStatusType"]
["UnitType",null,null,"UnitType"]
["SlrDesignatedUnitId",null,null,"SlrDesignatedUnitId"]
["OccupancyStatusType",null,null,"OccupancyStatusType"]
["UnitType",null,null,"UnitType"]
["SlrDesignatedUnitId",null,null,"SlrDesignatedUnitId"]
["OccupancyStatusType",null,null,"OccupancyStatusType"]
["UnitType",null,null,"UnitType"]
["SlrDesignatedUnitId",null,null,"SlrDesignatedUnitId"]
["OccupancyStatusType",null,null,"OccupancyStatusType"]
["UnitType",null,null,"UnitType"]
["SlrDesignatedUnitId",null,null,"SlrDesignatedUnitId"]
["OccupancyStatusType",null,null,"OccupancyStatusType"]
["UnitType",null,null,"UnitType"]
["SlrDesignatedUnitId",null,null,"SlrDesignatedUnitId"]
["OccupancyStatusType",null,null,"OccupancyStatusType"]
["UnitType",null,null,"UnitType"]
["SlrDesignatedUnitId",null,null,"SlrDesignatedUnitId"]
["OccupancyStatusType",null,null,"OccupancyStatusType"]
["UnitType",null,null,"UnitType"]
["SlrDesignatedUnitId",null,null,"SlrDesignatedUnitId"]
["OccupancyStatusType",null,null,"OccupancyStatusType"]
["UnitType",null,null,"UnitType"]
["SlrDesignatedUnitId",null,null,"SlrDesignatedUnitId"]
["OccupancyStatusType",null,null,"OccupancyStatusType"]
["UnitType",null,null,"UnitType"]
["SlrDesignatedUnitId",null,null,"SlrDesignatedUnitId"]
["OccupancyStatusType",null,null,"OccupancyStatusType"]
["UnitType",null,null,"UnitType"]
["SlrDesignatedUnitId",null,null,"SlrDesignatedUnitId"]
["OccupancyStatusType",null,null,"OccupancyStatusType"]
["UnitType",null,null,"UnitType"]
["SlrDesignatedUnitId",null,null,"SlrDesignatedUnitId"]
["OccupancyStatusType",null,null,"OccupancyStatusType"]
["UnitType",null,null,"UnitType"]
["SlrDesignatedUnitId",null,null,"SlrDesignatedUnitId"]
["OccupancyStatusType",null,null,"OccupancyStatusType"]
["UnitType",null,null,"UnitType"]
["SlrDesignatedUnitId",null,null,"SlrDesignatedUnitId"]
["OccupancyStatusType",null,null,"OccupancyStatusType"]
["UnitType",null,null,"UnitType"]
["SlrDesignatedUnitId",null,null,"SlrDesignatedUnitId"]
["OccupancyStatusType",null,null,"OccupancyStatusType"]
["UnitType",null,null,"UnitType"]
["SlrDesignatedUnitId",null,null,"SlrDesignatedUnitId"]
["OccupancyStatusType",null,null,"OccupancyStatusType"]
["UnitType",null,null,"UnitType"]
["SlrDesignatedUnitId",null,null,"SlrDesignatedUnitId"]
["OccupancyStatusType",null,null,"OccupancyStatusType"]
["UnitType",null,null,"UnitType"]
["SlrDesignatedUnitId",null,null,"SlrDesignatedUnitId"]
["OccupancyStatusType",null,null,"OccupancyStatusType"]
["UnitType",null,null,"UnitType"]
["SlrDesignatedUnitId",null,null,"SlrDesignatedUnitId"]
["OccupancyStatusType",null,null,"OccupancyStatusType"]
["UnitType",null,null,"UnitType"]
["SlrDesignatedUnitId",null,null,"SlrDesignatedUnitId"]
["OccupancyStatusType",null,null,"OccupancyStatusType"]
["UnitType",null,null,"UnitType"]
["SlrDesignatedUnitId",null,null,"SlrDesignatedUnitId"]
["OccupancyStatusType",null,null,"OccupancyStatusType"]
["UnitType",null,null,"UnitType"]
["SlrDesignatedUnitId",null,null,"SlrDesignatedUnitId"]
["OccupancyStatusType",null,null,"OccupancyStatusType"]
["UnitType",null,null,"UnitType"]
["SlrDesignatedUnitId",null,null,"SlrDesignatedUnitId"]
["OccupancyStatusType",null,null,"OccupancyStatusType"]
["UnitType",null,null,"UnitType"]
["SlrDesignatedUnitId",null,null,"SlrDesignatedUnitId"]
["OccupancyStatusType",null,null,"OccupancyStatusType"]
["UnitType",null,null,"UnitType"]
["SlrDesignatedUnitId",null,null,"SlrDesignatedUnitId"]
["OccupancyStatusType",null,null,"OccupancyStatusType"]
["UnitType",null,null,"UnitType"]
["SlrDesignatedUnitId",null,null,"SlrDesignatedUnitId"]
["OccupancyStatusType",null,null,"OccupancyStatusType"]
["UnitType",null,null,"UnitType"]
["SlrDesignatedUnitId",null,null,"SlrDesignatedUnitId"]
["OccupancyStatusType",null,null,"OccupancyStatusType"]
["UnitType",null,null,"UnitType"]
["SlrDesignatedUnitId",null,null,"SlrDesignatedUnitId"]
["OccupancyStatusType",null,null,"OccupancyStatusType"]
["UnitType",null,null,"UnitType"]
["SlrDesignatedUnitId",null,null,"SlrDesignatedUnitId"]
["OccupancyStatusType",null,null,"OccupancyStatusType"]
["UnitType",null,null,"UnitType"]
["SlrDesignatedUnitId",null,null,"SlrDesignatedUnitId"]
["OccupancyStatusType",null,null,"OccupancyStatusType"]
["UnitType",null,null,"UnitType"]
["SlrDesignatedUnitId",null,null,"SlrDesignatedUnitId"]
["OccupancyStatusType",null,null,"OccupancyStatusType"]
["UnitType",null,null,"UnitType"]
["SlrDesignatedUnitId",null,null,"SlrDesignatedUnitId"]
["OccupancyStatusType",null,null,"OccupancyStatusType"]
["UnitType",null,null,"UnitType"]
["SlrDesignatedUnitId",null,null,"SlrDesignatedUnitId"]
["OccupancyStatusType",null,null,"OccupancyStatusType"]
["UnitType",null,null,"UnitType"]
["SlrDesignatedUnitId",null,null,"SlrDesignatedUnitId"]
["OccupancyStatusType",null,null,"OccupancyStatusType"]
["UnitType",null,null,"UnitType"]
["SlrDesignatedUnitId",null,null,"SlrDesignatedUnitId"]
["OccupancyStatusType",null,null,"OccupancyStatusType"]
["UnitType",null,null,"UnitType"]
["SlrDesignatedUnitId",null,null,"SlrDesignatedUnitId"]
["OccupancyStatusType",null,null,"OccupancyStatusType"]
["UnitType",null,null,"UnitType"]
["SlrDesignatedUnitId",null,null,"SlrDesignatedUnitId"]
["OccupancyStatusType",null,null,"OccupancyStatusType"]
["UnitType",null,null,"UnitType"]
["SlrDesignatedUnitId",null,null,"SlrDesignatedUnitId"]
["OccupancyStatusType",null,null,"OccupancyStatusType"]
["UnitType",null,null,"UnitType"]
["SlrDesignatedUnitId",null,null,"SlrDesignatedUnitId"]
["OccupancyStatusType",null,null,"OccupancyStatusType"]
["UnitType",null,null,"UnitType"]
["SlrDesignatedUnitId",null,null,"SlrDesignatedUnitId"]
["OccupancyStatusType",null,null,"OccupancyStatusType"]
["UnitType",null,null,"UnitType"]
["SlrDesignatedUnitId",null,null,"SlrDesignatedUnitId"]
["OccupancyStatusType",null,null,"OccupancyStatusType"]
["UnitType",null,null,"UnitType"]
["SlrDesignatedUnitId",null,null,"SlrDesignatedUnitId"]
["OccupancyStatusType",null,null,"OccupancyStatusType"]
["UnitType",null,null,"UnitType"]
["SlrDesignatedUnitId",null,null,"SlrDesignatedUnitId"]
["OccupancyStatusType",null,null,"OccupancyStatusType"]
["UnitType",null,null,"UnitType"]
["SlrDesignatedUnitId",null,null,"SlrDesignatedUnitId"]
["OccupancyStatusType",null,null,"OccupancyStatusType"]
["UnitType",null,null,"UnitType"]
["SlrDesignatedUnitId",null,null,"SlrDesignatedUnitId"]
["OccupancyStatusType",null,null,"OccupancyStatusType"]
["UnitType",null,null,"UnitType"]
["SlrDesignatedUnitId",null,null,"SlrDesignatedUnitId"]
["OccupancyStatusType",null,null,"OccupancyStatusType"]
["UnitType",null,null,"UnitType"]
["SlrDesignatedUnitId",null,null,"SlrDesignatedUnitId"]
["OccupancyStatusType",null,null,"OccupancyStatusType"]
["UnitType",null,null,"UnitType"]
["SlrDesignatedUnitId",null,null,"SlrDesignatedUnitId"]
["OccupancyStatusType",null,null,"OccupancyStatusType"]
["UnitType",null,null,"UnitType"]
["SlrDesignatedUnitId",null,null,"SlrDesignatedUnitId"]
["OccupancyStatusType",null,null,"OccupancyStatusType"]
["UnitType",null,null,"UnitType"]
["SlrDesignatedUnitId",null,null,"SlrDesignatedUnitId"]
["OccupancyStatusType",null,null,"OccupancyStatusType"]
["UnitType",null,null,"UnitType"]
["SlrDesignatedUnitId",null,null,"SlrDesignatedUnitId"]
["OccupancyStatusType",null,null,"OccupancyStatusType"]
["UnitType",null,null,"UnitType"]
["SlrDesignatedUnitId",null,null,"SlrDesignatedUnitId"]
["OccupancyStatusType",null,null,"OccupancyStatusType"]
["UnitType",null,null,"UnitType"]
["SlrDesignatedUnitId",null,null,"SlrDesignatedUnitId"]
["OccupancyStatusType",null,null,"OccupancyStatusType"]
["UnitType",null,null,"UnitType"]
["SlrDesignatedUnitId",null,null,"SlrDesignatedUnitId"]
["OccupancyStatusType",null,null,"OccupancyStatusType"]
["UnitType",null,null,"UnitType"]
["SlrDesignatedUnitId",null,null,"SlrDesignatedUnitId"]
["OccupancyStatusType",null,null,"OccupancyStatusType"]
["UnitType",null,null,"UnitType"]
["SlrDesignatedUnitId",null,null,"SlrDesignatedUnitId"]
["OccupancyStatusType",null,null,"OccupancyStatusType"]
["UnitType",null,null,"UnitType"]
["SlrDesignatedUnitId",null,null,"SlrDesignatedUnitId"]
["OccupancyStatusType",null,null,"OccupancyStatusType"]
["UnitType",null,null,"UnitType"]
["SlrDesignatedUnitId",null,null,"SlrDesignatedUnitId"]
["OccupancyStatusType",null,null,"OccupancyStatusType"]
["UnitType",null,null,"UnitType"]
["SlrDesignatedUnitId",null,null,"SlrDesignatedUnitId"]
["OccupancyStatusType",null,null,"OccupancyStatusType"]
["UnitType",null,null,"UnitType"]
["SlrDesignatedUnitId",null,null,"SlrDesignatedUnitId"]
["OccupancyStatusType",null,null,"OccupancyStatusType"]
["UnitType",null,null,"UnitType"]
["SlrDesignatedUnitId",null,null,"SlrDesignatedUnitId"]
["OccupancyStatusType",null,null,"OccupancyStatusType"]
["UnitType",null,null,"UnitType"]
["SlrDesignatedUnitId",null,null,"SlrDesignatedUnitId"]
["OccupancyStatusType",null,null,"OccupancyStatusType"]
["UnitType",null,null,"UnitType"]
["SlrDesignatedUnitId",null,null,"SlrDesignatedUnitId"]
["OccupancyStatusType",null,null,"OccupancyStatusType"]
["UnitType",null,null,"UnitType"]
["SlrDesignatedUnitId",null,null,"SlrDesignatedUnitId"]
["OccupancyStatusType",null,null,"OccupancyStatusType"]
["UnitType",null,null,"UnitType"]
["SlrDesignatedUnitId",null,null,"SlrDesignatedUnitId"]
["OccupancyStatusType",null,null,"OccupancyStatusType"]
["UnitType",null,null,"UnitType"]
["SlrDesignatedUnitId",null,null,"SlrDesignatedUnitId"]
["OccupancyStatusType",null,null,"OccupancyStatusType"]
["UnitType",null,null,"UnitType"]
["SlrDesignatedUnitId",null,null,"SlrDesignatedUnitId"]
["OccupancyStatusType",null,null,"OccupancyStatusType"]
["UnitType",null,null,"UnitType"]
["SlrDesignatedUnitId",null,null,"SlrDesignatedUnitId"]
["OccupancyStatusType",null,null,"OccupancyStatusType"]
["UnitType",null,null,"UnitType"]
["SlrDesignatedUnitId",null,null,"SlrDesignatedUnitId"]
["OccupancyStatusType",null,null,"OccupancyStatusType"]
["UnitType",null,null,"UnitType"]
["SlrDesignatedUnitId",null,null,"SlrDesignatedUnitId"]
["OccupancyStatusType",null,null,"OccupancyStatusType"]
["UnitType",null,null,"UnitType"]
["SlrDesignatedUnitId",null,null,"SlrDesignatedUnitId"]
["OccupancyStatusType",null,null,"OccupancyStatusType"]
["UnitType",null,null,"UnitType"]
["SlrDesignatedUnitId",null,null,"SlrDesignatedUnitId"]
["OccupancyStatusType",null,null,"OccupancyStatusType"]
["UnitType",null,null,"UnitType"]
["SlrDesignatedUnitId",null,null,"SlrDesignatedUnitId"]
["OccupancyStatusType",null,null,"OccupancyStatusType"]
["UnitType",null,null,"UnitType"]
["SlrDesignatedUnitId",null,null,"SlrDesignatedUnitId"]
["OccupancyStatusType",null,null,"OccupancyStatusType"]
["UnitType",null,null,"UnitType"]
["SlrDesignatedUnitId",null,null,"SlrDesignatedUnitId"]
["OccupancyStatusType",null,null,"OccupancyStatusType"]
["UnitType",null,null,"UnitType"]
["SlrDesignatedUnitId",null,null,"SlrDesignatedUnitId"]
["OccupancyStatusType",null,null,"OccupancyStatusType"]
["UnitType",null,null,"UnitType"]
["SlrDesignatedUnitId",null,null,"SlrDesignatedUnitId"]
["OccupancyStatusType",null,null,"OccupancyStatusType"]
["UnitType",null,null,"UnitType"]
["SlrDesignatedUnitId",null,null,"SlrDesignatedUnitId"]
["OccupancyStatusType",null,null,"OccupancyStatusType"]
["UnitType",null,null,"UnitType"]
["SlrDesignatedUnitId",null,null,"SlrDesignatedUnitId"]
["OccupancyStatusType",null,null,"OccupancyStatusType"]
["UnitType",null,null,"UnitType"]
["SlrDesignatedUnitId",null,null,"SlrDesignatedUnitId"]
["OccupancyStatusType",null,null,"OccupancyStatusType"]
["UnitType",null,null,"UnitType"]
["SlrDesignatedUnitId",null,null,"SlrDesignatedUnitId"]
["OccupancyStatusType",null,null,"OccupancyStatusType"]
["UnitType",null,null,"UnitType"]
["SlrDesignatedUnitId",null,null,"SlrDesignatedUnitId"]
["OccupancyStatusType",null,null,"OccupancyStatusType"]
["UnitType",null,null,"UnitType"]
["SlrDesignatedUnitId",null,null,"SlrDesignatedUnitId"]
["OccupancyStatusType",null,null,"OccupancyStatusType"]
["UnitType",null,null,"UnitType"]
["SlrDesignatedUnitId",null,null,"SlrDesignatedUnitId"]
["OccupancyStatusType",null,null,"OccupancyStatusType"]
["UnitType",null,null,"UnitType"]
["SlrDesignatedUnitId",null,null,"SlrDesignatedUnitId"]
["OccupancyStatusType",null,null,"OccupancyStatusType"]
["UnitType",null,null,"UnitType"]
["SlrDesignatedUnitId",null,null,"SlrDesignatedUnitId"]
["OccupancyStatusType",null,null,"OccupancyStatusType"]
["UnitType",null,null,"UnitType"]
["SlrDesignatedUnitId",null,null,"SlrDesignatedUnitId"]
["OccupancyStatusType",null,null,"OccupancyStatusType"]
["UnitType",null,null,"UnitType"]
["SlrDesignatedUnitId",null,null,"SlrDesignatedUnitId"]
["OccupancyStatusType",null,null,"OccupancyStatusType"]
["UnitType",null,null,"UnitType"]
["SlrDesignatedUnitId",null,null,"SlrDesignatedUnitId"]
["OccupancyStatusType",null,null,"OccupancyStatusType"]
["UnitType",null,null,"UnitType"]
["SlrDesignatedUnitId",null,null,"SlrDesignatedUnitId"]
["OccupancyStatusType",null,null,"OccupancyStatusType"]
["UnitType",null,null,"UnitType"]
["SlrDesignatedUnitId",null,null,"SlrDesignatedUnitId"]
["OccupancyStatusType",null,null,"OccupancyStatusType"]
["UnitType",null,null,"UnitType"]
["SlrDesignatedUnitId",null,null,"SlrDesignatedUnitId"]
["OccupancyStatusType",null,null,"OccupancyStatusType"]
["UnitType",null,null,"UnitType"]
["SlrDesignatedUnitId",null,null,"SlrDesignatedUnitId"]
["OccupancyStatusType",null,null,"OccupancyStatusType"]
["UnitType",null,null,"UnitType"]
["SlrDesignatedUnitId",null,null,"SlrDesignatedUnitId"]
["OccupancyStatusType",null,null,"OccupancyStatusType"]
["UnitType",null,null,"UnitType"]
["SlrDesignatedUnitId",null,null,"SlrDesignatedUnitId"]
["OccupancyStatusType",null,null,"OccupancyStatusType"]
["UnitType",null,null,"UnitType"]
["SlrDesignatedUnitId",null,null,"SlrDesignatedUnitId"]
["OccupancyStatusType",null,null,"OccupancyStatusType"]
["UnitType",null,null,"UnitType"]
["SlrDesignatedUnitId",null,null,"SlrDesignatedUnitId"]
["OccupancyStatusType",null,null,"OccupancyStatusType"]
["UnitType",null,null,"UnitType"]
["SlrDesignatedUnitId",null,null,"SlrDesignatedUnitId"]
["OccupancyStatusType",null,null,"OccupancyStatusType"]
["UnitType",null,null,"UnitType"]
["SlrDesignatedUnitId",null,null,"SlrDesignatedUnitId"]
["OccupancyStatusType",null,null,"OccupancyStatusType"]
["UnitType",null,null,"UnitType"]
["SlrDesignatedUnitId",null,null,"SlrDesignatedUnitId"]
["OccupancyStatusType",null,null,"OccupancyStatusType"]
["UnitType",null,null,"UnitType"]
["SlrDesignatedUnitId",null,null,"SlrDesignatedUnitId"]
["OccupancyStatusType",null,null,"OccupancyStatusType"]
["UnitType",null,null,"UnitType"]
["SlrDesignatedUnitId",null,null,"SlrDesignatedUnitId"]
["OccupancyStatusType",null,null,"OccupancyStatusType"]
["UnitType",null,null,"UnitType"]
["SlrDesignatedUnitId",null,null,"SlrDesignatedUnitId"]
["OccupancyStatusType",null,null,"OccupancyStatusType"]
["UnitType",null,null,"UnitType"]
["SlrDesignatedUnitId",null,null,"SlrDesignatedUnitId"]
["OccupancyStatusType",null,null,"OccupancyStatusType"]
["UnitType",null,null,"UnitType"]
["SlrDesignatedUnitId",null,null,"SlrDesignatedUnitId"]
["OccupancyStatusType",null,null,"OccupancyStatusType"]
["UnitType",null,null,"UnitType"]
["SlrDesignatedUnitId",null,null,"SlrDesignatedUnitId"]
["OccupancyStatusType",null,null,"OccupancyStatusType"]
["UnitType",null,null,"UnitType"]
["SlrDesignatedUnitId",null,null,"SlrDesignatedUnitId"]
["OccupancyStatusType",null,null,"OccupancyStatusType"]
["UnitType",null,null,"UnitType"]
["SlrDesignatedUnitId",null,null,"SlrDesignatedUnitId"]
["OccupancyStatusType",null,null,"OccupancyStatusType"]
["UnitType",null,null,"UnitType"]
["SlrDesignatedUnitId",null,null,"SlrDesignatedUnitId"]
["OccupancyStatusType",null,null,"OccupancyStatusType"]
["UnitType",null,null,"UnitType"]
["SlrDesignatedUnitId",null,null,"SlrDesignatedUnitId"]
["OccupancyStatusType",null,null,"OccupancyStatusType"]
["UnitType",null,null,"UnitType"]
["SlrDesignatedUnitId",null,null,"SlrDesignatedUnitId"]
["OccupancyStatusType",null,null,"OccupancyStatusType"]
["UnitType",null,null,"UnitType"]
["SlrDesignatedUnitId",null,null,"SlrDesignatedUnitId"]
["OccupancyStatusType",null,null,"OccupancyStatusType"]
["UnitType",null,null,"UnitType"]
["SlrDesignatedUnitId",null,null,"SlrDesignatedUnitId"]
["OccupancyStatusType",null,null,"OccupancyStatusType"]
["UnitType",null,null,"UnitType"]
["SlrDesignatedUnitId",null,null,"SlrDesignatedUnitId"]
["OccupancyStatusType",null,null,"OccupancyStatusType"]
["UnitType",null,null,"UnitType"]
["SlrDesignatedUnitId",null,null,"SlrDesignatedUnitId"]
["OccupancyStatusType",null,null,"OccupancyStatusType"]
["UnitType",null,null,"UnitType"]
["SlrDesignatedUnitId",null,null,"SlrDesignatedUnitId"]
["OccupancyStatusType",null,null,"OccupancyStatusType"]
["UnitType",null,null,"UnitType"]
["SlrDesignatedUnitId",null,null,"SlrDesignatedUnitId"]
["OccupancyStatusType",null,null,"OccupancyStatusType"]
["UnitType",null,null,"UnitType"]
["SlrDesignatedUnitId",null,null,"SlrDesignatedUnitId"]
["OccupancyStatusType",null,null,"OccupancyStatusType"]
["UnitType",null,null,"UnitType"]
["SlrDesignatedUnitId",null,null,"SlrDesignatedUnitId"]
["OccupancyStatusType",null,null,"OccupancyStatusType"]
["UnitType",null,null,"UnitType"]
["SlrDesignatedUnitId",null,null,"SlrDesignatedUnitId"]
["OccupancyStatusType",null,null,"OccupancyStatusType"]
["UnitType",null,null,"UnitType"]
["SlrDesignatedUnitId",null,null,"SlrDesignatedUnitId"]
["OccupancyStatusType",null,null,"OccupancyStatusType"]
["UnitType",null,null,"UnitType"]
["SlrDesignatedUnitId",null,null,"SlrDesignatedUnitId"]
["OccupancyStatusType",null,null,"OccupancyStatusType"]
["UnitType",null,null,"UnitType"]
["SlrDesignatedUnitId",null,null,"SlrDesignatedUnitId"]
["OccupancyStatusType",null,null,"OccupancyStatusType"]
["UnitType",null,null,"UnitType"]
["SlrDesignatedUnitId",null,null,"SlrDesignatedUnitId"]
["OccupancyStatusType",null,null,"OccupancyStatusType"]
["UnitType",null,null,"UnitType"]
["SlrDesignatedUnitId",null,null,"SlrDesignatedUnitId"]
["OccupancyStatusType",null,null,"OccupancyStatusType"]
["UnitType",null,null,"UnitType"]
["SlrDesignatedUnitId",null,null,"SlrDesignatedUnitId"]
["OccupancyStatusType",null,null,"OccupancyStatusType"]
["UnitType",null,null,"UnitType"]
["SlrDesignatedUnitId",null,null,"SlrDesignatedUnitId"]
["OccupancyStatusType",null,null,"OccupancyStatusType"]
["UnitType",null,null,"UnitType"]
["SlrDesignatedUnitId",null,null,"SlrDesignatedUnitId"]
["OccupancyStatusType",null,null,"OccupancyStatusType"]
["UnitType",null,null,"UnitType"]
["SlrDesignatedUnitId",null,null,"SlrDesignatedUnitId"]
["OccupancyStatusType",null,null,"OccupancyStatusType"]
["UnitType",null,null,"UnitType"]
["SlrDesignatedUnitId",null,null,"SlrDesignatedUnitId"]
["OccupancyStatusType",null,null,"OccupancyStatusType"]
["UnitType",null,null,"UnitType"]
["SlrDesignatedUnitId",null,null,"SlrDesignatedUnitId"]
["OccupancyStatusType",null,null,"OccupancyStatusType"]
["UnitType",null,null,"UnitType"]
["SlrDesignatedUnitId",null,null,"SlrDesignatedUnitId"]
["OccupancyStatusType",null,null,"OccupancyStatusType"]
["UnitType",null,null,"UnitType"]
["SlrDesignatedUnitId",null,null,"SlrDesignatedUnitId"]
["OccupancyStatusType",null,null,"OccupancyStatusType"]
["UnitType",null,null,"UnitType"]
["SlrDesignatedUnitId",null,null,"SlrDesignatedUnitId"]
["OccupancyStatusType",null,null,"OccupancyStatusType"]
["UnitType",null,null,"UnitType"]
["SlrDesignatedUnitId",null,null,"SlrDesignatedUnitId"]
["OccupancyStatusType",null,null,"OccupancyStatusType"]
["UnitType",null,null,"UnitType"]
["SlrDesignatedUnitId",null,null,"SlrDesignatedUnitId"]
["OccupancyStatusType",null,null,"OccupancyStatusType"]
["UnitType",null,null,"UnitType"]
["SlrDesignatedUnitId",null,null,"SlrDesignatedUnitId"]
["OccupancyStatusType",null,null,"OccupancyStatusType"]
["UnitType",null,null,"UnitType"]
["SlrDesignatedUnitId",null,null,"SlrDesignatedUnitId"]
["OccupancyStatusType",null,null,"OccupancyStatusType"]
["UnitType",null,null,"UnitType"]
["SlrDesignatedUnitId",null,null,"SlrDesignatedUnitId"]
["OccupancyStatusType",null,null,"OccupancyStatusType"]
["UnitType",null,null,"UnitType"]
["SlrDesignatedUnitId",null,null,"SlrDesignatedUnitId"]
["OccupancyStatusType",null,null,"OccupancyStatusType"]
["UnitType",null,null,"UnitType"]
["SlrDesignatedUnitId",null,null,"SlrDesignatedUnitId"]
["OccupancyStatusType",null,null,"OccupancyStatusType"]
["UnitType",null,null,"UnitType"]
["SlrDesignatedUnitId",null,null,"SlrDesignatedUnitId"]
["OccupancyStatusType",null,null,"OccupancyStatusType"]
["UnitType",null,null,"UnitType"]
["SlrDesignatedUnitId",null,null,"SlrDesignatedUnitId"]
["OccupancyStatusType",null,null,"OccupancyStatusType"]
["UnitType",null,null,"UnitType"]
["SlrDesignatedUnitId",null,null,"SlrDesignatedUnitId"]
["OccupancyStatusType",null,null,"OccupancyStatusType"]
["UnitType",null,null,"UnitType"]
["SlrDesignatedUnitId",null,null,"SlrDesignatedUnitId"]
["OccupancyStatusType",null,null,"OccupancyStatusType"]
["UnitType",null,null,"UnitType"]
["SlrDesignatedUnitId",null,null,"SlrDesignatedUnitId"]
["OccupancyStatusType",null,null,"OccupancyStatusType"]
["UnitType",null,null,"UnitType"]
["SlrDesignatedUnitId",null,null,"SlrDesignatedUnitId"]
["OccupancyStatusType",null,null,"OccupancyStatusType"]
["UnitType",null,null,"UnitType"]
["SlrDesignatedUnitId",null,null,"SlrDesignatedUnitId"]
["OccupancyStatusType",null,null,"OccupancyStatusType"]
["UnitType",null,null,"UnitType"]
["SlrDesignatedUnitId",null,null,"SlrDesignatedUnitId"]
["OccupancyStatusType",null,null,"OccupancyStatusType"]
["UnitType",null,null,"UnitType"]
["SlrDesignatedUnitId",null,null,"SlrDesignatedUnitId"]
["OccupancyStatusType",null,null,"OccupancyStatusType"]
["UnitType",null,null,"UnitType"]
["SlrDesignatedUnitId",null,null,"SlrDesignatedUnitId"]
["OccupancyStatusType",null,null,"OccupancyStatusType"]
["UnitType",null,null,"UnitType"]
["SlrDesignatedUnitId",null,null,"SlrDesignatedUnitId"]
["OccupancyStatusType",null,null,"OccupancyStatusType"]
["UnitType",null,null,"UnitType"]
["SlrDesignatedUnitId",null,null,"SlrDesignatedUnitId"]
["OccupancyStatusType",null,null,"OccupancyStatusType"]
["UnitType",null,null,"UnitType"]
["SlrDesignatedUnitId",null,null,"SlrDesignatedUnitId"]
["OccupancyStatusType",null,null,"OccupancyStatusType"]
["UnitType",null,null,"UnitType"]
["SlrDesignatedUnitId",null,null,"SlrDesignatedUnitId"]
["OccupancyStatusType",null,null,"OccupancyStatusType"]
["UnitType",null,null,"UnitType"]
["SlrDesignatedUnitId",null,null,"SlrDesignatedUnitId"]
["OccupancyStatusType",null,null,"OccupancyStatusType"]
["UnitType",null,null,"UnitType"]
["SlrDesignatedUnitId",null,null,"SlrDesignatedUnitId"]
["OccupancyStatusType",null,null,"OccupancyStatusType"]
["UnitType",null,null,"UnitType"]
["SlrDesignatedUnitId",null,null,"SlrDesignatedUnitId"]
["OccupancyStatusType",null,null,"OccupancyStatusType"]
["UnitType",null,null,"UnitType"]
["SlrDesignatedUnitId",null,null,"SlrDesignatedUnitId"]
["OccupancyStatusType",null,null,"OccupancyStatusType"]
["UnitType",null,null,"UnitType"]
["SlrDesignatedUnitId",null,null,"SlrDesignatedUnitId"]
["OccupancyStatusType",null,null,"OccupancyStatusType"]
["UnitType",null,null,"UnitType"]
["SlrDesignatedUnitId",null,null,"SlrDesignatedUnitId"]
["OccupancyStatusType",null,null,"OccupancyStatusType"]
["UnitType",null,null,"UnitType"]
["SlrDesignatedUnitId",null,null,"SlrDesignatedUnitId"]
["OccupancyStatusType",null,null,"OccupancyStatusType"]
["UnitType",null,null,"UnitType"]
["SlrDesignatedUnitId",null,null,"SlrDesignatedUnitId"]
["OccupancyStatusType",null,null,"OccupancyStatusType"]
["UnitType",null,null,"UnitType"]
["SlrDesignatedUnitId",null,null,"SlrDesignatedUnitId"]
["OccupancyStatusType",null,null,"OccupancyStatusType"]
["UnitType",null,null,"UnitType"]
["SlrDesignatedUnitId",null,null,"SlrDesignatedUnitId"]
["OccupancyStatusType",null,null,"OccupancyStatusType"]
["UnitType",null,null,"UnitType"]
["SlrDesignatedUnitId",null,null,"SlrDesignatedUnitId"]
["OccupancyStatusType",null,null,"OccupancyStatusType"]
["UnitType",null,null,"UnitType"]
["SlrDesignatedUnitId",null,null,"SlrDesignatedUnitId"]
["OccupancyStatusType",null,null,"OccupancyStatusType"]
["UnitType",null,null,"UnitType"]
["SlrDesignatedUnitId",null,null,"SlrDesignatedUnitId"]
["OccupancyStatusType",null,null,"OccupancyStatusType"]
["UnitType",null,null,"UnitType"]
["SlrDesignatedUnitId",null,null,"SlrDesignatedUnitId"]
["OccupancyStatusType",null,null,"OccupancyStatusType"]
["UnitType",null,null,"UnitType"]
["SlrDesignatedUnitId",null,null,"SlrDesignatedUnitId"]
["OccupancyStatusType",null,null,"OccupancyStatusType"]
["UnitType",null,null,"UnitType"]
["SlrDesignatedUnitId",null,null,"SlrDesignatedUnitId"]
["OccupancyStatusType",null,null,"OccupancyStatusType"]
["UnitType",null,null,"UnitType"]
["SlrDesignatedUnitId",null,null,"SlrDesignatedUnitId"]
["OccupancyStatusType",null,null,"OccupancyStatusType"]
["UnitType",null,null,"UnitType"]
["SlrDesignatedUnitId",null,null,"SlrDesignatedUnitId"]
["OccupancyStatusType",null,null,"OccupancyStatusType"]
["UnitType",null,null,"UnitType"]
["SlrDesignatedUnitId",null,null,"SlrDesignatedUnitId"]
["OccupancyStatusType",null,null,"OccupancyStatusType"]
["UnitType",null,null,"UnitType"]
["SlrDesignatedUnitId",null,null,"SlrDesignatedUnitId"]
["OccupancyStatusType",null,null,"OccupancyStatusType"]
["UnitType",null,null,"UnitType"]
["SlrDesignatedUnitId",null,null,"SlrDesignatedUnitId"]
["OccupancyStatusType",null,null,"OccupancyStatusType"]
["UnitType",null,null,"UnitType"]
["SlrDesignatedUnitId",null,null,"SlrDesignatedUnitId"]
["OccupancyStatusType",null,null,"OccupancyStatusType"]
["UnitType",null,null,"UnitType"]
["SlrDesignatedUnitId",null,null,"SlrDesignatedUnitId"]
["OccupancyStatusType",null,null,"OccupancyStatusType"]
["UnitType",null,null,"UnitType"]
["SlrDesignatedUnitId",null,null,"SlrDesignatedUnitId"]
["OccupancyStatusType",null,null,"OccupancyStatusType"]
["UnitType",null,null,"UnitType"]
["SlrDesignatedUnitId",null,null,"SlrDesignatedUnitId"]
["OccupancyStatusType",null,null,"OccupancyStatusType"]
["UnitType",null,null,"UnitType"]
["SlrDesignatedUnitId",null,null,"SlrDesignatedUnitId"]
["OccupancyStatusType",null,null,"OccupancyStatusType"]
["UnitType",null,null,"UnitType"]
["SlrDesignatedUnitId",null,null,"SlrDesignatedUnitId"]
["OccupancyStatusType",null,null,"OccupancyStatusType"]
["UnitType",null,null,"UnitType"]
["SlrDesignatedUnitId",null,null,"SlrDesignatedUnitId"]
["OccupancyStatusType",null,null,"OccupancyStatusType"]
["UnitType",null,null,"UnitType"]
["SlrDesignatedUnitId",null,null,"SlrDesignatedUnitId"]
["OccupancyStatusType",null,null,"OccupancyStatusType"]
["UnitType",null,null,"UnitType"]
["SlrDesignatedUnitId",null,null,"SlrDesignatedUnitId"]
["OccupancyStatusType",null,null,"OccupancyStatusType"]
["UnitType",null,null,"UnitType"]
["SlrDesignatedUnitId",null,null,"SlrDesignatedUnitId"]
["OccupancyStatusType",null,null,"OccupancyStatusType"]
["UnitType",null,null,"UnitType"]
["SlrDesignatedUnitId",null,null,"SlrDesignatedUnitId"]
["OccupancyStatusType",null,null,"OccupancyStatusType"]
["UnitType",null,null,"UnitType"]
["SlrDesignatedUnitId",null,null,"SlrDesignatedUnitId"]
["OccupancyStatusType",null,null,"OccupancyStatusType"]
["UnitType",null,null,"UnitType"]
["SlrDesignatedUnitId",null,null,"SlrDesignatedUnitId"]
["OccupancyStatusType",null,null,"OccupancyStatusType"]
["UnitType",null,null,"UnitType"]
["SlrDesignatedUnitId",null,null,"SlrDesignatedUnitId"]
["OccupancyStatusType",null,null,"OccupancyStatusType"]
["UnitType",null,null,"UnitType"]
["SlrDesignatedUnitId",null,null,"SlrDesignatedUnitId"]
["OccupancyStatusType",null,null,"OccupancyStatusType"]
["UnitType",null,null,"UnitType"]
["SlrDesignatedUnitId",null,null,"SlrDesignatedUnitId"]
["OccupancyStatusType",null,null,"OccupancyStatusType"]
["UnitType",null,null,"UnitType"]
["SlrDesignatedUnitId",null,null,"SlrDesignatedUnitId"]
["OccupancyStatusType",null,null,"OccupancyStatusType"]
["UnitType",null,null,"UnitType"]
["SlrDesignatedUnitId",null,null,"SlrDesignatedUnitId"]
["OccupancyStatusType",null,null,"OccupancyStatusType"]
["UnitType",null,null,"UnitType"]
["SlrDesignatedUnitId",null,null,"SlrDesignatedUnitId"]
["OccupancyStatusType",null,null,"OccupancyStatusType"]
["UnitType",null,null,"UnitType"]
["SlrDesignatedUnitId",null,null,"SlrDesignatedUnitId"]
["OccupancyStatusType",null,null,"OccupancyStatusType"]
["UnitType",null,null,"UnitType"]
["SlrDesignatedUnitId",null,null,"SlrDesignatedUnitId"]
["OccupancyStatusType",null,null,"OccupancyStatusType"]
["UnitType",null,null,"UnitType"]
["SlrDesignatedUnitId",null,null,"SlrDesignatedUnitId"]
["OccupancyStatusType",null,null,"OccupancyStatusType"]
["UnitType",null,null,"UnitType"]
["SlrDesignatedUnitId",null,null,"SlrDesignatedUnitId"]
["OccupancyStatusType",null,null,"OccupancyStatusType"]
["UnitType",null,null,"UnitType"]
["SlrDesignatedUnitId",null,null,"SlrDesignatedUnitId"]
["OccupancyStatusType",null,null,"OccupancyStatusType"]
["UnitType",null,null,"UnitType"]
["SlrDesignatedUnitId",null,null,"SlrDesignatedUnitId"]
["OccupancyStatusType",null,null,"OccupancyStatusType"]
["UnitType",null,null,"UnitType"]
["SlrDesignatedUnitId",null,null,"SlrDesignatedUnitId"]
["OccupancyStatusType",null,null,"OccupancyStatusType"]
["UnitType",null,null,"UnitType"]
["SlrDesignatedUnitId",null,null,"SlrDesignatedUnitId"]
["OccupancyStatusType",null,null,"OccupancyStatusType"]
["UnitType",null,null,"UnitType"]
["SlrDesignatedUnitId",null,null,"SlrDesignatedUnitId"]
["OccupancyStatusType",null,null,"OccupancyStatusType"]
["UnitType",null,null,"UnitType"]
["SlrDesignatedUnitId",null,null,"SlrDesignatedUnitId"]
["OccupancyStatusType",null,null,"OccupancyStatusType"]
["UnitType",null,null,"UnitType"]
["SlrDesignatedUnitId",null,null,"SlrDesignatedUnitId"]
["OccupancyStatusType",null,null,"OccupancyStatusType"]
["UnitType",null,null,"UnitType"]
["SlrDesignatedUnitId",null,null,"SlrDesignatedUnitId"]
["OccupancyStatusType",null,null,"OccupancyStatusType"]
["UnitType",null,null,"UnitType"]
["SlrDesignatedUnitId",null,null,"SlrDesignatedUnitId"]
["OccupancyStatusType",null,null,"OccupancyStatusType"]
["UnitType",null,null,"UnitType"]
["SlrDesignatedUnitId",null,null,"SlrDesignatedUnitId"]
["OccupancyStatusType",null,null,"OccupancyStatusType"]
["UnitType",null,null,"UnitType"]
["SlrDesignatedUnitId",null,null,"SlrDesignatedUnitId"]
["OccupancyStatusType",null,null,"OccupancyStatusType"]
["UnitType",null,null,"UnitType"]
["SlrDesignatedUnitId",null,null,"SlrDesignatedUnitId"]
["OccupancyStatusType",null,null,"OccupancyStatusType"]
["UnitType",null,null,"UnitType"]
["SlrDesignatedUnitId",null,null,"SlrDesignatedUnitId"]
["OccupancyStatusType",null,null,"OccupancyStatusType"]
["UnitType",null,null,"UnitType"]
["SlrDesignatedUnitId",null,null,"SlrDesignatedUnitId"]
["OccupancyStatusType",null,null,"OccupancyStatusType"]
["UnitType",null,null,"UnitType"]
["SlrDesignatedUnitId",null,null,"SlrDesignatedUnitId"]
["OccupancyStatusType",null,null,"OccupancyStatusType"]
["UnitType",null,null,"UnitType"]
["SlrDesignatedUnitId",null,null,"SlrDesignatedUnitId"]
["OccupancyStatusType",null,null,"OccupancyStatusType"]
["UnitType",null,null,"UnitType"]
["SlrDesignatedUnitId",null,null,"SlrDesignatedUnitId"]
["OccupancyStatusType",null,null,"OccupancyStatusType"]
["UnitType",null,null,"UnitType"]
["SlrDesignatedUnitId",null,null,"SlrDesignatedUnitId"]
["OccupancyStatusType",null,null,"OccupancyStatusType"]
["UnitType",null,null,"UnitType"]
["SlrDesignatedUnitId",null,null,"SlrDesignatedUnitId"]
["OccupancyStatusType",null,null,"OccupancyStatusType"]
["UnitType",null,null,"UnitType"]
["SlrDesignatedUnitId",null,null,"SlrDesignatedUnitId"]
["OccupancyStatusType",null,null,"OccupancyStatusType"]
["UnitType",null,null,"UnitType"]
["SlrDesignatedUnitId",null,null,"SlrDesignatedUnitId"]
["OccupancyStatusType",null,null,"OccupancyStatusType"]
["UnitType",null,null,"UnitType"]
["SlrDesignatedUnitId",null,null,"SlrDesignatedUnitId"]
["OccupancyStatusType",null,null,"OccupancyStatusType"]
["UnitType",null,null,"UnitType"]
["SlrDesignatedUnitId",null,null,"SlrDesignatedUnitId"]
["OccupancyStatusType",null,null,"OccupancyStatusType"]
["UnitType",null,null,"UnitType"]
["SlrDesignatedUnitId",null,null,"SlrDesignatedUnitId"]
["OccupancyStatusType",null,null,"OccupancyStatusType"]
["UnitType",null,null,"UnitType"]
["SlrDesignatedUnitId",null,null,"SlrDesignatedUnitId"]
["OccupancyStatusType",null,null,"OccupancyStatusType"]
["UnitType",null,null,"UnitType"]
["SlrDesignatedUnitId",null,null,"SlrDesignatedUnitId"]
["OccupancyStatusType",null,null,"OccupancyStatusType"]
["UnitType",null,null,"UnitType"]
["SlrDesignatedUnitId",null,null,"SlrDesignatedUnitId"]
["OccupancyStatusType",null,null,"OccupancyStatusType"]
["UnitType",null,null,"UnitType"]
["SlrDesignatedUnitId",null,null,"SlrDesignatedUnitId"]
["OccupancyStatusType",null,null,"OccupancyStatusType"]
["UnitType",null,null,"UnitType"]
["SlrDesignatedUnitId",null,null,"SlrDesignatedUnitId"]
["OccupancyStatusType",null,null,"OccupancyStatusType"]
["UnitType",null,null,"UnitType"]
["SlrDesignatedUnitId",null,null,"SlrDesignatedUnitId"]
["OccupancyStatusType",null,null,"OccupancyStatusType"]
["UnitType",null,null,"UnitType"]
["SlrDesignatedUnitId",null,null,"SlrDesignatedUnitId"]
["OccupancyStatusType",null,null,"OccupancyStatusType"]
["UnitType",null,null,"UnitType"]
["SlrDesignatedUnitId",null,null,"SlrDesignatedUnitId"]
["OccupancyStatusType",null,null,"OccupancyStatusType"]
["UnitType",null,null,"UnitType"]
["SlrDesignatedUnitId",null,null,"SlrDesignatedUnitId"]
["OccupancyStatusType",null,null,"OccupancyStatusType"]
["UnitType",null,null,"UnitType"]
["SlrDesignatedUnitId",null,null,"SlrDesignatedUnitId"]
["OccupancyStatusType",null,null,"OccupancyStatusType"]
["UnitType",null,null,"UnitType"]
["SlrDesignatedUnitId",null,null,"SlrDesignatedUnitId"]
["OccupancyStatusType",null,null,"OccupancyStatusType"]
["UnitType",null,null,"UnitType"]
["SlrDesignatedUnitId",null,null,"SlrDesignatedUnitId"]
["OccupancyStatusType",null,null,"OccupancyStatusType"]
["UnitType",null,null,"UnitType"]
["SlrDesignatedUnitId",null,null,"SlrDesignatedUnitId"]
["OccupancyStatusType",null,null,"OccupancyStatusType"]
["UnitType",null,null,"UnitType"]
["SlrDesignatedUnitId",null,null,"SlrDesignatedUnitId"]
["OccupancyStatusType",null,null,"OccupancyStatusType"]
["UnitType",null,null,"UnitType"]
["SlrDesignatedUnitId",null,null,"SlrDesignatedUnitId"]
["OccupancyStatusType",null,null,"OccupancyStatusType"]
["UnitType",null,null,"UnitType"]
["SlrDesignatedUnitId",null,null,"SlrDesignatedUnitId"]
["OccupancyStatusType",null,null,"OccupancyStatusType"]
["UnitType",null,null,"UnitType"]
["SlrDesignatedUnitId",null,null,"SlrDesignatedUnitId"]
["OccupancyStatusType",null,null,"OccupancyStatusType"]
["UnitType",null,null,"UnitType"]
["SlrDesignatedUnitId",null,null,"SlrDesignatedUnitId"]
["OccupancyStatusType",null,null,"OccupancyStatusType"]
["UnitType",null,null,"UnitType"]
["SlrDesignatedUnitId",null,null,"SlrDesignatedUnitId"]
["OccupancyStatusType",null,null,"OccupancyStatusType"]
["UnitType",null,null,"UnitType"]
["SlrDesignatedUnitId",null,null,"SlrDesignatedUnitId"]
["OccupancyStatusType",null,null,"OccupancyStatusType"]
["UnitType",null,null,"UnitType"]
["SlrDesignatedUnitId",null,null,"SlrDesignatedUnitId"]
["OccupancyStatusType",null,null,"OccupancyStatusType"]
["UnitType",null,null,"UnitType"]
["SlrDesignatedUnitId",null,null,"SlrDesignatedUnitId"]
["OccupancyStatusType",null,null,"OccupancyStatusType"]
["UnitType",null,null,"UnitType"]
["SlrDesignatedUnitId",null,null,"SlrDesignatedUnitId"]
["OccupancyStatusType",null,null,"OccupancyStatusType"]
["UnitType",null,null,"UnitType"]
["SlrDesignatedUnitId",null,null,"SlrDesignatedUnitId"]
["OccupancyStatusType",null,null,"OccupancyStatusType"]
["UnitType",null,null,"UnitType"]
["SlrDesignatedUnitId",null,null,"SlrDesignatedUnitId"]
["OccupancyStatusType",null,null,"OccupancyStatusType"]
["UnitType",null,null,"UnitType"]
["SlrDesignatedUnitId",null,null,"SlrDesignatedUnitId"]
["OccupancyStatusType",null,null,"OccupancyStatusType"]
["UnitType",null,null,"UnitType"]
["SlrDesignatedUnitId",null,null,"SlrDesignatedUnitId"]
["OccupancyStatusType",null,null,"OccupancyStatusType"]
["UnitType",null,null,"UnitType"]
["SlrDesignatedUnitId",null,null,"SlrDesignatedUnitId"]
["OccupancyStatusType",null,null,"OccupancyStatusType"]
["UnitType",null,null,"UnitType"]
["SlrDesignatedUnitId",null,null,"SlrDesignatedUnitId"]
["OccupancyStatusType",null,null,"OccupancyStatusType"]
["UnitType",null,null,"UnitType"]
["SlrDesignatedUnitId",null,null,"SlrDesignatedUnitId"]
["OccupancyStatusType",null,null,"OccupancyStatusType"]
["UnitType",null,null,"UnitType"]
["SlrDesignatedUnitId",null,null,"SlrDesignatedUnitId"]
["OccupancyStatusType",null,null,"OccupancyStatusType"]
["UnitType",null,null,"UnitType"]
["SlrDesignatedUnitId",null,null,"SlrDesignatedUnitId"]
["OccupancyStatusType",null,null,"OccupancyStatusType"]
["UnitType",null,null,"UnitType"]
["SlrDesignatedUnitId",null,null,"SlrDesignatedUnitId"]
["OccupancyStatusType",null,null,"OccupancyStatusType"]
["UnitType",null,null,"UnitType"]
["SlrDesignatedUnitId",null,null,"SlrDesignatedUnitId"]
["OccupancyStatusType",null,null,"OccupancyStatusType"]
["UnitType",null,null,"UnitType"]
["SlrDesignatedUnitId",null,null,"SlrDesignatedUnitId"]
["OccupancyStatusType",null,null,"OccupancyStatusType"]
["UnitType",null,null,"UnitType"]
["SlrDesignatedUnitId",null,null,"SlrDesignatedUnitId"]
["OccupancyStatusType",null,null,"OccupancyStatusType"]
["UnitType",null,null,"UnitType"]
["SlrDesignatedUnitId",null,null,"SlrDesignatedUnitId"]
["OccupancyStatusType",null,null,"OccupancyStatusType"]
["UnitType",null,null,"UnitType"]
["SlrDesignatedUnitId",null,null,"SlrDesignatedUnitId"]
["OccupancyStatusType",null,null,"OccupancyStatusType"]
["UnitType",null,null,"UnitType"]
["SlrDesignatedUnitId",null,null,"SlrDesignatedUnitId"]
["OccupancyStatusType",null,null,"OccupancyStatusType"]
["UnitType",null,null,"UnitType"]
["SlrDesignatedUnitId",null,null,"SlrDesignatedUnitId"]
["OccupancyStatusType",null,null,"OccupancyStatusType"]
["UnitType",null,null,"UnitType"]
["SlrDesignatedUnitId",null,null,"SlrDesignatedUnitId"]
["OccupancyStatusType",null,null,"OccupancyStatusType"]
["UnitType",null,null,"UnitType"]
["SlrDesignatedUnitId",null,null,"SlrDesignatedUnitId"]
["OccupancyStatusType",null,null,"OccupancyStatusType"]
["UnitType",null,null,"UnitType"]
["SlrDesignatedUnitId",null,null,"SlrDesignatedUnitId"]
["OccupancyStatusType",null,null,"OccupancyStatusType"]
["UnitType",null,null,"UnitType"]
["SlrDesignatedUnitId",null,null,"SlrDesignatedUnitId"]
["OccupancyStatusType",null,null,"OccupancyStatusType"]
["UnitType",null,null,"UnitType"]
["SlrDesignatedUnitId",null,null,"SlrDesignatedUnitId"]
["OccupancyStatusType",null,null,"OccupancyStatusType"]
["UnitType",null,null,"UnitType"]
["SlrDesignatedUnitId",null,null,"SlrDesignatedUnitId"]
["OccupancyStatusType",null,null,"OccupancyStatusType"]
["UnitType",null,null,"UnitType"]
["SlrDesignatedUnitId",null,null,"SlrDesignatedUnitId"]
["OccupancyStatusType",null,null,"OccupancyStatusType"]
["UnitType",null,null,"UnitType"]
["SlrDesignatedUnitId",null,null,"SlrDesignatedUnitId"]
["OccupancyStatusType",null,null,"OccupancyStatusType"]
["UnitType",null,null,"UnitType"]
["SlrDesignatedUnitId",null,null,"SlrDesignatedUnitId"]
["OccupancyStatusType",null,null,"OccupancyStatusType"]
["UnitType",null,null,"UnitType"]
["SlrDesignatedUnitId",null,null,"SlrDesignatedUnitId"]
["OccupancyStatusType",null,null,"OccupancyStatusType"]
["UnitType",null,null,"UnitType"]
["SlrDesignatedUnitId",null,null,"SlrDesignatedUnitId"]
["OccupancyStatusType",null,null,"OccupancyStatusType"]
["UnitType",null,null,"UnitType"]
["SlrDesignatedUnitId",null,null,"SlrDesignatedUnitId"]
["OccupancyStatusType",null,null,"OccupancyStatusType"]
["UnitType",null,null,"UnitType"]
["SlrDesignatedUnitId",null,null,"SlrDesignatedUnitId"]
["OccupancyStatusType",null,null,"OccupancyStatusType"]
["UnitType",null,null,"UnitType"]
["SlrDesignatedUnitId",null,null,"SlrDesignatedUnitId"]
["OccupancyStatusType",null,null,"OccupancyStatusType"]
["UnitType",null,null,"UnitType"]
["SlrDesignatedUnitId",null,null,"SlrDesignatedUnitId"]
["OccupancyStatusType",null,null,"OccupancyStatusType"]
["UnitType",null,null,"UnitType"]
["SlrDesignatedUnitId",null,null,"SlrDesignatedUnitId"]
["OccupancyStatusType",null,null,"OccupancyStatusType"]
["UnitType",null,null,"UnitType"]
["SlrDesignatedUnitId",null,null,"SlrDesignatedUnitId"]
["OccupancyStatusType",null,null,"OccupancyStatusType"]
["UnitType",null,null,"UnitType"]
["SlrDesignatedUnitId",null,null,"SlrDesignatedUnitId"]
["OccupancyStatusType",null,null,"OccupancyStatusType"]
["UnitType",null,null,"UnitType"]
["SlrDesignatedUnitId",null,null,"SlrDesignatedUnitId"]
["OccupancyStatusType",null,null,"OccupancyStatusType"]
["UnitType",null,null,"UnitType"]
["SlrDesignatedUnitId",null,null,"SlrDesignatedUnitId"]
["OccupancyStatusType",null,null,"OccupancyStatusType"]
["UnitType",null,null,"UnitType"]
["SlrDesignatedUnitId",null,null,"SlrDesignatedUnitId"]
["OccupancyStatusType",null,null,"OccupancyStatusType"]
["UnitType",null,null,"UnitType"]
["SlrDesignatedUnitId",null,null,"SlrDesignatedUnitId"]
["OccupancyStatusType",null,null,"OccupancyStatusType"]
["UnitType",null,null,"UnitType"]
["SlrDesignatedUnitId",null,null,"SlrDesignatedUnitId"]
["OccupancyStatusType",null,null,"OccupancyStatusType"]
["UnitType",null,null,"UnitType"]
["SlrDesignatedUnitId",null,null,"SlrDesignatedUnitId"]
["OccupancyStatusType",null,null,"OccupancyStatusType"]
["UnitType",null,null,"UnitType"]
["SlrDesignatedUnitId",null,null,"SlrDesignatedUnitId"]
["OccupancyStatusType",null,null,"OccupancyStatusType"]
["UnitType",null,null,"UnitType"]
["SlrDesignatedUnitId",null,null,"SlrDesignatedUnitId"]
["OccupancyStatusType",null,null,"OccupancyStatusType"]
["UnitType",null,null,"UnitType"]
["SlrDesignatedUnitId",null,null,"SlrDesignatedUnitId"]
["OccupancyStatusType",null,null,"OccupancyStatusType"]
["UnitType",null,null,"UnitType"]
["SlrDesignatedUnitId",null,null,"SlrDesignatedUnitId"]
["OccupancyStatusType",null,null,"OccupancyStatusType"]
["UnitType",null,null,"UnitType"]
["SlrDesignatedUnitId",null,null,"SlrDesignatedUnitId"]
["OccupancyStatusType",null,null,"OccupancyStatusType"]
["UnitType",null,null,"UnitType"]
["SlrDesignatedUnitId",null,null,"SlrDesignatedUnitId"]
["OccupancyStatusType",null,null,"OccupancyStatusType"]
["UnitType",null,null,"UnitType"]
["SlrDesignatedUnitId",null,null,"SlrDesignatedUnitId"]
["OccupancyStatusType",null,null,"OccupancyStatusType"]
["UnitType",null,null,"UnitType"]
["SlrDesignatedUnitId",null,null,"SlrDesignatedUnitId"]
["OccupancyStatusType",null,null,"OccupancyStatusType"]
["UnitType",null,null,"UnitType"]
["SlrDesignatedUnitId",null,null,"SlrDesignatedUnitId"]
["OccupancyStatusType",null,null,"OccupancyStatusType"]
["UnitType",null,null,"UnitType"]
["SlrDesignatedUnitId",null,null,"SlrDesignatedUnitId"]
["OccupancyStatusType",null,null,"OccupancyStatusType"]
["UnitType",null,null,"UnitType"]
["SlrDesignatedUnitId",null,null,"SlrDesignatedUnitId"]
["OccupancyStatusType",null,null,"OccupancyStatusType"]
["UnitType",null,null,"UnitType"]
["SlrDesignatedUnitId",null,null,"SlrDesignatedUnitId"]
["OccupancyStatusType",null,null,"OccupancyStatusType"]
["UnitType",null,null,"UnitType"]
["SlrDesignatedUnitId",null,null,"SlrDesignatedUnitId"]
["OccupancyStatusType",null,null,"OccupancyStatusType"]
["UnitType",null,null,"UnitType"]
["SlrDesignatedUnitId",null,null,"SlrDesignatedUnitId"]
["OccupancyStatusType",null,null,"OccupancyStatusType"]
["UnitType",null,null,"UnitType"]
["SlrDesignatedUnitId",null,null,"SlrDesignatedUnitId"]
["OccupancyStatusType",null,null,"OccupancyStatusType"]
["UnitType",null,null,"UnitType"]
["SlrDesignatedUnitId",null,null,"SlrDesignatedUnitId"]
["OccupancyStatusType",null,null,"OccupancyStatusType"]
["UnitType",null,null,"UnitType"]
["SlrDesignatedUnitId",null,null,"SlrDesignatedUnitId"]
["OccupancyStatusType",null,null,"OccupancyStatusType"]
["UnitType",null,null,"UnitType"]
["SlrDesignatedUnitId",null,null,"SlrDesignatedUnitId"]
["OccupancyStatusType",null,null,"OccupancyStatusType"]
["UnitType",null,null,"UnitType"]
["SlrDesignatedUnitId",null,null,"SlrDesignatedUnitId"]
["OccupancyStatusType",null,null,"OccupancyStatusType"]
["UnitType",null,null,"UnitType"]
["SlrDesignatedUnitId",null,null,"SlrDesignatedUnitId"]
["OccupancyStatusType",null,null,"OccupancyStatusType"]
["UnitType",null,null,"UnitType"]
["SlrDesignatedUnitId",null,null,"SlrDesignatedUnitId"]
["OccupancyStatusType",null,null,"OccupancyStatusType"]
["UnitType",null,null,"UnitType"]
["SlrDesignatedUnitId",null,null,"SlrDesignatedUnitId"]
["OccupancyStatusType",null,null,"OccupancyStatusType"]
["UnitType",null,null,"UnitType"]
["SlrDesignatedUnitId",null,null,"SlrDesignatedUnitId"]
["OccupancyStatusType",null,null,"OccupancyStatusType"]
["UnitType",null,null,"UnitType"]
["SlrDesignatedUnitId",null,null,"SlrDesignatedUnitId"]
["OccupancyStatusType",null,null,"OccupancyStatusType"]
["UnitType",null,null,"UnitType"]
["SlrDesignatedUnitId",null,null,"SlrDesignatedUnitId"]
["OccupancyStatusType",null,null,"OccupancyStatusType"]
["UnitType",null,null,"UnitType"]
["SlrDesignatedUnitId",null,null,"SlrDesignatedUnitId"]
["OccupancyStatusType",null,null,"OccupancyStatusType"]
["UnitType",null,null,"UnitType"]
["SlrDesignatedUnitId",null,null,"SlrDesignatedUnitId"]
["OccupancyStatusType",null,null,"OccupancyStatusType"]
["UnitType",null,null,"UnitType"]
["SlrDesignatedUnitId",null,null,"SlrDesignatedUnitId"]
["OccupancyStatusType",null,null,"OccupancyStatusType"]
["UnitType",null,null,"UnitType"]
["SlrDesignatedUnitId",null,null,"SlrDesignatedUnitId"]
["OccupancyStatusType",null,null,"OccupancyStatusType"]
["UnitType",null,null,"UnitType"]
["SlrDesignatedUnitId",null,null,"SlrDesignatedUnitId"]
["OccupancyStatusType",null,null,"OccupancyStatusType"]
["UnitType",null,null,"UnitType"]
["SlrDesignatedUnitId",null,null,"SlrDesignatedUnitId"]
["OccupancyStatusType",null,null,"OccupancyStatusType"]
["UnitType",null,null,"UnitType"]
["SlrDesignatedUnitId",null,null,"SlrDesignatedUnitId"]
["OccupancyStatusType",null,null,"OccupancyStatusType"]
["UnitType",null,null,"UnitType"]
["SlrDesignatedUnitId",null,null,"SlrDesignatedUnitId"]
["OccupancyStatusType",null,null,"OccupancyStatusType"]
["UnitType",null,null,"UnitType"]
["SlrDesignatedUnitId",null,null,"SlrDesignatedUnitId"]
["OccupancyStatusType",null,null,"OccupancyStatusType"]
["UnitType",null,null,"UnitType"]
["SlrDesignatedUnitId",null,null,"SlrDesignatedUnitId"]
["OccupancyStatusType",null,null,"OccupancyStatusType"]
["UnitType",null,null,"UnitType"]
["SlrDesignatedUnitId",null,null,"SlrDesignatedUnitId"]
["OccupancyStatusType",null,null,"OccupancyStatusType"]
["UnitType",null,null,"UnitType"]
["SlrDesignatedUnitId",null,null,"SlrDesignatedUnitId"]
["OccupancyStatusType",null,null,"OccupancyStatusType"]
["UnitType",null,null,"UnitType"]
["SlrDesignatedUnitId",null,null,"SlrDesignatedUnitId"]
["OccupancyStatusType",null,null,"OccupancyStatusType"]
["UnitType",null,null,"UnitType"]
["SlrDesignatedUnitId",null,null,"SlrDesignatedUnitId"]
["OccupancyStatusType",null,null,"OccupancyStatusType"]
["UnitType",null,null,"UnitType"]
["SlrDesignatedUnitId",null,null,"SlrDesignatedUnitId"]
["OccupancyStatusType",null,null,"OccupancyStatusType"]
["UnitType",null,null,"UnitType"]
["SlrDesignatedUnitId",null,null,"SlrDesignatedUnitId"]
["OccupancyStatusType",null,null,"OccupancyStatusType"]
["UnitType",null,null,"UnitType"]
["SlrDesignatedUnitId",null,null,"SlrDesignatedUnitId"]
["OccupancyStatusType",null,null,"OccupancyStatusType"]
["UnitType",null,null,"UnitType"]
["SlrDesignatedUnitId",null,null,"SlrDesignatedUnitId"]
["OccupancyStatusType",null,null,"OccupancyStatusType"]
["UnitType",null,null,"UnitType"]
["SlrDesignatedUnitId",null,null,"SlrDesignatedUnitId"]
["OccupancyStatusType",null,null,"OccupancyStatusType"]
["UnitType",null,null,"UnitType"]
["SlrDesignatedUnitId",null,null,"SlrDesignatedUnitId"]
["OccupancyStatusType",null,null,"OccupancyStatusType"]
["UnitType",null,null,"UnitType"]
["SlrDesignatedUnitId",null,null,"SlrDesignatedUnitId"]
["OccupancyStatusType",null,null,"OccupancyStatusType"]
["UnitType",null,null,"UnitType"]
["SlrDesignatedUnitId",null,null,"SlrDesignatedUnitId"]
["OccupancyStatusType",null,null,"OccupancyStatusType"]
["UnitType",null,null,"UnitType"]
["SlrDesignatedUnitId",null,null,"SlrDesignatedUnitId"]
["OccupancyStatusType",null,null,"OccupancyStatusType"]
["UnitType",null,null,"UnitType"]
["SlrDesignatedUnitId",null,null,"SlrDesignatedUnitId"]
["OccupancyStatusType",null,null,"OccupancyStatusType"]
["UnitType",null,null,"UnitType"]
["SlrDesignatedUnitId",null,null,"SlrDesignatedUnitId"]
["OccupancyStatusType",null,null,"OccupancyStatusType"]
["UnitType",null,null,"UnitType"]
["SlrDesignatedUnitId",null,null,"SlrDesignatedUnitId"]
["OccupancyStatusType",null,null,"OccupancyStatusType"]
["UnitType",null,null,"UnitType"]
["SlrDesignatedUnitId",null,null,"SlrDesignatedUnitId"]
["OccupancyStatusType",null,null,"OccupancyStatusType"]
["UnitType",null,null,"UnitType"]
["SlrDesignatedUnitId",null,null,"SlrDesignatedUnitId"]
["OccupancyStatusType",null,null,"OccupancyStatusType"]
["UnitType",null,null,"UnitType"]
["SlrDesignatedUnitId",null,null,"SlrDesignatedUnitId"]
["OccupancyStatusType",null,null,"OccupancyStatusType"]
["UnitType",null,null,"UnitType"]
["SlrDesignatedUnitId",null,null,"SlrDesignatedUnitId"]
["OccupancyStatusType",null,null,"OccupancyStatusType"]
["UnitType",null,null,"UnitType"]
["SlrDesignatedUnitId",null,null,"SlrDesignatedUnitId"]
["OccupancyStatusType",null,null,"OccupancyStatusType"]
["UnitType",null,null,"UnitType"]
["SlrDesignatedUnitId",null,null,"SlrDesignatedUnitId"]
["OccupancyStatusType",null,null,"OccupancyStatusType"]
["UnitType",null,null,"UnitType"]
["SlrDesignatedUnitId",null,null,"SlrDesignatedUnitId"]
["OccupancyStatusType",null,null,"OccupancyStatusType"]
["UnitType",null,null,"UnitType"]
["SlrDesignatedUnitId",null,null,"SlrDesignatedUnitId"]
["OccupancyStatusType",null,null,"OccupancyStatusType"]
["UnitType",null,null,"UnitType"]
["SlrDesignatedUnitId",null,null,"SlrDesignatedUnitId"]
["OccupancyStatusType",null,null,"OccupancyStatusType"]
["UnitType",null,null,"UnitType"]
["SlrDesignatedUnitId",null,null,"SlrDesignatedUnitId"]
["OccupancyStatusType",null,null,"OccupancyStatusType"]
["UnitType",null,null,"UnitType"]
["SlrDesignatedUnitId",null,null,"SlrDesignatedUnitId"]
["OccupancyStatusType",null,null,"OccupancyStatusType"]
["UnitType",null,null,"UnitType"]
["SlrDesignatedUnitId",null,null,"SlrDesignatedUnitId"]
["OccupancyStatusType",null,null,"OccupancyStatusType"]
["UnitType",null,null,"UnitType"]
["SlrDesignatedUnitId",null,null,"SlrDesignatedUnitId"]
["OccupancyStatusType",null,null,"OccupancyStatusType"]
["UnitType",null,null,"UnitType"]
["SlrDesignatedUnitId",null,null,"SlrDesignatedUnitId"]
["OccupancyStatusType",null,null,"OccupancyStatusType"]
["UnitType",null,null,"UnitType"]
["SlrDesignatedUnitId",null,null,"SlrDesignatedUnitId"]
["OccupancyStatusType",null,null,"OccupancyStatusType"]
["UnitType",null,null,"UnitType"]
["SlrDesignatedUnitId",null,null,"SlrDesignatedUnitId"]
["OccupancyStatusType",null,null,"OccupancyStatusType"]
["UnitType",null,null,"UnitType"]
["SlrDesignatedUnitId",null,null,"SlrDesignatedUnitId"]
["OccupancyStatusType",null,null,"OccupancyStatusType"]
["UnitType",null,null,"UnitType"]
["SlrDesignatedUnitId",null,null,"SlrDesignatedUnitId"]
["OccupancyStatusType",null,null,"OccupancyStatusType"]
["UnitType",null,null,"UnitType"]
["SlrDesignatedUnitId",null,null,"SlrDesignatedUnitId"]
["OccupancyStatusType",null,null,"OccupancyStatusType"]
["UnitType",null,null,"UnitType"]
["SlrDesignatedUnitId",null,null,"SlrDesignatedUnitId"]
["OccupancyStatusType",null,null,"OccupancyStatusType"]
["UnitType",null,null,"UnitType"]
["SlrDesignatedUnitId",null,null,"SlrDesignatedUnitId"]
["OccupancyStatusType",null,null,"OccupancyStatusType"]
["UnitType",null,null,"UnitType"]
["SlrDesignatedUnitId",null,null,"SlrDesignatedUnitId"]
["OccupancyStatusType",null,null,"OccupancyStatusType"]
["UnitType",null,null,"UnitType"]
["SlrDesignatedUnitId",null,null,"SlrDesignatedUnitId"]
["OccupancyStatusType",null,null,"OccupancyStatusType"]
["UnitType",null,null,"UnitType"]
["SlrDesignatedUnitId",null,null,"SlrDesignatedUnitId"]
["OccupancyStatusType",null,null,"OccupancyStatusType"]
["UnitType",null,null,"UnitType"]
["SlrDesignatedUnitId",null,null,"SlrDesignatedUnitId"]
["OccupancyStatusType",null,null,"OccupancyStatusType"]
["UnitType",null,null,"UnitType"]
["SlrDesignatedUnitId",null,null,"SlrDesignatedUnitId"]
["OccupancyStatusType",null,null,"OccupancyStatusType"]
["UnitType",null,null,"UnitType"]
["SlrDesignatedUnitId",null,null,"SlrDesignatedUnitId"]
["OccupancyStatusType",null,null,"OccupancyStatusType"]
["UnitType",null,null,"UnitType"]
["SlrDesignatedUnitId",null,null,"SlrDesignatedUnitId"]
["OccupancyStatusType",null,null,"OccupancyStatusType"]
["UnitType",null,null,"UnitType"]
["SlrDesignatedUnitId",null,null,"SlrDesignatedUnitId"]
["OccupancyStatusType",null,null,"OccupancyStatusType"]
["UnitType",null,null,"UnitType"]
["SlrDesignatedUnitId",null,null,"SlrDesignatedUnitId"]
["OccupancyStatusType",null,null,"OccupancyStatusType"]
["UnitType",null,null,"UnitType"]
["SlrDesignatedUnitId",null,null,"SlrDesignatedUnitId"]
["OccupancyStatusType",null,null,"OccupancyStatusType"]
["UnitType",null,null,"UnitType"]
["SlrDesignatedUnitId",null,null,"SlrDesignatedUnitId"]
["OccupancyStatusType",null,null,"OccupancyStatusType"]
["UnitType",null,null,"UnitType"]
["SlrDesignatedUnitId",null,null,"SlrDesignatedUnitId"]
["OccupancyStatusType",null,null,"OccupancyStatusType"]
["UnitType",null,null,"UnitType"]
["SlrDesignatedUnitId",null,null,"SlrDesignatedUnitId"]
["OccupancyStatusType",null,null,"OccupancyStatusType"]
["UnitType",null,null,"UnitType"]
["SlrDesignatedUnitId",null,null,"SlrDesignatedUnitId"]
["OccupancyStatusType",null,null,"OccupancyStatusType"]
["UnitType",null,null,"UnitType"]
["SlrDesignatedUnitId",null,null,"SlrDesignatedUnitId"]
["OccupancyStatusType",null,null,"OccupancyStatusType"]
["UnitType",null,null,"UnitType"]
["SlrDesignatedUnitId",null,null,"SlrDesignatedUnitId"]
["OccupancyStatusType",null,null,"OccupancyStatusType"]
["UnitType",null,null,"UnitType"]
["SlrDesignatedUnitId",null,null,"SlrDesignatedUnitId"]
["OccupancyStatusType",null,null,"OccupancyStatusType"]
["UnitType",null,null,"UnitType"]
["SlrDesignatedUnitId",null,null,"SlrDesignatedUnitId"]
["OccupancyStatusType",null,null,"OccupancyStatusType"]
["UnitType",null,null,"UnitType"]
["SlrDesignatedUnitId",null,null,"SlrDesignatedUnitId"]
["OccupancyStatusType",null,null,"OccupancyStatusType"]
["UnitType",null,null,"UnitType"]
["SlrDesignatedUnitId",null,null,"SlrDesignatedUnitId"]
["OccupancyStatusType",null,null,"OccupancyStatusType"]
["UnitType",null,null,"UnitType"]
["SlrDesignatedUnitId",null,null,"SlrDesignatedUnitId"]
["OccupancyStatusType",null,null,"OccupancyStatusType"]
["UnitType",null,null,"UnitType"]
["SlrDesignatedUnitId",null,null,"SlrDesignatedUnitId"]
["OccupancyStatusType",null,null,"OccupancyStatusType"]
["UnitType",null,null,"UnitType"]
["SlrDesignatedUnitId",null,null,"SlrDesignatedUnitId"]
["OccupancyStatusType",null,null,"OccupancyStatusType"]
["UnitType",null,null,"UnitType"]
["SlrDesignatedUnitId",null,null,"SlrDesignatedUnitId"]
["OccupancyStatusType",null,null,"OccupancyStatusType"]
["UnitType",null,null,"UnitType"]
["SlrDesignatedUnitId",null,null,"SlrDesignatedUnitId"]
["OccupancyStatusType",null,null,"OccupancyStatusType"]
["UnitType",null,null,"UnitType"]
["SlrDesignatedUnitId",null,null,"SlrDesignatedUnitId"]
["OccupancyStatusType",null,null,"OccupancyStatusType"]
["UnitType",null,null,"UnitType"]
["SlrDesignatedUnitId",null,null,"SlrDesignatedUnitId"]
["OccupancyStatusType",null,null,"OccupancyStatusType"]
["UnitType",null,null,"UnitType"]
["SlrDesignatedUnitId",null,null,"SlrDesignatedUnitId"]
["OccupancyStatusType",null,null,"OccupancyStatusType"]
["UnitType",null,null,"UnitType"]
["SlrDesignatedUnitId",null,null,"SlrDesignatedUnitId"]
["OccupancyStatusType",null,null,"OccupancyStatusType"]
["UnitType",null,null,"UnitType"]
["SlrDesignatedUnitId",null,null,"SlrDesignatedUnitId"]
["OccupancyStatusType",null,null,"OccupancyStatusType"]
["UnitType",null,null,"UnitType"]
["SlrDesignatedUnitId",null,null,"SlrDesignatedUnitId"]
["OccupancyStatusType",null,null,"OccupancyStatusType"]
["UnitType",null,null,"UnitType"]
["SlrDesignatedUnitId",null,null,"SlrDesignatedUnitId"]
["OccupancyStatusType",null,null,"OccupancyStatusType"]
["UnitType",null,null,"UnitType"]
["SlrDesignatedUnitId",null,null,"SlrDesignatedUnitId"]
["OccupancyStatusType",null,null,"OccupancyStatusType"]
["UnitType",null,null,"UnitType"]
["SlrDesignatedUnitId",null,null,"SlrDesignatedUnitId"]
["OccupancyStatusType",null,null,"OccupancyStatusType"]
["UnitType",null,null,"UnitType"]
["SlrDesignatedUnitId",null,null,"SlrDesignatedUnitId"]
["OccupancyStatusType",null,null,"OccupancyStatusType"]
["UnitType",null,null,"UnitType"]
["SlrDesignatedUnitId",null,null,"SlrDesignatedUnitId"]
["OccupancyStatusType",null,null,"OccupancyStatusType"]
["UnitType",null,null,"UnitType"]
["SlrDesignatedUnitId",null,null,"SlrDesignatedUnitId"]
["OccupancyStatusType",null,null,"OccupancyStatusType"]
["UnitType",null,null,"UnitType"]
["SlrDesignatedUnitId",null,null,"SlrDesignatedUnitId"]
["OccupancyStatusType",null,null,"OccupancyStatusType"]
["UnitType",null,null,"UnitType"]
["SlrDesignatedUnitId",null,null,"SlrDesignatedUnitId"]
["OccupancyStatusType",null,null,"OccupancyStatusType"]
["UnitType",null,null,"UnitType"]
["SlrDesignatedUnitId",null,null,"SlrDesignatedUnitId"]
["OccupancyStatusType",null,null,"OccupancyStatusType"]
["UnitType",null,null,"UnitType"]
["SlrDesignatedUnitId",null,null,"SlrDesignatedUnitId"]
["OccupancyStatusType",null,null,"OccupancyStatusType"]
["UnitType",null,null,"UnitType"]
["SlrDesignatedUnitId",null,null,"SlrDesignatedUnitId"]
["OccupancyStatusType",null,null,"OccupancyStatusType"]
["UnitType",null,null,"UnitType"]
["SlrDesignatedUnitId",null,null,"SlrDesignatedUnitId"]
["OccupancyStatusType",null,null,"OccupancyStatusType"]
["UnitType",null,null,"UnitType"]
["SlrDesignatedUnitId",null,null,"SlrDesignatedUnitId"]
["OccupancyStatusType",null,null,"OccupancyStatusType"]
["UnitType",null,null,"UnitType"]
["SlrDesignatedUnitId",null,null,"SlrDesignatedUnitId"]
["OccupancyStatusType",null,null,"OccupancyStatusType"]
["UnitType",null,null,"UnitType"]
["SlrDesignatedUnitId",null,null,"SlrDesignatedUnitId"]
["OccupancyStatusType",null,null,"OccupancyStatusType"]
["UnitType",null,null,"UnitType"]
["SlrDesignatedUnitId",null,null,"SlrDesignatedUnitId"]
["OccupancyStatusType",null,null,"OccupancyStatusType"]
["UnitType",null,null,"UnitType"]
["SlrDesignatedUnitId",null,null,"SlrDesignatedUnitId"]
["OccupancyStatusType",null,null,"OccupancyStatusType"]
["UnitType",null,null,"UnitType"]
["SlrDesignatedUnitId",null,null,"SlrDesignatedUnitId"]
["OccupancyStatusType",null,null,"OccupancyStatusType"]
["UnitType",null,null,"UnitType"]
["SlrDesignatedUnitId",null,null,"SlrDesignatedUnitId"]
["OccupancyStatusType",null,null,"OccupancyStatusType"]
["UnitType",null,null,"UnitType"]
["SlrDesignatedUnitId",null,null,"SlrDesignatedUnitId"]
["OccupancyStatusType",null,null,"OccupancyStatusType"]
["UnitType",null,null,"UnitType"]
["SlrDesignatedUnitId",null,null,"SlrDesignatedUnitId"]
["OccupancyStatusType",null,null,"OccupancyStatusType"]
["UnitType",null,null,"UnitType"]
["SlrDesignatedUnitId",null,null,"SlrDesignatedUnitId"]
["OccupancyStatusType",null,null,"OccupancyStatusType"]
["UnitType",null,null,"UnitType"]
["SlrDesignatedUnitId",null,null,"SlrDesignatedUnitId"]
["OccupancyStatusType",null,null,"OccupancyStatusType"]
["UnitType",null,null,"UnitType"]
["SlrDesignatedUnitId",null,null,"SlrDesignatedUnitId"]
["OccupancyStatusType",null,null,"OccupancyStatusType"]
["UnitType",null,null,"UnitType"]
["SlrDesignatedUnitId",null,null,"SlrDesignatedUnitId"]
["OccupancyStatusType",null,null,"OccupancyStatusType"]
["UnitType",null,null,"UnitType"]
["SlrDesignatedUnitId",null,null,"SlrDesignatedUnitId"]
["OccupancyStatusType",null,null,"OccupancyStatusType"]
["UnitType",null,null,"UnitType"]
["SlrDesignatedUnitId",null,null,"SlrDesignatedUnitId"]
["OccupancyStatusType",null,null,"OccupancyStatusType"]
["UnitType",null,null,"UnitType"]
["SlrDesignatedUnitId",null,null,"SlrDesignatedUnitId"]
["OccupancyStatusType",null,null,"OccupancyStatusType"]
["UnitType",null,null,"UnitType"]
["SlrDesignatedUnitId",null,null,"SlrDesignatedUnitId"]
["OccupancyStatusType",null,null,"OccupancyStatusType"]
["UnitType",null,null,"UnitType"]
["SlrDesignatedUnitId",null,null,"SlrDesignatedUnitId"]
["OccupancyStatusType",null,null,"OccupancyStatusType"]
["UnitType",null,null,"UnitType"]
["SlrDesignatedUnitId",null,null,"SlrDesignatedUnitId"]
["OccupancyStatusType",null,null,"OccupancyStatusType"]
["UnitType",null,null,"UnitType"]
["SlrDesignatedUnitId",null,null,"SlrDesignatedUnitId"]
["OccupancyStatusType",null,null,"OccupancyStatusType"]
["UnitType",null,null,"UnitType"]
["SlrDesignatedUnitId",null,null,"SlrDesignatedUnitId"]
["OccupancyStatusType",null,null,"OccupancyStatusType"]
["UnitType",null,null,"UnitType"]
["SlrDesignatedUnitId",null,null,"SlrDesignatedUnitId"]
["OccupancyStatusType",null,null,"OccupancyStatusType"]
["UnitType",null,null,"UnitType"]
["SlrDesignatedUnitId",null,null,"SlrDesignatedUnitId"]
["OccupancyStatusType",null,null,"OccupancyStatusType"]
["UnitType",null,null,"UnitType"]
["SlrDesignatedUnitId",null,null,"SlrDesignatedUnitId"]
["OccupancyStatusType",null,null,"OccupancyStatusType"]
["UnitType",null,null,"UnitType"]
["SlrDesignatedUnitId",null,null,"SlrDesignatedUnitId"]
["OccupancyStatusType",null,null,"OccupancyStatusType"]
["UnitType",null,null,"UnitType"]
["SlrDesignatedUnitId",null,null,"SlrDesignatedUnitId"]
["OccupancyStatusType",null,null,"OccupancyStatusType"]
["UnitType",null,null,"UnitType"]
["SlrDesignatedUnitId",null,null,"SlrDesignatedUnitId"]
["OccupancyStatusType",null,null,"OccupancyStatusType"]
["UnitType",null,null,"UnitType"]
["SlrDesignatedUnitId",null,null,"SlrDesignatedUnitId"]
["OccupancyStatusType",null,null,"OccupancyStatusType"]
["UnitType",null,null,"UnitType"]
["SlrDesignatedUnitId",null,null,"SlrDesignatedUnitId"]
["OccupancyStatusType",null,null,"OccupancyStatusType"]
["UnitType",null,null,"UnitType"]
["SlrDesignatedUnitId",null,null,"SlrDesignatedUnitId"]
["OccupancyStatusType",null,null,"OccupancyStatusType"]
["UnitType",null,null,"UnitType"]
["SlrDesignatedUnitId",null,null,"SlrDesignatedUnitId"]
["OccupancyStatusType",null,null,"OccupancyStatusType"]
["UnitType",null,null,"UnitType"]
["SlrDesignatedUnitId",null,null,"SlrDesignatedUnitId"]
["OccupancyStatusType",null,null,"OccupancyStatusType"]
["UnitType",null,null,"UnitType"]
["SlrDesignatedUnitId",null,null,"SlrDesignatedUnitId"]
["OccupancyStatusType",null,null,"OccupancyStatusType"]
["UnitType",null,null,"UnitType"]
["SlrDesignatedUnitId",null,null,"SlrDesignatedUnitId"]
["OccupancyStatusType",null,null,"OccupancyStatusType"]
["UnitType",null,null,"UnitType"]
["SlrDesignatedUnitId",null,null,"SlrDesignatedUnitId"]
["OccupancyStatusType",null,null,"OccupancyStatusType"]
["UnitType",null,null,"UnitType"]
["SlrDesignatedUnitId",null,null,"SlrDesignatedUnitId"]
["OccupancyStatusType",null,null,"OccupancyStatusType"]
["UnitType",null,null,"UnitType"]
["SlrDesignatedUnitId",null,null,"SlrDesignatedUnitId"]
["OccupancyStatusType",null,null,"OccupancyStatusType"]
["UnitType",null,null,"UnitType"]
["SlrDesignatedUnitId",null,null,"SlrDesignatedUnitId"]
["OccupancyStatusType",null,null,"OccupancyStatusType"]
["UnitType",null,null,"UnitType"]
["SlrDesignatedUnitId",null,null,"SlrDesignatedUnitId"]
["OccupancyStatusType",null,null,"OccupancyStatusType"]
["UnitType",null,null,"UnitType"]
["SlrDesignatedUnitId",null,null,"SlrDesignatedUnitId"]
["OccupancyStatusType",null,null,"OccupancyStatusType"]
["UnitType",null,null,"UnitType"]
["SlrDesignatedUnitId",null,null,"SlrDesignatedUnitId"]
["OccupancyStatusType",null,null,"OccupancyStatusType"]
["UnitType",null,null,"UnitType"]
["SlrDesignatedUnitId",null,null,"SlrDesignatedUnitId"]
["OccupancyStatusType",null,null,"OccupancyStatusType"]
["UnitType",null,null,"UnitType"]
["SlrDesignatedUnitId",null,null,"SlrDesignatedUnitId"]
["OccupancyStatusType",null,null,"OccupancyStatusType"]
["UnitType",null,null,"UnitType"]
["SlrDesignatedUnitId",null,null,"SlrDesignatedUnitId"]
["OccupancyStatusType",null,null,"OccupancyStatusType"]
["UnitType",null,null,"UnitType"]
["SlrDesignatedUnitId",null,null,"SlrDesignatedUnitId"]
["OccupancyStatusType",null,null,"OccupancyStatusType"]
["UnitType",null,null,"UnitType"]
["SlrDesignatedUnitId",null,null,"SlrDesignatedUnitId"]
["OccupancyStatusType",null,null,"OccupancyStatusType"]
["UnitType",null,null,"UnitType"]
["SlrDesignatedUnitId",null,null,"SlrDesignatedUnitId"]
["OccupancyStatusType",null,null,"OccupancyStatusType"]
["UnitType",null,null,"UnitType"]
["SlrDesignatedUnitId",null,null,"SlrDesignatedUnitId"]
["OccupancyStatusType",null,null,"OccupancyStatusType"]
["UnitType",null,null,"UnitType"]
["SlrDesignatedUnitId",null,null,"SlrDesignatedUnitId"]
["OccupancyStatusType",null,null,"OccupancyStatusType"]

{"sheet":"Section1 DD","index":10,"n_rows":330,"n_cols":13,"rows_kept":330,"cut":false,"hidden":false,"merged":[]}
["Freddie Mac Loan Number",{"$f":"I!$C$11","v":0},null,"FreLoanId"]
["Report Date",{"$f":"I!$AL$11","v":"00:00:00"},null,"FinalAsmntDate",null,null,null,{"$f":"YEAR(B2)","v":1900},{"$f":"IF(LEN(MONTH(B2)) = 1, \"0\" & MONTH(B2),MONTH(B2))","v":"01"},{"$f":"IF(LEN(DAY(B2)) = 1, \"0\" &DAY(B2),DAY(B2))","v":"00"}]
["Seller/Servicer Name",{"$f":"I!$C$14","v":0},null,"AccountName","*not captured at the moment"]
["Seller/Servicer Number",{"$f":"I!$C$17","v":0},null,"PartyBuisinessAccountID","*not captured at the moment"]
["Inspection Date",{"$f":"rngInspectionDate","v":"00:00:00"},null,"PrelimInspectionDate",null,null,null,{"$f":"YEAR(B5)","v":1900},{"$f":"IF(LEN(MONTH(B5)) = 1, \"0\" & MONTH(B5),MONTH(B5))","v":"01"},{"$f":"IF(LEN(DAY(B5)) = 1, \"0\" &DAY(B5),DAY(B5))","v":"00"}]
["Number of apartment buildings",{"$f":"I!$C$20","v":0},null,"PptyRsdntlBuildingCount","PropertyConditionAssessmentPropertyCoreCharacteristics"]
["Number of other buildings",{"$f":"I!$AL$20","v":0},null,"PptyNonRsdntlBuildingCount"]
["Number of stories",{"$f":"I!$C$23","v":0},null,"PptyFloorCount"]
["Age of building (in years)",{"$f":"I!$AL$23","v":0},null,"PptyBuildingAgeYrCount"]
["Property Condition Consultant (firm name)",{"$f":"IF(ISBLANK(I!$C$26),\"\",I!$C$26)","v":""},null,"FirmName"]
["Address",{"$f":"IF(ISBLANK(I!$C$29),\"\",I!$C$29)","v":""},null,"FirmAddressLineText"]
["City, State, Zip",{"$f":"IF(ISBLANK(I!$C$32),\"\",I!$C$32)","v":""},null,"FirmCityName","FirmStateUspsCode","FirmPostalCode",{"$f":"RIGHT(B12,5)","v":""},{"$f":"IFERROR(LEFT(B12,FIND(\",\",B12,1)-1),\"\")","v":""},{"$f":"IFERROR(RIGHT(B12,LEN(B12)-LEN(H12)-2),\"\")","v":""},{"$f":"IFERROR(LEFT(I12,LEN(I12)-LEN(G12)-2),\"\")","v":""}]
["Property Name",{"$f":"IF(ISBLANK(I!$BU$11),\"\",I!$BU$11)","v":""},null,"AsReportedName","PropertyAsReported"]
["Address",{"$f":"IF(ISBLANK(I!$BU$14),\"\",I!$BU$14)","v":""},null,"AddressLineText"]
["City, State, Zip",{"$f":"IF(ISBLANK(I!$BU$17),\"\",I!$BU$17)","v":""},null,"CityName","StateUspsCode","PostalCode",{"$f":"RIGHT(B15,5)","v":""},{"$f":"IFERROR(LEFT(B15,FIND(\",\",B15,1)-1),\"\")","v":""},{"$f":"IFERROR(RIGHT(B15,LEN(B15)-LEN(H15)-2),\"\")","v":""},{"$f":"IFERROR(LEFT(I15,LEN(I15)-LEN(G15)-2),\"\")","v":""}]
["On-site contact name",{"$f":"IF(ISBLANK(I!$BU$20),\"\",I!$BU$20)","v":""},null,"OnsiteContactName"]
["On-site contact telephone number",{"$f":"IF(ISBLANK(I!$DD$20),\"\",I!$DD$20)","v":""},null,"OnsiteContactPhoneNumber"]
["Weather at time of inspection",{"$f":"IF(ISBLANK(I!$BU$23),\"\",I!$BU$23)","v":""},null,"AtInpectionWeatherDescription"]
["Inspector's name",{"$f":"IF(ISBLANK(I!$BU$26),\"\",I!$BU$26)","v":""},null,"InspectorName"]
["Title",{"$f":"IF(ISBLANK(I!$BU$29),\"\",I!$BU$29)","v":""},null,"InspectorTitle"]
["Telephone number",{"$f":"IF(ISBLANK(I!$BU$32),\"\",I!$BU$32)","v":""},null,"InspectorPhoneNumber"]
["PropertyConditionAssessmentBuildingAndMaterials",null,null,"PropertyConditionAssessmentBuildingAndMaterials"]
["Building Type",null,null,"buildingType","*ignore anything that's false"]
["Garden",false,null,"garden"]
["Walk-up",false,null,"walkUp"]
["Elevator",false,null,"elevator"]
["Lowrise",false,null,"lowrise"]
["Midrise",false,null,"midrise"]
["Highrise",false,null,"highrise"]
["Townhouse",false,null,"townhouse"]
["Other",false,null,"other"]
["Other Description",{"$f":"IF(ISBLANK(I!$L$53),\"\",I!$L$53)","v":""},null,"OtherItemDescription"]
[]
["Construction Type",null,null,"constructionType"]
["Wood frame",false,null,"woodFrame"]
["Metal frame",null,null,"metalFrame"]
["Structural steel",null,null,"structuralSteel"]
["Masonry",null,null,"masonry"]
["Structural concrete",null,null,"structuralConcrete"]
["Flat roof",null,null,"flatRoof"]
["Pitched roof",false,null,"pitchedRoof"]
["Flat roof with mansards",null,null,"flatRoofWithMansards"]
["Fire-treated plywood",null,null,"fireTreatedPlywood"]
["Other",null,null,"other"]
["Other Description",{"$f":"IF(ISBLANK(I!$L$77),\"\",I!$L$77)","v":""},null,"OtherItemDescription"]
[]
["Foundation Type",null,null,"foundationType"]
["Slab on grade",false,null,"slabOnGrade"]
["Concrete pier (drilled)",null,null,"concretePierDrilled"]
["Spread, raised foundation",null,null,"spreadRaisedFoundation"]
["Underground parking structure",null,null,"undergroundParkingStructure"]
["Other",null,null,"other"]
["Other Description",{"$f":"IF(ISBLANK(I!$L$91),\"\",I!$L$91)","v":""},null,"OtherItemDescription"]
[]
["Parking",null,null,"parking"]
["Surface (uncovered)",false,null,"surfaceUncovered"]
["Structured",false,null,"structured"]
["Carports",false,null,"carports"]
["Garages",null,null,"garages"]
["Underground",null,null,"underground"]
[]
["Envelope",null,null,"envelope"]
["Stucco",false,null,"stucco"]
["Wood siding",false,null,"woodSiding"]
["T-11 ",false,null,"t111"]
["Masonite",false,null,"masonite"]
["Planking",false,null,"planking"]
["Vinyl siding",false,null,"vinylSiding"]
["Brick veneer",false,null,"brickVeneer"]
["Metal doors",false,null,"metalDoors"]
["Wood doors",null,null,"woodDoors"]
["Wood sash windows",null,null,"woodSashWindows"]
["Aluminum windows",false,null,"aluminumWindows"]
["Other",null,null,"other"]
["Other Description",{"$f":"IF(ISBLANK(I!$AV$61),\"\",I!$AV$61)","v":""},null,"OtherItemDescription"]
[]
["Elevators",null,null,"elevators"]
["Number of cabs",null,null,"numberOfCabs"]
["Number of cabs description",{"$f":"IF(ISBLANK(I!$BE$67),\"\",I!$BE$67)","v":""}]
["Last inspection date",{"$f":"IF(ISBLANK(I!$BG$68),\"\",I!$BG$68)","v":""},null,"lastInspectionDate"]
[]
["Mechanical (plumbing)",null,null,"mechanicalsPlumbing"]
["Galvanized water piping",null,null,"galvanizedWaterPiping"]
["Copper water piping",false,null,"copperWaterPiping"]
["Polybutylene water piping",null,null,"polybutyleneWaterPiping"]
["Cast iron waste",null,null,"castIronWaste"]
["ABS/PVC waste",false,null,"absPvcWaste"]
["Central water heater",null,null,"centralWaterHeater"]
["Gas",null,null,"gas"]
["Electric",null,null,"electric"]
["Individual water heaters",false,null,"individualWaterHeaters"]
["Gas ",null,null,"gas"]
["Electric",false,null,"electric"]
["Circulating hot water",null,null,"circulatingHotWater"]
["Other",null,null,"other"]
["Other description",{"$f":"IF(ISBLANK(I!$AV$99),\"\",I!$AV$99)","v":""},null,"OtherItemDescription"]
[]
["Mechanicals (HVAC)",null,null,"mechanicalsHvac"]
["Central boiler steam heat",false,null,"centralBoilerSteamHeat"]
["Hydronic system",false,null,"hydronicSystem"]
["Gas FAU, central",false,null,"gasFauCentral"]
["Electric FAU, central",false,null,"electricFauCentral"]
["Electric baseboard heat",false,null,"electricBaseboardHeat"]
["Wall-mounted AC unit",false,null,"wallMountedAcUnit"]
["AC condenser units",false,null,"acCondenserUnits"]
["Evaporative cooler unit",false,null,"evaporativeCoolerUnit"]
["Other (heat)",false,null,"otherHeat"]
["Other (heat) Description",{"$f":"IF(ISBLANK(I!$CK$55),\"\",I!$CK$55)","v":""}]
["Other (AC)",false,null,"otherAc"]
["Other (AC) Description",{"$f":"IF(ISBLANK(I!$CJ$57),\"\",I!$CJ$57)","v":""}]
[]
["Electrical",null,null,"electrical"]
["Unit capacity (amps)",{"$f":"IF(ISBLANK(I!$CL$63),\"\",I!$CL$63)","v":""},null,"unitCapacityAmps","**put the unit capacity amps into other",null,"\"CatType\": \"Electrical\",\n                    \"ItemType\": \"unitCapacityAmps\",\n                    \"OtherItemDescription\": \"100\""]
["Aluminum branch wiring",false,null,"aluminumBranchWiring"]
["Edison base T-type fuses",false,null,"edisonBaseTTypeFuses"]
["Tamper proof fuses",false,null,"tamperProofFuses"]
["Breakers",false,null,"breakers"]
["GFI outlets",false,null,"gfiOutlets"]
["Other",false,null,"other"]
["Other description",false,null,"OtherItemDescription"]
[]
["Interior",null,null,"interior"]
["Drywall walls",false,null,"drywallWalls"]
["Plaster walls",null,null,"plasterWalls"]
["Wood paneling",null,null,"woodPaneling"]
["Carpeting",false,null,"carpeting"]
["Wood flooring",false,null,"woodFlooring"]
["Ceramic tile floor",null,null,"ceramicFloorTile"]
["Vinyl flooring",false,null,"vinylFlooring"]
["Wood doors",false,null,"woodDoors"]
["Metal doors",null,null,"metalDoors"]
["Spray-tex ceiling",false,null,"sprayTexCeiling"]
["Smooth ceiling",null,null,"smoothCeiling"]
["Orange peel/textured",null,null,"orangePeelTextured"]
["Other",null,null,"other"]
["Other description",{"$f":"IF(ISBLANK(I!$CF$105),\"\",I!$CF$105)","v":""},null,"OtherItemDescription"]
[]
["Amenities",null,null,"amenities"]
["Club building room",false,null,"clubBuildingRoom"]
["Swimming pool",false,null,"swimmingPool"]
["Spa and/or sauna",false,null,"spaAndOrSauna"]
["Fitness center",false,null,"fitnessCenter"]
["Barbeque",false,null,"barbeque"]
["Tennis/sport courts",false,null,"tennisCourts"]
["Playground equipment",false,null,"playgroundEquipment"]
["Storage",false,null,"storage"]
["Other",false,null,"other"]
["Other description",{"$f":"IF(ISBLANK(I!$DP$55),\"\",I!$DP$55)","v":""},null,"OtherItemDescription"]
[]
["Mold",null,null,"mold"]
["Mold evidence observed",false,null,"moldEvidenceObserved"]
["Areas impacted by water intrusions observed",false,null,"areasImpactedObserved"]
["Defective building conditions likely to lead to further water intrusions observed",false,null,"defectiveBuildingConditionsObserved"]
["Past/current water intrusions or leaks reported",false,null,"waterIntrusionsReported"]
["Tenant complaints reported",false,null,"tenantComplaintsReported"]
[null,false]
["Problem Materials/equipment",null,null,"Problem Materials/Equiptment"]
["Other1",false,null,"otherA"]
["Other1 Description",{"$f":"IF(ISBLANK(I!$DP$83),\"\",I!$DP$83)","v":""}]
["Other2",null,null,"otherB"]
["Other2 Description",{"$f":"IF(ISBLANK(I!$DP$85),\"\",I!$DP$85)","v":""}]
[]
["Life/Safety Devices",null,null,"lifeSafetyDevices"]
["Smoke detectors",false,null,"smokeDetectors"]
["Carbon monoxide detectors",false,null,"carbonMonoxideDetectors"]
["Fire extinguishers",false,null,"fireExtinguishers"]
["Emergency lighting",false,null,"emergencyLighting"]
["Emergency escapes",false,null,"emergencyEscapes"]
["Pull stations/cords",false,null,"pullStationsCords"]
["Fire alarm",false,null,"fireAlarm"]
["Sprinklers",false,null,"sprinklers"]
[null,null,null,"PropertyResidentialUnitMix","* base unit mix table pull off the format in json ****work on getting this into data dump first"]
["Detail of Commercial Units",null,null,"PropertyCommercialUsageMix","* own object * within rentoll object"]
["Number of Purpose built spaces","p",null,"UsageType"]
["Occupied",{"$f":"I!AR132","v":0},null,"OccupiedUnitCount"]
["Vacant",{"$f":"I!BD132","v":0},null,"VacantUnitCount"]
["Down ",{"$f":"I!BP132","v":0},null,"DownUnitCount"]
["Total",{"$f":"SUM('Section1 DD'!B175:B177)","v":0},null,"UnitCount"]
["Number of converted residential units","c",null,"UsageType"]
["Occupied",{"$f":"I!AR133","v":0},null,"OccupiedUnitCount"]
["Vacant",{"$f":"I!BD133","v":0},null,"VacantUnitCount"]
["Down ",{"$f":"I!BP133","v":0},null,"DownUnitCount"]
["Total",{"$f":"SUM(B180:B182)","v":0},null,"UnitCount"]
["Total residential units",{"$f":"I!CB136","v":0},null,"RsdntlTotalUnitCount","*own object within rentroll"]
["Total commercial units/spaces",{"$f":"I!CB137","v":0},null,"CommercialTotalUnitCount"]
["Total All Units",{"$f":"I!CB138","v":0},null,"TotalUnitCount","(add into rent roll"]
[]
["Unit Inspection Information",null,null,"PropertyResidentialRentalUnit"]
["UnitType",null,null,"UnitType"]
["SlrDesignatedUnitId",null,null,"SlrDesignatedUnitId"]
["OccupancyStatusType",null,null,"OccupancyStatusType"]
["UnitType",null,null,"UnitType"]
["SlrDesignatedUnitId",null,null,"SlrDesignatedUnitId"]
["OccupancyStatusType",null,null,"OccupancyStatusType"]
["UnitType",null,null,"UnitType"]
["SlrDesignatedUnitId",null,null,"SlrDesignatedUnitId"]
["OccupancyStatusType",null,null,"OccupancyStatusType"]
["UnitType",null,null,"UnitType"]
["SlrDesignatedUnitId",null,null,"SlrDesignatedUnitId"]
["OccupancyStatusType",null,null,"OccupancyStatusType"]
["UnitType",null,null,"UnitType"]
["SlrDesignatedUnitId",null,null,"SlrDesignatedUnitId"]
["OccupancyStatusType",null,null,"OccupancyStatusType"]
["UnitType",null,null,"UnitType"]
["SlrDesignatedUnitId",null,null,"SlrDesignatedUnitId"]
["OccupancyStatusType",null,null,"OccupancyStatusType"]
["UnitType",null,null,"UnitType"]
["SlrDesignatedUnitId",null,null,"SlrDesignatedUnitId"]
["OccupancyStatusType",null,null,"OccupancyStatusType"]
["UnitType",null,null,"UnitType"]
["SlrDesignatedUnitId",null,null,"SlrDesignatedUnitId"]
["OccupancyStatusType",null,null,"OccupancyStatusType"]
["UnitType",null,null,"UnitType"]
["SlrDesignatedUnitId",null,null,"SlrDesignatedUnitId"]
["OccupancyStatusType",null,null,"OccupancyStatusType"]
["UnitType",null,null,"UnitType"]
["SlrDesignatedUnitId",null,null,"SlrDesignatedUnitId"]
["OccupancyStatusType",null,null,"OccupancyStatusType"]
["UnitType",null,null,"UnitType"]
["SlrDesignatedUnitId",null,null,"SlrDesignatedUnitId"]
["OccupancyStatusType",null,null,"OccupancyStatusType"]
["UnitType",null,null,"UnitType"]
["SlrDesignatedUnitId",null,null,"SlrDesignatedUnitId"]
["OccupancyStatusType",null,null,"OccupancyStatusType"]
["UnitType",null,null,"UnitType"]
["SlrDesignatedUnitId",null,null,"SlrDesignatedUnitId"]
["OccupancyStatusType",null,null,"OccupancyStatusType"]
["UnitType",null,null,"UnitType"]
["SlrDesignatedUnitId",null,null,"SlrDesignatedUnitId"]
["OccupancyStatusType",null,null,"OccupancyStatusType"]
["UnitType",null,null,"UnitType"]
["SlrDesignatedUnitId",null,null,"SlrDesignatedUnitId"]
["OccupancyStatusType",null,null,"OccupancyStatusType"]
["UnitType",null,null,"UnitType"]
["SlrDesignatedUnitId",null,null,"SlrDesignatedUnitId"]
["OccupancyStatusType",null,null,"OccupancyStatusType"]
["UnitType",null,null,"UnitType"]
["SlrDesignatedUnitId",null,null,"SlrDesignatedUnitId"]
["OccupancyStatusType",null,null,"OccupancyStatusType"]
["UnitType",null,null,"UnitType"]
["SlrDesignatedUnitId",null,null,"SlrDesignatedUnitId"]
["OccupancyStatusType",null,null,"OccupancyStatusType"]
["UnitType",null,null,"UnitType"]
["SlrDesignatedUnitId",null,null,"SlrDesignatedUnitId"]
["OccupancyStatusType",null,null,"OccupancyStatusType"]
["UnitType",null,null,"UnitType"]
["SlrDesignatedUnitId",null,null,"SlrDesignatedUnitId"]
["OccupancyStatusType",null,null,"OccupancyStatusType"]
["UnitType",null,null,"UnitType"]
["SlrDesignatedUnitId",null,null,"SlrDesignatedUnitId"]
["OccupancyStatusType",null,null,"OccupancyStatusType"]
["UnitType",null,null,"UnitType"]
["SlrDesignatedUnitId",null,null,"SlrDesignatedUnitId"]
["OccupancyStatusType",null,null,"OccupancyStatusType"]
["UnitType",null,null,"UnitType"]
["SlrDesignatedUnitId",null,null,"SlrDesignatedUnitId"]
["OccupancyStatusType",null,null,"OccupancyStatusType"]
["UnitType",null,null,"UnitType"]
["SlrDesignatedUnitId",null,null,"SlrDesignatedUnitId"]
["OccupancyStatusType",null,null,"OccupancyStatusType"]
["UnitType",null,null,"UnitType"]
["SlrDesignatedUnitId",null,null,"SlrDesignatedUnitId"]
["OccupancyStatusType",null,null,"OccupancyStatusType"]
["UnitType",null,null,"UnitType"]
["SlrDesignatedUnitId",null,null,"SlrDesignatedUnitId"]
["OccupancyStatusType",null,null,"OccupancyStatusType"]
["UnitType",null,null,"UnitType"]
["SlrDesignatedUnitId",null,null,"SlrDesignatedUnitId"]
["OccupancyStatusType",null,null,"OccupancyStatusType"]
["UnitType",null,null,"UnitType"]
["SlrDesignatedUnitId",null,null,"SlrDesignatedUnitId"]
["OccupancyStatusType",null,null,"OccupancyStatusType"]
["UnitType",null,null,"UnitType"]
["SlrDesignatedUnitId",null,null,"SlrDesignatedUnitId"]
["OccupancyStatusType",null,null,"OccupancyStatusType"]
["UnitType",null,null,"UnitType"]
["SlrDesignatedUnitId",null,null,"SlrDesignatedUnitId"]
["OccupancyStatusType",null,null,"OccupancyStatusType"]
["UnitType",null,null,"UnitType"]
["SlrDesignatedUnitId",null,null,"SlrDesignatedUnitId"]
["OccupancyStatusType",null,null,"OccupancyStatusType"]
["UnitType",null,null,"UnitType"]
["SlrDesignatedUnitId",null,null,"SlrDesignatedUnitId"]
["OccupancyStatusType",null,null,"OccupancyStatusType"]
["UnitType",null,null,"UnitType"]
["SlrDesignatedUnitId",null,null,"SlrDesignatedUnitId"]
["OccupancyStatusType",null,null,"OccupancyStatusType"]
["UnitType",null,null,"UnitType"]
["SlrDesignatedUnitId",null,null,"SlrDesignatedUnitId"]
["OccupancyStatusType",null,null,"OccupancyStatusType"]
["UnitType",null,null,"UnitType"]
["SlrDesignatedUnitId",null,null,"SlrDesignatedUnitId"]
["OccupancyStatusType",null,null,"OccupancyStatusType"]
["UnitType",null,null,"UnitType"]
["SlrDesignatedUnitId",null,null,"SlrDesignatedUnitId"]
["OccupancyStatusType",null,null,"OccupancyStatusType"]
["UnitType",null,null,"UnitType"]
["SlrDesignatedUnitId",null,null,"SlrDesignatedUnitId"]
["OccupancyStatusType",null,null,"OccupancyStatusType"]
["UnitType",null,null,"UnitType"]
["SlrDesignatedUnitId",null,null,"SlrDesignatedUnitId"]
["OccupancyStatusType",null,null,"OccupancyStatusType"]
["UnitType",null,null,"UnitType"]
["SlrDesignatedUnitId",null,null,"SlrDesignatedUnitId"]
["OccupancyStatusType",null,null,"OccupancyStatusType"]
["UnitType",null,null,"UnitType"]
["SlrDesignatedUnitId",null,null,"SlrDesignatedUnitId"]
["OccupancyStatusType",null,null,"OccupancyStatusType"]
[]
["Seismic Checklist",null,null,"\"PropertySeismicRiskAssessment\""]
["SeismicRiskFactorInd",{"$f":"IF(rngSeismic_No=TRUE, \"No\", \"Yes\")","v":"Yes"},null,"SeismicRiskFactorInd",{"$f":"IF(B311=\"Yes\",\"Y\",\"N\")","v":"Y"}]
["BuildingsWithWeakOrSoftFloorsInd",{"$f":"IF(ISBLANK(I!I181),\"\",I!I181)","v":""},null,"BuildingsWithWeakOrSoftFloorsInd",{"$f":"IF(B312=\"Present\",\"Y\",\"N\")","v":"N"}]
["BuildingsWithDirectContactToAdjacentBuildingsInd",{"$f":"IF(ISBLANK(I!I183),\"\",I!I183)","v":""},null,"BuildingsWithDirectContactToAdjacentBuildingsInd","N"]
["BuildingsWithPrevEarthquakeDamageInd",{"$f":"IF(ISBLANK(I!I187),\"\",I!I187)","v":""},null,"BuildingsWithPrevEarthquakeDamageInd","N"]
["BuildingsHighRiseInd",{"$f":"IF(ISBLANK(I!I190),\"\",I!I190)","v":""},null,"BuildingsHighRiseInd","N"]
["BuildingsWithReinforcedConcreteBuiltPriorTo1994Indictor",{"$f":"IF(ISBLANK(I!I192),\"\",I!I192)","v":""},null,"BuildingsWithReinforcedConcreteBuiltPriorTo1994Indictor","N"]
["BuildingsWithReinforcedConcreteLoadBearingWallsBuiltPriorTo1994Ind",{"$f":"IF(ISBLANK(I!I194),\"\",I!I194)","v":""},null,"BuildingsWithReinforcedConcreteLoadBearingWallsBuiltPriorTo1994Ind","N"]
["BuildingsWithUnreinforcedMasonryRetrofittedInd",{"$f":"IF(ISBLANK(I!I196),\"\",I!I196)","v":""},null,"BuildingsWithUnreinforcedMasonryRetrofittedInd","N"]
["BuildingsWithUnreinforcedMasonryRetrofittedPriorTo1995Indictor",{"$f":"IF(ISBLANK(I!I198),\"\",I!I198)","v":""},null,"BuildingsWithUnreinforcedMasonryRetrofittedPriorTo1995Indictor","N"]
["BuildingsWithWoodFrameConspicuousDeteriorationInd",{"$f":"IF(ISBLANK(I!I201),\"\",I!I201)","v":""},null,"BuildingsWithWoodFrameConspicuousDeteriorationInd","N"]
["WoodFrameBuiltPriorTo1950Ind",{"$f":"IF(ISBLANK(I!I204),\"\",I!I204)","v":""},null,"WoodFrameBuiltPriorTo1950Ind","N"]
["BuildingsWithWoodFrameParkingUnderUnitsNonRetrofittedAndBuiltPriorTo2000Ind",{"$f":"IF(ISBLANK(I!I206),\"\",I!I206)","v":""},null,"BuildingsWithWoodFrameParkingUnderUnitsNonRetrofittedAndBuiltPriorTo2000Ind","N"]
["BuildingsWithLightFrameOverConcretePodiumBuiltPriorTo1994Ind",{"$f":"IF(ISBLANK(I!I209),\"\",I!I209)","v":""},null,"BuildingsWithLightFrameOverConcretePodiumBuiltPriorTo1994Ind","N"]
["BuildingsLocatedNearFaultOrSpecialStudyZoneInd",{"$f":"IF(ISBLANK(I!I211),\"\",I!I211)","v":""},null,"BuildingsLocatedNearFaultOrSpecialStudyZoneInd"]
[]
["PropertyCapitalExpenditureProjection"]
["YrNumber",{"$f":"VI!AD162","v":"Year 1"},{"$f":"VI!AU162","v":"Year 2"},{"$f":"VI!BL162","v":"Year 3"},{"$f":"VI!CC162","v":"Year 4"},{"$f":"VI!CT162","v":"Year 5"},{"$f":"VI!DK162","v":"Year 6"},{"$f":"VI!EB162","v":"Year 7"},{"$f":"VI!ES162","v":"Year 8"},{"$f":"VI!FJ162","v":"Year 9"},{"$f":"VI!GA162","v":"Year 10"},{"$f":"VI!GR162","v":"Year 11"},{"$f":"VI!HI162","v":"Year 12"}]
["TotalUninflatedAmt",{"$f":"VI!AD163","v":0},{"$f":"VI!AU163","v":0},{"$f":"VI!BL163","v":0},{"$f":"VI!CC163","v":0},{"$f":"VI!CT163","v":0},{"$f":"VI!DK163","v":0},{"$f":"VI!EB163","v":0},{"$f":"VI!ES163","v":0},{"$f":"VI!FJ163","v":0},{"$f":"VI!GA163","v":0},{"$f":"VI!GR163","v":0},{"$f":"VI!HI163","v":0}]
["TotalFactorPct",{"$f":"VI!AD164*100","v":100},{"$f":"VI!AU164*100","v":103},{"$f":"VI!BL164*100","v":106.08999999999999},{"$f":"VI!CC164*100","v":109.2727},{"$f":"VI!CT164*100","v":112.55088100000002},{"$f":"VI!DK164*100","v":115.92740743},{"$f":"VI!EB164*100","v":119.40522965290002},{"$f":"VI!ES164*100","v":122.98738654248702},{"$f":"VI!FJ164*100","v":126.67700813876164},{"$f":"VI!GA164*100","v":130.47731838292449},{"$f":"VI!GR164*100","v":134.39163793441222},{"$f":"VI!HI164*100","v":138.4233870724446}]
["TotalInflatedAmt",{"$f":"VI!AD165","v":0},{"$f":"VI!AU165","v":0},{"$f":"VI!BL165","v":0},{"$f":"VI!CC165","v":0},{"$f":"VI!CT165","v":0},{"$f":"VI!DK165","v":0},{"$f":"VI!EB165","v":0},{"$f":"VI!ES165","v":0},{"$f":"VI!FJ165","v":0},{"$f":"VI!GA165","v":0},{"$f":"VI!GR165","v":0},{"$f":"VI!HI165","v":0}]

{"sheet":"Section1 DD Cont","index":11,"n_rows":22,"n_cols":4,"rows_kept":22,"cut":false,"hidden":false,"merged":[]}
["Number of apartment buildings",{"$f":"I!$C$20","v":0},null,"PptyRsdntlBuildingCount"]
["Number of other buildings",{"$f":"I!$AL$20","v":0},null,"PptyNonRsdntlBuildingCount"]
["Number of stories",{"$f":"I!$C$23","v":0},null,"PptyFloorCount"]
["Age of building (in years)",{"$f":"I!$AL$23","v":0},null,"PptyBuildingAgeYrCount"]
["Capital Expenditure Mortgage Term Year Count",{"$f":"VI!GF14","v":0},null,"CapitalExpenditureMrtgTermYrCount"]
["Capital Expenditure Total Loan Term Inflated Amt",{"$f":"VI!AQ168","v":0},null,"CapitalExpenditureTotalLoanTermInflatedAmt"]
["Capital Expenditure Total Loan Term  Uninflated Amt",{"$f":"VI!AQ167","v":0},null,"CapitalExpenditureTotalLoanTermUninflatedAmt"]
["Capital Expenditure Unit Annual Inflated  Amt",{"$f":"VI!DX168","v":""},null,"CapitalExpenditureUnitAnnualInflatedAmt"]
["Capital Expenditure Unit Annual Uninflated Amt",{"$f":"VI!DX167","v":""},null,"CapitalExpenditureUnitAnnualUninflatedAmt"]
[]
[]
["\"Other\" Units"]
["Management Office",{"$f":"rngSectionIOther1","v":0},null,"PptyTotalOtherMgmtOfficeUnitCount"]
["Model",{"$f":"rngSectionIOther2","v":0},null,"PptyTotalOtherModelUnitCount"]
["Maintenance Shop",{"$f":"rngSectionIOther3","v":0},null,"PptyTotalOtherMaintenanceShopUnitCount"]
["Storage",{"$f":"rngSectionIOther4","v":0},null,"PptyTotalOtherStorageUnitCount"]
["Hospitality Suite",{"$f":"rngSectionIOther5","v":0},null,"PptyTotalOtherHospitalitySuiteUnitCount"]
["Other",{"$f":"rngSectionIOther6","v":0},null,"PptyTotalOtherMiscellaneousUnitCount"]
["TotalOtherUnitCount",{"$f":"I!CB125","v":0},null,"TotalOtherUnitCount"]
["PptyTotalDownUnitCount",{"$f":"I!BP125","v":0},null,"PptyTotalDownUnitCount"]
["TotalOccupiedUnitCount",{"$f":"I!AR125","v":0},null,"TotalOccupiedUnitCount"]
["TotalVacantUnitCount",{"$f":"I!BD125","v":0},null,"TotalVacantUnitCount"]

{"sheet":"Section 3 DD","index":12,"n_rows":8,"n_cols":7,"rows_kept":8,"cut":false,"hidden":false,"merged":[]}
["Were any Critical or Priority Repairs identified?",{"$f":"IF(SectionIIIRepairs=2,\"Yes\",\"No\")","v":"No"}]
["Site",{"$f":"III!EN25","v":false}]
["Structural, building envelope and common area furniture, fixtures and equipment",{"$f":"III!EN27","v":false}]
["Mechanical and Electrical",{"$f":"III!EN29","v":false}]
["Dwelling Units",{"$f":"III!EN31","v":false}]
["Were any Operational Repairs identified?",{"$f":"III!EN34","v":false}]
[]
["Item","Repair\nType","Unit of Measure","Quantity","Per Item\nCosts","Total \nCosts","Comments"]

{"sheet":"Section 3 DD Structure","index":13,"n_rows":1,"n_cols":7,"rows_kept":1,"cut":false,"hidden":false,"merged":[]}
["Item","Repair\nType","Unit of Measure","Quantity","Per Item\nCosts","Total \nCosts","Comments"]

{"sheet":"Section 3 DD ME","index":14,"n_rows":1,"n_cols":7,"rows_kept":1,"cut":false,"hidden":false,"merged":[]}
["Item","Repair\nType","Unit of Measure","Quantity","Per Item\nCosts","Total \nCosts","Comments"]

{"sheet":"Section 3 DD DU","index":15,"n_rows":1,"n_cols":7,"rows_kept":1,"cut":false,"hidden":false,"merged":[]}
["Item","Repair\nType","Unit of Measure","Quantity","Per Item\nCosts","Total \nCosts","Comments"]

{"sheet":"Section 3 DD Op","index":16,"n_rows":1,"n_cols":1,"rows_kept":1,"cut":false,"hidden":false,"merged":[]}
["Description"]

{"sheet":"Section 4 DD","index":17,"n_rows":79,"n_cols":6,"rows_kept":79,"cut":false,"hidden":false,"merged":[]}
["Private Wells (Drinking Water)",{"$f":"IF(rngPrivateWells_Check = TRUE, \"Y\",\"N\")","v":"N"},null,null,"Private Wells (Drinking Water)","Private Wells (Drinking Water)"]
["WaterSystemOperationsDescription",{"$f":"IF(ISBLANK(rngPrivateWells_Q1Desc),\"\",rngPrivateWells_Q1Desc)","v":""},null,null,"WaterSystemOperationsDescription","Describe the system, its historical operations (including how long it’s been in service) and adequacy:"]
["WaterSystemToMunicipalSystemConnectionDescription",{"$f":"IF(ISBLANK(rngPrivateWells_Q2Desc),\"\",rngPrivateWells_Q2Desc)","v":""},null,null,"WaterSystemToMunicipalSystemConnectionDescription","Provide the cost of connecting the property to a municipal water system, and the level of work required to accomplish this:"]
["WaterSystemMaintenanceResponsiblePartyType",{"$f":"IF(IV!EM44=TRUE,\"Professional third-party\", \"Other\")","v":"Other"},null,null,"WaterSystemMaintenanceResponsiblePartyType","Who is responsible for maintaining the system?"]
["WaterSystemMaintenanceResponsiblePartyName",{"$f":"IV!EQ44","v":0},null,null,"WaterSystemMaintenanceResponsiblePartyName","Professional Third Party Name"]
["WaterSystemMaintenanceResponsiblePartyName",{"$f":"IV!EQ46","v":0},null,null,"WaterSystemMaintenanceResponsiblePartyName","WaterSystemMaintenanceResponsiblePartyName"]
["WaterSystemMaintenancePartyQualificationsDescription",{"$f":"IV!EQ48","v":0},null,null,"WaterSystemMaintenancePartyQualificationsDescription","Qualifications"]
["qualityOfMaintenanceConcerns",{"$f":"IF(IV!EM50 = TRUE,\"Y\",\"N\")","v":"N"},null,null,"qualityOfMaintenanceConcerns","Are there any concerns regarding the quality of maintenance being performed on the system?"]
["WaterSystemViolationDescription",{"$f":"IV!EQ53","v":0},null,null,"WaterSystemViolationDescription","Details"]
["isEquipmentAccessible",{"$f":"IF(IV!EM55 = TRUE,\"Y\",\"N\")","v":"N"},null,null,"isEquipmentAccessible","Is equipment accessible to individuals other than authorized personnel?"]
["WaterSystemViolationDescription",{"$f":"IV!EQ58","v":0},null,null,"WaterSystemViolationDescription","Details"]
["backUpWaterSource",{"$f":"IF(IV!EM60 = TRUE,\"Y\",\"N\")","v":"N"},null,null,"backUpWaterSource","Are there any concerns regarding the backup water source?"]
["WellDrinkingWaterBackupSourceDescription",{"$f":"IV!EQ63","v":0},null,null,"WellDrinkingWaterBackupSourceDescription","Please describe the backup water source:"]
["WaterSystemViolationDescription",{"$f":"IV!EQ66","v":0},null,null,"WaterSystemViolationDescription","Describe the concern"]
["currentOrPreviousViolations",{"$f":"IF(IV!EM68 = TRUE,\"Y\",\"N\")","v":"N"},null,null,"currentOrPreviousViolations","Are there any current or previous violations?"]
["WaterSystemViolationDescription",{"$f":"IV!EQ71","v":0},null,null,"WaterSystemViolationDescription","Details"]
["atypicalSystemForMarket",{"$f":"IF(IV!EM73 = TRUE,\"Y\",\"N\")","v":"N"},null,null,"atypicalSystemForMarket","Is this system type atypical for the market?"]
["WaterSystemViolationDescription",{"$f":"IV!EQ76","v":0},null,null,"WaterSystemViolationDescription","Details"]
["otherPersonsAuthorized",{"$f":"IF(IV!EM78 = TRUE,\"Y\",\"N\")","v":"N"},null,null,"otherPersonsAuthorized","Is any other person or property, other than the Borrower or subject property, authorized to use the system?"]
["WaterSystemViolationDescription",{"$f":"IV!EQ81","v":0},null,null,"WaterSystemViolationDescription","Details"]
["partsOwnedByResidents",{"$f":"IF(IV!EM83 = TRUE,\"Y\",\"N\")","v":"N"},null,null,"partsOwnedByResidents","Is any part of the system owned or maintained by the residents?"]
["WaterSystemViolationDescription",{"$f":"IV!EQ86","v":0},null,null,"WaterSystemViolationDescription","Details"]
["failureToMeetRequirements",{"$f":"IF(IV!EM88 = TRUE,\"Y\",\"N\")","v":"N"},null,null,"failureToMeetRequirements","Does the system fail to meet or exceed applicable federal, state and/or local requirements?"]
["WaterSystemViolationDescription",{"$f":"IV!EQ91","v":0},null,null,"WaterSystemViolationDescription","Details"]
[]
["Private Wells (Non-Drinking Water)",{"$f":"IF(IV!EM25 = TRUE,\"Y\",\"N\")","v":"N"},null,null,"Private Wells (Non-Drinking Water)","Private Wells (Non-Drinking Water)"]
["WaterSystemOperationsDescription",{"$f":"IV!EQ97","v":0},null,null,"WaterSystemOperationsDescription","Specify the use and note any concerns"]
[]
["Private Wastewater Treatment System",{"$f":"IF(rngPrivateWaste_Check = TRUE,\"Y\",\"N\")","v":"N"},null,null,"Private Wastewater Treatment System","Private Wastewater Treatment System"]
["Identify the types of system(s) present",null,null,null,"Identify the types of system(s) present","Identify the types of system(s) present"]
["PptyWaterSystemSubType",{"$f":"IF(rngPrivateWaste_SystemsTrigger_Septic = TRUE,\"Y\",\"N\")","v":"N"},null,null,"PptyWaterSystemSubType","Septic System"]
["PptyWaterSystemSubType",{"$f":"IF(rngPrivateWaste_SystemsTrigger_Waste = TRUE,\"Y\",\"N\")","v":"N"},null,null,"PptyWaterSystemSubType","Sewage treatment plan"]
["WaterSystemOperationsDescription",{"$f":"IV!EQ111","v":0},null,null,"WaterSystemOperationsDescription","Describe the system, its historical operations (including how long it’s been in service) and adequacy:"]
["WastewaterLeachFieldDescription",{"$f":"IV!EQ114","v":0},null,null,"WastewaterLeachFieldDescription","Describe the leach field and distance to surrounding bodies of water that could be impacted by the effluent:"]
["WastewaterEffluentDischargeDescription",{"$f":"IV!EQ117","v":0},null,null,"WastewaterEffluentDischargeDescription","Describe the body of water into which the waste water treatment system effluent is discharged, including distance:"]
["WaterSystemToMunicipalSystemConnectionDescription",{"$f":"IV!EQ120","v":0},null,null,"WaterSystemToMunicipalSystemConnectionDescription","Provide the cost of connecting the property to a municipal water system, and the level of work required to accomplish this:"]
["WaterSystemMaintenanceResponsiblePartyType",{"$f":"IF(IV!EM124=TRUE, \"Professional third-party\", \"Other\")","v":"Other"},null,null,"WaterSystemMaintenanceResponsiblePartyType","Who is responsible for maintaining the system?"]
["WaterSystemMaintenanceResponsiblePartyName",{"$f":"IV!EQ124","v":0},null,null,"WaterSystemMaintenanceResponsiblePartyName","Professional third-party Name"]
["WaterSystemMaintenanceResponsiblePartyName",{"$f":"IV!EQ126","v":0},null,null,"WaterSystemMaintenanceResponsiblePartyName","WaterSystemMaintenanceResponsiblePartyName"]
["WaterSystemMaintenancePartyQualificationsDescription",{"$f":"IV!EQ128","v":0},null,null,"WaterSystemMaintenancePartyQualificationsDescription","Qualifications"]
["qualityOfMaintenanceConcerns",{"$f":"IF(IV!EM130 = TRUE,\"Y\",\"N\")","v":"N"},null,null,"qualityOfMaintenanceConcerns","Are there any concerns regarding the quality of maintenance being performed on the system?"]
["WaterSystemViolationDescription",{"$f":"IV!EQ133","v":0},null,null,"WaterSystemViolationDescription","Details"]
["structureOnTopOfLeachField",{"$f":"IF(IV!EM135 = TRUE,\"Y\",\"N\")","v":"N"},null,null,"structureOnTopOfLeachField","Are any buildings or structures located on top of the leach field?"]
["WaterSystemViolationDescription",{"$f":"IV!EQ138","v":0},null,null,"WaterSystemViolationDescription","Details"]
["isEquipmentAccessible",{"$f":"IF(IV!EM140 = TRUE,\"Y\",\"N\")","v":"N"},null,null,"isEquipmentAccessible","Is equipment accessible to individuals other than authorized personnel?"]
["WaterSystemViolationDescription",{"$f":"IV!EQ143","v":0},null,null,"WaterSystemViolationDescription","Details"]
["currentOrPreviousViolations",{"$f":"IF(IV!EM145 = TRUE,\"Y\",\"N\")","v":"N"},null,null,"currentOrPreviousViolations","Are there any current or previous violations?"]
["WaterSystemViolationDescription",{"$f":"IV!EQ148","v":0},null,null,"WaterSystemViolationDescription","Details"]
["atypicalSystemForMarket",{"$f":"IF(IV!EM150 = TRUE,\"Y\",\"N\")","v":"N"},null,null,"atypicalSystemForMarket","Is this system type atypical for the market?"]
["WaterSystemViolationDescription",{"$f":"IV!EQ153","v":0},null,null,"WaterSystemViolationDescription","Details"]
["otherPersonsAuthorized",{"$f":"IF(IV!EM155 = TRUE,\"Y\",\"N\")","v":"N"},null,null,"otherPersonsAuthorized","Is any other person or property, other than the Borrower or subject property, authorized to use the system?"]
["WaterSystemViolationDescription",{"$f":"IV!EQ158","v":0},null,null,"WaterSystemViolationDescription","Details"]
["partsOwnedByResidents",{"$f":"IF(IV!EM160 = TRUE,\"Y\",\"N\")","v":"N"},null,null,"partsOwnedByResidents","Is any part of the system owned or maintained by the residents?"]
["WaterSystemViolationDescription",{"$f":"IV!EQ163","v":0},null,null,"WaterSystemViolationDescription","Details"]
["failureToMeetRequirements",{"$f":"IF(IV!EM165 = TRUE,\"Y\",\"N\")","v":"N"},null,null,"failureToMeetRequirements","Does the system fail to meet or exceed applicable federal, state and/or local requirements?"]
["WaterSystemViolationDescription",{"$f":"IV!EQ168","v":0},null,null,"WaterSystemViolationDescription","Details"]
[]
["Private Lift Stations",{"$f":"IF(rngPrivateLift_Check = TRUE,\"Y\",\"N\")","v":"N"},null,null,"Private Lift Stations","Private Lift Stations"]
["WaterSystemOperationsDescription",{"$f":"IV!EQ174","v":0},null,null,"WaterSystemOperationsDescription","Describe the system, its historical operations (including how long it’s been in service) and adequacy:"]
["WaterSystemMaintenanceResponsiblePartyType",{"$f":"IF(IV!EM178=TRUE, \"Professional third-party\", \"Other\")","v":"Other"},null,null,"WaterSystemMaintenanceResponsiblePartyType","Who is responsible for maintaining the system?"]
["WaterSystemMaintenanceResponsiblePartyName",{"$f":"IV!EQ178","v":0},null,null,"WaterSystemMaintenanceResponsiblePartyName","Professional Third-Party Name"]
["WaterSystemMaintenanceResponsiblePartyName",{"$f":"IV!EQ180","v":0},null,null,"WaterSystemMaintenanceResponsiblePartyName","WaterSystemMaintenanceResponsiblePartyName"]
["WaterSystemMaintenancePartyQualificationsDescription",{"$f":"IV!EQ182","v":0},null,null,"WaterSystemMaintenancePartyQualificationsDescription","Qualifications"]
["qualityOfMaintenanceConcerns",{"$f":"IF(IV!EM184 = TRUE,\"Y\",\"N\")","v":"N"},null,null,"qualityOfMaintenanceConcerns","Are there any concerns regarding the quality of maintenance being performed on the system?"]
["WaterSystemViolationDescription",{"$f":"IV!EQ187","v":0},null,null,"WaterSystemViolationDescription","Details"]
["structureOnTopOfLiftStation",{"$f":"IF(IV!EM189 = TRUE,\"Y\",\"N\")","v":"N"},null,null,"structureOnTopOfLiftStation","Are any buildings or structures located on top of the lift station?"]
["WaterSystemViolationDescription",{"$f":"IV!EQ192","v":0},null,null,"WaterSystemViolationDescription","Details"]
["isEquipmentAccessible",{"$f":"IF(IV!EM194 = TRUE,\"Y\",\"N\")","v":"N"},null,null,"isEquipmentAccessible","Is equipment accessible to individuals other than authorized personnel?"]
["WaterSystemViolationDescription",{"$f":"IV!EQ197","v":0},null,null,"WaterSystemViolationDescription","Details"]
["currentOrPreviousViolations",{"$f":"IF(IV!EM199 = TRUE,\"Y\",\"N\")","v":"N"},null,null,"currentOrPreviousViolations","Are there any current or previous violations?"]
["WaterSystemViolationDescription",{"$f":"IV!EQ202","v":0},null,null,"WaterSystemViolationDescription","Details"]
["atypicalSystemForMarket",{"$f":"IF(IV!EM204 = TRUE,\"Y\",\"N\")","v":"N"},null,null,"atypicalSystemForMarket","Is this system type atypical for the market?"]
["WaterSystemViolationDescription",{"$f":"IV!EQ207","v":0},null,null,"WaterSystemViolationDescription","Details"]
["otherPersonsAuthorized",{"$f":"IF(IV!EM209 = TRUE,\"Y\",\"N\")","v":"N"},null,null,"otherPersonsAuthorized","Is any other person or property, other than the Borrower or subject property, authorized to use the system?"]
["WaterSystemViolationDescription",{"$f":"IV!EQ212","v":0},null,null,"WaterSystemViolationDescription","Details"]
["partsOwnedByResidents",{"$f":"IF(IV!EM214 = TRUE,\"Y\",\"N\")","v":"N"},null,null,"partsOwnedByResidents","Is any part of the system owned or maintained by the residents?"]
["WaterSystemViolationDescription",{"$f":"IV!EQ217","v":0},null,null,"WaterSystemViolationDescription","Details"]
["failureToMeetRequirements",{"$f":"IF(IV!EM219 = TRUE,\"Y\",\"N\")","v":"N"},null,null,"failureToMeetRequirements","Does the system fail to meet or exceed applicable federal, state and/or local requirements?"]
["WaterSystemViolationDescription",{"$f":"IV!EQ222","v":0},null,null,"WaterSystemViolationDescription","Details"]

{"sheet":"Section 5 DD","index":18,"n_rows":45,"n_cols":5,"rows_kept":45,"cut":false,"hidden":false,"merged":[]}
["Is the property a Manufactured Housing Community (\"MHC\"), or does it contain MHC units?",{"$f":"rngMHCYesNo","v":false},{"$f":"IF(B1=TRUE,\"Y\",\"N\")","v":"N"},"ManufacturedHousingInd"]
["How large are the pad sites?  What size homes can they accommodate (e.g., single-wide, double-wide, etc.)?",{"$f":"V!EO25","v":0},null,"ManufacturedHousingPadSiteSizeDescription"]
["Are there any homes that do not conform to the requirements of the Federal Manufactured Home ",{"$f":"V!EM27","v":false},{"$f":"IF(B3=TRUE,\"Y\",\"N\")","v":"N"},"constructionAndSafetyStandardsConformity","ViolationType\nViolationInd"]
["Provide Details",{"$f":"V!EO31","v":0},null,"ViolationDescription"]
["Are there any homes that were not installed in compliance with all zoning and building codes?",{"$f":"V!EM33","v":false},{"$f":"IF(B5=TRUE,\"Y\",\"N\")","v":"N"},"homesNotInZoningCompliance","ViolationType\nViolationInd"]
["Provide Details",{"$f":"V!EO36","v":0},null,"ViolationDescription "]
["Are there any decks or patios that are not professionally built, or do not provide sound and adequate access to all",{"$f":"V!EM38","v":false},{"$f":"IF(B7=TRUE,\"Y\",\"N\")","v":"N"},"homesWithUnprofessionalDecksAndPatios","ViolationType\nViolationInd"]
["Provide Details",{"$f":"V!EO42","v":0},null,"ViolationDescription"]
["Are there any homes that have not been professionally skirted?",{"$f":"V!EM44","v":false},{"$f":"IF(B9=TRUE,\"Y\",\"N\")","v":"N"},"homesWithUnprofessionalSkirting","ViolationType\nViolationInd"]
["Identify units without skirting",{"$f":"V!EO47","v":0},null,"ViolationDescription"]
["Are there any homes with exposed hitches?",{"$f":"V!EM49","v":false},{"$f":"IF(B11=TRUE,\"Y\",\"N\")","v":"N"},"homesWithExposedHitches","ViolationType\nViolationInd"]
["Identify units with exposed hitches",{"$f":"V!EO52","v":0},null,"ViolationDescription"]
["Are tenant-owned ancillary structures (e.g., sheds, playhouses, etc.) allowed on the pad sites?",{"$f":"V!EM54","v":false},{"$f":"IF(B13=TRUE,\"Y\",\"N\")","v":"N"},"tenantOwnedStructures","ViolationType\nViolationInd"]
["Provide Details",{"$f":"V!EO57","v":0},null,"ViolationDescription"]
["Are any deficiencies present regarding these structures that could have a detrimental effect on the homes or",{"$f":"V!EM59","v":false},{"$f":"IF(B15=TRUE,\"Y\",\"N\")","v":"N"},"tenantOwnedStructures.deficienciesPresent","ViolationType\nViolationInd"]
["Provide Details",{"$f":"V!EO63","v":0},null,"ViolationDescription"]
["Did any of the borrower-owned homes fail to meet any local seismic codes or requirements?",{"$f":"V!EM65","v":false},{"$f":"IF(B17=TRUE,\"Y\",\"N\")","v":"N"},"borrowerOwnedHomesNotMeetingSeismicCodes","ViolationType\nViolationInd"]
["Provide Details",{"$f":"rngMHC_Q7Desc","v":0},null,"ViolationDescription"]
["What utilities are available at each pad site?",null,null,"ManufacturedHousingUtility","UtilityServiceType"]
["Municipal Water",{"$f":"V!EQ72","v":false},null,"municipalWater"]
["Private Water",{"$f":"V!ER72","v":false},null,"privateWater"]
["Electric",{"$f":"V!ES72","v":false},null,"electric"]
["Gas",{"$f":"V!ET72","v":false},null,"gas"]
["Municipal Sewer",{"$f":"V!EU72","v":false},null,"municipalSewer"]
["Private Sewer",{"$f":"V!EV72","v":false},null,"privateSewer"]
["Other",{"$f":"V!EM74","v":false},{"$f":"IF(B26=TRUE,\"Y\",\"N\")","v":"N"},"other"]
["Provide Details for \"Other\"",{"$f":"V!EO77","v":0},null,"OtherTypeDescription"]
["Is the property located in a flood zone?",{"$f":"V!EM79","v":false},{"$f":"IF(B28=TRUE,\"Y\",\"N\")","v":"N"},"propertyInFloodZone","ViolationType\nViolationInd"]
["Provide details regarding the number of pad sites and common buildings that are affected.",{"$f":"V!EO82","v":0},null,"ViolationDescription"]
["Are any of the pad sites supplied with less than 60 amperes of power?",{"$f":"V!EM84","v":false},{"$f":"IF(B30=TRUE,\"Y\",\"N\")","v":"N"},"lowAmperagePads","ViolationType\nViolationInd"]
["Does the available level of power fail to meet any state and local building codes?",{"$f":"V!EM86","v":false},{"$f":"IF(B31=TRUE,\"Y\",\"N\")","v":"N"},"lowAmperagePads.codeFailure","ViolationType\nViolationInd"]
["Provide Details",{"$f":"V!EO89","v":0},null,"ViolationDescription"]
["Is the current level of power insufficient for any home(s)?",{"$f":"V!EM91","v":false},{"$f":"IF(B33=TRUE,\"Y\",\"N\")","v":"N"},"lowAmperagePads.insufficientPower","ViolationType\nViolationInd"]
["Provide Details",{"$f":"V!EO94","v":0},null,"ViolationDescription"]
["Are there any pad sites not ready for occupancy (missing road access, connections to utilities, curb cuts, etc.)?",{"$f":"V!EM96","v":false},{"$f":"IF(B35=TRUE,\"Y\",\"N\")","v":"N"},"padsNotReadyForOccupancy","ViolationType\nViolationInd"]
["List the pad site numbers, and explain why each pad site is not ready for occupancy:",{"$f":"V!EO99","v":0},null,"ViolationDescription"]
["Do any pads have unpaved or gravel driveways (e.g., no asphalt, concrete, etc.)?",{"$f":"V!EM101","v":false},{"$f":"IF(B37=TRUE,\"Y\",\"N\")","v":"N"},"padsWithUnpavedDriveways","ViolationType\nViolationInd"]
["For all pad sites with unpaved driveways, please list the pad site numbers and the current state of the driveways:",{"$f":"V!E118","v":0},null,"ViolationDescription"]
["Are any of the pad sites with unpaved driveways currently occupied?",{"$f":"V!EM103","v":false},{"$f":"IF(B39=TRUE,\"Y\",\"N\")","v":"N"},"UnpavedDrivewayPadSiteWithCurrentlyOccupiedHomeInd"]
["How many?",{"$f":"rngMHC_Q11aDesc","v":0},null,"UnpavedDrivewayPadSiteWithCurrentlyOccupiedHomeCount"]
["Are any of the pad sites with unpaved driveways currently vacant/down/offline?",{"$f":"V!EM107","v":false},{"$f":"IF(B41=TRUE,\"Y\",\"N\")","v":"N"},"UnpavedDrivewayPadSiteWithVacantDownOfflineHomeInd"]
["How many pad sites with unpaved driveways have a vacant home on them?",{"$f":"rngMHC_Q11baDesc","v":0},null,"UnpavedDrivewayPadSiteWithVacantHomeCount"]
["How many pad sites with unpaved driveways have never had a home on them?",{"$f":"rngMHC_Q11bbDesc","v":0},null,"UnpavedDrivewayPadSiteNeverHadHomeCount"]
["How many pad sites with unpaved driveways have had a home on them in the past, but don't now?",{"$f":"rngMHC_Q11bcDesc","v":0},null,"UnpavedDrivewayPadSiteWithPastNotPresentHomeCount"]
["What is the total cost to pave all unpaved driveways?",{"$f":"V!DT115","v":0},null,"UnpavedDrivewayPadSiteTotalPavingCostAmt"]

{"sheet":"Parse JSON","index":19,"n_rows":2,"n_cols":2,"rows_kept":2,"cut":false,"hidden":false,"merged":[]}
[]
["Save Location:","f1105 PCA with changes 4-23-21 MORITH.json"]

{"sheet":"RawData Site","index":20,"n_rows":34,"n_cols":23,"rows_kept":34,"cut":false,"hidden":false,"merged":[]}
["ItemType","EstUsefulLifeYrCountRangeValue","RatingType","RemainingUsefulLifeYrRangeValue","RepairPriorityType","CommentText","ItemCount","UnitOfMeasureType","CapitalExpenditurePerUnitOfMeasureCostAmt","Year 1","Year 2","Year 3","Year 4","Year 5","Year 6","Year 7","Year 8","Year 9","Year 10","Year 11","Year 12","TotalCapitalExpenditureAmt"]
["Carports",{"$f":"IF(ISBLANK(II!AL24),\"\",II!AL24)","v":""},{"$f":"IF(ISBLANK(II!BD24),\"\",II!BD24)","v":""},{"$f":"IF(ISBLANK(II!BV24),\"\",II!BV24)","v":""},{"$f":"IF(ISBLANK(II!CN24),\"\",II!CN24)","v":""},{"$f":"IF(ISBLANK(II!DF24),\"\",II!DF24)","v":""},{"$f":"IF(ISBLANK(VI!AU27),\"\",VI!AU27)","v":""},{"$f":"IF(ISBLANK(VI!BG27),\"\",VI!BG27)","v":""},{"$f":"IF(ISBLANK(VI!BS27),\"\",VI!BS27)","v":""},{"$f":"IF(ISBLANK(VI!CG27),\"\",VI!CG27)","v":""},{"$f":"IF(ISBLANK(VI!CR27),\"\",VI!CR27)","v":""},{"$f":"IF(ISBLANK(VI!DC27),\"\",VI!DC27)","v":""},{"$f":"IF(ISBLANK(VI!DN27),\"\",VI!DN27)","v":""},{"$f":"IF(ISBLANK(VI!DY27),\"\",VI!DY27)","v":""},{"$f":"IF(ISBLANK(VI!EJ27),\"\",VI!EJ27)","v":""},{"$f":"IF(ISBLANK(VI!EU27),\"\",VI!EU27)","v":""},{"$f":"IF(ISBLANK(VI!FF27),\"\",VI!FF27)","v":""},{"$f":"IF(ISBLANK(VI!FQ27),\"\",VI!FQ27)","v":""},{"$f":"IF(ISBLANK(VI!GB27),\"\",VI!GB27)","v":""},{"$f":"IF(ISBLANK(VI!GM27),\"\",VI!GM27)","v":""},{"$f":"IF(ISBLANK(VI!GX27),\"\",VI!GX27)","v":""},{"$f":"IF(SUM(J2:U2)=0,\"\",SUM(J2:U2))","v":""},{"$f":"CONCATENATE(B2&C2&D2&E2&F2&G2&H2&I2)","v":""}]
["Garages",{"$f":"IF(ISBLANK(II!AL25),\"\",II!AL25)","v":""},{"$f":"IF(ISBLANK(II!BD25),\"\",II!BD25)","v":""},{"$f":"IF(ISBLANK(II!BV25),\"\",II!BV25)","v":""},{"$f":"IF(ISBLANK(II!CN25),\"\",II!CN25)","v":""},{"$f":"IF(ISBLANK(II!DF25),\"\",II!DF25)","v":""},{"$f":"IF(ISBLANK(VI!AU28),\"\",VI!AU28)","v":""},{"$f":"IF(ISBLANK(VI!BG28),\"\",VI!BG28)","v":""},{"$f":"IF(ISBLANK(VI!BS28),\"\",VI!BS28)","v":""},{"$f":"IF(ISBLANK(VI!CG28),\"\",VI!CG28)","v":""},{"$f":"IF(ISBLANK(VI!CR28),\"\",VI!CR28)","v":""},{"$f":"IF(ISBLANK(VI!DC28),\"\",VI!DC28)","v":""},{"$f":"IF(ISBLANK(VI!DN28),\"\",VI!DN28)","v":""},{"$f":"IF(ISBLANK(VI!DY28),\"\",VI!DY28)","v":""},{"$f":"IF(ISBLANK(VI!EJ28),\"\",VI!EJ28)","v":""},{"$f":"IF(ISBLANK(VI!EU28),\"\",VI!EU28)","v":""},{"$f":"IF(ISBLANK(VI!FF28),\"\",VI!FF28)","v":""},{"$f":"IF(ISBLANK(VI!FQ28),\"\",VI!FQ28)","v":""},{"$f":"IF(ISBLANK(VI!GB28),\"\",VI!GB28)","v":""},{"$f":"IF(ISBLANK(VI!GM28),\"\",VI!GM28)","v":""},{"$f":"IF(ISBLANK(VI!GX28),\"\",VI!GX28)","v":""},{"$f":"IF(SUM(J3:U3)=0,\"\",SUM(J3:U3))","v":""},""]
["Maintenance structures",{"$f":"IF(ISBLANK(II!AL26),\"\",II!AL26)","v":""},{"$f":"IF(ISBLANK(II!BD26),\"\",II!BD26)","v":""},{"$f":"IF(ISBLANK(II!BV26),\"\",II!BV26)","v":""},{"$f":"IF(ISBLANK(II!CN26),\"\",II!CN26)","v":""},{"$f":"IF(ISBLANK(II!DF26),\"\",II!DF26)","v":""},{"$f":"IF(ISBLANK(VI!AU29),\"\",VI!AU29)","v":""},{"$f":"IF(ISBLANK(VI!BG29),\"\",VI!BG29)","v":""},{"$f":"IF(ISBLANK(VI!BS29),\"\",VI!BS29)","v":""},{"$f":"IF(ISBLANK(VI!CG29),\"\",VI!CG29)","v":""},{"$f":"IF(ISBLANK(VI!CR29),\"\",VI!CR29)","v":""},{"$f":"IF(ISBLANK(VI!DC29),\"\",VI!DC29)","v":""},{"$f":"IF(ISBLANK(VI!DN29),\"\",VI!DN29)","v":""},{"$f":"IF(ISBLANK(VI!DY29),\"\",VI!DY29)","v":""},{"$f":"IF(ISBLANK(VI!EJ29),\"\",VI!EJ29)","v":""},{"$f":"IF(ISBLANK(VI!EU29),\"\",VI!EU29)","v":""},{"$f":"IF(ISBLANK(VI!FF29),\"\",VI!FF29)","v":""},{"$f":"IF(ISBLANK(VI!FQ29),\"\",VI!FQ29)","v":""},{"$f":"IF(ISBLANK(VI!GB29),\"\",VI!GB29)","v":""},{"$f":"IF(ISBLANK(VI!GM29),\"\",VI!GM29)","v":""},{"$f":"IF(ISBLANK(VI!GX29),\"\",VI!GX29)","v":""},"",""]
["Trash enclosures",{"$f":"IF(ISBLANK(II!AL27),\"\",II!AL27)","v":""},{"$f":"IF(ISBLANK(II!BD27),\"\",II!BD27)","v":""},{"$f":"IF(ISBLANK(II!BV27),\"\",II!BV27)","v":""},{"$f":"IF(ISBLANK(II!CN27),\"\",II!CN27)","v":""},{"$f":"IF(ISBLANK(II!DF27),\"\",II!DF27)","v":""},{"$f":"IF(ISBLANK(VI!AU30),\"\",VI!AU30)","v":""},{"$f":"IF(ISBLANK(VI!BG30),\"\",VI!BG30)","v":""},{"$f":"IF(ISBLANK(VI!BS30),\"\",VI!BS30)","v":""},{"$f":"IF(ISBLANK(VI!CG30),\"\",VI!CG30)","v":""},{"$f":"IF(ISBLANK(VI!CR30),\"\",VI!CR30)","v":""},{"$f":"IF(ISBLANK(VI!DC30),\"\",VI!DC30)","v":""},{"$f":"IF(ISBLANK(VI!DN30),\"\",VI!DN30)","v":""},{"$f":"IF(ISBLANK(VI!DY30),\"\",VI!DY30)","v":""},{"$f":"IF(ISBLANK(VI!EJ30),\"\",VI!EJ30)","v":""},{"$f":"IF(ISBLANK(VI!EU30),\"\",VI!EU30)","v":""},{"$f":"IF(ISBLANK(VI!FF30),\"\",VI!FF30)","v":""},{"$f":"IF(ISBLANK(VI!FQ30),\"\",VI!FQ30)","v":""},{"$f":"IF(ISBLANK(VI!GB30),\"\",VI!GB30)","v":""},{"$f":"IF(ISBLANK(VI!GM30),\"\",VI!GM30)","v":""},{"$f":"IF(ISBLANK(VI!GX30),\"\",VI!GX30)","v":""},"",""]
["Roadways/Parking lots",{"$f":"IF(ISBLANK(II!AL28),\"\",II!AL28)","v":""},{"$f":"IF(ISBLANK(II!BD28),\"\",II!BD28)","v":""},{"$f":"IF(ISBLANK(II!BV28),\"\",II!BV28)","v":""},{"$f":"IF(ISBLANK(II!CN28),\"\",II!CN28)","v":""},{"$f":"IF(ISBLANK(II!DF28),\"\",II!DF28)","v":""},{"$f":"IF(ISBLANK(VI!AU31),\"\",VI!AU31)","v":""},{"$f":"IF(ISBLANK(VI!BG31),\"\",VI!BG31)","v":""},{"$f":"IF(ISBLANK(VI!BS31),\"\",VI!BS31)","v":""},{"$f":"IF(ISBLANK(VI!CG31),\"\",VI!CG31)","v":""},{"$f":"IF(ISBLANK(VI!CR31),\"\",VI!CR31)","v":""},{"$f":"IF(ISBLANK(VI!DC31),\"\",VI!DC31)","v":""},{"$f":"IF(ISBLANK(VI!DN31),\"\",VI!DN31)","v":""},{"$f":"IF(ISBLANK(VI!DY31),\"\",VI!DY31)","v":""},{"$f":"IF(ISBLANK(VI!EJ31),\"\",VI!EJ31)","v":""},{"$f":"IF(ISBLANK(VI!EU31),\"\",VI!EU31)","v":""},{"$f":"IF(ISBLANK(VI!FF31),\"\",VI!FF31)","v":""},{"$f":"IF(ISBLANK(VI!FQ31),\"\",VI!FQ31)","v":""},{"$f":"IF(ISBLANK(VI!GB31),\"\",VI!GB31)","v":""},{"$f":"IF(ISBLANK(VI!GM31),\"\",VI!GM31)","v":""},{"$f":"IF(ISBLANK(VI!GX31),\"\",VI!GX31)","v":""},"",""]
["Asphaltic concrete",{"$f":"IF(ISBLANK(II!AL29),\"\",II!AL29)","v":""},{"$f":"IF(ISBLANK(II!BD29),\"\",II!BD29)","v":""},{"$f":"IF(ISBLANK(II!BV29),\"\",II!BV29)","v":""},{"$f":"IF(ISBLANK(II!CN29),\"\",II!CN29)","v":""},{"$f":"IF(ISBLANK(II!DF29),\"\",II!DF29)","v":""},{"$f":"IF(ISBLANK(VI!AU32),\"\",VI!AU32)","v":""},{"$f":"IF(ISBLANK(VI!BG32),\"\",VI!BG32)","v":""},{"$f":"IF(ISBLANK(VI!BS32),\"\",VI!BS32)","v":""},{"$f":"IF(ISBLANK(VI!CG32),\"\",VI!CG32)","v":""},{"$f":"IF(ISBLANK(VI!CR32),\"\",VI!CR32)","v":""},{"$f":"IF(ISBLANK(VI!DC32),\"\",VI!DC32)","v":""},{"$f":"IF(ISBLANK(VI!DN32),\"\",VI!DN32)","v":""},{"$f":"IF(ISBLANK(VI!DY32),\"\",VI!DY32)","v":""},{"$f":"IF(ISBLANK(VI!EJ32),\"\",VI!EJ32)","v":""},{"$f":"IF(ISBLANK(VI!EU32),\"\",VI!EU32)","v":""},{"$f":"IF(ISBLANK(VI!FF32),\"\",VI!FF32)","v":""},{"$f":"IF(ISBLANK(VI!FQ32),\"\",VI!FQ32)","v":""},{"$f":"IF(ISBLANK(VI!GB32),\"\",VI!GB32)","v":""},{"$f":"IF(ISBLANK(VI!GM32),\"\",VI!GM32)","v":""},{"$f":"IF(ISBLANK(VI!GX32),\"\",VI!GX32)","v":""},"",""]
["Seal coat",{"$f":"IF(ISBLANK(II!AL30),\"\",II!AL30)","v":""},{"$f":"IF(ISBLANK(II!BD30),\"\",II!BD30)","v":""},{"$f":"IF(ISBLANK(II!BV30),\"\",II!BV30)","v":""},{"$f":"IF(ISBLANK(II!CN30),\"\",II!CN30)","v":""},{"$f":"IF(ISBLANK(II!DF30),\"\",II!DF30)","v":""},{"$f":"IF(ISBLANK(VI!AU33),\"\",VI!AU33)","v":""},{"$f":"IF(ISBLANK(VI!BG33),\"\",VI!BG33)","v":""},{"$f":"IF(ISBLANK(VI!BS33),\"\",VI!BS33)","v":""},{"$f":"IF(ISBLANK(VI!CG33),\"\",VI!CG33)","v":""},{"$f":"IF(ISBLANK(VI!CR33),\"\",VI!CR33)","v":""},{"$f":"IF(ISBLANK(VI!DC33),\"\",VI!DC33)","v":""},{"$f":"IF(ISBLANK(VI!DN33),\"\",VI!DN33)","v":""},{"$f":"IF(ISBLANK(VI!DY33),\"\",VI!DY33)","v":""},{"$f":"IF(ISBLANK(VI!EJ33),\"\",VI!EJ33)","v":""},{"$f":"IF(ISBLANK(VI!EU33),\"\",VI!EU33)","v":""},{"$f":"IF(ISBLANK(VI!FF33),\"\",VI!FF33)","v":""},{"$f":"IF(ISBLANK(VI!FQ33),\"\",VI!FQ33)","v":""},{"$f":"IF(ISBLANK(VI!GB33),\"\",VI!GB33)","v":""},{"$f":"IF(ISBLANK(VI!GM33),\"\",VI!GM33)","v":""},{"$f":"IF(ISBLANK(VI!GX33),\"\",VI!GX33)","v":""},"",""]
["Concrete paving",{"$f":"IF(ISBLANK(II!AL31),\"\",II!AL31)","v":""},{"$f":"IF(ISBLANK(II!BD31),\"\",II!BD31)","v":""},{"$f":"IF(ISBLANK(II!BV31),\"\",II!BV31)","v":""},{"$f":"IF(ISBLANK(II!CN31),\"\",II!CN31)","v":""},{"$f":"IF(ISBLANK(II!DF31),\"\",II!DF31)","v":""},{"$f":"IF(ISBLANK(VI!AU34),\"\",VI!AU34)","v":""},{"$f":"IF(ISBLANK(VI!BG34),\"\",VI!BG34)","v":""},{"$f":"IF(ISBLANK(VI!BS34),\"\",VI!BS34)","v":""},{"$f":"IF(ISBLANK(VI!CG34),\"\",VI!CG34)","v":""},{"$f":"IF(ISBLANK(VI!CR34),\"\",VI!CR34)","v":""},{"$f":"IF(ISBLANK(VI!DC34),\"\",VI!DC34)","v":""},{"$f":"IF(ISBLANK(VI!DN34),\"\",VI!DN34)","v":""},{"$f":"IF(ISBLANK(VI!DY34),\"\",VI!DY34)","v":""},{"$f":"IF(ISBLANK(VI!EJ34),\"\",VI!EJ34)","v":""},{"$f":"IF(ISBLANK(VI!EU34),\"\",VI!EU34)","v":""},{"$f":"IF(ISBLANK(VI!FF34),\"\",VI!FF34)","v":""},{"$f":"IF(ISBLANK(VI!FQ34),\"\",VI!FQ34)","v":""},{"$f":"IF(ISBLANK(VI!GB34),\"\",VI!GB34)","v":""},{"$f":"IF(ISBLANK(VI!GM34),\"\",VI!GM34)","v":""},{"$f":"IF(ISBLANK(VI!GX34),\"\",VI!GX34)","v":""},"",""]
["Other paving",{"$f":"IF(ISBLANK(II!AL32),\"\",II!AL32)","v":""},{"$f":"IF(ISBLANK(II!BD32),\"\",II!BD32)","v":""},{"$f":"IF(ISBLANK(II!BV32),\"\",II!BV32)","v":""},{"$f":"IF(ISBLANK(II!CN32),\"\",II!CN32)","v":""},{"$f":"IF(ISBLANK(II!DF32),\"\",II!DF32)","v":""},{"$f":"IF(ISBLANK(VI!AU35),\"\",VI!AU35)","v":""},{"$f":"IF(ISBLANK(VI!BG35),\"\",VI!BG35)","v":""},{"$f":"IF(ISBLANK(VI!BS35),\"\",VI!BS35)","v":""},{"$f":"IF(ISBLANK(VI!CG35),\"\",VI!CG35)","v":""},{"$f":"IF(ISBLANK(VI!CR35),\"\",VI!CR35)","v":""},{"$f":"IF(ISBLANK(VI!DC35),\"\",VI!DC35)","v":""},{"$f":"IF(ISBLANK(VI!DN35),\"\",VI!DN35)","v":""},{"$f":"IF(ISBLANK(VI!DY35),\"\",VI!DY35)","v":""},{"$f":"IF(ISBLANK(VI!EJ35),\"\",VI!EJ35)","v":""},{"$f":"IF(ISBLANK(VI!EU35),\"\",VI!EU35)","v":""},{"$f":"IF(ISBLANK(VI!FF35),\"\",VI!FF35)","v":""},{"$f":"IF(ISBLANK(VI!FQ35),\"\",VI!FQ35)","v":""},{"$f":"IF(ISBLANK(VI!GB35),\"\",VI!GB35)","v":""},{"$f":"IF(ISBLANK(VI!GM35),\"\",VI!GM35)","v":""},{"$f":"IF(ISBLANK(VI!GX35),\"\",VI!GX35)","v":""},"",""]
["Striping",{"$f":"IF(ISBLANK(II!AL33),\"\",II!AL33)","v":""},{"$f":"IF(ISBLANK(II!BD33),\"\",II!BD33)","v":""},{"$f":"IF(ISBLANK(II!BV33),\"\",II!BV33)","v":""},{"$f":"IF(ISBLANK(II!CN33),\"\",II!CN33)","v":""},{"$f":"IF(ISBLANK(II!DF33),\"\",II!DF33)","v":""},{"$f":"IF(ISBLANK(VI!AU36),\"\",VI!AU36)","v":""},{"$f":"IF(ISBLANK(VI!BG36),\"\",VI!BG36)","v":""},{"$f":"IF(ISBLANK(VI!BS36),\"\",VI!BS36)","v":""},{"$f":"IF(ISBLANK(VI!CG36),\"\",VI!CG36)","v":""},{"$f":"IF(ISBLANK(VI!CR36),\"\",VI!CR36)","v":""},{"$f":"IF(ISBLANK(VI!DC36),\"\",VI!DC36)","v":""},{"$f":"IF(ISBLANK(VI!DN36),\"\",VI!DN36)","v":""},{"$f":"IF(ISBLANK(VI!DY36),\"\",VI!DY36)","v":""},{"$f":"IF(ISBLANK(VI!EJ36),\"\",VI!EJ36)","v":""},{"$f":"IF(ISBLANK(VI!EU36),\"\",VI!EU36)","v":""},{"$f":"IF(ISBLANK(VI!FF36),\"\",VI!FF36)","v":""},{"$f":"IF(ISBLANK(VI!FQ36),\"\",VI!FQ36)","v":""},{"$f":"IF(ISBLANK(VI!GB36),\"\",VI!GB36)","v":""},{"$f":"IF(ISBLANK(VI!GM36),\"\",VI!GM36)","v":""},{"$f":"IF(ISBLANK(VI!GX36),\"\",VI!GX36)","v":""},"",""]
["Curb and gutter",{"$f":"IF(ISBLANK(II!AL34),\"\",II!AL34)","v":""},{"$f":"IF(ISBLANK(II!BD34),\"\",II!BD34)","v":""},{"$f":"IF(ISBLANK(II!BV34),\"\",II!BV34)","v":""},{"$f":"IF(ISBLANK(II!CN34),\"\",II!CN34)","v":""},{"$f":"IF(ISBLANK(II!DF34),\"\",II!DF34)","v":""},{"$f":"IF(ISBLANK(VI!AU37),\"\",VI!AU37)","v":""},{"$f":"IF(ISBLANK(VI!BG37),\"\",VI!BG37)","v":""},{"$f":"IF(ISBLANK(VI!BS37),\"\",VI!BS37)","v":""},{"$f":"IF(ISBLANK(VI!CG37),\"\",VI!CG37)","v":""},{"$f":"IF(ISBLANK(VI!CR37),\"\",VI!CR37)","v":""},{"$f":"IF(ISBLANK(VI!DC37),\"\",VI!DC37)","v":""},{"$f":"IF(ISBLANK(VI!DN37),\"\",VI!DN37)","v":""},{"$f":"IF(ISBLANK(VI!DY37),\"\",VI!DY37)","v":""},{"$f":"IF(ISBLANK(VI!EJ37),\"\",VI!EJ37)","v":""},{"$f":"IF(ISBLANK(VI!EU37),\"\",VI!EU37)","v":""},{"$f":"IF(ISBLANK(VI!FF37),\"\",VI!FF37)","v":""},{"$f":"IF(ISBLANK(VI!FQ37),\"\",VI!FQ37)","v":""},{"$f":"IF(ISBLANK(VI!GB37),\"\",VI!GB37)","v":""},{"$f":"IF(ISBLANK(VI!GM37),\"\",VI!GM37)","v":""},{"$f":"IF(ISBLANK(VI!GX37),\"\",VI!GX37)","v":""},"",""]
["Interior gutter (swale)",{"$f":"IF(ISBLANK(II!AL35),\"\",II!AL35)","v":""},{"$f":"IF(ISBLANK(II!BD35),\"\",II!BD35)","v":""},{"$f":"IF(ISBLANK(II!BV35),\"\",II!BV35)","v":""},{"$f":"IF(ISBLANK(II!CN35),\"\",II!CN35)","v":""},{"$f":"IF(ISBLANK(II!DF35),\"\",II!DF35)","v":""},{"$f":"IF(ISBLANK(VI!AU38),\"\",VI!AU38)","v":""},{"$f":"IF(ISBLANK(VI!BG38),\"\",VI!BG38)","v":""},{"$f":"IF(ISBLANK(VI!BS38),\"\",VI!BS38)","v":""},{"$f":"IF(ISBLANK(VI!CG38),\"\",VI!CG38)","v":""},{"$f":"IF(ISBLANK(VI!CR38),\"\",VI!CR38)","v":""},{"$f":"IF(ISBLANK(VI!DC38),\"\",VI!DC38)","v":""},{"$f":"IF(ISBLANK(VI!DN38),\"\",VI!DN38)","v":""},{"$f":"IF(ISBLANK(VI!DY38),\"\",VI!DY38)","v":""},{"$f":"IF(ISBLANK(VI!EJ38),\"\",VI!EJ38)","v":""},{"$f":"IF(ISBLANK(VI!EU38),\"\",VI!EU38)","v":""},{"$f":"IF(ISBLANK(VI!FF38),\"\",VI!FF38)","v":""},{"$f":"IF(ISBLANK(VI!FQ38),\"\",VI!FQ38)","v":""},{"$f":"IF(ISBLANK(VI!GB38),\"\",VI!GB38)","v":""},{"$f":"IF(ISBLANK(VI!GM38),\"\",VI!GM38)","v":""},{"$f":"IF(ISBLANK(VI!GX38),\"\",VI!GX38)","v":""},"",""]
["Pedestrian paving/hardscape",{"$f":"IF(ISBLANK(II!AL36),\"\",II!AL36)","v":""},{"$f":"IF(ISBLANK(II!BD36),\"\",II!BD36)","v":""},{"$f":"IF(ISBLANK(II!BV36),\"\",II!BV36)","v":""},{"$f":"IF(ISBLANK(II!CN36),\"\",II!CN36)","v":""},{"$f":"IF(ISBLANK(II!DF36),\"\",II!DF36)","v":""},{"$f":"IF(ISBLANK(VI!AU39),\"\",VI!AU39)","v":""},{"$f":"IF(ISBLANK(VI!BG39),\"\",VI!BG39)","v":""},{"$f":"IF(ISBLANK(VI!BS39),\"\",VI!BS39)","v":""},{"$f":"IF(ISBLANK(VI!CG39),\"\",VI!CG39)","v":""},{"$f":"IF(ISBLANK(VI!CR39),\"\",VI!CR39)","v":""},{"$f":"IF(ISBLANK(VI!DC39),\"\",VI!DC39)","v":""},{"$f":"IF(ISBLANK(VI!DN39),\"\",VI!DN39)","v":""},{"$f":"IF(ISBLANK(VI!DY39),\"\",VI!DY39)","v":""},{"$f":"IF(ISBLANK(VI!EJ39),\"\",VI!EJ39)","v":""},{"$f":"IF(ISBLANK(VI!EU39),\"\",VI!EU39)","v":""},{"$f":"IF(ISBLANK(VI!FF39),\"\",VI!FF39)","v":""},{"$f":"IF(ISBLANK(VI!FQ39),\"\",VI!FQ39)","v":""},{"$f":"IF(ISBLANK(VI!GB39),\"\",VI!GB39)","v":""},{"$f":"IF(ISBLANK(VI!GM39),\"\",VI!GM39)","v":""},{"$f":"IF(ISBLANK(VI!GX39),\"\",VI!GX39)","v":""},"",""]
["Signage",{"$f":"IF(ISBLANK(II!AL37),\"\",II!AL37)","v":""},{"$f":"IF(ISBLANK(II!BD37),\"\",II!BD37)","v":""},{"$f":"IF(ISBLANK(II!BV37),\"\",II!BV37)","v":""},{"$f":"IF(ISBLANK(II!CN37),\"\",II!CN37)","v":""},{"$f":"IF(ISBLANK(II!DF37),\"\",II!DF37)","v":""},{"$f":"IF(ISBLANK(VI!AU40),\"\",VI!AU40)","v":""},{"$f":"IF(ISBLANK(VI!BG40),\"\",VI!BG40)","v":""},{"$f":"IF(ISBLANK(VI!BS40),\"\",VI!BS40)","v":""},{"$f":"IF(ISBLANK(VI!CG40),\"\",VI!CG40)","v":""},{"$f":"IF(ISBLANK(VI!CR40),\"\",VI!CR40)","v":""},{"$f":"IF(ISBLANK(VI!DC40),\"\",VI!DC40)","v":""},{"$f":"IF(ISBLANK(VI!DN40),\"\",VI!DN40)","v":""},{"$f":"IF(ISBLANK(VI!DY40),\"\",VI!DY40)","v":""},{"$f":"IF(ISBLANK(VI!EJ40),\"\",VI!EJ40)","v":""},{"$f":"IF(ISBLANK(VI!EU40),\"\",VI!EU40)","v":""},{"$f":"IF(ISBLANK(VI!FF40),\"\",VI!FF40)","v":""},{"$f":"IF(ISBLANK(VI!FQ40),\"\",VI!FQ40)","v":""},{"$f":"IF(ISBLANK(VI!GB40),\"\",VI!GB40)","v":""},{"$f":"IF(ISBLANK(VI!GM40),\"\",VI!GM40)","v":""},{"$f":"IF(ISBLANK(VI!GX40),\"\",VI!GX40)","v":""},"",""]
["Site utilities",{"$f":"IF(ISBLANK(II!AL38),\"\",II!AL38)","v":""},{"$f":"IF(ISBLANK(II!BD38),\"\",II!BD38)","v":""},{"$f":"IF(ISBLANK(II!BV38),\"\",II!BV38)","v":""},{"$f":"IF(ISBLANK(II!CN38),\"\",II!CN38)","v":""},{"$f":"IF(ISBLANK(II!DF38),\"\",II!DF38)","v":""},{"$f":"IF(ISBLANK(VI!AU41),\"\",VI!AU41)","v":""},{"$f":"IF(ISBLANK(VI!BG41),\"\",VI!BG41)","v":""},{"$f":"IF(ISBLANK(VI!BS41),\"\",VI!BS41)","v":""},{"$f":"IF(ISBLANK(VI!CG41),\"\",VI!CG41)","v":""},{"$f":"IF(ISBLANK(VI!CR41),\"\",VI!CR41)","v":""},{"$f":"IF(ISBLANK(VI!DC41),\"\",VI!DC41)","v":""},{"$f":"IF(ISBLANK(VI!DN41),\"\",VI!DN41)","v":""},{"$f":"IF(ISBLANK(VI!DY41),\"\",VI!DY41)","v":""},{"$f":"IF(ISBLANK(VI!EJ41),\"\",VI!EJ41)","v":""},{"$f":"IF(ISBLANK(VI!EU41),\"\",VI!EU41)","v":""},{"$f":"IF(ISBLANK(VI!FF41),\"\",VI!FF41)","v":""},{"$f":"IF(ISBLANK(VI!FQ41),\"\",VI!FQ41)","v":""},{"$f":"IF(ISBLANK(VI!GB41),\"\",VI!GB41)","v":""},{"$f":"IF(ISBLANK(VI!GM41),\"\",VI!GM41)","v":""},{"$f":"IF(ISBLANK(VI!GX41),\"\",VI!GX41)","v":""},"",""]
["Site water lines",{"$f":"IF(ISBLANK(II!AL39),\"\",II!AL39)","v":""},{"$f":"IF(ISBLANK(II!BD39),\"\",II!BD39)","v":""},{"$f":"IF(ISBLANK(II!BV39),\"\",II!BV39)","v":""},{"$f":"IF(ISBLANK(II!CN39),\"\",II!CN39)","v":""},{"$f":"IF(ISBLANK(II!DF39),\"\",II!DF39)","v":""},{"$f":"IF(ISBLANK(VI!AU42),\"\",VI!AU42)","v":""},{"$f":"IF(ISBLANK(VI!BG42),\"\",VI!BG42)","v":""},{"$f":"IF(ISBLANK(VI!BS42),\"\",VI!BS42)","v":""},{"$f":"IF(ISBLANK(VI!CG42),\"\",VI!CG42)","v":""},{"$f":"IF(ISBLANK(VI!CR42),\"\",VI!CR42)","v":""},{"$f":"IF(ISBLANK(VI!DC42),\"\",VI!DC42)","v":""},{"$f":"IF(ISBLANK(VI!DN42),\"\",VI!DN42)","v":""},{"$f":"IF(ISBLANK(VI!DY42),\"\",VI!DY42)","v":""},{"$f":"IF(ISBLANK(VI!EJ42),\"\",VI!EJ42)","v":""},{"$f":"IF(ISBLANK(VI!EU42),\"\",VI!EU42)","v":""},{"$f":"IF(ISBLANK(VI!FF42),\"\",VI!FF42)","v":""},{"$f":"IF(ISBLANK(VI!FQ42),\"\",VI!FQ42)","v":""},{"$f":"IF(ISBLANK(VI!GB42),\"\",VI!GB42)","v":""},{"$f":"IF(ISBLANK(VI!GM42),\"\",VI!GM42)","v":""},{"$f":"IF(ISBLANK(VI!GX42),\"\",VI!GX42)","v":""},"",""]
["Site sanitary lines",{"$f":"IF(ISBLANK(II!AL40),\"\",II!AL40)","v":""},{"$f":"IF(ISBLANK(II!BD40),\"\",II!BD40)","v":""},{"$f":"IF(ISBLANK(II!BV40),\"\",II!BV40)","v":""},{"$f":"IF(ISBLANK(II!CN40),\"\",II!CN40)","v":""},{"$f":"IF(ISBLANK(II!DF40),\"\",II!DF40)","v":""},{"$f":"IF(ISBLANK(VI!AU43),\"\",VI!AU43)","v":""},{"$f":"IF(ISBLANK(VI!BG43),\"\",VI!BG43)","v":""},{"$f":"IF(ISBLANK(VI!BS43),\"\",VI!BS43)","v":""},{"$f":"IF(ISBLANK(VI!CG43),\"\",VI!CG43)","v":""},{"$f":"IF(ISBLANK(VI!CR43),\"\",VI!CR43)","v":""},{"$f":"IF(ISBLANK(VI!DC43),\"\",VI!DC43)","v":""},{"$f":"IF(ISBLANK(VI!DN43),\"\",VI!DN43)","v":""},{"$f":"IF(ISBLANK(VI!DY43),\"\",VI!DY43)","v":""},{"$f":"IF(ISBLANK(VI!EJ43),\"\",VI!EJ43)","v":""},{"$f":"IF(ISBLANK(VI!EU43),\"\",VI!EU43)","v":""},{"$f":"IF(ISBLANK(VI!FF43),\"\",VI!FF43)","v":""},{"$f":"IF(ISBLANK(VI!FQ43),\"\",VI!FQ43)","v":""},{"$f":"IF(ISBLANK(VI!GB43),\"\",VI!GB43)","v":""},{"$f":"IF(ISBLANK(VI!GM43),\"\",VI!GM43)","v":""},{"$f":"IF(ISBLANK(VI!GX43),\"\",VI!GX43)","v":""},"",""]
["Site lighting",{"$f":"IF(ISBLANK(II!AL41),\"\",II!AL41)","v":""},{"$f":"IF(ISBLANK(II!BD41),\"\",II!BD41)","v":""},{"$f":"IF(ISBLANK(II!BV41),\"\",II!BV41)","v":""},{"$f":"IF(ISBLANK(II!CN41),\"\",II!CN41)","v":""},{"$f":"IF(ISBLANK(II!DF41),\"\",II!DF41)","v":""},{"$f":"IF(ISBLANK(VI!AU44),\"\",VI!AU44)","v":""},{"$f":"IF(ISBLANK(VI!BG44),\"\",VI!BG44)","v":""},{"$f":"IF(ISBLANK(VI!BS44),\"\",VI!BS44)","v":""},{"$f":"IF(ISBLANK(VI!CG44),\"\",VI!CG44)","v":""},{"$f":"IF(ISBLANK(VI!CR44),\"\",VI!CR44)","v":""},{"$f":"IF(ISBLANK(VI!DC44),\"\",VI!DC44)","v":""},{"$f":"IF(ISBLANK(VI!DN44),\"\",VI!DN44)","v":""},{"$f":"IF(ISBLANK(VI!DY44),\"\",VI!DY44)","v":""},{"$f":"IF(ISBLANK(VI!EJ44),\"\",VI!EJ44)","v":""},{"$f":"IF(ISBLANK(VI!EU44),\"\",VI!EU44)","v":""},{"$f":"IF(ISBLANK(VI!FF44),\"\",VI!FF44)","v":""},{"$f":"IF(ISBLANK(VI!FQ44),\"\",VI!FQ44)","v":""},{"$f":"IF(ISBLANK(VI!GB44),\"\",VI!GB44)","v":""},{"$f":"IF(ISBLANK(VI!GM44),\"\",VI!GM44)","v":""},{"$f":"IF(ISBLANK(VI!GX44),\"\",VI!GX44)","v":""},"",""]
["Site drainage (storm drainage)",{"$f":"IF(ISBLANK(II!AL42),\"\",II!AL42)","v":""},{"$f":"IF(ISBLANK(II!BD42),\"\",II!BD42)","v":""},{"$f":"IF(ISBLANK(II!BV42),\"\",II!BV42)","v":""},{"$f":"IF(ISBLANK(II!CN42),\"\",II!CN42)","v":""},{"$f":"IF(ISBLANK(II!DF42),\"\",II!DF42)","v":""},{"$f":"IF(ISBLANK(VI!AU45),\"\",VI!AU45)","v":""},{"$f":"IF(ISBLANK(VI!BG45),\"\",VI!BG45)","v":""},{"$f":"IF(ISBLANK(VI!BS45),\"\",VI!BS45)","v":""},{"$f":"IF(ISBLANK(VI!CG45),\"\",VI!CG45)","v":""},{"$f":"IF(ISBLANK(VI!CR45),\"\",VI!CR45)","v":""},{"$f":"IF(ISBLANK(VI!DC45),\"\",VI!DC45)","v":""},{"$f":"IF(ISBLANK(VI!DN45),\"\",VI!DN45)","v":""},{"$f":"IF(ISBLANK(VI!DY45),\"\",VI!DY45)","v":""},{"$f":"IF(ISBLANK(VI!EJ45),\"\",VI!EJ45)","v":""},{"$f":"IF(ISBLANK(VI!EU45),\"\",VI!EU45)","v":""},{"$f":"IF(ISBLANK(VI!FF45),\"\",VI!FF45)","v":""},{"$f":"IF(ISBLANK(VI!FQ45),\"\",VI!FQ45)","v":""},{"$f":"IF(ISBLANK(VI!GB45),\"\",VI!GB45)","v":""},{"$f":"IF(ISBLANK(VI!GM45),\"\",VI!GM45)","v":""},{"$f":"IF(ISBLANK(VI!GX45),\"\",VI!GX45)","v":""},"",""]
["Landscaping",{"$f":"IF(ISBLANK(II!AL43),\"\",II!AL43)","v":""},{"$f":"IF(ISBLANK(II!BD43),\"\",II!BD43)","v":""},{"$f":"IF(ISBLANK(II!BV43),\"\",II!BV43)","v":""},{"$f":"IF(ISBLANK(II!CN43),\"\",II!CN43)","v":""},{"$f":"IF(ISBLANK(II!DF43),\"\",II!DF43)","v":""},{"$f":"IF(ISBLANK(VI!AU46),\"\",VI!AU46)","v":""},{"$f":"IF(ISBLANK(VI!BG46),\"\",VI!BG46)","v":""},{"$f":"IF(ISBLANK(VI!BS46),\"\",VI!BS46)","v":""},{"$f":"IF(ISBLANK(VI!CG46),\"\",VI!CG46)","v":""},{"$f":"IF(ISBLANK(VI!CR46),\"\",VI!CR46)","v":""},{"$f":"IF(ISBLANK(VI!DC46),\"\",VI!DC46)","v":""},{"$f":"IF(ISBLANK(VI!DN46),\"\",VI!DN46)","v":""},{"$f":"IF(ISBLANK(VI!DY46),\"\",VI!DY46)","v":""},{"$f":"IF(ISBLANK(VI!EJ46),\"\",VI!EJ46)","v":""},{"$f":"IF(ISBLANK(VI!EU46),\"\",VI!EU46)","v":""},{"$f":"IF(ISBLANK(VI!FF46),\"\",VI!FF46)","v":""},{"$f":"IF(ISBLANK(VI!FQ46),\"\",VI!FQ46)","v":""},{"$f":"IF(ISBLANK(VI!GB46),\"\",VI!GB46)","v":""},{"$f":"IF(ISBLANK(VI!GM46),\"\",VI!GM46)","v":""},{"$f":"IF(ISBLANK(VI!GX46),\"\",VI!GX46)","v":""},"",""]
["Irrigation",{"$f":"IF(ISBLANK(II!AL44),\"\",II!AL44)","v":""},{"$f":"IF(ISBLANK(II!BD44),\"\",II!BD44)","v":""},{"$f":"IF(ISBLANK(II!BV44),\"\",II!BV44)","v":""},{"$f":"IF(ISBLANK(II!CN44),\"\",II!CN44)","v":""},{"$f":"IF(ISBLANK(II!DF44),\"\",II!DF44)","v":""},{"$f":"IF(ISBLANK(VI!AU47),\"\",VI!AU47)","v":""},{"$f":"IF(ISBLANK(VI!BG47),\"\",VI!BG47)","v":""},{"$f":"IF(ISBLANK(VI!BS47),\"\",VI!BS47)","v":""},{"$f":"IF(ISBLANK(VI!CG47),\"\",VI!CG47)","v":""},{"$f":"IF(ISBLANK(VI!CR47),\"\",VI!CR47)","v":""},{"$f":"IF(ISBLANK(VI!DC47),\"\",VI!DC47)","v":""},{"$f":"IF(ISBLANK(VI!DN47),\"\",VI!DN47)","v":""},{"$f":"IF(ISBLANK(VI!DY47),\"\",VI!DY47)","v":""},{"$f":"IF(ISBLANK(VI!EJ47),\"\",VI!EJ47)","v":""},{"$f":"IF(ISBLANK(VI!EU47),\"\",VI!EU47)","v":""},{"$f":"IF(ISBLANK(VI!FF47),\"\",VI!FF47)","v":""},{"$f":"IF(ISBLANK(VI!FQ47),\"\",VI!FQ47)","v":""},{"$f":"IF(ISBLANK(VI!GB47),\"\",VI!GB47)","v":""},{"$f":"IF(ISBLANK(VI!GM47),\"\",VI!GM47)","v":""},{"$f":"IF(ISBLANK(VI!GX47),\"\",VI!GX47)","v":""},"",""]
["Site fences",{"$f":"IF(ISBLANK(II!AL45),\"\",II!AL45)","v":""},{"$f":"IF(ISBLANK(II!BD45),\"\",II!BD45)","v":""},{"$f":"IF(ISBLANK(II!BV45),\"\",II!BV45)","v":""},{"$f":"IF(ISBLANK(II!CN45),\"\",II!CN45)","v":""},{"$f":"IF(ISBLANK(II!DF45),\"\",II!DF45)","v":""},{"$f":"IF(ISBLANK(VI!AU48),\"\",VI!AU48)","v":""},{"$f":"IF(ISBLANK(VI!BG48),\"\",VI!BG48)","v":""},{"$f":"IF(ISBLANK(VI!BS48),\"\",VI!BS48)","v":""},{"$f":"IF(ISBLANK(VI!CG48),\"\",VI!CG48)","v":""},{"$f":"IF(ISBLANK(VI!CR48),\"\",VI!CR48)","v":""},{"$f":"IF(ISBLANK(VI!DC48),\"\",VI!DC48)","v":""},{"$f":"IF(ISBLANK(VI!DN48),\"\",VI!DN48)","v":""},{"$f":"IF(ISBLANK(VI!DY48),\"\",VI!DY48)","v":""},{"$f":"IF(ISBLANK(VI!EJ48),\"\",VI!EJ48)","v":""},{"$f":"IF(ISBLANK(VI!EU48),\"\",VI!EU48)","v":""},{"$f":"IF(ISBLANK(VI!FF48),\"\",VI!FF48)","v":""},{"$f":"IF(ISBLANK(VI!FQ48),\"\",VI!FQ48)","v":""},{"$f":"IF(ISBLANK(VI!GB48),\"\",VI!GB48)","v":""},{"$f":"IF(ISBLANK(VI!GM48),\"\",VI!GM48)","v":""},{"$f":"IF(ISBLANK(VI!GX48),\"\",VI!GX48)","v":""},"",""]
["Tennis courts",{"$f":"IF(ISBLANK(II!AL46),\"\",II!AL46)","v":""},{"$f":"IF(ISBLANK(II!BD46),\"\",II!BD46)","v":""},{"$f":"IF(ISBLANK(II!BV46),\"\",II!BV46)","v":""},{"$f":"IF(ISBLANK(II!CN46),\"\",II!CN46)","v":""},{"$f":"IF(ISBLANK(II!DF46),\"\",II!DF46)","v":""},{"$f":"IF(ISBLANK(VI!AU49),\"\",VI!AU49)","v":""},{"$f":"IF(ISBLANK(VI!BG49),\"\",VI!BG49)","v":""},{"$f":"IF(ISBLANK(VI!BS49),\"\",VI!BS49)","v":""},{"$f":"IF(ISBLANK(VI!CG49),\"\",VI!CG49)","v":""},{"$f":"IF(ISBLANK(VI!CR49),\"\",VI!CR49)","v":""},{"$f":"IF(ISBLANK(VI!DC49),\"\",VI!DC49)","v":""},{"$f":"IF(ISBLANK(VI!DN49),\"\",VI!DN49)","v":""},{"$f":"IF(ISBLANK(VI!DY49),\"\",VI!DY49)","v":""},{"$f":"IF(ISBLANK(VI!EJ49),\"\",VI!EJ49)","v":""},{"$f":"IF(ISBLANK(VI!EU49),\"\",VI!EU49)","v":""},{"$f":"IF(ISBLANK(VI!FF49),\"\",VI!FF49)","v":""},{"$f":"IF(ISBLANK(VI!FQ49),\"\",VI!FQ49)","v":""},{"$f":"IF(ISBLANK(VI!GB49),\"\",VI!GB49)","v":""},{"$f":"IF(ISBLANK(VI!GM49),\"\",VI!GM49)","v":""},{"$f":"IF(ISBLANK(VI!GX49),\"\",VI!GX49)","v":""},"",""]
["Swimming pool and/or spa",{"$f":"IF(ISBLANK(II!AL47),\"\",II!AL47)","v":""},{"$f":"IF(ISBLANK(II!BD47),\"\",II!BD47)","v":""},{"$f":"IF(ISBLANK(II!BV47),\"\",II!BV47)","v":""},{"$f":"IF(ISBLANK(II!CN47),\"\",II!CN47)","v":""},{"$f":"IF(ISBLANK(II!DF47),\"\",II!DF47)","v":""},{"$f":"IF(ISBLANK(VI!AU50),\"\",VI!AU50)","v":""},{"$f":"IF(ISBLANK(VI!BG50),\"\",VI!BG50)","v":""},{"$f":"IF(ISBLANK(VI!BS50),\"\",VI!BS50)","v":""},{"$f":"IF(ISBLANK(VI!CG50),\"\",VI!CG50)","v":""},{"$f":"IF(ISBLANK(VI!CR50),\"\",VI!CR50)","v":""},{"$f":"IF(ISBLANK(VI!DC50),\"\",VI!DC50)","v":""},{"$f":"IF(ISBLANK(VI!DN50),\"\",VI!DN50)","v":""},{"$f":"IF(ISBLANK(VI!DY50),\"\",VI!DY50)","v":""},{"$f":"IF(ISBLANK(VI!EJ50),\"\",VI!EJ50)","v":""},{"$f":"IF(ISBLANK(VI!EU50),\"\",VI!EU50)","v":""},{"$f":"IF(ISBLANK(VI!FF50),\"\",VI!FF50)","v":""},{"$f":"IF(ISBLANK(VI!FQ50),\"\",VI!FQ50)","v":""},{"$f":"IF(ISBLANK(VI!GB50),\"\",VI!GB50)","v":""},{"$f":"IF(ISBLANK(VI!GM50),\"\",VI!GM50)","v":""},{"$f":"IF(ISBLANK(VI!GX50),\"\",VI!GX50)","v":""},"",""]
["Pool and/or spa plaster/lining",{"$f":"IF(ISBLANK(II!AL48),\"\",II!AL48)","v":""},{"$f":"IF(ISBLANK(II!BD48),\"\",II!BD48)","v":""},{"$f":"IF(ISBLANK(II!BV48),\"\",II!BV48)","v":""},{"$f":"IF(ISBLANK(II!CN48),\"\",II!CN48)","v":""},{"$f":"IF(ISBLANK(II!DF48),\"\",II!DF48)","v":""},{"$f":"IF(ISBLANK(VI!AU51),\"\",VI!AU51)","v":""},{"$f":"IF(ISBLANK(VI!BG51),\"\",VI!BG51)","v":""},{"$f":"IF(ISBLANK(VI!BS51),\"\",VI!BS51)","v":""},{"$f":"IF(ISBLANK(VI!CG51),\"\",VI!CG51)","v":""},{"$f":"IF(ISBLANK(VI!CR51),\"\",VI!CR51)","v":""},{"$f":"IF(ISBLANK(VI!DC51),\"\",VI!DC51)","v":""},{"$f":"IF(ISBLANK(VI!DN51),\"\",VI!DN51)","v":""},{"$f":"IF(ISBLANK(VI!DY51),\"\",VI!DY51)","v":""},{"$f":"IF(ISBLANK(VI!EJ51),\"\",VI!EJ51)","v":""},{"$f":"IF(ISBLANK(VI!EU51),\"\",VI!EU51)","v":""},{"$f":"IF(ISBLANK(VI!FF51),\"\",VI!FF51)","v":""},{"$f":"IF(ISBLANK(VI!FQ51),\"\",VI!FQ51)","v":""},{"$f":"IF(ISBLANK(VI!GB51),\"\",VI!GB51)","v":""},{"$f":"IF(ISBLANK(VI!GM51),\"\",VI!GM51)","v":""},{"$f":"IF(ISBLANK(VI!GX51),\"\",VI!GX51)","v":""},"",""]
["Pool and/or spa heating equipment",{"$f":"IF(ISBLANK(II!AL49),\"\",II!AL49)","v":""},{"$f":"IF(ISBLANK(II!BD49),\"\",II!BD49)","v":""},{"$f":"IF(ISBLANK(II!BV49),\"\",II!BV49)","v":""},{"$f":"IF(ISBLANK(II!CN49),\"\",II!CN49)","v":""},{"$f":"IF(ISBLANK(II!DF49),\"\",II!DF49)","v":""},{"$f":"IF(ISBLANK(VI!AU52),\"\",VI!AU52)","v":""},{"$f":"IF(ISBLANK(VI!BG52),\"\",VI!BG52)","v":""},{"$f":"IF(ISBLANK(VI!BS52),\"\",VI!BS52)","v":""},{"$f":"IF(ISBLANK(VI!CG52),\"\",VI!CG52)","v":""},{"$f":"IF(ISBLANK(VI!CR52),\"\",VI!CR52)","v":""},{"$f":"IF(ISBLANK(VI!DC52),\"\",VI!DC52)","v":""},{"$f":"IF(ISBLANK(VI!DN52),\"\",VI!DN52)","v":""},{"$f":"IF(ISBLANK(VI!DY52),\"\",VI!DY52)","v":""},{"$f":"IF(ISBLANK(VI!EJ52),\"\",VI!EJ52)","v":""},{"$f":"IF(ISBLANK(VI!EU52),\"\",VI!EU52)","v":""},{"$f":"IF(ISBLANK(VI!FF52),\"\",VI!FF52)","v":""},{"$f":"IF(ISBLANK(VI!FQ52),\"\",VI!FQ52)","v":""},{"$f":"IF(ISBLANK(VI!GB52),\"\",VI!GB52)","v":""},{"$f":"IF(ISBLANK(VI!GM52),\"\",VI!GM52)","v":""},{"$f":"IF(ISBLANK(VI!GX52),\"\",VI!GX52)","v":""},"",""]
["Pool and/or spa filtration equipment",{"$f":"IF(ISBLANK(II!AL50),\"\",II!AL50)","v":""},{"$f":"IF(ISBLANK(II!BD50),\"\",II!BD50)","v":""},{"$f":"IF(ISBLANK(II!BV50),\"\",II!BV50)","v":""},{"$f":"IF(ISBLANK(II!CN50),\"\",II!CN50)","v":""},{"$f":"IF(ISBLANK(II!DF50),\"\",II!DF50)","v":""},{"$f":"IF(ISBLANK(VI!AU53),\"\",VI!AU53)","v":""},{"$f":"IF(ISBLANK(VI!BG53),\"\",VI!BG53)","v":""},{"$f":"IF(ISBLANK(VI!BS53),\"\",VI!BS53)","v":""},{"$f":"IF(ISBLANK(VI!CG53),\"\",VI!CG53)","v":""},{"$f":"IF(ISBLANK(VI!CR53),\"\",VI!CR53)","v":""},{"$f":"IF(ISBLANK(VI!DC53),\"\",VI!DC53)","v":""},{"$f":"IF(ISBLANK(VI!DN53),\"\",VI!DN53)","v":""},{"$f":"IF(ISBLANK(VI!DY53),\"\",VI!DY53)","v":""},{"$f":"IF(ISBLANK(VI!EJ53),\"\",VI!EJ53)","v":""},{"$f":"IF(ISBLANK(VI!EU53),\"\",VI!EU53)","v":""},{"$f":"IF(ISBLANK(VI!FF53),\"\",VI!FF53)","v":""},{"$f":"IF(ISBLANK(VI!FQ53),\"\",VI!FQ53)","v":""},{"$f":"IF(ISBLANK(VI!GB53),\"\",VI!GB53)","v":""},{"$f":"IF(ISBLANK(VI!GM53),\"\",VI!GM53)","v":""},{"$f":"IF(ISBLANK(VI!GX53),\"\",VI!GX53)","v":""},"",""]
["Pool and/or spa deck surface",{"$f":"IF(ISBLANK(II!AL51),\"\",II!AL51)","v":""},{"$f":"IF(ISBLANK(II!BD51),\"\",II!BD51)","v":""},{"$f":"IF(ISBLANK(II!BV51),\"\",II!BV51)","v":""},{"$f":"IF(ISBLANK(II!CN51),\"\",II!CN51)","v":""},{"$f":"IF(ISBLANK(II!DF51),\"\",II!DF51)","v":""},{"$f":"IF(ISBLANK(VI!AU54),\"\",VI!AU54)","v":""},{"$f":"IF(ISBLANK(VI!BG54),\"\",VI!BG54)","v":""},{"$f":"IF(ISBLANK(VI!BS54),\"\",VI!BS54)","v":""},{"$f":"IF(ISBLANK(VI!CG54),\"\",VI!CG54)","v":""},{"$f":"IF(ISBLANK(VI!CR54),\"\",VI!CR54)","v":""},{"$f":"IF(ISBLANK(VI!DC54),\"\",VI!DC54)","v":""},{"$f":"IF(ISBLANK(VI!DN54),\"\",VI!DN54)","v":""},{"$f":"IF(ISBLANK(VI!DY54),\"\",VI!DY54)","v":""},{"$f":"IF(ISBLANK(VI!EJ54),\"\",VI!EJ54)","v":""},{"$f":"IF(ISBLANK(VI!EU54),\"\",VI!EU54)","v":""},{"$f":"IF(ISBLANK(VI!FF54),\"\",VI!FF54)","v":""},{"$f":"IF(ISBLANK(VI!FQ54),\"\",VI!FQ54)","v":""},{"$f":"IF(ISBLANK(VI!GB54),\"\",VI!GB54)","v":""},{"$f":"IF(ISBLANK(VI!GM54),\"\",VI!GM54)","v":""},{"$f":"IF(ISBLANK(VI!GX54),\"\",VI!GX54)","v":""},"",""]
["Sauna",{"$f":"IF(ISBLANK(II!AL52),\"\",II!AL52)","v":""},{"$f":"IF(ISBLANK(II!BD52),\"\",II!BD52)","v":""},{"$f":"IF(ISBLANK(II!BV52),\"\",II!BV52)","v":""},{"$f":"IF(ISBLANK(II!CN52),\"\",II!CN52)","v":""},{"$f":"IF(ISBLANK(II!DF52),\"\",II!DF52)","v":""},{"$f":"IF(ISBLANK(VI!AU55),\"\",VI!AU55)","v":""},{"$f":"IF(ISBLANK(VI!BG55),\"\",VI!BG55)","v":""},{"$f":"IF(ISBLANK(VI!BS55),\"\",VI!BS55)","v":""},{"$f":"IF(ISBLANK(VI!CG55),\"\",VI!CG55)","v":""},{"$f":"IF(ISBLANK(VI!CR55),\"\",VI!CR55)","v":""},{"$f":"IF(ISBLANK(VI!DC55),\"\",VI!DC55)","v":""},{"$f":"IF(ISBLANK(VI!DN55),\"\",VI!DN55)","v":""},{"$f":"IF(ISBLANK(VI!DY55),\"\",VI!DY55)","v":""},{"$f":"IF(ISBLANK(VI!EJ55),\"\",VI!EJ55)","v":""},{"$f":"IF(ISBLANK(VI!EU55),\"\",VI!EU55)","v":""},{"$f":"IF(ISBLANK(VI!FF55),\"\",VI!FF55)","v":""},{"$f":"IF(ISBLANK(VI!FQ55),\"\",VI!FQ55)","v":""},{"$f":"IF(ISBLANK(VI!GB55),\"\",VI!GB55)","v":""},{"$f":"IF(ISBLANK(VI!GM55),\"\",VI!GM55)","v":""},{"$f":"IF(ISBLANK(VI!GX55),\"\",VI!GX55)","v":""},"",""]
["Recreation/Play area and equipment",{"$f":"IF(ISBLANK(II!AL53),\"\",II!AL53)","v":""},{"$f":"IF(ISBLANK(II!BD53),\"\",II!BD53)","v":""},{"$f":"IF(ISBLANK(II!BV53),\"\",II!BV53)","v":""},{"$f":"IF(ISBLANK(II!CN53),\"\",II!CN53)","v":""},{"$f":"IF(ISBLANK(II!DF53),\"\",II!DF53)","v":""},{"$f":"IF(ISBLANK(VI!AU56),\"\",VI!AU56)","v":""},{"$f":"IF(ISBLANK(VI!BG56),\"\",VI!BG56)","v":""},{"$f":"IF(ISBLANK(VI!BS56),\"\",VI!BS56)","v":""},{"$f":"IF(ISBLANK(VI!CG56),\"\",VI!CG56)","v":""},{"$f":"IF(ISBLANK(VI!CR56),\"\",VI!CR56)","v":""},{"$f":"IF(ISBLANK(VI!DC56),\"\",VI!DC56)","v":""},{"$f":"IF(ISBLANK(VI!DN56),\"\",VI!DN56)","v":""},{"$f":"IF(ISBLANK(VI!DY56),\"\",VI!DY56)","v":""},{"$f":"IF(ISBLANK(VI!EJ56),\"\",VI!EJ56)","v":""},{"$f":"IF(ISBLANK(VI!EU56),\"\",VI!EU56)","v":""},{"$f":"IF(ISBLANK(VI!FF56),\"\",VI!FF56)","v":""},{"$f":"IF(ISBLANK(VI!FQ56),\"\",VI!FQ56)","v":""},{"$f":"IF(ISBLANK(VI!GB56),\"\",VI!GB56)","v":""},{"$f":"IF(ISBLANK(VI!GM56),\"\",VI!GM56)","v":""},{"$f":"IF(ISBLANK(VI!GX56),\"\",VI!GX56)","v":""},"",{"$f":"CONCATENATE(B31&C31&D31&E31&F31&G31&H31&I31)","v":""}]
[{"$f":"II!B54","v":"Other"},{"$f":"IF(ISBLANK(II!AL54),\"\",II!AL54)","v":""},{"$f":"IF(ISBLANK(II!BD54),\"\",II!BD54)","v":""},{"$f":"IF(ISBLANK(II!BV54),\"\",II!BV54)","v":""},{"$f":"IF(ISBLANK(II!CN54),\"\",II!CN54)","v":""},{"$f":"IF(ISBLANK(II!DF54),\"\",II!DF54)","v":""},{"$f":"IF(ISBLANK(VI!AU57),\"\",VI!AU57)","v":""},{"$f":"IF(ISBLANK(VI!BG57),\"\",VI!BG57)","v":""},{"$f":"IF(ISBLANK(VI!BS57),\"\",VI!BS57)","v":""},{"$f":"IF(ISBLANK(VI!CG57),\"\",VI!CG57)","v":""},{"$f":"IF(ISBLANK(VI!CR57),\"\",VI!CR57)","v":""},{"$f":"IF(ISBLANK(VI!DC57),\"\",VI!DC57)","v":""},{"$f":"IF(ISBLANK(VI!DN57),\"\",VI!DN57)","v":""},{"$f":"IF(ISBLANK(VI!DY57),\"\",VI!DY57)","v":""},{"$f":"IF(ISBLANK(VI!EJ57),\"\",VI!EJ57)","v":""},{"$f":"IF(ISBLANK(VI!EU57),\"\",VI!EU57)","v":""},{"$f":"IF(ISBLANK(VI!FF57),\"\",VI!FF57)","v":""},{"$f":"IF(ISBLANK(VI!FQ57),\"\",VI!FQ57)","v":""},{"$f":"IF(ISBLANK(VI!GB57),\"\",VI!GB57)","v":""},{"$f":"IF(ISBLANK(VI!GM57),\"\",VI!GM57)","v":""},{"$f":"IF(ISBLANK(VI!GX57),\"\",VI!GX57)","v":""},"",{"$f":"CONCATENATE(B32&C32&D32&E32&F32&G32&H32&I32)","v":""}]
[{"$f":"II!B55","v":"Other"},{"$f":"IF(ISBLANK(II!AL55),\"\",II!AL55)","v":""},{"$f":"IF(ISBLANK(II!BD55),\"\",II!BD55)","v":""},{"$f":"IF(ISBLANK(II!BV55),\"\",II!BV55)","v":""},{"$f":"IF(ISBLANK(II!CN55),\"\",II!CN55)","v":""},{"$f":"IF(ISBLANK(II!DF55),\"\",II!DF55)","v":""},{"$f":"IF(ISBLANK(VI!AU58),\"\",VI!AU58)","v":""},{"$f":"IF(ISBLANK(VI!BG58),\"\",VI!BG58)","v":""},{"$f":"IF(ISBLANK(VI!BS58),\"\",VI!BS58)","v":""},{"$f":"IF(ISBLANK(VI!CG58),\"\",VI!CG58)","v":""},{"$f":"IF(ISBLANK(VI!CR58),\"\",VI!CR58)","v":""},{"$f":"IF(ISBLANK(VI!DC58),\"\",VI!DC58)","v":""},{"$f":"IF(ISBLANK(VI!DN58),\"\",VI!DN58)","v":""},{"$f":"IF(ISBLANK(VI!DY58),\"\",VI!DY58)","v":""},{"$f":"IF(ISBLANK(VI!EJ58),\"\",VI!EJ58)","v":""},{"$f":"IF(ISBLANK(VI!EU58),\"\",VI!EU58)","v":""},{"$f":"IF(ISBLANK(VI!FF58),\"\",VI!FF58)","v":""},{"$f":"IF(ISBLANK(VI!FQ58),\"\",VI!FQ58)","v":""},{"$f":"IF(ISBLANK(VI!GB58),\"\",VI!GB58)","v":""},{"$f":"IF(ISBLANK(VI!GM58),\"\",VI!GM58)","v":""},{"$f":"IF(ISBLANK(VI!GX58),\"\",VI!GX58)","v":""},"",""]
[{"$f":"II!B56","v":"Other"},{"$f":"IF(ISBLANK(II!AL56),\"\",II!AL56)","v":""},{"$f":"IF(ISBLANK(II!BD56),\"\",II!BD56)","v":""},{"$f":"IF(ISBLANK(II!BV56),\"\",II!BV56)","v":""},{"$f":"IF(ISBLANK(II!CN56),\"\",II!CN56)","v":""},{"$f":"IF(ISBLANK(II!DF56),\"\",II!DF56)","v":""},{"$f":"IF(ISBLANK(VI!AU59),\"\",VI!AU59)","v":""},{"$f":"IF(ISBLANK(VI!BG59),\"\",VI!BG59)","v":""},{"$f":"IF(ISBLANK(VI!BS59),\"\",VI!BS59)","v":""},{"$f":"IF(ISBLANK(VI!CG59),\"\",VI!CG59)","v":""},{"$f":"IF(ISBLANK(VI!CR59),\"\",VI!CR59)","v":""},{"$f":"IF(ISBLANK(VI!DC59),\"\",VI!DC59)","v":""},{"$f":"IF(ISBLANK(VI!DN59),\"\",VI!DN59)","v":""},{"$f":"IF(ISBLANK(VI!DY59),\"\",VI!DY59)","v":""},{"$f":"IF(ISBLANK(VI!EJ59),\"\",VI!EJ59)","v":""},{"$f":"IF(ISBLANK(VI!EU59),\"\",VI!EU59)","v":""},{"$f":"IF(ISBLANK(VI!FF59),\"\",VI!FF59)","v":""},{"$f":"IF(ISBLANK(VI!FQ59),\"\",VI!FQ59)","v":""},{"$f":"IF(ISBLANK(VI!GB59),\"\",VI!GB59)","v":""},{"$f":"IF(ISBLANK(VI!GM59),\"\",VI!GM59)","v":""},{"$f":"IF(ISBLANK(VI!GX59),\"\",VI!GX59)","v":""},"",""]

{"sheet":"RawData SFFE","index":21,"n_rows":34,"n_cols":23,"rows_kept":34,"cut":false,"hidden":false,"merged":[]}
["ItemType","EstUsefulLifeYrCountRangeValue","RatingType","RemainingUsefulLifeYrRangeValue","RepairPriorityType","CommentText","ItemCount","UnitOfMeasureType","CapitalExpenditurePerUnitOfMeasureCostAmt","Year 1","Year 2","Year 3","Year 4","Year 5","Year 6","Year 7","Year 8","Year 9","Year 10","Year 11","Year 12","TotalCapitalExpenditureAmt"]
["Foundation (structural)",{"$f":"IF(ISBLANK(II!AL63),\"\",II!AL63)","v":""},{"$f":"IF(ISBLANK(II!BD63),\"\",II!BD63)","v":""},{"$f":"IF(ISBLANK(II!BV63),\"\",II!BV63)","v":""},{"$f":"IF(ISBLANK(II!CN63),\"\",II!CN63)","v":""},{"$f":"IF(ISBLANK(II!DF63),\"\",II!DF63)","v":""},{"$f":"IF(ISBLANK(VI!AU65),\"\",VI!AU65)","v":""},{"$f":"IF(ISBLANK(VI!BG65),\"\",VI!BG65)","v":""},{"$f":"IF(ISBLANK(VI!BS65),\"\",VI!BS65)","v":""},{"$f":"IF(ISBLANK(VI!CG65),\"\",VI!CG65)","v":""},{"$f":"IF(ISBLANK(VI!CR65),\"\",VI!CR65)","v":""},{"$f":"IF(ISBLANK(VI!DC65),\"\",VI!DC65)","v":""},{"$f":"IF(ISBLANK(VI!DN65),\"\",VI!DN65)","v":""},{"$f":"IF(ISBLANK(VI!DY65),\"\",VI!DY65)","v":""},{"$f":"IF(ISBLANK(VI!EJ65),\"\",VI!EJ65)","v":""},{"$f":"IF(ISBLANK(VI!EU65),\"\",VI!EU65)","v":""},{"$f":"IF(ISBLANK(VI!FF65),\"\",VI!FF65)","v":""},{"$f":"IF(ISBLANK(VI!FQ65),\"\",VI!FQ65)","v":""},{"$f":"IF(ISBLANK(VI!GB65),\"\",VI!GB65)","v":""},{"$f":"IF(ISBLANK(VI!GM65),\"\",VI!GM65)","v":""},{"$f":"IF(ISBLANK(VI!GX65),\"\",VI!GX65)","v":""},{"$f":"IF(SUM(J2:U2)=0,\"\",SUM(J2:U2))","v":""},{"$f":"CONCATENATE(B2&C2&D2&E2&F2&G2&H2&I2)","v":""}]
["Foundation (waterproofing)",{"$f":"IF(ISBLANK(II!AL64),\"\",II!AL64)","v":""},{"$f":"IF(ISBLANK(II!BD64),\"\",II!BD64)","v":""},{"$f":"IF(ISBLANK(II!BV64),\"\",II!BV64)","v":""},{"$f":"IF(ISBLANK(II!CN64),\"\",II!CN64)","v":""},{"$f":"IF(ISBLANK(II!DF64),\"\",II!DF64)","v":""},{"$f":"IF(ISBLANK(VI!AU66),\"\",VI!AU66)","v":""},{"$f":"IF(ISBLANK(VI!BG66),\"\",VI!BG66)","v":""},{"$f":"IF(ISBLANK(VI!BS66),\"\",VI!BS66)","v":""},{"$f":"IF(ISBLANK(VI!CG66),\"\",VI!CG66)","v":""},{"$f":"IF(ISBLANK(VI!CR66),\"\",VI!CR66)","v":""},{"$f":"IF(ISBLANK(VI!DC66),\"\",VI!DC66)","v":""},{"$f":"IF(ISBLANK(VI!DN66),\"\",VI!DN66)","v":""},{"$f":"IF(ISBLANK(VI!DY66),\"\",VI!DY66)","v":""},{"$f":"IF(ISBLANK(VI!EJ66),\"\",VI!EJ66)","v":""},{"$f":"IF(ISBLANK(VI!EU66),\"\",VI!EU66)","v":""},{"$f":"IF(ISBLANK(VI!FF66),\"\",VI!FF66)","v":""},{"$f":"IF(ISBLANK(VI!FQ66),\"\",VI!FQ66)","v":""},{"$f":"IF(ISBLANK(VI!GB66),\"\",VI!GB66)","v":""},{"$f":"IF(ISBLANK(VI!GM66),\"\",VI!GM66)","v":""},{"$f":"IF(ISBLANK(VI!GX66),\"\",VI!GX66)","v":""},{"$f":"IF(SUM(J3:U3)=0,\"\",SUM(J3:U3))","v":""},""]
["Building slab (structural)",{"$f":"IF(ISBLANK(II!AL65),\"\",II!AL65)","v":""},{"$f":"IF(ISBLANK(II!BD65),\"\",II!BD65)","v":""},{"$f":"IF(ISBLANK(II!BV65),\"\",II!BV65)","v":""},{"$f":"IF(ISBLANK(II!CN65),\"\",II!CN65)","v":""},{"$f":"IF(ISBLANK(II!DF65),\"\",II!DF65)","v":""},{"$f":"IF(ISBLANK(VI!AU67),\"\",VI!AU67)","v":""},{"$f":"IF(ISBLANK(VI!BG67),\"\",VI!BG67)","v":""},{"$f":"IF(ISBLANK(VI!BS67),\"\",VI!BS67)","v":""},{"$f":"IF(ISBLANK(VI!CG67),\"\",VI!CG67)","v":""},{"$f":"IF(ISBLANK(VI!CR67),\"\",VI!CR67)","v":""},{"$f":"IF(ISBLANK(VI!DC67),\"\",VI!DC67)","v":""},{"$f":"IF(ISBLANK(VI!DN67),\"\",VI!DN67)","v":""},{"$f":"IF(ISBLANK(VI!DY67),\"\",VI!DY67)","v":""},{"$f":"IF(ISBLANK(VI!EJ67),\"\",VI!EJ67)","v":""},{"$f":"IF(ISBLANK(VI!EU67),\"\",VI!EU67)","v":""},{"$f":"IF(ISBLANK(VI!FF67),\"\",VI!FF67)","v":""},{"$f":"IF(ISBLANK(VI!FQ67),\"\",VI!FQ67)","v":""},{"$f":"IF(ISBLANK(VI!GB67),\"\",VI!GB67)","v":""},{"$f":"IF(ISBLANK(VI!GM67),\"\",VI!GM67)","v":""},{"$f":"IF(ISBLANK(VI!GX67),\"\",VI!GX67)","v":""},"",""]
["Exterior walls/roof (structural)",{"$f":"IF(ISBLANK(II!AL66),\"\",II!AL66)","v":""},{"$f":"IF(ISBLANK(II!BD66),\"\",II!BD66)","v":""},{"$f":"IF(ISBLANK(II!BV66),\"\",II!BV66)","v":""},{"$f":"IF(ISBLANK(II!CN66),\"\",II!CN66)","v":""},{"$f":"IF(ISBLANK(II!DF66),\"\",II!DF66)","v":""},{"$f":"IF(ISBLANK(VI!AU68),\"\",VI!AU68)","v":""},{"$f":"IF(ISBLANK(VI!BG68),\"\",VI!BG68)","v":""},{"$f":"IF(ISBLANK(VI!BS68),\"\",VI!BS68)","v":""},{"$f":"IF(ISBLANK(VI!CG68),\"\",VI!CG68)","v":""},{"$f":"IF(ISBLANK(VI!CR68),\"\",VI!CR68)","v":""},{"$f":"IF(ISBLANK(VI!DC68),\"\",VI!DC68)","v":""},{"$f":"IF(ISBLANK(VI!DN68),\"\",VI!DN68)","v":""},{"$f":"IF(ISBLANK(VI!DY68),\"\",VI!DY68)","v":""},{"$f":"IF(ISBLANK(VI!EJ68),\"\",VI!EJ68)","v":""},{"$f":"IF(ISBLANK(VI!EU68),\"\",VI!EU68)","v":""},{"$f":"IF(ISBLANK(VI!FF68),\"\",VI!FF68)","v":""},{"$f":"IF(ISBLANK(VI!FQ68),\"\",VI!FQ68)","v":""},{"$f":"IF(ISBLANK(VI!GB68),\"\",VI!GB68)","v":""},{"$f":"IF(ISBLANK(VI!GM68),\"\",VI!GM68)","v":""},{"$f":"IF(ISBLANK(VI!GX68),\"\",VI!GX68)","v":""},"",""]
["Exterior walls (paint/finish)",{"$f":"IF(ISBLANK(II!AL67),\"\",II!AL67)","v":""},{"$f":"IF(ISBLANK(II!BD67),\"\",II!BD67)","v":""},{"$f":"IF(ISBLANK(II!BV67),\"\",II!BV67)","v":""},{"$f":"IF(ISBLANK(II!CN67),\"\",II!CN67)","v":""},{"$f":"IF(ISBLANK(II!DF67),\"\",II!DF67)","v":""},{"$f":"IF(ISBLANK(VI!AU69),\"\",VI!AU69)","v":""},{"$f":"IF(ISBLANK(VI!BG69),\"\",VI!BG69)","v":""},{"$f":"IF(ISBLANK(VI!BS69),\"\",VI!BS69)","v":""},{"$f":"IF(ISBLANK(VI!CG69),\"\",VI!CG69)","v":""},{"$f":"IF(ISBLANK(VI!CR69),\"\",VI!CR69)","v":""},{"$f":"IF(ISBLANK(VI!DC69),\"\",VI!DC69)","v":""},{"$f":"IF(ISBLANK(VI!DN69),\"\",VI!DN69)","v":""},{"$f":"IF(ISBLANK(VI!DY69),\"\",VI!DY69)","v":""},{"$f":"IF(ISBLANK(VI!EJ69),\"\",VI!EJ69)","v":""},{"$f":"IF(ISBLANK(VI!EU69),\"\",VI!EU69)","v":""},{"$f":"IF(ISBLANK(VI!FF69),\"\",VI!FF69)","v":""},{"$f":"IF(ISBLANK(VI!FQ69),\"\",VI!FQ69)","v":""},{"$f":"IF(ISBLANK(VI!GB69),\"\",VI!GB69)","v":""},{"$f":"IF(ISBLANK(VI!GM69),\"\",VI!GM69)","v":""},{"$f":"IF(ISBLANK(VI!GX69),\"\",VI!GX69)","v":""},"",""]
["Doors and frames",{"$f":"IF(ISBLANK(II!AL68),\"\",II!AL68)","v":""},{"$f":"IF(ISBLANK(II!BD68),\"\",II!BD68)","v":""},{"$f":"IF(ISBLANK(II!BV68),\"\",II!BV68)","v":""},{"$f":"IF(ISBLANK(II!CN68),\"\",II!CN68)","v":""},{"$f":"IF(ISBLANK(II!DF68),\"\",II!DF68)","v":""},{"$f":"IF(ISBLANK(VI!AU70),\"\",VI!AU70)","v":""},{"$f":"IF(ISBLANK(VI!BG70),\"\",VI!BG70)","v":""},{"$f":"IF(ISBLANK(VI!BS70),\"\",VI!BS70)","v":""},{"$f":"IF(ISBLANK(VI!CG70),\"\",VI!CG70)","v":""},{"$f":"IF(ISBLANK(VI!CR70),\"\",VI!CR70)","v":""},{"$f":"IF(ISBLANK(VI!DC70),\"\",VI!DC70)","v":""},{"$f":"IF(ISBLANK(VI!DN70),\"\",VI!DN70)","v":""},{"$f":"IF(ISBLANK(VI!DY70),\"\",VI!DY70)","v":""},{"$f":"IF(ISBLANK(VI!EJ70),\"\",VI!EJ70)","v":""},{"$f":"IF(ISBLANK(VI!EU70),\"\",VI!EU70)","v":""},{"$f":"IF(ISBLANK(VI!FF70),\"\",VI!FF70)","v":""},{"$f":"IF(ISBLANK(VI!FQ70),\"\",VI!FQ70)","v":""},{"$f":"IF(ISBLANK(VI!GB70),\"\",VI!GB70)","v":""},{"$f":"IF(ISBLANK(VI!GM70),\"\",VI!GM70)","v":""},{"$f":"IF(ISBLANK(VI!GX70),\"\",VI!GX70)","v":""},"",""]
["Windows and frames",{"$f":"IF(ISBLANK(II!AL69),\"\",II!AL69)","v":""},{"$f":"IF(ISBLANK(II!BD69),\"\",II!BD69)","v":""},{"$f":"IF(ISBLANK(II!BV69),\"\",II!BV69)","v":""},{"$f":"IF(ISBLANK(II!CN69),\"\",II!CN69)","v":""},{"$f":"IF(ISBLANK(II!DF69),\"\",II!DF69)","v":""},{"$f":"IF(ISBLANK(VI!AU71),\"\",VI!AU71)","v":""},{"$f":"IF(ISBLANK(VI!BG71),\"\",VI!BG71)","v":""},{"$f":"IF(ISBLANK(VI!BS71),\"\",VI!BS71)","v":""},{"$f":"IF(ISBLANK(VI!CG71),\"\",VI!CG71)","v":""},{"$f":"IF(ISBLANK(VI!CR71),\"\",VI!CR71)","v":""},{"$f":"IF(ISBLANK(VI!DC71),\"\",VI!DC71)","v":""},{"$f":"IF(ISBLANK(VI!DN71),\"\",VI!DN71)","v":""},{"$f":"IF(ISBLANK(VI!DY71),\"\",VI!DY71)","v":""},{"$f":"IF(ISBLANK(VI!EJ71),\"\",VI!EJ71)","v":""},{"$f":"IF(ISBLANK(VI!EU71),\"\",VI!EU71)","v":""},{"$f":"IF(ISBLANK(VI!FF71),\"\",VI!FF71)","v":""},{"$f":"IF(ISBLANK(VI!FQ71),\"\",VI!FQ71)","v":""},{"$f":"IF(ISBLANK(VI!GB71),\"\",VI!GB71)","v":""},{"$f":"IF(ISBLANK(VI!GM71),\"\",VI!GM71)","v":""},{"$f":"IF(ISBLANK(VI!GX71),\"\",VI!GX71)","v":""},"",""]
["Stairs",{"$f":"IF(ISBLANK(II!AL70),\"\",II!AL70)","v":""},{"$f":"IF(ISBLANK(II!BD70),\"\",II!BD70)","v":""},{"$f":"IF(ISBLANK(II!BV70),\"\",II!BV70)","v":""},{"$f":"IF(ISBLANK(II!CN70),\"\",II!CN70)","v":""},{"$f":"IF(ISBLANK(II!DF70),\"\",II!DF70)","v":""},{"$f":"IF(ISBLANK(VI!AU72),\"\",VI!AU72)","v":""},{"$f":"IF(ISBLANK(VI!BG72),\"\",VI!BG72)","v":""},{"$f":"IF(ISBLANK(VI!BS72),\"\",VI!BS72)","v":""},{"$f":"IF(ISBLANK(VI!CG72),\"\",VI!CG72)","v":""},{"$f":"IF(ISBLANK(VI!CR72),\"\",VI!CR72)","v":""},{"$f":"IF(ISBLANK(VI!DC72),\"\",VI!DC72)","v":""},{"$f":"IF(ISBLANK(VI!DN72),\"\",VI!DN72)","v":""},{"$f":"IF(ISBLANK(VI!DY72),\"\",VI!DY72)","v":""},{"$f":"IF(ISBLANK(VI!EJ72),\"\",VI!EJ72)","v":""},{"$f":"IF(ISBLANK(VI!EU72),\"\",VI!EU72)","v":""},{"$f":"IF(ISBLANK(VI!FF72),\"\",VI!FF72)","v":""},{"$f":"IF(ISBLANK(VI!FQ72),\"\",VI!FQ72)","v":""},{"$f":"IF(ISBLANK(VI!GB72),\"\",VI!GB72)","v":""},{"$f":"IF(ISBLANK(VI!GM72),\"\",VI!GM72)","v":""},{"$f":"IF(ISBLANK(VI!GX72),\"\",VI!GX72)","v":""},"",""]
["Fire escapes",{"$f":"IF(ISBLANK(II!AL71),\"\",II!AL71)","v":""},{"$f":"IF(ISBLANK(II!BD71),\"\",II!BD71)","v":""},{"$f":"IF(ISBLANK(II!BV71),\"\",II!BV71)","v":""},{"$f":"IF(ISBLANK(II!CN71),\"\",II!CN71)","v":""},{"$f":"IF(ISBLANK(II!DF71),\"\",II!DF71)","v":""},{"$f":"IF(ISBLANK(VI!AU73),\"\",VI!AU73)","v":""},{"$f":"IF(ISBLANK(VI!BG73),\"\",VI!BG73)","v":""},{"$f":"IF(ISBLANK(VI!BS73),\"\",VI!BS73)","v":""},{"$f":"IF(ISBLANK(VI!CG73),\"\",VI!CG73)","v":""},{"$f":"IF(ISBLANK(VI!CR73),\"\",VI!CR73)","v":""},{"$f":"IF(ISBLANK(VI!DC73),\"\",VI!DC73)","v":""},{"$f":"IF(ISBLANK(VI!DN73),\"\",VI!DN73)","v":""},{"$f":"IF(ISBLANK(VI!DY73),\"\",VI!DY73)","v":""},{"$f":"IF(ISBLANK(VI!EJ73),\"\",VI!EJ73)","v":""},{"$f":"IF(ISBLANK(VI!EU73),\"\",VI!EU73)","v":""},{"$f":"IF(ISBLANK(VI!FF73),\"\",VI!FF73)","v":""},{"$f":"IF(ISBLANK(VI!FQ73),\"\",VI!FQ73)","v":""},{"$f":"IF(ISBLANK(VI!GB73),\"\",VI!GB73)","v":""},{"$f":"IF(ISBLANK(VI!GM73),\"\",VI!GM73)","v":""},{"$f":"IF(ISBLANK(VI!GX73),\"\",VI!GX73)","v":""},"",""]
["Balconies/Handrails/Guardrails",{"$f":"IF(ISBLANK(II!AL72),\"\",II!AL72)","v":""},{"$f":"IF(ISBLANK(II!BD72),\"\",II!BD72)","v":""},{"$f":"IF(ISBLANK(II!BV72),\"\",II!BV72)","v":""},{"$f":"IF(ISBLANK(II!CN72),\"\",II!CN72)","v":""},{"$f":"IF(ISBLANK(II!DF72),\"\",II!DF72)","v":""},{"$f":"IF(ISBLANK(VI!AU74),\"\",VI!AU74)","v":""},{"$f":"IF(ISBLANK(VI!BG74),\"\",VI!BG74)","v":""},{"$f":"IF(ISBLANK(VI!BS74),\"\",VI!BS74)","v":""},{"$f":"IF(ISBLANK(VI!CG74),\"\",VI!CG74)","v":""},{"$f":"IF(ISBLANK(VI!CR74),\"\",VI!CR74)","v":""},{"$f":"IF(ISBLANK(VI!DC74),\"\",VI!DC74)","v":""},{"$f":"IF(ISBLANK(VI!DN74),\"\",VI!DN74)","v":""},{"$f":"IF(ISBLANK(VI!DY74),\"\",VI!DY74)","v":""},{"$f":"IF(ISBLANK(VI!EJ74),\"\",VI!EJ74)","v":""},{"$f":"IF(ISBLANK(VI!EU74),\"\",VI!EU74)","v":""},{"$f":"IF(ISBLANK(VI!FF74),\"\",VI!FF74)","v":""},{"$f":"IF(ISBLANK(VI!FQ74),\"\",VI!FQ74)","v":""},{"$f":"IF(ISBLANK(VI!GB74),\"\",VI!GB74)","v":""},{"$f":"IF(ISBLANK(VI!GM74),\"\",VI!GM74)","v":""},{"$f":"IF(ISBLANK(VI!GX74),\"\",VI!GX74)","v":""},"",""]
["Decks",{"$f":"IF(ISBLANK(II!AL73),\"\",II!AL73)","v":""},{"$f":"IF(ISBLANK(II!BD73),\"\",II!BD73)","v":""},{"$f":"IF(ISBLANK(II!BV73),\"\",II!BV73)","v":""},{"$f":"IF(ISBLANK(II!CN73),\"\",II!CN73)","v":""},{"$f":"IF(ISBLANK(II!DF73),\"\",II!DF73)","v":""},{"$f":"IF(ISBLANK(VI!AU75),\"\",VI!AU75)","v":""},{"$f":"IF(ISBLANK(VI!BG75),\"\",VI!BG75)","v":""},{"$f":"IF(ISBLANK(VI!BS75),\"\",VI!BS75)","v":""},{"$f":"IF(ISBLANK(VI!CG75),\"\",VI!CG75)","v":""},{"$f":"IF(ISBLANK(VI!CR75),\"\",VI!CR75)","v":""},{"$f":"IF(ISBLANK(VI!DC75),\"\",VI!DC75)","v":""},{"$f":"IF(ISBLANK(VI!DN75),\"\",VI!DN75)","v":""},{"$f":"IF(ISBLANK(VI!DY75),\"\",VI!DY75)","v":""},{"$f":"IF(ISBLANK(VI!EJ75),\"\",VI!EJ75)","v":""},{"$f":"IF(ISBLANK(VI!EU75),\"\",VI!EU75)","v":""},{"$f":"IF(ISBLANK(VI!FF75),\"\",VI!FF75)","v":""},{"$f":"IF(ISBLANK(VI!FQ75),\"\",VI!FQ75)","v":""},{"$f":"IF(ISBLANK(VI!GB75),\"\",VI!GB75)","v":""},{"$f":"IF(ISBLANK(VI!GM75),\"\",VI!GM75)","v":""},{"$f":"IF(ISBLANK(VI!GX75),\"\",VI!GX75)","v":""},"",""]
["Patio slabs",{"$f":"IF(ISBLANK(II!AL74),\"\",II!AL74)","v":""},{"$f":"IF(ISBLANK(II!BD74),\"\",II!BD74)","v":""},{"$f":"IF(ISBLANK(II!BV74),\"\",II!BV74)","v":""},{"$f":"IF(ISBLANK(II!CN74),\"\",II!CN74)","v":""},{"$f":"IF(ISBLANK(II!DF74),\"\",II!DF74)","v":""},{"$f":"IF(ISBLANK(VI!AU76),\"\",VI!AU76)","v":""},{"$f":"IF(ISBLANK(VI!BG76),\"\",VI!BG76)","v":""},{"$f":"IF(ISBLANK(VI!BS76),\"\",VI!BS76)","v":""},{"$f":"IF(ISBLANK(VI!CG76),\"\",VI!CG76)","v":""},{"$f":"IF(ISBLANK(VI!CR76),\"\",VI!CR76)","v":""},{"$f":"IF(ISBLANK(VI!DC76),\"\",VI!DC76)","v":""},{"$f":"IF(ISBLANK(VI!DN76),\"\",VI!DN76)","v":""},{"$f":"IF(ISBLANK(VI!DY76),\"\",VI!DY76)","v":""},{"$f":"IF(ISBLANK(VI!EJ76),\"\",VI!EJ76)","v":""},{"$f":"IF(ISBLANK(VI!EU76),\"\",VI!EU76)","v":""},{"$f":"IF(ISBLANK(VI!FF76),\"\",VI!FF76)","v":""},{"$f":"IF(ISBLANK(VI!FQ76),\"\",VI!FQ76)","v":""},{"$f":"IF(ISBLANK(VI!GB76),\"\",VI!GB76)","v":""},{"$f":"IF(ISBLANK(VI!GM76),\"\",VI!GM76)","v":""},{"$f":"IF(ISBLANK(VI!GX76),\"\",VI!GX76)","v":""},"",""]
["Unit fencing (patio fencing)",{"$f":"IF(ISBLANK(II!AL75),\"\",II!AL75)","v":""},{"$f":"IF(ISBLANK(II!BD75),\"\",II!BD75)","v":""},{"$f":"IF(ISBLANK(II!BV75),\"\",II!BV75)","v":""},{"$f":"IF(ISBLANK(II!CN75),\"\",II!CN75)","v":""},{"$f":"IF(ISBLANK(II!DF75),\"\",II!DF75)","v":""},{"$f":"IF(ISBLANK(VI!AU77),\"\",VI!AU77)","v":""},{"$f":"IF(ISBLANK(VI!BG77),\"\",VI!BG77)","v":""},{"$f":"IF(ISBLANK(VI!BS77),\"\",VI!BS77)","v":""},{"$f":"IF(ISBLANK(VI!CG77),\"\",VI!CG77)","v":""},{"$f":"IF(ISBLANK(VI!CR77),\"\",VI!CR77)","v":""},{"$f":"IF(ISBLANK(VI!DC77),\"\",VI!DC77)","v":""},{"$f":"IF(ISBLANK(VI!DN77),\"\",VI!DN77)","v":""},{"$f":"IF(ISBLANK(VI!DY77),\"\",VI!DY77)","v":""},{"$f":"IF(ISBLANK(VI!EJ77),\"\",VI!EJ77)","v":""},{"$f":"IF(ISBLANK(VI!EU77),\"\",VI!EU77)","v":""},{"$f":"IF(ISBLANK(VI!FF77),\"\",VI!FF77)","v":""},{"$f":"IF(ISBLANK(VI!FQ77),\"\",VI!FQ77)","v":""},{"$f":"IF(ISBLANK(VI!GB77),\"\",VI!GB77)","v":""},{"$f":"IF(ISBLANK(VI!GM77),\"\",VI!GM77)","v":""},{"$f":"IF(ISBLANK(VI!GX77),\"\",VI!GX77)","v":""},"",""]
["Roof coverings",{"$f":"IF(ISBLANK(II!AL76),\"\",II!AL76)","v":""},{"$f":"IF(ISBLANK(II!BD76),\"\",II!BD76)","v":""},{"$f":"IF(ISBLANK(II!BV76),\"\",II!BV76)","v":""},{"$f":"IF(ISBLANK(II!CN76),\"\",II!CN76)","v":""},{"$f":"IF(ISBLANK(II!DF76),\"\",II!DF76)","v":""},{"$f":"IF(ISBLANK(VI!AU78),\"\",VI!AU78)","v":""},{"$f":"IF(ISBLANK(VI!BG78),\"\",VI!BG78)","v":""},{"$f":"IF(ISBLANK(VI!BS78),\"\",VI!BS78)","v":""},{"$f":"IF(ISBLANK(VI!CG78),\"\",VI!CG78)","v":""},{"$f":"IF(ISBLANK(VI!CR78),\"\",VI!CR78)","v":""},{"$f":"IF(ISBLANK(VI!DC78),\"\",VI!DC78)","v":""},{"$f":"IF(ISBLANK(VI!DN78),\"\",VI!DN78)","v":""},{"$f":"IF(ISBLANK(VI!DY78),\"\",VI!DY78)","v":""},{"$f":"IF(ISBLANK(VI!EJ78),\"\",VI!EJ78)","v":""},{"$f":"IF(ISBLANK(VI!EU78),\"\",VI!EU78)","v":""},{"$f":"IF(ISBLANK(VI!FF78),\"\",VI!FF78)","v":""},{"$f":"IF(ISBLANK(VI!FQ78),\"\",VI!FQ78)","v":""},{"$f":"IF(ISBLANK(VI!GB78),\"\",VI!GB78)","v":""},{"$f":"IF(ISBLANK(VI!GM78),\"\",VI!GM78)","v":""},{"$f":"IF(ISBLANK(VI!GX78),\"\",VI!GX78)","v":""},"",""]
["Roof drainage (gutters, drains, etc.)",{"$f":"IF(ISBLANK(II!AL77),\"\",II!AL77)","v":""},{"$f":"IF(ISBLANK(II!BD77),\"\",II!BD77)","v":""},{"$f":"IF(ISBLANK(II!BV77),\"\",II!BV77)","v":""},{"$f":"IF(ISBLANK(II!CN77),\"\",II!CN77)","v":""},{"$f":"IF(ISBLANK(II!DF77),\"\",II!DF77)","v":""},{"$f":"IF(ISBLANK(VI!AU79),\"\",VI!AU79)","v":""},{"$f":"IF(ISBLANK(VI!BG79),\"\",VI!BG79)","v":""},{"$f":"IF(ISBLANK(VI!BS79),\"\",VI!BS79)","v":""},{"$f":"IF(ISBLANK(VI!CG79),\"\",VI!CG79)","v":""},{"$f":"IF(ISBLANK(VI!CR79),\"\",VI!CR79)","v":""},{"$f":"IF(ISBLANK(VI!DC79),\"\",VI!DC79)","v":""},{"$f":"IF(ISBLANK(VI!DN79),\"\",VI!DN79)","v":""},{"$f":"IF(ISBLANK(VI!DY79),\"\",VI!DY79)","v":""},{"$f":"IF(ISBLANK(VI!EJ79),\"\",VI!EJ79)","v":""},{"$f":"IF(ISBLANK(VI!EU79),\"\",VI!EU79)","v":""},{"$f":"IF(ISBLANK(VI!FF79),\"\",VI!FF79)","v":""},{"$f":"IF(ISBLANK(VI!FQ79),\"\",VI!FQ79)","v":""},{"$f":"IF(ISBLANK(VI!GB79),\"\",VI!GB79)","v":""},{"$f":"IF(ISBLANK(VI!GM79),\"\",VI!GM79)","v":""},{"$f":"IF(ISBLANK(VI!GX79),\"\",VI!GX79)","v":""},"",""]
["Building mounted lighting",{"$f":"IF(ISBLANK(II!AL78),\"\",II!AL78)","v":""},{"$f":"IF(ISBLANK(II!BD78),\"\",II!BD78)","v":""},{"$f":"IF(ISBLANK(II!BV78),\"\",II!BV78)","v":""},{"$f":"IF(ISBLANK(II!CN78),\"\",II!CN78)","v":""},{"$f":"IF(ISBLANK(II!DF78),\"\",II!DF78)","v":""},{"$f":"IF(ISBLANK(VI!AU80),\"\",VI!AU80)","v":""},{"$f":"IF(ISBLANK(VI!BG80),\"\",VI!BG80)","v":""},{"$f":"IF(ISBLANK(VI!BS80),\"\",VI!BS80)","v":""},{"$f":"IF(ISBLANK(VI!CG80),\"\",VI!CG80)","v":""},{"$f":"IF(ISBLANK(VI!CR80),\"\",VI!CR80)","v":""},{"$f":"IF(ISBLANK(VI!DC80),\"\",VI!DC80)","v":""},{"$f":"IF(ISBLANK(VI!DN80),\"\",VI!DN80)","v":""},{"$f":"IF(ISBLANK(VI!DY80),\"\",VI!DY80)","v":""},{"$f":"IF(ISBLANK(VI!EJ80),\"\",VI!EJ80)","v":""},{"$f":"IF(ISBLANK(VI!EU80),\"\",VI!EU80)","v":""},{"$f":"IF(ISBLANK(VI!FF80),\"\",VI!FF80)","v":""},{"$f":"IF(ISBLANK(VI!FQ80),\"\",VI!FQ80)","v":""},{"$f":"IF(ISBLANK(VI!GB80),\"\",VI!GB80)","v":""},{"$f":"IF(ISBLANK(VI!GM80),\"\",VI!GM80)","v":""},{"$f":"IF(ISBLANK(VI!GX80),\"\",VI!GX80)","v":""},"",""]
["Common area improvements",{"$f":"IF(ISBLANK(II!AL79),\"\",II!AL79)","v":""},{"$f":"IF(ISBLANK(II!BD79),\"\",II!BD79)","v":""},{"$f":"IF(ISBLANK(II!BV79),\"\",II!BV79)","v":""},{"$f":"IF(ISBLANK(II!CN79),\"\",II!CN79)","v":""},{"$f":"IF(ISBLANK(II!DF79),\"\",II!DF79)","v":""},{"$f":"IF(ISBLANK(VI!AU81),\"\",VI!AU81)","v":""},{"$f":"IF(ISBLANK(VI!BG81),\"\",VI!BG81)","v":""},{"$f":"IF(ISBLANK(VI!BS81),\"\",VI!BS81)","v":""},{"$f":"IF(ISBLANK(VI!CG81),\"\",VI!CG81)","v":""},{"$f":"IF(ISBLANK(VI!CR81),\"\",VI!CR81)","v":""},{"$f":"IF(ISBLANK(VI!DC81),\"\",VI!DC81)","v":""},{"$f":"IF(ISBLANK(VI!DN81),\"\",VI!DN81)","v":""},{"$f":"IF(ISBLANK(VI!DY81),\"\",VI!DY81)","v":""},{"$f":"IF(ISBLANK(VI!EJ81),\"\",VI!EJ81)","v":""},{"$f":"IF(ISBLANK(VI!EU81),\"\",VI!EU81)","v":""},{"$f":"IF(ISBLANK(VI!FF81),\"\",VI!FF81)","v":""},{"$f":"IF(ISBLANK(VI!FQ81),\"\",VI!FQ81)","v":""},{"$f":"IF(ISBLANK(VI!GB81),\"\",VI!GB81)","v":""},{"$f":"IF(ISBLANK(VI!GM81),\"\",VI!GM81)","v":""},{"$f":"IF(ISBLANK(VI!GX81),\"\",VI!GX81)","v":""},"",""]
["Common area floors",{"$f":"IF(ISBLANK(II!AL80),\"\",II!AL80)","v":""},{"$f":"IF(ISBLANK(II!BD80),\"\",II!BD80)","v":""},{"$f":"IF(ISBLANK(II!BV80),\"\",II!BV80)","v":""},{"$f":"IF(ISBLANK(II!CN80),\"\",II!CN80)","v":""},{"$f":"IF(ISBLANK(II!DF80),\"\",II!DF80)","v":""},{"$f":"IF(ISBLANK(VI!AU82),\"\",VI!AU82)","v":""},{"$f":"IF(ISBLANK(VI!BG82),\"\",VI!BG82)","v":""},{"$f":"IF(ISBLANK(VI!BS82),\"\",VI!BS82)","v":""},{"$f":"IF(ISBLANK(VI!CG82),\"\",VI!CG82)","v":""},{"$f":"IF(ISBLANK(VI!CR82),\"\",VI!CR82)","v":""},{"$f":"IF(ISBLANK(VI!DC82),\"\",VI!DC82)","v":""},{"$f":"IF(ISBLANK(VI!DN82),\"\",VI!DN82)","v":""},{"$f":"IF(ISBLANK(VI!DY82),\"\",VI!DY82)","v":""},{"$f":"IF(ISBLANK(VI!EJ82),\"\",VI!EJ82)","v":""},{"$f":"IF(ISBLANK(VI!EU82),\"\",VI!EU82)","v":""},{"$f":"IF(ISBLANK(VI!FF82),\"\",VI!FF82)","v":""},{"$f":"IF(ISBLANK(VI!FQ82),\"\",VI!FQ82)","v":""},{"$f":"IF(ISBLANK(VI!GB82),\"\",VI!GB82)","v":""},{"$f":"IF(ISBLANK(VI!GM82),\"\",VI!GM82)","v":""},{"$f":"IF(ISBLANK(VI!GX82),\"\",VI!GX82)","v":""},"",""]
["Community facilities kitchen",{"$f":"IF(ISBLANK(II!AL81),\"\",II!AL81)","v":""},{"$f":"IF(ISBLANK(II!BD81),\"\",II!BD81)","v":""},{"$f":"IF(ISBLANK(II!BV81),\"\",II!BV81)","v":""},{"$f":"IF(ISBLANK(II!CN81),\"\",II!CN81)","v":""},{"$f":"IF(ISBLANK(II!DF81),\"\",II!DF81)","v":""},{"$f":"IF(ISBLANK(VI!AU83),\"\",VI!AU83)","v":""},{"$f":"IF(ISBLANK(VI!BG83),\"\",VI!BG83)","v":""},{"$f":"IF(ISBLANK(VI!BS83),\"\",VI!BS83)","v":""},{"$f":"IF(ISBLANK(VI!CG83),\"\",VI!CG83)","v":""},{"$f":"IF(ISBLANK(VI!CR83),\"\",VI!CR83)","v":""},{"$f":"IF(ISBLANK(VI!DC83),\"\",VI!DC83)","v":""},{"$f":"IF(ISBLANK(VI!DN83),\"\",VI!DN83)","v":""},{"$f":"IF(ISBLANK(VI!DY83),\"\",VI!DY83)","v":""},{"$f":"IF(ISBLANK(VI!EJ83),\"\",VI!EJ83)","v":""},{"$f":"IF(ISBLANK(VI!EU83),\"\",VI!EU83)","v":""},{"$f":"IF(ISBLANK(VI!FF83),\"\",VI!FF83)","v":""},{"$f":"IF(ISBLANK(VI!FQ83),\"\",VI!FQ83)","v":""},{"$f":"IF(ISBLANK(VI!GB83),\"\",VI!GB83)","v":""},{"$f":"IF(ISBLANK(VI!GM83),\"\",VI!GM83)","v":""},{"$f":"IF(ISBLANK(VI!GX83),\"\",VI!GX83)","v":""},"",""]
["Community facilities appliances",{"$f":"IF(ISBLANK(II!AL82),\"\",II!AL82)","v":""},{"$f":"IF(ISBLANK(II!BD82),\"\",II!BD82)","v":""},{"$f":"IF(ISBLANK(II!BV82),\"\",II!BV82)","v":""},{"$f":"IF(ISBLANK(II!CN82),\"\",II!CN82)","v":""},{"$f":"IF(ISBLANK(II!DF82),\"\",II!DF82)","v":""},{"$f":"IF(ISBLANK(VI!AU84),\"\",VI!AU84)","v":""},{"$f":"IF(ISBLANK(VI!BG84),\"\",VI!BG84)","v":""},{"$f":"IF(ISBLANK(VI!BS84),\"\",VI!BS84)","v":""},{"$f":"IF(ISBLANK(VI!CG84),\"\",VI!CG84)","v":""},{"$f":"IF(ISBLANK(VI!CR84),\"\",VI!CR84)","v":""},{"$f":"IF(ISBLANK(VI!DC84),\"\",VI!DC84)","v":""},{"$f":"IF(ISBLANK(VI!DN84),\"\",VI!DN84)","v":""},{"$f":"IF(ISBLANK(VI!DY84),\"\",VI!DY84)","v":""},{"$f":"IF(ISBLANK(VI!EJ84),\"\",VI!EJ84)","v":""},{"$f":"IF(ISBLANK(VI!EU84),\"\",VI!EU84)","v":""},{"$f":"IF(ISBLANK(VI!FF84),\"\",VI!FF84)","v":""},{"$f":"IF(ISBLANK(VI!FQ84),\"\",VI!FQ84)","v":""},{"$f":"IF(ISBLANK(VI!GB84),\"\",VI!GB84)","v":""},{"$f":"IF(ISBLANK(VI!GM84),\"\",VI!GM84)","v":""},{"$f":"IF(ISBLANK(VI!GX84),\"\",VI!GX84)","v":""},"",""]
["Community washing machines",{"$f":"IF(ISBLANK(II!AL83),\"\",II!AL83)","v":""},{"$f":"IF(ISBLANK(II!BD83),\"\",II!BD83)","v":""},{"$f":"IF(ISBLANK(II!BV83),\"\",II!BV83)","v":""},{"$f":"IF(ISBLANK(II!CN83),\"\",II!CN83)","v":""},{"$f":"IF(ISBLANK(II!DF83),\"\",II!DF83)","v":""},{"$f":"IF(ISBLANK(VI!AU85),\"\",VI!AU85)","v":""},{"$f":"IF(ISBLANK(VI!BG85),\"\",VI!BG85)","v":""},{"$f":"IF(ISBLANK(VI!BS85),\"\",VI!BS85)","v":""},{"$f":"IF(ISBLANK(VI!CG85),\"\",VI!CG85)","v":""},{"$f":"IF(ISBLANK(VI!CR85),\"\",VI!CR85)","v":""},{"$f":"IF(ISBLANK(VI!DC85),\"\",VI!DC85)","v":""},{"$f":"IF(ISBLANK(VI!DN85),\"\",VI!DN85)","v":""},{"$f":"IF(ISBLANK(VI!DY85),\"\",VI!DY85)","v":""},{"$f":"IF(ISBLANK(VI!EJ85),\"\",VI!EJ85)","v":""},{"$f":"IF(ISBLANK(VI!EU85),\"\",VI!EU85)","v":""},{"$f":"IF(ISBLANK(VI!FF85),\"\",VI!FF85)","v":""},{"$f":"IF(ISBLANK(VI!FQ85),\"\",VI!FQ85)","v":""},{"$f":"IF(ISBLANK(VI!GB85),\"\",VI!GB85)","v":""},{"$f":"IF(ISBLANK(VI!GM85),\"\",VI!GM85)","v":""},{"$f":"IF(ISBLANK(VI!GX85),\"\",VI!GX85)","v":""},"",""]
["Community clothes dryers",{"$f":"IF(ISBLANK(II!AL84),\"\",II!AL84)","v":""},{"$f":"IF(ISBLANK(II!BD84),\"\",II!BD84)","v":""},{"$f":"IF(ISBLANK(II!BV84),\"\",II!BV84)","v":""},{"$f":"IF(ISBLANK(II!CN84),\"\",II!CN84)","v":""},{"$f":"IF(ISBLANK(II!DF84),\"\",II!DF84)","v":""},{"$f":"IF(ISBLANK(VI!AU86),\"\",VI!AU86)","v":""},{"$f":"IF(ISBLANK(VI!BG86),\"\",VI!BG86)","v":""},{"$f":"IF(ISBLANK(VI!BS86),\"\",VI!BS86)","v":""},{"$f":"IF(ISBLANK(VI!CG86),\"\",VI!CG86)","v":""},{"$f":"IF(ISBLANK(VI!CR86),\"\",VI!CR86)","v":""},{"$f":"IF(ISBLANK(VI!DC86),\"\",VI!DC86)","v":""},{"$f":"IF(ISBLANK(VI!DN86),\"\",VI!DN86)","v":""},{"$f":"IF(ISBLANK(VI!DY86),\"\",VI!DY86)","v":""},{"$f":"IF(ISBLANK(VI!EJ86),\"\",VI!EJ86)","v":""},{"$f":"IF(ISBLANK(VI!EU86),\"\",VI!EU86)","v":""},{"$f":"IF(ISBLANK(VI!FF86),\"\",VI!FF86)","v":""},{"$f":"IF(ISBLANK(VI!FQ86),\"\",VI!FQ86)","v":""},{"$f":"IF(ISBLANK(VI!GB86),\"\",VI!GB86)","v":""},{"$f":"IF(ISBLANK(VI!GM86),\"\",VI!GM86)","v":""},{"$f":"IF(ISBLANK(VI!GX86),\"\",VI!GX86)","v":""},"",""]
[{"$f":"II!B85","v":"Other"},{"$f":"IF(ISBLANK(II!AL85),\"\",II!AL85)","v":""},{"$f":"IF(ISBLANK(II!BD85),\"\",II!BD85)","v":""},{"$f":"IF(ISBLANK(II!BV85),\"\",II!BV85)","v":""},{"$f":"IF(ISBLANK(II!CN85),\"\",II!CN85)","v":""},{"$f":"IF(ISBLANK(II!DF85),\"\",II!DF85)","v":""},{"$f":"IF(ISBLANK(VI!AU87),\"\",VI!AU87)","v":""},{"$f":"IF(ISBLANK(VI!BG87),\"\",VI!BG87)","v":""},{"$f":"IF(ISBLANK(VI!BS87),\"\",VI!BS87)","v":""},{"$f":"IF(ISBLANK(VI!CG87),\"\",VI!CG87)","v":""},{"$f":"IF(ISBLANK(VI!CR87),\"\",VI!CR87)","v":""},{"$f":"IF(ISBLANK(VI!DC87),\"\",VI!DC87)","v":""},{"$f":"IF(ISBLANK(VI!DN87),\"\",VI!DN87)","v":""},{"$f":"IF(ISBLANK(VI!DY87),\"\",VI!DY87)","v":""},{"$f":"IF(ISBLANK(VI!EJ87),\"\",VI!EJ87)","v":""},{"$f":"IF(ISBLANK(VI!EU87),\"\",VI!EU87)","v":""},{"$f":"IF(ISBLANK(VI!FF87),\"\",VI!FF87)","v":""},{"$f":"IF(ISBLANK(VI!FQ87),\"\",VI!FQ87)","v":""},{"$f":"IF(ISBLANK(VI!GB87),\"\",VI!GB87)","v":""},{"$f":"IF(ISBLANK(VI!GM87),\"\",VI!GM87)","v":""},{"$f":"IF(ISBLANK(VI!GX87),\"\",VI!GX87)","v":""},"",""]
[{"$f":"II!B86","v":"Other"},{"$f":"IF(ISBLANK(II!AL86),\"\",II!AL86)","v":""},{"$f":"IF(ISBLANK(II!BD86),\"\",II!BD86)","v":""},{"$f":"IF(ISBLANK(II!BV86),\"\",II!BV86)","v":""},{"$f":"IF(ISBLANK(II!CN86),\"\",II!CN86)","v":""},{"$f":"IF(ISBLANK(II!DF86),\"\",II!DF86)","v":""},{"$f":"IF(ISBLANK(VI!AU88),\"\",VI!AU88)","v":""},{"$f":"IF(ISBLANK(VI!BG88),\"\",VI!BG88)","v":""},{"$f":"IF(ISBLANK(VI!BS88),\"\",VI!BS88)","v":""},{"$f":"IF(ISBLANK(VI!CG88),\"\",VI!CG88)","v":""},{"$f":"IF(ISBLANK(VI!CR88),\"\",VI!CR88)","v":""},{"$f":"IF(ISBLANK(VI!DC88),\"\",VI!DC88)","v":""},{"$f":"IF(ISBLANK(VI!DN88),\"\",VI!DN88)","v":""},{"$f":"IF(ISBLANK(VI!DY88),\"\",VI!DY88)","v":""},{"$f":"IF(ISBLANK(VI!EJ88),\"\",VI!EJ88)","v":""},{"$f":"IF(ISBLANK(VI!EU88),\"\",VI!EU88)","v":""},{"$f":"IF(ISBLANK(VI!FF88),\"\",VI!FF88)","v":""},{"$f":"IF(ISBLANK(VI!FQ88),\"\",VI!FQ88)","v":""},{"$f":"IF(ISBLANK(VI!GB88),\"\",VI!GB88)","v":""},{"$f":"IF(ISBLANK(VI!GM88),\"\",VI!GM88)","v":""},{"$f":"IF(ISBLANK(VI!GX88),\"\",VI!GX88)","v":""},"",""]
[{"$f":"II!B87","v":"Other"},{"$f":"IF(ISBLANK(II!AL87),\"\",II!AL87)","v":""},{"$f":"IF(ISBLANK(II!BD87),\"\",II!BD87)","v":""},{"$f":"IF(ISBLANK(II!BV87),\"\",II!BV87)","v":""},{"$f":"IF(ISBLANK(II!CN87),\"\",II!CN87)","v":""},{"$f":"IF(ISBLANK(II!DF87),\"\",II!DF87)","v":""},{"$f":"IF(ISBLANK(VI!AU89),\"\",VI!AU89)","v":""},{"$f":"IF(ISBLANK(VI!BG89),\"\",VI!BG89)","v":""},{"$f":"IF(ISBLANK(VI!BS89),\"\",VI!BS89)","v":""},{"$f":"IF(ISBLANK(VI!CG89),\"\",VI!CG89)","v":""},{"$f":"IF(ISBLANK(VI!CR89),\"\",VI!CR89)","v":""},{"$f":"IF(ISBLANK(VI!DC89),\"\",VI!DC89)","v":""},{"$f":"IF(ISBLANK(VI!DN89),\"\",VI!DN89)","v":""},{"$f":"IF(ISBLANK(VI!DY89),\"\",VI!DY89)","v":""},{"$f":"IF(ISBLANK(VI!EJ89),\"\",VI!EJ89)","v":""},{"$f":"IF(ISBLANK(VI!EU89),\"\",VI!EU89)","v":""},{"$f":"IF(ISBLANK(VI!FF89),\"\",VI!FF89)","v":""},{"$f":"IF(ISBLANK(VI!FQ89),\"\",VI!FQ89)","v":""},{"$f":"IF(ISBLANK(VI!GB89),\"\",VI!GB89)","v":""},{"$f":"IF(ISBLANK(VI!GM89),\"\",VI!GM89)","v":""},{"$f":"IF(ISBLANK(VI!GX89),\"\",VI!GX89)","v":""},"",""]
[{"$f":"II!B88","v":"Other"},{"$f":"IF(ISBLANK(II!AL88),\"\",II!AL88)","v":""},{"$f":"IF(ISBLANK(II!BD88),\"\",II!BD88)","v":""},{"$f":"IF(ISBLANK(II!BV88),\"\",II!BV88)","v":""},{"$f":"IF(ISBLANK(II!CN88),\"\",II!CN88)","v":""},{"$f":"IF(ISBLANK(II!DF88),\"\",II!DF88)","v":""},{"$f":"IF(ISBLANK(VI!AU90),\"\",VI!AU90)","v":""},{"$f":"IF(ISBLANK(VI!BG90),\"\",VI!BG90)","v":""},{"$f":"IF(ISBLANK(VI!BS90),\"\",VI!BS90)","v":""},{"$f":"IF(ISBLANK(VI!CG90),\"\",VI!CG90)","v":""},{"$f":"IF(ISBLANK(VI!CR90),\"\",VI!CR90)","v":""},{"$f":"IF(ISBLANK(VI!DC90),\"\",VI!DC90)","v":""},{"$f":"IF(ISBLANK(VI!DN90),\"\",VI!DN90)","v":""},{"$f":"IF(ISBLANK(VI!DY90),\"\",VI!DY90)","v":""},{"$f":"IF(ISBLANK(VI!EJ90),\"\",VI!EJ90)","v":""},{"$f":"IF(ISBLANK(VI!EU90),\"\",VI!EU90)","v":""},{"$f":"IF(ISBLANK(VI!FF90),\"\",VI!FF90)","v":""},{"$f":"IF(ISBLANK(VI!FQ90),\"\",VI!FQ90)","v":""},{"$f":"IF(ISBLANK(VI!GB90),\"\",VI!GB90)","v":""},{"$f":"IF(ISBLANK(VI!GM90),\"\",VI!GM90)","v":""},{"$f":"IF(ISBLANK(VI!GX90),\"\",VI!GX90)","v":""},"",""]
[{"$f":"II!B89","v":"Other"},{"$f":"IF(ISBLANK(II!AL89),\"\",II!AL89)","v":""},{"$f":"IF(ISBLANK(II!BD89),\"\",II!BD89)","v":""},{"$f":"IF(ISBLANK(II!BV89),\"\",II!BV89)","v":""},{"$f":"IF(ISBLANK(II!CN89),\"\",II!CN89)","v":""},{"$f":"IF(ISBLANK(II!DF89),\"\",II!DF89)","v":""},{"$f":"IF(ISBLANK(VI!AU91),\"\",VI!AU91)","v":""},{"$f":"IF(ISBLANK(VI!BG91),\"\",VI!BG91)","v":""},{"$f":"IF(ISBLANK(VI!BS91),\"\",VI!BS91)","v":""},{"$f":"IF(ISBLANK(VI!CG91),\"\",VI!CG91)","v":""},{"$f":"IF(ISBLANK(VI!CR91),\"\",VI!CR91)","v":""},{"$f":"IF(ISBLANK(VI!DC91),\"\",VI!DC91)","v":""},{"$f":"IF(ISBLANK(VI!DN91),\"\",VI!DN91)","v":""},{"$f":"IF(ISBLANK(VI!DY91),\"\",VI!DY91)","v":""},{"$f":"IF(ISBLANK(VI!EJ91),\"\",VI!EJ91)","v":""},{"$f":"IF(ISBLANK(VI!EU91),\"\",VI!EU91)","v":""},{"$f":"IF(ISBLANK(VI!FF91),\"\",VI!FF91)","v":""},{"$f":"IF(ISBLANK(VI!FQ91),\"\",VI!FQ91)","v":""},{"$f":"IF(ISBLANK(VI!GB91),\"\",VI!GB91)","v":""},{"$f":"IF(ISBLANK(VI!GM91),\"\",VI!GM91)","v":""},{"$f":"IF(ISBLANK(VI!GX91),\"\",VI!GX91)","v":""},"",""]
[null,null,null,null,null,null,null,null,null,null,null,null,null,null,null,null,null,null,null,null,null,""]
[null,null,null,null,null,null,null,null,null,null,null,null,null,null,null,null,null,null,null,null,null,""]
[null,null,null,null,null,null,null,null,null,null,null,null,null,null,null,null,null,null,null,null,null,""]
[null,null,null,null,null,null,null,null,null,null,null,null,null,null,null,null,null,null,null,null,null,""]
[null,null,null,null,null,null,null,null,null,null,null,null,null,null,null,null,null,null,null,null,null,""]
[null,null,null,null,null,null,null,null,null,null,null,null,null,null,null,null,null,null,null,null,null,""]

{"sheet":"RawData mechanicalAndElectrical","index":22,"n_rows":25,"n_cols":23,"rows_kept":25,"cut":false,"hidden":false,"merged":[]}
["ItemType","EstUsefulLifeYrCountRangeValue","RatingType","RemainingUsefulLifeYrRangeValue","RepairPriorityType","CommentText","ItemCount","UnitOfMeasureType","CapitalExpenditurePerUnitOfMeasureCostAmt","Year 1","Year 2","Year 3","Year 4","Year 5","Year 6","Year 7","Year 8","Year 9","Year 10","Year 11","Year 12","TotalCapitalExpenditureAmt"]
["Mechanical/Plumbing",{"$f":"IF(ISBLANK(II!AL96),\"\",II!AL96)","v":""},{"$f":"IF(ISBLANK(II!BD96),\"\",II!BD96)","v":""},{"$f":"IF(ISBLANK(II!BV96),\"\",II!BV96)","v":""},{"$f":"IF(ISBLANK(II!CN96),\"\",II!CN96)","v":""},{"$f":"IF(ISBLANK(II!DF96),\"\",II!DF96)","v":""},{"$f":"IF(ISBLANK(VI!AU97),\"\",VI!AU97)","v":""},{"$f":"IF(ISBLANK(VI!BG97),\"\",VI!BG97)","v":""},{"$f":"IF(ISBLANK(VI!BS97),\"\",VI!BS97)","v":""},{"$f":"IF(ISBLANK(VI!CG97),\"\",VI!CG97)","v":""},{"$f":"IF(ISBLANK(VI!CR97),\"\",VI!CR97)","v":""},{"$f":"IF(ISBLANK(VI!DC97),\"\",VI!DC97)","v":""},{"$f":"IF(ISBLANK(VI!DN97),\"\",VI!DN97)","v":""},{"$f":"IF(ISBLANK(VI!DY97),\"\",VI!DY97)","v":""},{"$f":"IF(ISBLANK(VI!EJ97),\"\",VI!EJ97)","v":""},{"$f":"IF(ISBLANK(VI!EU97),\"\",VI!EU97)","v":""},{"$f":"IF(ISBLANK(VI!FF97),\"\",VI!FF97)","v":""},{"$f":"IF(ISBLANK(VI!FQ97),\"\",VI!FQ97)","v":""},{"$f":"IF(ISBLANK(VI!GB97),\"\",VI!GB97)","v":""},{"$f":"IF(ISBLANK(VI!GM97),\"\",VI!GM97)","v":""},{"$f":"IF(ISBLANK(VI!GX97),\"\",VI!GX97)","v":""},{"$f":"IF(SUM(J2:U2)=0,\"\",SUM(J2:U2))","v":""},{"$f":"CONCATENATE(B2&C2&D2&E2&F2&G2&H2&I2)","v":""}]
["Hot and cold water distribution",{"$f":"IF(ISBLANK(II!AL97),\"\",II!AL97)","v":""},{"$f":"IF(ISBLANK(II!BD97),\"\",II!BD97)","v":""},{"$f":"IF(ISBLANK(II!BV97),\"\",II!BV97)","v":""},{"$f":"IF(ISBLANK(II!CN97),\"\",II!CN97)","v":""},{"$f":"IF(ISBLANK(II!DF97),\"\",II!DF97)","v":""},{"$f":"IF(ISBLANK(VI!AU98),\"\",VI!AU98)","v":""},{"$f":"IF(ISBLANK(VI!BG98),\"\",VI!BG98)","v":""},{"$f":"IF(ISBLANK(VI!BS98),\"\",VI!BS98)","v":""},{"$f":"IF(ISBLANK(VI!CG98),\"\",VI!CG98)","v":""},{"$f":"IF(ISBLANK(VI!CR98),\"\",VI!CR98)","v":""},{"$f":"IF(ISBLANK(VI!DC98),\"\",VI!DC98)","v":""},{"$f":"IF(ISBLANK(VI!DN98),\"\",VI!DN98)","v":""},{"$f":"IF(ISBLANK(VI!DY98),\"\",VI!DY98)","v":""},{"$f":"IF(ISBLANK(VI!EJ98),\"\",VI!EJ98)","v":""},{"$f":"IF(ISBLANK(VI!EU98),\"\",VI!EU98)","v":""},{"$f":"IF(ISBLANK(VI!FF98),\"\",VI!FF98)","v":""},{"$f":"IF(ISBLANK(VI!FQ98),\"\",VI!FQ98)","v":""},{"$f":"IF(ISBLANK(VI!GB98),\"\",VI!GB98)","v":""},{"$f":"IF(ISBLANK(VI!GM98),\"\",VI!GM98)","v":""},{"$f":"IF(ISBLANK(VI!GX98),\"\",VI!GX98)","v":""},{"$f":"IF(SUM(J3:U3)=0,\"\",SUM(J3:U3))","v":""},""]
["Domestic water boilers",{"$f":"IF(ISBLANK(II!AL98),\"\",II!AL98)","v":""},{"$f":"IF(ISBLANK(II!BD98),\"\",II!BD98)","v":""},{"$f":"IF(ISBLANK(II!BV98),\"\",II!BV98)","v":""},{"$f":"IF(ISBLANK(II!CN98),\"\",II!CN98)","v":""},{"$f":"IF(ISBLANK(II!DF98),\"\",II!DF98)","v":""},{"$f":"IF(ISBLANK(VI!AU99),\"\",VI!AU99)","v":""},{"$f":"IF(ISBLANK(VI!BG99),\"\",VI!BG99)","v":""},{"$f":"IF(ISBLANK(VI!BS99),\"\",VI!BS99)","v":""},{"$f":"IF(ISBLANK(VI!CG99),\"\",VI!CG99)","v":""},{"$f":"IF(ISBLANK(VI!CR99),\"\",VI!CR99)","v":""},{"$f":"IF(ISBLANK(VI!DC99),\"\",VI!DC99)","v":""},{"$f":"IF(ISBLANK(VI!DN99),\"\",VI!DN99)","v":""},{"$f":"IF(ISBLANK(VI!DY99),\"\",VI!DY99)","v":""},{"$f":"IF(ISBLANK(VI!EJ99),\"\",VI!EJ99)","v":""},{"$f":"IF(ISBLANK(VI!EU99),\"\",VI!EU99)","v":""},{"$f":"IF(ISBLANK(VI!FF99),\"\",VI!FF99)","v":""},{"$f":"IF(ISBLANK(VI!FQ99),\"\",VI!FQ99)","v":""},{"$f":"IF(ISBLANK(VI!GB99),\"\",VI!GB99)","v":""},{"$f":"IF(ISBLANK(VI!GM99),\"\",VI!GM99)","v":""},{"$f":"IF(ISBLANK(VI!GX99),\"\",VI!GX99)","v":""},"",""]
["Domestic water boiler peripherals",{"$f":"IF(ISBLANK(II!AL99),\"\",II!AL99)","v":""},{"$f":"IF(ISBLANK(II!BD99),\"\",II!BD99)","v":""},{"$f":"IF(ISBLANK(II!BV99),\"\",II!BV99)","v":""},{"$f":"IF(ISBLANK(II!CN99),\"\",II!CN99)","v":""},{"$f":"IF(ISBLANK(II!DF99),\"\",II!DF99)","v":""},{"$f":"IF(ISBLANK(VI!AU100),\"\",VI!AU100)","v":""},{"$f":"IF(ISBLANK(VI!BG100),\"\",VI!BG100)","v":""},{"$f":"IF(ISBLANK(VI!BS100),\"\",VI!BS100)","v":""},{"$f":"IF(ISBLANK(VI!CG100),\"\",VI!CG100)","v":""},{"$f":"IF(ISBLANK(VI!CR100),\"\",VI!CR100)","v":""},{"$f":"IF(ISBLANK(VI!DC100),\"\",VI!DC100)","v":""},{"$f":"IF(ISBLANK(VI!DN100),\"\",VI!DN100)","v":""},{"$f":"IF(ISBLANK(VI!DY100),\"\",VI!DY100)","v":""},{"$f":"IF(ISBLANK(VI!EJ100),\"\",VI!EJ100)","v":""},{"$f":"IF(ISBLANK(VI!EU100),\"\",VI!EU100)","v":""},{"$f":"IF(ISBLANK(VI!FF100),\"\",VI!FF100)","v":""},{"$f":"IF(ISBLANK(VI!FQ100),\"\",VI!FQ100)","v":""},{"$f":"IF(ISBLANK(VI!GB100),\"\",VI!GB100)","v":""},{"$f":"IF(ISBLANK(VI!GM100),\"\",VI!GM100)","v":""},{"$f":"IF(ISBLANK(VI!GX100),\"\",VI!GX100)","v":""},"",""]
["Domestic water heaters",{"$f":"IF(ISBLANK(II!AL100),\"\",II!AL100)","v":""},{"$f":"IF(ISBLANK(II!BD100),\"\",II!BD100)","v":""},{"$f":"IF(ISBLANK(II!BV100),\"\",II!BV100)","v":""},{"$f":"IF(ISBLANK(II!CN100),\"\",II!CN100)","v":""},{"$f":"IF(ISBLANK(II!DF100),\"\",II!DF100)","v":""},{"$f":"IF(ISBLANK(VI!AU101),\"\",VI!AU101)","v":""},{"$f":"IF(ISBLANK(VI!BG101),\"\",VI!BG101)","v":""},{"$f":"IF(ISBLANK(VI!BS101),\"\",VI!BS101)","v":""},{"$f":"IF(ISBLANK(VI!CG101),\"\",VI!CG101)","v":""},{"$f":"IF(ISBLANK(VI!CR101),\"\",VI!CR101)","v":""},{"$f":"IF(ISBLANK(VI!DC101),\"\",VI!DC101)","v":""},{"$f":"IF(ISBLANK(VI!DN101),\"\",VI!DN101)","v":""},{"$f":"IF(ISBLANK(VI!DY101),\"\",VI!DY101)","v":""},{"$f":"IF(ISBLANK(VI!EJ101),\"\",VI!EJ101)","v":""},{"$f":"IF(ISBLANK(VI!EU101),\"\",VI!EU101)","v":""},{"$f":"IF(ISBLANK(VI!FF101),\"\",VI!FF101)","v":""},{"$f":"IF(ISBLANK(VI!FQ101),\"\",VI!FQ101)","v":""},{"$f":"IF(ISBLANK(VI!GB101),\"\",VI!GB101)","v":""},{"$f":"IF(ISBLANK(VI!GM101),\"\",VI!GM101)","v":""},{"$f":"IF(ISBLANK(VI!GX101),\"\",VI!GX101)","v":""},"",""]
["Domestic water pumps",{"$f":"IF(ISBLANK(II!AL101),\"\",II!AL101)","v":""},{"$f":"IF(ISBLANK(II!BD101),\"\",II!BD101)","v":""},{"$f":"IF(ISBLANK(II!BV101),\"\",II!BV101)","v":""},{"$f":"IF(ISBLANK(II!CN101),\"\",II!CN101)","v":""},{"$f":"IF(ISBLANK(II!DF101),\"\",II!DF101)","v":""},{"$f":"IF(ISBLANK(VI!AU102),\"\",VI!AU102)","v":""},{"$f":"IF(ISBLANK(VI!BG102),\"\",VI!BG102)","v":""},{"$f":"IF(ISBLANK(VI!BS102),\"\",VI!BS102)","v":""},{"$f":"IF(ISBLANK(VI!CG102),\"\",VI!CG102)","v":""},{"$f":"IF(ISBLANK(VI!CR102),\"\",VI!CR102)","v":""},{"$f":"IF(ISBLANK(VI!DC102),\"\",VI!DC102)","v":""},{"$f":"IF(ISBLANK(VI!DN102),\"\",VI!DN102)","v":""},{"$f":"IF(ISBLANK(VI!DY102),\"\",VI!DY102)","v":""},{"$f":"IF(ISBLANK(VI!EJ102),\"\",VI!EJ102)","v":""},{"$f":"IF(ISBLANK(VI!EU102),\"\",VI!EU102)","v":""},{"$f":"IF(ISBLANK(VI!FF102),\"\",VI!FF102)","v":""},{"$f":"IF(ISBLANK(VI!FQ102),\"\",VI!FQ102)","v":""},{"$f":"IF(ISBLANK(VI!GB102),\"\",VI!GB102)","v":""},{"$f":"IF(ISBLANK(VI!GM102),\"\",VI!GM102)","v":""},{"$f":"IF(ISBLANK(VI!GX102),\"\",VI!GX102)","v":""},"",""]
["Sanitary waste and vent (sewer)",{"$f":"IF(ISBLANK(II!AL102),\"\",II!AL102)","v":""},{"$f":"IF(ISBLANK(II!BD102),\"\",II!BD102)","v":""},{"$f":"IF(ISBLANK(II!BV102),\"\",II!BV102)","v":""},{"$f":"IF(ISBLANK(II!CN102),\"\",II!CN102)","v":""},{"$f":"IF(ISBLANK(II!DF102),\"\",II!DF102)","v":""},{"$f":"IF(ISBLANK(VI!AU103),\"\",VI!AU103)","v":""},{"$f":"IF(ISBLANK(VI!BG103),\"\",VI!BG103)","v":""},{"$f":"IF(ISBLANK(VI!BS103),\"\",VI!BS103)","v":""},{"$f":"IF(ISBLANK(VI!CG103),\"\",VI!CG103)","v":""},{"$f":"IF(ISBLANK(VI!CR103),\"\",VI!CR103)","v":""},{"$f":"IF(ISBLANK(VI!DC103),\"\",VI!DC103)","v":""},{"$f":"IF(ISBLANK(VI!DN103),\"\",VI!DN103)","v":""},{"$f":"IF(ISBLANK(VI!DY103),\"\",VI!DY103)","v":""},{"$f":"IF(ISBLANK(VI!EJ103),\"\",VI!EJ103)","v":""},{"$f":"IF(ISBLANK(VI!EU103),\"\",VI!EU103)","v":""},{"$f":"IF(ISBLANK(VI!FF103),\"\",VI!FF103)","v":""},{"$f":"IF(ISBLANK(VI!FQ103),\"\",VI!FQ103)","v":""},{"$f":"IF(ISBLANK(VI!GB103),\"\",VI!GB103)","v":""},{"$f":"IF(ISBLANK(VI!GM103),\"\",VI!GM103)","v":""},{"$f":"IF(ISBLANK(VI!GX103),\"\",VI!GX103)","v":""},"",""]
["Mechanical HVAC",{"$f":"IF(ISBLANK(II!AL103),\"\",II!AL103)","v":""},{"$f":"IF(ISBLANK(II!BD103),\"\",II!BD103)","v":""},{"$f":"IF(ISBLANK(II!BV103),\"\",II!BV103)","v":""},{"$f":"IF(ISBLANK(II!CN103),\"\",II!CN103)","v":""},{"$f":"IF(ISBLANK(II!DF103),\"\",II!DF103)","v":""},{"$f":"IF(ISBLANK(VI!AU104),\"\",VI!AU104)","v":""},{"$f":"IF(ISBLANK(VI!BG104),\"\",VI!BG104)","v":""},{"$f":"IF(ISBLANK(VI!BS104),\"\",VI!BS104)","v":""},{"$f":"IF(ISBLANK(VI!CG104),\"\",VI!CG104)","v":""},{"$f":"IF(ISBLANK(VI!CR104),\"\",VI!CR104)","v":""},{"$f":"IF(ISBLANK(VI!DC104),\"\",VI!DC104)","v":""},{"$f":"IF(ISBLANK(VI!DN104),\"\",VI!DN104)","v":""},{"$f":"IF(ISBLANK(VI!DY104),\"\",VI!DY104)","v":""},{"$f":"IF(ISBLANK(VI!EJ104),\"\",VI!EJ104)","v":""},{"$f":"IF(ISBLANK(VI!EU104),\"\",VI!EU104)","v":""},{"$f":"IF(ISBLANK(VI!FF104),\"\",VI!FF104)","v":""},{"$f":"IF(ISBLANK(VI!FQ104),\"\",VI!FQ104)","v":""},{"$f":"IF(ISBLANK(VI!GB104),\"\",VI!GB104)","v":""},{"$f":"IF(ISBLANK(VI!GM104),\"\",VI!GM104)","v":""},{"$f":"IF(ISBLANK(VI!GX104),\"\",VI!GX104)","v":""},"",""]
["Heating system",{"$f":"IF(ISBLANK(II!AL104),\"\",II!AL104)","v":""},{"$f":"IF(ISBLANK(II!BD104),\"\",II!BD104)","v":""},{"$f":"IF(ISBLANK(II!BV104),\"\",II!BV104)","v":""},{"$f":"IF(ISBLANK(II!CN104),\"\",II!CN104)","v":""},{"$f":"IF(ISBLANK(II!DF104),\"\",II!DF104)","v":""},{"$f":"IF(ISBLANK(VI!AU105),\"\",VI!AU105)","v":""},{"$f":"IF(ISBLANK(VI!BG105),\"\",VI!BG105)","v":""},{"$f":"IF(ISBLANK(VI!BS105),\"\",VI!BS105)","v":""},{"$f":"IF(ISBLANK(VI!CG105),\"\",VI!CG105)","v":""},{"$f":"IF(ISBLANK(VI!CR105),\"\",VI!CR105)","v":""},{"$f":"IF(ISBLANK(VI!DC105),\"\",VI!DC105)","v":""},{"$f":"IF(ISBLANK(VI!DN105),\"\",VI!DN105)","v":""},{"$f":"IF(ISBLANK(VI!DY105),\"\",VI!DY105)","v":""},{"$f":"IF(ISBLANK(VI!EJ105),\"\",VI!EJ105)","v":""},{"$f":"IF(ISBLANK(VI!EU105),\"\",VI!EU105)","v":""},{"$f":"IF(ISBLANK(VI!FF105),\"\",VI!FF105)","v":""},{"$f":"IF(ISBLANK(VI!FQ105),\"\",VI!FQ105)","v":""},{"$f":"IF(ISBLANK(VI!GB105),\"\",VI!GB105)","v":""},{"$f":"IF(ISBLANK(VI!GM105),\"\",VI!GM105)","v":""},{"$f":"IF(ISBLANK(VI!GX105),\"\",VI!GX105)","v":""},"",""]
["Cooling system",{"$f":"IF(ISBLANK(II!AL105),\"\",II!AL105)","v":""},{"$f":"IF(ISBLANK(II!BD105),\"\",II!BD105)","v":""},{"$f":"IF(ISBLANK(II!BV105),\"\",II!BV105)","v":""},{"$f":"IF(ISBLANK(II!CN105),\"\",II!CN105)","v":""},{"$f":"IF(ISBLANK(II!DF105),\"\",II!DF105)","v":""},{"$f":"IF(ISBLANK(VI!AU106),\"\",VI!AU106)","v":""},{"$f":"IF(ISBLANK(VI!BG106),\"\",VI!BG106)","v":""},{"$f":"IF(ISBLANK(VI!BS106),\"\",VI!BS106)","v":""},{"$f":"IF(ISBLANK(VI!CG106),\"\",VI!CG106)","v":""},{"$f":"IF(ISBLANK(VI!CR106),\"\",VI!CR106)","v":""},{"$f":"IF(ISBLANK(VI!DC106),\"\",VI!DC106)","v":""},{"$f":"IF(ISBLANK(VI!DN106),\"\",VI!DN106)","v":""},{"$f":"IF(ISBLANK(VI!DY106),\"\",VI!DY106)","v":""},{"$f":"IF(ISBLANK(VI!EJ106),\"\",VI!EJ106)","v":""},{"$f":"IF(ISBLANK(VI!EU106),\"\",VI!EU106)","v":""},{"$f":"IF(ISBLANK(VI!FF106),\"\",VI!FF106)","v":""},{"$f":"IF(ISBLANK(VI!FQ106),\"\",VI!FQ106)","v":""},{"$f":"IF(ISBLANK(VI!GB106),\"\",VI!GB106)","v":""},{"$f":"IF(ISBLANK(VI!GM106),\"\",VI!GM106)","v":""},{"$f":"IF(ISBLANK(VI!GX106),\"\",VI!GX106)","v":""},"",""]
["Electrical",{"$f":"IF(ISBLANK(II!AL106),\"\",II!AL106)","v":""},{"$f":"IF(ISBLANK(II!BD106),\"\",II!BD106)","v":""},{"$f":"IF(ISBLANK(II!BV106),\"\",II!BV106)","v":""},{"$f":"IF(ISBLANK(II!CN106),\"\",II!CN106)","v":""},{"$f":"IF(ISBLANK(II!DF106),\"\",II!DF106)","v":""},{"$f":"IF(ISBLANK(VI!AU107),\"\",VI!AU107)","v":""},{"$f":"IF(ISBLANK(VI!BG107),\"\",VI!BG107)","v":""},{"$f":"IF(ISBLANK(VI!BS107),\"\",VI!BS107)","v":""},{"$f":"IF(ISBLANK(VI!CG107),\"\",VI!CG107)","v":""},{"$f":"IF(ISBLANK(VI!CR107),\"\",VI!CR107)","v":""},{"$f":"IF(ISBLANK(VI!DC107),\"\",VI!DC107)","v":""},{"$f":"IF(ISBLANK(VI!DN107),\"\",VI!DN107)","v":""},{"$f":"IF(ISBLANK(VI!DY107),\"\",VI!DY107)","v":""},{"$f":"IF(ISBLANK(VI!EJ107),\"\",VI!EJ107)","v":""},{"$f":"IF(ISBLANK(VI!EU107),\"\",VI!EU107)","v":""},{"$f":"IF(ISBLANK(VI!FF107),\"\",VI!FF107)","v":""},{"$f":"IF(ISBLANK(VI!FQ107),\"\",VI!FQ107)","v":""},{"$f":"IF(ISBLANK(VI!GB107),\"\",VI!GB107)","v":""},{"$f":"IF(ISBLANK(VI!GM107),\"\",VI!GM107)","v":""},{"$f":"IF(ISBLANK(VI!GX107),\"\",VI!GX107)","v":""},"",""]
["Building power/wiring",{"$f":"IF(ISBLANK(II!AL107),\"\",II!AL107)","v":""},{"$f":"IF(ISBLANK(II!BD107),\"\",II!BD107)","v":""},{"$f":"IF(ISBLANK(II!BV107),\"\",II!BV107)","v":""},{"$f":"IF(ISBLANK(II!CN107),\"\",II!CN107)","v":""},{"$f":"IF(ISBLANK(II!DF107),\"\",II!DF107)","v":""},{"$f":"IF(ISBLANK(VI!AU108),\"\",VI!AU108)","v":""},{"$f":"IF(ISBLANK(VI!BG108),\"\",VI!BG108)","v":""},{"$f":"IF(ISBLANK(VI!BS108),\"\",VI!BS108)","v":""},{"$f":"IF(ISBLANK(VI!CG108),\"\",VI!CG108)","v":""},{"$f":"IF(ISBLANK(VI!CR108),\"\",VI!CR108)","v":""},{"$f":"IF(ISBLANK(VI!DC108),\"\",VI!DC108)","v":""},{"$f":"IF(ISBLANK(VI!DN108),\"\",VI!DN108)","v":""},{"$f":"IF(ISBLANK(VI!DY108),\"\",VI!DY108)","v":""},{"$f":"IF(ISBLANK(VI!EJ108),\"\",VI!EJ108)","v":""},{"$f":"IF(ISBLANK(VI!EU108),\"\",VI!EU108)","v":""},{"$f":"IF(ISBLANK(VI!FF108),\"\",VI!FF108)","v":""},{"$f":"IF(ISBLANK(VI!FQ108),\"\",VI!FQ108)","v":""},{"$f":"IF(ISBLANK(VI!GB108),\"\",VI!GB108)","v":""},{"$f":"IF(ISBLANK(VI!GM108),\"\",VI!GM108)","v":""},{"$f":"IF(ISBLANK(VI!GX108),\"\",VI!GX108)","v":""},"",""]
["Switchgear/metering",{"$f":"IF(ISBLANK(II!AL108),\"\",II!AL108)","v":""},{"$f":"IF(ISBLANK(II!BD108),\"\",II!BD108)","v":""},{"$f":"IF(ISBLANK(II!BV108),\"\",II!BV108)","v":""},{"$f":"IF(ISBLANK(II!CN108),\"\",II!CN108)","v":""},{"$f":"IF(ISBLANK(II!DF108),\"\",II!DF108)","v":""},{"$f":"IF(ISBLANK(VI!AU109),\"\",VI!AU109)","v":""},{"$f":"IF(ISBLANK(VI!BG109),\"\",VI!BG109)","v":""},{"$f":"IF(ISBLANK(VI!BS109),\"\",VI!BS109)","v":""},{"$f":"IF(ISBLANK(VI!CG109),\"\",VI!CG109)","v":""},{"$f":"IF(ISBLANK(VI!CR109),\"\",VI!CR109)","v":""},{"$f":"IF(ISBLANK(VI!DC109),\"\",VI!DC109)","v":""},{"$f":"IF(ISBLANK(VI!DN109),\"\",VI!DN109)","v":""},{"$f":"IF(ISBLANK(VI!DY109),\"\",VI!DY109)","v":""},{"$f":"IF(ISBLANK(VI!EJ109),\"\",VI!EJ109)","v":""},{"$f":"IF(ISBLANK(VI!EU109),\"\",VI!EU109)","v":""},{"$f":"IF(ISBLANK(VI!FF109),\"\",VI!FF109)","v":""},{"$f":"IF(ISBLANK(VI!FQ109),\"\",VI!FQ109)","v":""},{"$f":"IF(ISBLANK(VI!GB109),\"\",VI!GB109)","v":""},{"$f":"IF(ISBLANK(VI!GM109),\"\",VI!GM109)","v":""},{"$f":"IF(ISBLANK(VI!GX109),\"\",VI!GX109)","v":""},"",""]
["Emergency lighting/generator",{"$f":"IF(ISBLANK(II!AL109),\"\",II!AL109)","v":""},{"$f":"IF(ISBLANK(II!BD109),\"\",II!BD109)","v":""},{"$f":"IF(ISBLANK(II!BV109),\"\",II!BV109)","v":""},{"$f":"IF(ISBLANK(II!CN109),\"\",II!CN109)","v":""},{"$f":"IF(ISBLANK(II!DF109),\"\",II!DF109)","v":""},{"$f":"IF(ISBLANK(VI!AU110),\"\",VI!AU110)","v":""},{"$f":"IF(ISBLANK(VI!BG110),\"\",VI!BG110)","v":""},{"$f":"IF(ISBLANK(VI!BS110),\"\",VI!BS110)","v":""},{"$f":"IF(ISBLANK(VI!CG110),\"\",VI!CG110)","v":""},{"$f":"IF(ISBLANK(VI!CR110),\"\",VI!CR110)","v":""},{"$f":"IF(ISBLANK(VI!DC110),\"\",VI!DC110)","v":""},{"$f":"IF(ISBLANK(VI!DN110),\"\",VI!DN110)","v":""},{"$f":"IF(ISBLANK(VI!DY110),\"\",VI!DY110)","v":""},{"$f":"IF(ISBLANK(VI!EJ110),\"\",VI!EJ110)","v":""},{"$f":"IF(ISBLANK(VI!EU110),\"\",VI!EU110)","v":""},{"$f":"IF(ISBLANK(VI!FF110),\"\",VI!FF110)","v":""},{"$f":"IF(ISBLANK(VI!FQ110),\"\",VI!FQ110)","v":""},{"$f":"IF(ISBLANK(VI!GB110),\"\",VI!GB110)","v":""},{"$f":"IF(ISBLANK(VI!GM110),\"\",VI!GM110)","v":""},{"$f":"IF(ISBLANK(VI!GX110),\"\",VI!GX110)","v":""},"",""]
["Smoke and fire detection",{"$f":"IF(ISBLANK(II!AL110),\"\",II!AL110)","v":""},{"$f":"IF(ISBLANK(II!BD110),\"\",II!BD110)","v":""},{"$f":"IF(ISBLANK(II!BV110),\"\",II!BV110)","v":""},{"$f":"IF(ISBLANK(II!CN110),\"\",II!CN110)","v":""},{"$f":"IF(ISBLANK(II!DF110),\"\",II!DF110)","v":""},{"$f":"IF(ISBLANK(VI!AU111),\"\",VI!AU111)","v":""},{"$f":"IF(ISBLANK(VI!BG111),\"\",VI!BG111)","v":""},{"$f":"IF(ISBLANK(VI!BS111),\"\",VI!BS111)","v":""},{"$f":"IF(ISBLANK(VI!CG111),\"\",VI!CG111)","v":""},{"$f":"IF(ISBLANK(VI!CR111),\"\",VI!CR111)","v":""},{"$f":"IF(ISBLANK(VI!DC111),\"\",VI!DC111)","v":""},{"$f":"IF(ISBLANK(VI!DN111),\"\",VI!DN111)","v":""},{"$f":"IF(ISBLANK(VI!DY111),\"\",VI!DY111)","v":""},{"$f":"IF(ISBLANK(VI!EJ111),\"\",VI!EJ111)","v":""},{"$f":"IF(ISBLANK(VI!EU111),\"\",VI!EU111)","v":""},{"$f":"IF(ISBLANK(VI!FF111),\"\",VI!FF111)","v":""},{"$f":"IF(ISBLANK(VI!FQ111),\"\",VI!FQ111)","v":""},{"$f":"IF(ISBLANK(VI!GB111),\"\",VI!GB111)","v":""},{"$f":"IF(ISBLANK(VI!GM111),\"\",VI!GM111)","v":""},{"$f":"IF(ISBLANK(VI!GX111),\"\",VI!GX111)","v":""},"",""]
["Buzzer/intercom (security)",{"$f":"IF(ISBLANK(II!AL111),\"\",II!AL111)","v":""},{"$f":"IF(ISBLANK(II!BD111),\"\",II!BD111)","v":""},{"$f":"IF(ISBLANK(II!BV111),\"\",II!BV111)","v":""},{"$f":"IF(ISBLANK(II!CN111),\"\",II!CN111)","v":""},{"$f":"IF(ISBLANK(II!DF111),\"\",II!DF111)","v":""},{"$f":"IF(ISBLANK(VI!AU112),\"\",VI!AU112)","v":""},{"$f":"IF(ISBLANK(VI!BG112),\"\",VI!BG112)","v":""},{"$f":"IF(ISBLANK(VI!BS112),\"\",VI!BS112)","v":""},{"$f":"IF(ISBLANK(VI!CG112),\"\",VI!CG112)","v":""},{"$f":"IF(ISBLANK(VI!CR112),\"\",VI!CR112)","v":""},{"$f":"IF(ISBLANK(VI!DC112),\"\",VI!DC112)","v":""},{"$f":"IF(ISBLANK(VI!DN112),\"\",VI!DN112)","v":""},{"$f":"IF(ISBLANK(VI!DY112),\"\",VI!DY112)","v":""},{"$f":"IF(ISBLANK(VI!EJ112),\"\",VI!EJ112)","v":""},{"$f":"IF(ISBLANK(VI!EU112),\"\",VI!EU112)","v":""},{"$f":"IF(ISBLANK(VI!FF112),\"\",VI!FF112)","v":""},{"$f":"IF(ISBLANK(VI!FQ112),\"\",VI!FQ112)","v":""},{"$f":"IF(ISBLANK(VI!GB112),\"\",VI!GB112)","v":""},{"$f":"IF(ISBLANK(VI!GM112),\"\",VI!GM112)","v":""},{"$f":"IF(ISBLANK(VI!GX112),\"\",VI!GX112)","v":""},"",""]
["Fire suppression",{"$f":"IF(ISBLANK(II!AL112),\"\",II!AL112)","v":""},{"$f":"IF(ISBLANK(II!BD112),\"\",II!BD112)","v":""},{"$f":"IF(ISBLANK(II!BV112),\"\",II!BV112)","v":""},{"$f":"IF(ISBLANK(II!CN112),\"\",II!CN112)","v":""},{"$f":"IF(ISBLANK(II!DF112),\"\",II!DF112)","v":""},{"$f":"IF(ISBLANK(VI!AU113),\"\",VI!AU113)","v":""},{"$f":"IF(ISBLANK(VI!BG113),\"\",VI!BG113)","v":""},{"$f":"IF(ISBLANK(VI!BS113),\"\",VI!BS113)","v":""},{"$f":"IF(ISBLANK(VI!CG113),\"\",VI!CG113)","v":""},{"$f":"IF(ISBLANK(VI!CR113),\"\",VI!CR113)","v":""},{"$f":"IF(ISBLANK(VI!DC113),\"\",VI!DC113)","v":""},{"$f":"IF(ISBLANK(VI!DN113),\"\",VI!DN113)","v":""},{"$f":"IF(ISBLANK(VI!DY113),\"\",VI!DY113)","v":""},{"$f":"IF(ISBLANK(VI!EJ113),\"\",VI!EJ113)","v":""},{"$f":"IF(ISBLANK(VI!EU113),\"\",VI!EU113)","v":""},{"$f":"IF(ISBLANK(VI!FF113),\"\",VI!FF113)","v":""},{"$f":"IF(ISBLANK(VI!FQ113),\"\",VI!FQ113)","v":""},{"$f":"IF(ISBLANK(VI!GB113),\"\",VI!GB113)","v":""},{"$f":"IF(ISBLANK(VI!GM113),\"\",VI!GM113)","v":""},{"$f":"IF(ISBLANK(VI!GX113),\"\",VI!GX113)","v":""},"",""]
["Elevators",{"$f":"IF(ISBLANK(II!AL113),\"\",II!AL113)","v":""},{"$f":"IF(ISBLANK(II!BD113),\"\",II!BD113)","v":""},{"$f":"IF(ISBLANK(II!BV113),\"\",II!BV113)","v":""},{"$f":"IF(ISBLANK(II!CN113),\"\",II!CN113)","v":""},{"$f":"IF(ISBLANK(II!DF113),\"\",II!DF113)","v":""},{"$f":"IF(ISBLANK(VI!AU114),\"\",VI!AU114)","v":""},{"$f":"IF(ISBLANK(VI!BG114),\"\",VI!BG114)","v":""},{"$f":"IF(ISBLANK(VI!BS114),\"\",VI!BS114)","v":""},{"$f":"IF(ISBLANK(VI!CG114),\"\",VI!CG114)","v":""},{"$f":"IF(ISBLANK(VI!CR114),\"\",VI!CR114)","v":""},{"$f":"IF(ISBLANK(VI!DC114),\"\",VI!DC114)","v":""},{"$f":"IF(ISBLANK(VI!DN114),\"\",VI!DN114)","v":""},{"$f":"IF(ISBLANK(VI!DY114),\"\",VI!DY114)","v":""},{"$f":"IF(ISBLANK(VI!EJ114),\"\",VI!EJ114)","v":""},{"$f":"IF(ISBLANK(VI!EU114),\"\",VI!EU114)","v":""},{"$f":"IF(ISBLANK(VI!FF114),\"\",VI!FF114)","v":""},{"$f":"IF(ISBLANK(VI!FQ114),\"\",VI!FQ114)","v":""},{"$f":"IF(ISBLANK(VI!GB114),\"\",VI!GB114)","v":""},{"$f":"IF(ISBLANK(VI!GM114),\"\",VI!GM114)","v":""},{"$f":"IF(ISBLANK(VI!GX114),\"\",VI!GX114)","v":""},"",""]
["Security",{"$f":"IF(ISBLANK(II!AL114),\"\",II!AL114)","v":""},{"$f":"IF(ISBLANK(II!BD114),\"\",II!BD114)","v":""},{"$f":"IF(ISBLANK(II!BV114),\"\",II!BV114)","v":""},{"$f":"IF(ISBLANK(II!CN114),\"\",II!CN114)","v":""},{"$f":"IF(ISBLANK(II!DF114),\"\",II!DF114)","v":""},{"$f":"IF(ISBLANK(VI!AU115),\"\",VI!AU115)","v":""},{"$f":"IF(ISBLANK(VI!BG115),\"\",VI!BG115)","v":""},{"$f":"IF(ISBLANK(VI!BS115),\"\",VI!BS115)","v":""},{"$f":"IF(ISBLANK(VI!CG115),\"\",VI!CG115)","v":""},{"$f":"IF(ISBLANK(VI!CR115),\"\",VI!CR115)","v":""},{"$f":"IF(ISBLANK(VI!DC115),\"\",VI!DC115)","v":""},{"$f":"IF(ISBLANK(VI!DN115),\"\",VI!DN115)","v":""},{"$f":"IF(ISBLANK(VI!DY115),\"\",VI!DY115)","v":""},{"$f":"IF(ISBLANK(VI!EJ115),\"\",VI!EJ115)","v":""},{"$f":"IF(ISBLANK(VI!EU115),\"\",VI!EU115)","v":""},{"$f":"IF(ISBLANK(VI!FF115),\"\",VI!FF115)","v":""},{"$f":"IF(ISBLANK(VI!FQ115),\"\",VI!FQ115)","v":""},{"$f":"IF(ISBLANK(VI!GB115),\"\",VI!GB115)","v":""},{"$f":"IF(ISBLANK(VI!GM115),\"\",VI!GM115)","v":""},{"$f":"IF(ISBLANK(VI!GX115),\"\",VI!GX115)","v":""},"",""]
[{"$f":"II!B115","v":"Other"},{"$f":"IF(ISBLANK(II!AL115),\"\",II!AL115)","v":""},{"$f":"IF(ISBLANK(II!BD115),\"\",II!BD115)","v":""},{"$f":"IF(ISBLANK(II!BV115),\"\",II!BV115)","v":""},{"$f":"IF(ISBLANK(II!CN115),\"\",II!CN115)","v":""},{"$f":"IF(ISBLANK(II!DF115),\"\",II!DF115)","v":""},{"$f":"IF(ISBLANK(VI!AU116),\"\",VI!AU116)","v":""},{"$f":"IF(ISBLANK(VI!BG116),\"\",VI!BG116)","v":""},{"$f":"IF(ISBLANK(VI!BS116),\"\",VI!BS116)","v":""},{"$f":"IF(ISBLANK(VI!CG116),\"\",VI!CG116)","v":""},{"$f":"IF(ISBLANK(VI!CR116),\"\",VI!CR116)","v":""},{"$f":"IF(ISBLANK(VI!DC116),\"\",VI!DC116)","v":""},{"$f":"IF(ISBLANK(VI!DN116),\"\",VI!DN116)","v":""},{"$f":"IF(ISBLANK(VI!DY116),\"\",VI!DY116)","v":""},{"$f":"IF(ISBLANK(VI!EJ116),\"\",VI!EJ116)","v":""},{"$f":"IF(ISBLANK(VI!EU116),\"\",VI!EU116)","v":""},{"$f":"IF(ISBLANK(VI!FF116),\"\",VI!FF116)","v":""},{"$f":"IF(ISBLANK(VI!FQ116),\"\",VI!FQ116)","v":""},{"$f":"IF(ISBLANK(VI!GB116),\"\",VI!GB116)","v":""},{"$f":"IF(ISBLANK(VI!GM116),\"\",VI!GM116)","v":""},{"$f":"IF(ISBLANK(VI!GX116),\"\",VI!GX116)","v":""},"",""]
[{"$f":"II!B116","v":"Other"},{"$f":"IF(ISBLANK(II!AL116),\"\",II!AL116)","v":""},{"$f":"IF(ISBLANK(II!BD116),\"\",II!BD116)","v":""},{"$f":"IF(ISBLANK(II!BV116),\"\",II!BV116)","v":""},{"$f":"IF(ISBLANK(II!CN116),\"\",II!CN116)","v":""},{"$f":"IF(ISBLANK(II!DF116),\"\",II!DF116)","v":""},{"$f":"IF(ISBLANK(VI!AU117),\"\",VI!AU117)","v":""},{"$f":"IF(ISBLANK(VI!BG117),\"\",VI!BG117)","v":""},{"$f":"IF(ISBLANK(VI!BS117),\"\",VI!BS117)","v":""},{"$f":"IF(ISBLANK(VI!CG117),\"\",VI!CG117)","v":""},{"$f":"IF(ISBLANK(VI!CR117),\"\",VI!CR117)","v":""},{"$f":"IF(ISBLANK(VI!DC117),\"\",VI!DC117)","v":""},{"$f":"IF(ISBLANK(VI!DN117),\"\",VI!DN117)","v":""},{"$f":"IF(ISBLANK(VI!DY117),\"\",VI!DY117)","v":""},{"$f":"IF(ISBLANK(VI!EJ117),\"\",VI!EJ117)","v":""},{"$f":"IF(ISBLANK(VI!EU117),\"\",VI!EU117)","v":""},{"$f":"IF(ISBLANK(VI!FF117),\"\",VI!FF117)","v":""},{"$f":"IF(ISBLANK(VI!FQ117),\"\",VI!FQ117)","v":""},{"$f":"IF(ISBLANK(VI!GB117),\"\",VI!GB117)","v":""},{"$f":"IF(ISBLANK(VI!GM117),\"\",VI!GM117)","v":""},{"$f":"IF(ISBLANK(VI!GX117),\"\",VI!GX117)","v":""},"",""]
[{"$f":"II!B117","v":"Other"},{"$f":"IF(ISBLANK(II!AL117),\"\",II!AL117)","v":""},{"$f":"IF(ISBLANK(II!BD117),\"\",II!BD117)","v":""},{"$f":"IF(ISBLANK(II!BV117),\"\",II!BV117)","v":""},{"$f":"IF(ISBLANK(II!CN117),\"\",II!CN117)","v":""},{"$f":"IF(ISBLANK(II!DF117),\"\",II!DF117)","v":""},{"$f":"IF(ISBLANK(VI!AU118),\"\",VI!AU118)","v":""},{"$f":"IF(ISBLANK(VI!BG118),\"\",VI!BG118)","v":""},{"$f":"IF(ISBLANK(VI!BS118),\"\",VI!BS118)","v":""},{"$f":"IF(ISBLANK(VI!CG118),\"\",VI!CG118)","v":""},{"$f":"IF(ISBLANK(VI!CR118),\"\",VI!CR118)","v":""},{"$f":"IF(ISBLANK(VI!DC118),\"\",VI!DC118)","v":""},{"$f":"IF(ISBLANK(VI!DN118),\"\",VI!DN118)","v":""},{"$f":"IF(ISBLANK(VI!DY118),\"\",VI!DY118)","v":""},{"$f":"IF(ISBLANK(VI!EJ118),\"\",VI!EJ118)","v":""},{"$f":"IF(ISBLANK(VI!EU118),\"\",VI!EU118)","v":""},{"$f":"IF(ISBLANK(VI!FF118),\"\",VI!FF118)","v":""},{"$f":"IF(ISBLANK(VI!FQ118),\"\",VI!FQ118)","v":""},{"$f":"IF(ISBLANK(VI!GB118),\"\",VI!GB118)","v":""},{"$f":"IF(ISBLANK(VI!GM118),\"\",VI!GM118)","v":""},{"$f":"IF(ISBLANK(VI!GX118),\"\",VI!GX118)","v":""},"",""]
[{"$f":"II!B118","v":"Other"},{"$f":"IF(ISBLANK(II!AL118),\"\",II!AL118)","v":""},{"$f":"IF(ISBLANK(II!BD118),\"\",II!BD118)","v":""},{"$f":"IF(ISBLANK(II!BV118),\"\",II!BV118)","v":""},{"$f":"IF(ISBLANK(II!CN118),\"\",II!CN118)","v":""},{"$f":"IF(ISBLANK(II!DF118),\"\",II!DF118)","v":""},{"$f":"IF(ISBLANK(VI!AU119),\"\",VI!AU119)","v":""},{"$f":"IF(ISBLANK(VI!BG119),\"\",VI!BG119)","v":""},{"$f":"IF(ISBLANK(VI!BS119),\"\",VI!BS119)","v":""},{"$f":"IF(ISBLANK(VI!CG119),\"\",VI!CG119)","v":""},{"$f":"IF(ISBLANK(VI!CR119),\"\",VI!CR119)","v":""},{"$f":"IF(ISBLANK(VI!DC119),\"\",VI!DC119)","v":""},{"$f":"IF(ISBLANK(VI!DN119),\"\",VI!DN119)","v":""},{"$f":"IF(ISBLANK(VI!DY119),\"\",VI!DY119)","v":""},{"$f":"IF(ISBLANK(VI!EJ119),\"\",VI!EJ119)","v":""},{"$f":"IF(ISBLANK(VI!EU119),\"\",VI!EU119)","v":""},{"$f":"IF(ISBLANK(VI!FF119),\"\",VI!FF119)","v":""},{"$f":"IF(ISBLANK(VI!FQ119),\"\",VI!FQ119)","v":""},{"$f":"IF(ISBLANK(VI!GB119),\"\",VI!GB119)","v":""},{"$f":"IF(ISBLANK(VI!GM119),\"\",VI!GM119)","v":""},{"$f":"IF(ISBLANK(VI!GX119),\"\",VI!GX119)","v":""},"",""]
[{"$f":"II!B119","v":"Other"},{"$f":"IF(ISBLANK(II!AL119),\"\",II!AL119)","v":""},{"$f":"IF(ISBLANK(II!BD119),\"\",II!BD119)","v":""},{"$f":"IF(ISBLANK(II!BV119),\"\",II!BV119)","v":""},{"$f":"IF(ISBLANK(II!CN119),\"\",II!CN119)","v":""},{"$f":"IF(ISBLANK(II!DF119),\"\",II!DF119)","v":""},{"$f":"IF(ISBLANK(VI!AU120),\"\",VI!AU120)","v":""},{"$f":"IF(ISBLANK(VI!BG120),\"\",VI!BG120)","v":""},{"$f":"IF(ISBLANK(VI!BS120),\"\",VI!BS120)","v":""},{"$f":"IF(ISBLANK(VI!CG120),\"\",VI!CG120)","v":""},{"$f":"IF(ISBLANK(VI!CR120),\"\",VI!CR120)","v":""},{"$f":"IF(ISBLANK(VI!DC120),\"\",VI!DC120)","v":""},{"$f":"IF(ISBLANK(VI!DN120),\"\",VI!DN120)","v":""},{"$f":"IF(ISBLANK(VI!DY120),\"\",VI!DY120)","v":""},{"$f":"IF(ISBLANK(VI!EJ120),\"\",VI!EJ120)","v":""},{"$f":"IF(ISBLANK(VI!EU120),\"\",VI!EU120)","v":""},{"$f":"IF(ISBLANK(VI!FF120),\"\",VI!FF120)","v":""},{"$f":"IF(ISBLANK(VI!FQ120),\"\",VI!FQ120)","v":""},{"$f":"IF(ISBLANK(VI!GB120),\"\",VI!GB120)","v":""},{"$f":"IF(ISBLANK(VI!GM120),\"\",VI!GM120)","v":""},{"$f":"IF(ISBLANK(VI!GX120),\"\",VI!GX120)","v":""},"",""]

{"sheet":"RawData dwellingUnits","index":23,"n_rows":33,"n_cols":23,"rows_kept":33,"cut":false,"hidden":false,"merged":[]}
["ItemType","EstUsefulLifeYrCountRangeValue","RatingType","RemainingUsefulLifeYrRangeValue","RepairPriorityType","CommentText","ItemCount","UnitOfMeasureType","CapitalExpenditurePerUnitOfMeasureCostAmt","Year 1","Year 2","Year 3","Year 4","Year 5","Year 6","Year 7","Year 8","Year 9","Year 10","Year 11","Year 12","TotalCapitalExpenditureAmt"]
["Unit entry door(s) and frame(s)",{"$f":"IF(ISBLANK(II!AL126),\"\",II!AL126)","v":""},{"$f":"IF(ISBLANK(II!BD126),\"\",II!BD126)","v":""},{"$f":"IF(ISBLANK(II!BV126),\"\",II!BV126)","v":""},{"$f":"IF(ISBLANK(II!CN126),\"\",II!CN126)","v":""},{"$f":"IF(ISBLANK(II!DF126),\"\",II!DF126)","v":""},{"$f":"IF(ISBLANK(VI!AU126),\"\",VI!AU126)","v":""},{"$f":"IF(ISBLANK(VI!BG126),\"\",VI!BG126)","v":""},{"$f":"IF(ISBLANK(VI!BS126),\"\",VI!BS126)","v":""},{"$f":"IF(ISBLANK(VI!CG126),\"\",VI!CG126)","v":""},{"$f":"IF(ISBLANK(VI!CR126),\"\",VI!CR126)","v":""},{"$f":"IF(ISBLANK(VI!DC126),\"\",VI!DC126)","v":""},{"$f":"IF(ISBLANK(VI!DN126),\"\",VI!DN126)","v":""},{"$f":"IF(ISBLANK(VI!DY126),\"\",VI!DY126)","v":""},{"$f":"IF(ISBLANK(VI!EJ126),\"\",VI!EJ126)","v":""},{"$f":"IF(ISBLANK(VI!EU126),\"\",VI!EU126)","v":""},{"$f":"IF(ISBLANK(VI!FF126),\"\",VI!FF126)","v":""},{"$f":"IF(ISBLANK(VI!FQ126),\"\",VI!FQ126)","v":""},{"$f":"IF(ISBLANK(VI!GB126),\"\",VI!GB126)","v":""},{"$f":"IF(ISBLANK(VI!GM126),\"\",VI!GM126)","v":""},{"$f":"IF(ISBLANK(VI!GX126),\"\",VI!GX126)","v":""},{"$f":"IF(SUM(J2:U2)=0,\"\",SUM(J2:U2))","v":""},{"$f":"CONCATENATE(B2&C2&D2&E2&F2&G2&H2&I2)","v":""}]
["Patio doors",{"$f":"IF(ISBLANK(II!AL127),\"\",II!AL127)","v":""},{"$f":"IF(ISBLANK(II!BD127),\"\",II!BD127)","v":""},{"$f":"IF(ISBLANK(II!BV127),\"\",II!BV127)","v":""},{"$f":"IF(ISBLANK(II!CN127),\"\",II!CN127)","v":""},{"$f":"IF(ISBLANK(II!DF127),\"\",II!DF127)","v":""},{"$f":"IF(ISBLANK(VI!AU127),\"\",VI!AU127)","v":""},{"$f":"IF(ISBLANK(VI!BG127),\"\",VI!BG127)","v":""},{"$f":"IF(ISBLANK(VI!BS127),\"\",VI!BS127)","v":""},{"$f":"IF(ISBLANK(VI!CG127),\"\",VI!CG127)","v":""},{"$f":"IF(ISBLANK(VI!CR127),\"\",VI!CR127)","v":""},{"$f":"IF(ISBLANK(VI!DC127),\"\",VI!DC127)","v":""},{"$f":"IF(ISBLANK(VI!DN127),\"\",VI!DN127)","v":""},{"$f":"IF(ISBLANK(VI!DY127),\"\",VI!DY127)","v":""},{"$f":"IF(ISBLANK(VI!EJ127),\"\",VI!EJ127)","v":""},{"$f":"IF(ISBLANK(VI!EU127),\"\",VI!EU127)","v":""},{"$f":"IF(ISBLANK(VI!FF127),\"\",VI!FF127)","v":""},{"$f":"IF(ISBLANK(VI!FQ127),\"\",VI!FQ127)","v":""},{"$f":"IF(ISBLANK(VI!GB127),\"\",VI!GB127)","v":""},{"$f":"IF(ISBLANK(VI!GM127),\"\",VI!GM127)","v":""},{"$f":"IF(ISBLANK(VI!GX127),\"\",VI!GX127)","v":""},{"$f":"IF(SUM(J3:U3)=0,\"\",SUM(J3:U3))","v":""},""]
["Smoke/fire detection",{"$f":"IF(ISBLANK(II!AL128),\"\",II!AL128)","v":""},{"$f":"IF(ISBLANK(II!BD128),\"\",II!BD128)","v":""},{"$f":"IF(ISBLANK(II!BV128),\"\",II!BV128)","v":""},{"$f":"IF(ISBLANK(II!CN128),\"\",II!CN128)","v":""},{"$f":"IF(ISBLANK(II!DF128),\"\",II!DF128)","v":""},{"$f":"IF(ISBLANK(VI!AU128),\"\",VI!AU128)","v":""},{"$f":"IF(ISBLANK(VI!BG128),\"\",VI!BG128)","v":""},{"$f":"IF(ISBLANK(VI!BS128),\"\",VI!BS128)","v":""},{"$f":"IF(ISBLANK(VI!CG128),\"\",VI!CG128)","v":""},{"$f":"IF(ISBLANK(VI!CR128),\"\",VI!CR128)","v":""},{"$f":"IF(ISBLANK(VI!DC128),\"\",VI!DC128)","v":""},{"$f":"IF(ISBLANK(VI!DN128),\"\",VI!DN128)","v":""},{"$f":"IF(ISBLANK(VI!DY128),\"\",VI!DY128)","v":""},{"$f":"IF(ISBLANK(VI!EJ128),\"\",VI!EJ128)","v":""},{"$f":"IF(ISBLANK(VI!EU128),\"\",VI!EU128)","v":""},{"$f":"IF(ISBLANK(VI!FF128),\"\",VI!FF128)","v":""},{"$f":"IF(ISBLANK(VI!FQ128),\"\",VI!FQ128)","v":""},{"$f":"IF(ISBLANK(VI!GB128),\"\",VI!GB128)","v":""},{"$f":"IF(ISBLANK(VI!GM128),\"\",VI!GM128)","v":""},{"$f":"IF(ISBLANK(VI!GX128),\"\",VI!GX128)","v":""},"",""]
["Buzzer/intercom (security)",{"$f":"IF(ISBLANK(II!AL129),\"\",II!AL129)","v":""},{"$f":"IF(ISBLANK(II!BD129),\"\",II!BD129)","v":""},{"$f":"IF(ISBLANK(II!BV129),\"\",II!BV129)","v":""},{"$f":"IF(ISBLANK(II!CN129),\"\",II!CN129)","v":""},{"$f":"IF(ISBLANK(II!DF129),\"\",II!DF129)","v":""},{"$f":"IF(ISBLANK(VI!AU129),\"\",VI!AU129)","v":""},{"$f":"IF(ISBLANK(VI!BG129),\"\",VI!BG129)","v":""},{"$f":"IF(ISBLANK(VI!BS129),\"\",VI!BS129)","v":""},{"$f":"IF(ISBLANK(VI!CG129),\"\",VI!CG129)","v":""},{"$f":"IF(ISBLANK(VI!CR129),\"\",VI!CR129)","v":""},{"$f":"IF(ISBLANK(VI!DC129),\"\",VI!DC129)","v":""},{"$f":"IF(ISBLANK(VI!DN129),\"\",VI!DN129)","v":""},{"$f":"IF(ISBLANK(VI!DY129),\"\",VI!DY129)","v":""},{"$f":"IF(ISBLANK(VI!EJ129),\"\",VI!EJ129)","v":""},{"$f":"IF(ISBLANK(VI!EU129),\"\",VI!EU129)","v":""},{"$f":"IF(ISBLANK(VI!FF129),\"\",VI!FF129)","v":""},{"$f":"IF(ISBLANK(VI!FQ129),\"\",VI!FQ129)","v":""},{"$f":"IF(ISBLANK(VI!GB129),\"\",VI!GB129)","v":""},{"$f":"IF(ISBLANK(VI!GM129),\"\",VI!GM129)","v":""},{"$f":"IF(ISBLANK(VI!GX129),\"\",VI!GX129)","v":""},"",""]
["Window coverings",{"$f":"IF(ISBLANK(II!AL130),\"\",II!AL130)","v":""},{"$f":"IF(ISBLANK(II!BD130),\"\",II!BD130)","v":""},{"$f":"IF(ISBLANK(II!BV130),\"\",II!BV130)","v":""},{"$f":"IF(ISBLANK(II!CN130),\"\",II!CN130)","v":""},{"$f":"IF(ISBLANK(II!DF130),\"\",II!DF130)","v":""},{"$f":"IF(ISBLANK(VI!AU130),\"\",VI!AU130)","v":""},{"$f":"IF(ISBLANK(VI!BG130),\"\",VI!BG130)","v":""},{"$f":"IF(ISBLANK(VI!BS130),\"\",VI!BS130)","v":""},{"$f":"IF(ISBLANK(VI!CG130),\"\",VI!CG130)","v":""},{"$f":"IF(ISBLANK(VI!CR130),\"\",VI!CR130)","v":""},{"$f":"IF(ISBLANK(VI!DC130),\"\",VI!DC130)","v":""},{"$f":"IF(ISBLANK(VI!DN130),\"\",VI!DN130)","v":""},{"$f":"IF(ISBLANK(VI!DY130),\"\",VI!DY130)","v":""},{"$f":"IF(ISBLANK(VI!EJ130),\"\",VI!EJ130)","v":""},{"$f":"IF(ISBLANK(VI!EU130),\"\",VI!EU130)","v":""},{"$f":"IF(ISBLANK(VI!FF130),\"\",VI!FF130)","v":""},{"$f":"IF(ISBLANK(VI!FQ130),\"\",VI!FQ130)","v":""},{"$f":"IF(ISBLANK(VI!GB130),\"\",VI!GB130)","v":""},{"$f":"IF(ISBLANK(VI!GM130),\"\",VI!GM130)","v":""},{"$f":"IF(ISBLANK(VI!GX130),\"\",VI!GX130)","v":""},"",""]
["Flooring",{"$f":"IF(ISBLANK(II!AL131),\"\",II!AL131)","v":""},{"$f":"IF(ISBLANK(II!BD131),\"\",II!BD131)","v":""},{"$f":"IF(ISBLANK(II!BV131),\"\",II!BV131)","v":""},{"$f":"IF(ISBLANK(II!CN131),\"\",II!CN131)","v":""},{"$f":"IF(ISBLANK(II!DF131),\"\",II!DF131)","v":""},{"$f":"IF(ISBLANK(VI!AU131),\"\",VI!AU131)","v":""},{"$f":"IF(ISBLANK(VI!BG131),\"\",VI!BG131)","v":""},{"$f":"IF(ISBLANK(VI!BS131),\"\",VI!BS131)","v":""},{"$f":"IF(ISBLANK(VI!CG131),\"\",VI!CG131)","v":""},{"$f":"IF(ISBLANK(VI!CR131),\"\",VI!CR131)","v":""},{"$f":"IF(ISBLANK(VI!DC131),\"\",VI!DC131)","v":""},{"$f":"IF(ISBLANK(VI!DN131),\"\",VI!DN131)","v":""},{"$f":"IF(ISBLANK(VI!DY131),\"\",VI!DY131)","v":""},{"$f":"IF(ISBLANK(VI!EJ131),\"\",VI!EJ131)","v":""},{"$f":"IF(ISBLANK(VI!EU131),\"\",VI!EU131)","v":""},{"$f":"IF(ISBLANK(VI!FF131),\"\",VI!FF131)","v":""},{"$f":"IF(ISBLANK(VI!FQ131),\"\",VI!FQ131)","v":""},{"$f":"IF(ISBLANK(VI!GB131),\"\",VI!GB131)","v":""},{"$f":"IF(ISBLANK(VI!GM131),\"\",VI!GM131)","v":""},{"$f":"IF(ISBLANK(VI!GX131),\"\",VI!GX131)","v":""},"",""]
["Carpet",{"$f":"IF(ISBLANK(II!AL132),\"\",II!AL132)","v":""},{"$f":"IF(ISBLANK(II!BD132),\"\",II!BD132)","v":""},{"$f":"IF(ISBLANK(II!BV132),\"\",II!BV132)","v":""},{"$f":"IF(ISBLANK(II!CN132),\"\",II!CN132)","v":""},{"$f":"IF(ISBLANK(II!DF132),\"\",II!DF132)","v":""},{"$f":"IF(ISBLANK(VI!AU132),\"\",VI!AU132)","v":""},{"$f":"IF(ISBLANK(VI!BG132),\"\",VI!BG132)","v":""},{"$f":"IF(ISBLANK(VI!BS132),\"\",VI!BS132)","v":""},{"$f":"IF(ISBLANK(VI!CG132),\"\",VI!CG132)","v":""},{"$f":"IF(ISBLANK(VI!CR132),\"\",VI!CR132)","v":""},{"$f":"IF(ISBLANK(VI!DC132),\"\",VI!DC132)","v":""},{"$f":"IF(ISBLANK(VI!DN132),\"\",VI!DN132)","v":""},{"$f":"IF(ISBLANK(VI!DY132),\"\",VI!DY132)","v":""},{"$f":"IF(ISBLANK(VI!EJ132),\"\",VI!EJ132)","v":""},{"$f":"IF(ISBLANK(VI!EU132),\"\",VI!EU132)","v":""},{"$f":"IF(ISBLANK(VI!FF132),\"\",VI!FF132)","v":""},{"$f":"IF(ISBLANK(VI!FQ132),\"\",VI!FQ132)","v":""},{"$f":"IF(ISBLANK(VI!GB132),\"\",VI!GB132)","v":""},{"$f":"IF(ISBLANK(VI!GM132),\"\",VI!GM132)","v":""},{"$f":"IF(ISBLANK(VI!GX132),\"\",VI!GX132)","v":""},"",""]
["Resilient flooring (vinyl)",{"$f":"IF(ISBLANK(II!AL133),\"\",II!AL133)","v":""},{"$f":"IF(ISBLANK(II!BD133),\"\",II!BD133)","v":""},{"$f":"IF(ISBLANK(II!BV133),\"\",II!BV133)","v":""},{"$f":"IF(ISBLANK(II!CN133),\"\",II!CN133)","v":""},{"$f":"IF(ISBLANK(II!DF133),\"\",II!DF133)","v":""},{"$f":"IF(ISBLANK(VI!AU133),\"\",VI!AU133)","v":""},{"$f":"IF(ISBLANK(VI!BG133),\"\",VI!BG133)","v":""},{"$f":"IF(ISBLANK(VI!BS133),\"\",VI!BS133)","v":""},{"$f":"IF(ISBLANK(VI!CG133),\"\",VI!CG133)","v":""},{"$f":"IF(ISBLANK(VI!CR133),\"\",VI!CR133)","v":""},{"$f":"IF(ISBLANK(VI!DC133),\"\",VI!DC133)","v":""},{"$f":"IF(ISBLANK(VI!DN133),\"\",VI!DN133)","v":""},{"$f":"IF(ISBLANK(VI!DY133),\"\",VI!DY133)","v":""},{"$f":"IF(ISBLANK(VI!EJ133),\"\",VI!EJ133)","v":""},{"$f":"IF(ISBLANK(VI!EU133),\"\",VI!EU133)","v":""},{"$f":"IF(ISBLANK(VI!FF133),\"\",VI!FF133)","v":""},{"$f":"IF(ISBLANK(VI!FQ133),\"\",VI!FQ133)","v":""},{"$f":"IF(ISBLANK(VI!GB133),\"\",VI!GB133)","v":""},{"$f":"IF(ISBLANK(VI!GM133),\"\",VI!GM133)","v":""},{"$f":"IF(ISBLANK(VI!GX133),\"\",VI!GX133)","v":""},"",""]
["Other",{"$f":"IF(ISBLANK(II!AL134),\"\",II!AL134)","v":""},{"$f":"IF(ISBLANK(II!BD134),\"\",II!BD134)","v":""},{"$f":"IF(ISBLANK(II!BV134),\"\",II!BV134)","v":""},{"$f":"IF(ISBLANK(II!CN134),\"\",II!CN134)","v":""},{"$f":"IF(ISBLANK(II!DF134),\"\",II!DF134)","v":""},{"$f":"IF(ISBLANK(VI!AU134),\"\",VI!AU134)","v":""},{"$f":"IF(ISBLANK(VI!BG134),\"\",VI!BG134)","v":""},{"$f":"IF(ISBLANK(VI!BS134),\"\",VI!BS134)","v":""},{"$f":"IF(ISBLANK(VI!CG134),\"\",VI!CG134)","v":""},{"$f":"IF(ISBLANK(VI!CR134),\"\",VI!CR134)","v":""},{"$f":"IF(ISBLANK(VI!DC134),\"\",VI!DC134)","v":""},{"$f":"IF(ISBLANK(VI!DN134),\"\",VI!DN134)","v":""},{"$f":"IF(ISBLANK(VI!DY134),\"\",VI!DY134)","v":""},{"$f":"IF(ISBLANK(VI!EJ134),\"\",VI!EJ134)","v":""},{"$f":"IF(ISBLANK(VI!EU134),\"\",VI!EU134)","v":""},{"$f":"IF(ISBLANK(VI!FF134),\"\",VI!FF134)","v":""},{"$f":"IF(ISBLANK(VI!FQ134),\"\",VI!FQ134)","v":""},{"$f":"IF(ISBLANK(VI!GB134),\"\",VI!GB134)","v":""},{"$f":"IF(ISBLANK(VI!GM134),\"\",VI!GM134)","v":""},{"$f":"IF(ISBLANK(VI!GX134),\"\",VI!GX134)","v":""},"",""]
["Cabinetry",{"$f":"IF(ISBLANK(II!AL135),\"\",II!AL135)","v":""},{"$f":"IF(ISBLANK(II!BD135),\"\",II!BD135)","v":""},{"$f":"IF(ISBLANK(II!BV135),\"\",II!BV135)","v":""},{"$f":"IF(ISBLANK(II!CN135),\"\",II!CN135)","v":""},{"$f":"IF(ISBLANK(II!DF135),\"\",II!DF135)","v":""},{"$f":"IF(ISBLANK(VI!AU135),\"\",VI!AU135)","v":""},{"$f":"IF(ISBLANK(VI!BG135),\"\",VI!BG135)","v":""},{"$f":"IF(ISBLANK(VI!BS135),\"\",VI!BS135)","v":""},{"$f":"IF(ISBLANK(VI!CG135),\"\",VI!CG135)","v":""},{"$f":"IF(ISBLANK(VI!CR135),\"\",VI!CR135)","v":""},{"$f":"IF(ISBLANK(VI!DC135),\"\",VI!DC135)","v":""},{"$f":"IF(ISBLANK(VI!DN135),\"\",VI!DN135)","v":""},{"$f":"IF(ISBLANK(VI!DY135),\"\",VI!DY135)","v":""},{"$f":"IF(ISBLANK(VI!EJ135),\"\",VI!EJ135)","v":""},{"$f":"IF(ISBLANK(VI!EU135),\"\",VI!EU135)","v":""},{"$f":"IF(ISBLANK(VI!FF135),\"\",VI!FF135)","v":""},{"$f":"IF(ISBLANK(VI!FQ135),\"\",VI!FQ135)","v":""},{"$f":"IF(ISBLANK(VI!GB135),\"\",VI!GB135)","v":""},{"$f":"IF(ISBLANK(VI!GM135),\"\",VI!GM135)","v":""},{"$f":"IF(ISBLANK(VI!GX135),\"\",VI!GX135)","v":""},"",""]
["Kitchen",{"$f":"IF(ISBLANK(II!AL136),\"\",II!AL136)","v":""},{"$f":"IF(ISBLANK(II!BD136),\"\",II!BD136)","v":""},{"$f":"IF(ISBLANK(II!BV136),\"\",II!BV136)","v":""},{"$f":"IF(ISBLANK(II!CN136),\"\",II!CN136)","v":""},{"$f":"IF(ISBLANK(II!DF136),\"\",II!DF136)","v":""},{"$f":"IF(ISBLANK(VI!AU136),\"\",VI!AU136)","v":""},{"$f":"IF(ISBLANK(VI!BG136),\"\",VI!BG136)","v":""},{"$f":"IF(ISBLANK(VI!BS136),\"\",VI!BS136)","v":""},{"$f":"IF(ISBLANK(VI!CG136),\"\",VI!CG136)","v":""},{"$f":"IF(ISBLANK(VI!CR136),\"\",VI!CR136)","v":""},{"$f":"IF(ISBLANK(VI!DC136),\"\",VI!DC136)","v":""},{"$f":"IF(ISBLANK(VI!DN136),\"\",VI!DN136)","v":""},{"$f":"IF(ISBLANK(VI!DY136),\"\",VI!DY136)","v":""},{"$f":"IF(ISBLANK(VI!EJ136),\"\",VI!EJ136)","v":""},{"$f":"IF(ISBLANK(VI!EU136),\"\",VI!EU136)","v":""},{"$f":"IF(ISBLANK(VI!FF136),\"\",VI!FF136)","v":""},{"$f":"IF(ISBLANK(VI!FQ136),\"\",VI!FQ136)","v":""},{"$f":"IF(ISBLANK(VI!GB136),\"\",VI!GB136)","v":""},{"$f":"IF(ISBLANK(VI!GM136),\"\",VI!GM136)","v":""},{"$f":"IF(ISBLANK(VI!GX136),\"\",VI!GX136)","v":""},"",""]
["Bathrooms",{"$f":"IF(ISBLANK(II!AL137),\"\",II!AL137)","v":""},{"$f":"IF(ISBLANK(II!BD137),\"\",II!BD137)","v":""},{"$f":"IF(ISBLANK(II!BV137),\"\",II!BV137)","v":""},{"$f":"IF(ISBLANK(II!CN137),\"\",II!CN137)","v":""},{"$f":"IF(ISBLANK(II!DF137),\"\",II!DF137)","v":""},{"$f":"IF(ISBLANK(VI!AU137),\"\",VI!AU137)","v":""},{"$f":"IF(ISBLANK(VI!BG137),\"\",VI!BG137)","v":""},{"$f":"IF(ISBLANK(VI!BS137),\"\",VI!BS137)","v":""},{"$f":"IF(ISBLANK(VI!CG137),\"\",VI!CG137)","v":""},{"$f":"IF(ISBLANK(VI!CR137),\"\",VI!CR137)","v":""},{"$f":"IF(ISBLANK(VI!DC137),\"\",VI!DC137)","v":""},{"$f":"IF(ISBLANK(VI!DN137),\"\",VI!DN137)","v":""},{"$f":"IF(ISBLANK(VI!DY137),\"\",VI!DY137)","v":""},{"$f":"IF(ISBLANK(VI!EJ137),\"\",VI!EJ137)","v":""},{"$f":"IF(ISBLANK(VI!EU137),\"\",VI!EU137)","v":""},{"$f":"IF(ISBLANK(VI!FF137),\"\",VI!FF137)","v":""},{"$f":"IF(ISBLANK(VI!FQ137),\"\",VI!FQ137)","v":""},{"$f":"IF(ISBLANK(VI!GB137),\"\",VI!GB137)","v":""},{"$f":"IF(ISBLANK(VI!GM137),\"\",VI!GM137)","v":""},{"$f":"IF(ISBLANK(VI!GX137),\"\",VI!GX137)","v":""},"",""]
["Other",{"$f":"IF(ISBLANK(II!AL138),\"\",II!AL138)","v":""},{"$f":"IF(ISBLANK(II!BD138),\"\",II!BD138)","v":""},{"$f":"IF(ISBLANK(II!BV138),\"\",II!BV138)","v":""},{"$f":"IF(ISBLANK(II!CN138),\"\",II!CN138)","v":""},{"$f":"IF(ISBLANK(II!DF138),\"\",II!DF138)","v":""},{"$f":"IF(ISBLANK(VI!AU138),\"\",VI!AU138)","v":""},{"$f":"IF(ISBLANK(VI!BG138),\"\",VI!BG138)","v":""},{"$f":"IF(ISBLANK(VI!BS138),\"\",VI!BS138)","v":""},{"$f":"IF(ISBLANK(VI!CG138),\"\",VI!CG138)","v":""},{"$f":"IF(ISBLANK(VI!CR138),\"\",VI!CR138)","v":""},{"$f":"IF(ISBLANK(VI!DC138),\"\",VI!DC138)","v":""},{"$f":"IF(ISBLANK(VI!DN138),\"\",VI!DN138)","v":""},{"$f":"IF(ISBLANK(VI!DY138),\"\",VI!DY138)","v":""},{"$f":"IF(ISBLANK(VI!EJ138),\"\",VI!EJ138)","v":""},{"$f":"IF(ISBLANK(VI!EU138),\"\",VI!EU138)","v":""},{"$f":"IF(ISBLANK(VI!FF138),\"\",VI!FF138)","v":""},{"$f":"IF(ISBLANK(VI!FQ138),\"\",VI!FQ138)","v":""},{"$f":"IF(ISBLANK(VI!GB138),\"\",VI!GB138)","v":""},{"$f":"IF(ISBLANK(VI!GM138),\"\",VI!GM138)","v":""},{"$f":"IF(ISBLANK(VI!GX138),\"\",VI!GX138)","v":""},"",""]
["Countertops and sinks",{"$f":"IF(ISBLANK(II!AL139),\"\",II!AL139)","v":""},{"$f":"IF(ISBLANK(II!BD139),\"\",II!BD139)","v":""},{"$f":"IF(ISBLANK(II!BV139),\"\",II!BV139)","v":""},{"$f":"IF(ISBLANK(II!CN139),\"\",II!CN139)","v":""},{"$f":"IF(ISBLANK(II!DF139),\"\",II!DF139)","v":""},{"$f":"IF(ISBLANK(VI!AU139),\"\",VI!AU139)","v":""},{"$f":"IF(ISBLANK(VI!BG139),\"\",VI!BG139)","v":""},{"$f":"IF(ISBLANK(VI!BS139),\"\",VI!BS139)","v":""},{"$f":"IF(ISBLANK(VI!CG139),\"\",VI!CG139)","v":""},{"$f":"IF(ISBLANK(VI!CR139),\"\",VI!CR139)","v":""},{"$f":"IF(ISBLANK(VI!DC139),\"\",VI!DC139)","v":""},{"$f":"IF(ISBLANK(VI!DN139),\"\",VI!DN139)","v":""},{"$f":"IF(ISBLANK(VI!DY139),\"\",VI!DY139)","v":""},{"$f":"IF(ISBLANK(VI!EJ139),\"\",VI!EJ139)","v":""},{"$f":"IF(ISBLANK(VI!EU139),\"\",VI!EU139)","v":""},{"$f":"IF(ISBLANK(VI!FF139),\"\",VI!FF139)","v":""},{"$f":"IF(ISBLANK(VI!FQ139),\"\",VI!FQ139)","v":""},{"$f":"IF(ISBLANK(VI!GB139),\"\",VI!GB139)","v":""},{"$f":"IF(ISBLANK(VI!GM139),\"\",VI!GM139)","v":""},{"$f":"IF(ISBLANK(VI!GX139),\"\",VI!GX139)","v":""},"",""]
["Kitchen",{"$f":"IF(ISBLANK(II!AL140),\"\",II!AL140)","v":""},{"$f":"IF(ISBLANK(II!BD140),\"\",II!BD140)","v":""},{"$f":"IF(ISBLANK(II!BV140),\"\",II!BV140)","v":""},{"$f":"IF(ISBLANK(II!CN140),\"\",II!CN140)","v":""},{"$f":"IF(ISBLANK(II!DF140),\"\",II!DF140)","v":""},{"$f":"IF(ISBLANK(VI!AU140),\"\",VI!AU140)","v":""},{"$f":"IF(ISBLANK(VI!BG140),\"\",VI!BG140)","v":""},{"$f":"IF(ISBLANK(VI!BS140),\"\",VI!BS140)","v":""},{"$f":"IF(ISBLANK(VI!CG140),\"\",VI!CG140)","v":""},{"$f":"IF(ISBLANK(VI!CR140),\"\",VI!CR140)","v":""},{"$f":"IF(ISBLANK(VI!DC140),\"\",VI!DC140)","v":""},{"$f":"IF(ISBLANK(VI!DN140),\"\",VI!DN140)","v":""},{"$f":"IF(ISBLANK(VI!DY140),\"\",VI!DY140)","v":""},{"$f":"IF(ISBLANK(VI!EJ140),\"\",VI!EJ140)","v":""},{"$f":"IF(ISBLANK(VI!EU140),\"\",VI!EU140)","v":""},{"$f":"IF(ISBLANK(VI!FF140),\"\",VI!FF140)","v":""},{"$f":"IF(ISBLANK(VI!FQ140),\"\",VI!FQ140)","v":""},{"$f":"IF(ISBLANK(VI!GB140),\"\",VI!GB140)","v":""},{"$f":"IF(ISBLANK(VI!GM140),\"\",VI!GM140)","v":""},{"$f":"IF(ISBLANK(VI!GX140),\"\",VI!GX140)","v":""},"",""]
["Bathrooms",{"$f":"IF(ISBLANK(II!AL141),\"\",II!AL141)","v":""},{"$f":"IF(ISBLANK(II!BD141),\"\",II!BD141)","v":""},{"$f":"IF(ISBLANK(II!BV141),\"\",II!BV141)","v":""},{"$f":"IF(ISBLANK(II!CN141),\"\",II!CN141)","v":""},{"$f":"IF(ISBLANK(II!DF141),\"\",II!DF141)","v":""},{"$f":"IF(ISBLANK(VI!AU141),\"\",VI!AU141)","v":""},{"$f":"IF(ISBLANK(VI!BG141),\"\",VI!BG141)","v":""},{"$f":"IF(ISBLANK(VI!BS141),\"\",VI!BS141)","v":""},{"$f":"IF(ISBLANK(VI!CG141),\"\",VI!CG141)","v":""},{"$f":"IF(ISBLANK(VI!CR141),\"\",VI!CR141)","v":""},{"$f":"IF(ISBLANK(VI!DC141),\"\",VI!DC141)","v":""},{"$f":"IF(ISBLANK(VI!DN141),\"\",VI!DN141)","v":""},{"$f":"IF(ISBLANK(VI!DY141),\"\",VI!DY141)","v":""},{"$f":"IF(ISBLANK(VI!EJ141),\"\",VI!EJ141)","v":""},{"$f":"IF(ISBLANK(VI!EU141),\"\",VI!EU141)","v":""},{"$f":"IF(ISBLANK(VI!FF141),\"\",VI!FF141)","v":""},{"$f":"IF(ISBLANK(VI!FQ141),\"\",VI!FQ141)","v":""},{"$f":"IF(ISBLANK(VI!GB141),\"\",VI!GB141)","v":""},{"$f":"IF(ISBLANK(VI!GM141),\"\",VI!GM141)","v":""},{"$f":"IF(ISBLANK(VI!GX141),\"\",VI!GX141)","v":""},"",""]
["Other",{"$f":"IF(ISBLANK(II!AL142),\"\",II!AL142)","v":""},{"$f":"IF(ISBLANK(II!BD142),\"\",II!BD142)","v":""},{"$f":"IF(ISBLANK(II!BV142),\"\",II!BV142)","v":""},{"$f":"IF(ISBLANK(II!CN142),\"\",II!CN142)","v":""},{"$f":"IF(ISBLANK(II!DF142),\"\",II!DF142)","v":""},{"$f":"IF(ISBLANK(VI!AU142),\"\",VI!AU142)","v":""},{"$f":"IF(ISBLANK(VI!BG142),\"\",VI!BG142)","v":""},{"$f":"IF(ISBLANK(VI!BS142),\"\",VI!BS142)","v":""},{"$f":"IF(ISBLANK(VI!CG142),\"\",VI!CG142)","v":""},{"$f":"IF(ISBLANK(VI!CR142),\"\",VI!CR142)","v":""},{"$f":"IF(ISBLANK(VI!DC142),\"\",VI!DC142)","v":""},{"$f":"IF(ISBLANK(VI!DN142),\"\",VI!DN142)","v":""},{"$f":"IF(ISBLANK(VI!DY142),\"\",VI!DY142)","v":""},{"$f":"IF(ISBLANK(VI!EJ142),\"\",VI!EJ142)","v":""},{"$f":"IF(ISBLANK(VI!EU142),\"\",VI!EU142)","v":""},{"$f":"IF(ISBLANK(VI!FF142),\"\",VI!FF142)","v":""},{"$f":"IF(ISBLANK(VI!FQ142),\"\",VI!FQ142)","v":""},{"$f":"IF(ISBLANK(VI!GB142),\"\",VI!GB142)","v":""},{"$f":"IF(ISBLANK(VI!GM142),\"\",VI!GM142)","v":""},{"$f":"IF(ISBLANK(VI!GX142),\"\",VI!GX142)","v":""},"",""]
["Appliances",{"$f":"IF(ISBLANK(II!AL143),\"\",II!AL143)","v":""},{"$f":"IF(ISBLANK(II!BD143),\"\",II!BD143)","v":""},{"$f":"IF(ISBLANK(II!BV143),\"\",II!BV143)","v":""},{"$f":"IF(ISBLANK(II!CN143),\"\",II!CN143)","v":""},{"$f":"IF(ISBLANK(II!DF143),\"\",II!DF143)","v":""},{"$f":"IF(ISBLANK(VI!AU143),\"\",VI!AU143)","v":""},{"$f":"IF(ISBLANK(VI!BG143),\"\",VI!BG143)","v":""},{"$f":"IF(ISBLANK(VI!BS143),\"\",VI!BS143)","v":""},{"$f":"IF(ISBLANK(VI!CG143),\"\",VI!CG143)","v":""},{"$f":"IF(ISBLANK(VI!CR143),\"\",VI!CR143)","v":""},{"$f":"IF(ISBLANK(VI!DC143),\"\",VI!DC143)","v":""},{"$f":"IF(ISBLANK(VI!DN143),\"\",VI!DN143)","v":""},{"$f":"IF(ISBLANK(VI!DY143),\"\",VI!DY143)","v":""},{"$f":"IF(ISBLANK(VI!EJ143),\"\",VI!EJ143)","v":""},{"$f":"IF(ISBLANK(VI!EU143),\"\",VI!EU143)","v":""},{"$f":"IF(ISBLANK(VI!FF143),\"\",VI!FF143)","v":""},{"$f":"IF(ISBLANK(VI!FQ143),\"\",VI!FQ143)","v":""},{"$f":"IF(ISBLANK(VI!GB143),\"\",VI!GB143)","v":""},{"$f":"IF(ISBLANK(VI!GM143),\"\",VI!GM143)","v":""},{"$f":"IF(ISBLANK(VI!GX143),\"\",VI!GX143)","v":""},"",""]
["Refrigerator",{"$f":"IF(ISBLANK(II!AL144),\"\",II!AL144)","v":""},{"$f":"IF(ISBLANK(II!BD144),\"\",II!BD144)","v":""},{"$f":"IF(ISBLANK(II!BV144),\"\",II!BV144)","v":""},{"$f":"IF(ISBLANK(II!CN144),\"\",II!CN144)","v":""},{"$f":"IF(ISBLANK(II!DF144),\"\",II!DF144)","v":""},{"$f":"IF(ISBLANK(VI!AU144),\"\",VI!AU144)","v":""},{"$f":"IF(ISBLANK(VI!BG144),\"\",VI!BG144)","v":""},{"$f":"IF(ISBLANK(VI!BS144),\"\",VI!BS144)","v":""},{"$f":"IF(ISBLANK(VI!CG144),\"\",VI!CG144)","v":""},{"$f":"IF(ISBLANK(VI!CR144),\"\",VI!CR144)","v":""},{"$f":"IF(ISBLANK(VI!DC144),\"\",VI!DC144)","v":""},{"$f":"IF(ISBLANK(VI!DN144),\"\",VI!DN144)","v":""},{"$f":"IF(ISBLANK(VI!DY144),\"\",VI!DY144)","v":""},{"$f":"IF(ISBLANK(VI!EJ144),\"\",VI!EJ144)","v":""},{"$f":"IF(ISBLANK(VI!EU144),\"\",VI!EU144)","v":""},{"$f":"IF(ISBLANK(VI!FF144),\"\",VI!FF144)","v":""},{"$f":"IF(ISBLANK(VI!FQ144),\"\",VI!FQ144)","v":""},{"$f":"IF(ISBLANK(VI!GB144),\"\",VI!GB144)","v":""},{"$f":"IF(ISBLANK(VI!GM144),\"\",VI!GM144)","v":""},{"$f":"IF(ISBLANK(VI!GX144),\"\",VI!GX144)","v":""},"",""]
["Range/stove",{"$f":"IF(ISBLANK(II!AL145),\"\",II!AL145)","v":""},{"$f":"IF(ISBLANK(II!BD145),\"\",II!BD145)","v":""},{"$f":"IF(ISBLANK(II!BV145),\"\",II!BV145)","v":""},{"$f":"IF(ISBLANK(II!CN145),\"\",II!CN145)","v":""},{"$f":"IF(ISBLANK(II!DF145),\"\",II!DF145)","v":""},{"$f":"IF(ISBLANK(VI!AU145),\"\",VI!AU145)","v":""},{"$f":"IF(ISBLANK(VI!BG145),\"\",VI!BG145)","v":""},{"$f":"IF(ISBLANK(VI!BS145),\"\",VI!BS145)","v":""},{"$f":"IF(ISBLANK(VI!CG145),\"\",VI!CG145)","v":""},{"$f":"IF(ISBLANK(VI!CR145),\"\",VI!CR145)","v":""},{"$f":"IF(ISBLANK(VI!DC145),\"\",VI!DC145)","v":""},{"$f":"IF(ISBLANK(VI!DN145),\"\",VI!DN145)","v":""},{"$f":"IF(ISBLANK(VI!DY145),\"\",VI!DY145)","v":""},{"$f":"IF(ISBLANK(VI!EJ145),\"\",VI!EJ145)","v":""},{"$f":"IF(ISBLANK(VI!EU145),\"\",VI!EU145)","v":""},{"$f":"IF(ISBLANK(VI!FF145),\"\",VI!FF145)","v":""},{"$f":"IF(ISBLANK(VI!FQ145),\"\",VI!FQ145)","v":""},{"$f":"IF(ISBLANK(VI!GB145),\"\",VI!GB145)","v":""},{"$f":"IF(ISBLANK(VI!GM145),\"\",VI!GM145)","v":""},{"$f":"IF(ISBLANK(VI!GX145),\"\",VI!GX145)","v":""},"",""]
["Range vent",{"$f":"IF(ISBLANK(II!AL146),\"\",II!AL146)","v":""},{"$f":"IF(ISBLANK(II!BD146),\"\",II!BD146)","v":""},{"$f":"IF(ISBLANK(II!BV146),\"\",II!BV146)","v":""},{"$f":"IF(ISBLANK(II!CN146),\"\",II!CN146)","v":""},{"$f":"IF(ISBLANK(II!DF146),\"\",II!DF146)","v":""},{"$f":"IF(ISBLANK(VI!AU146),\"\",VI!AU146)","v":""},{"$f":"IF(ISBLANK(VI!BG146),\"\",VI!BG146)","v":""},{"$f":"IF(ISBLANK(VI!BS146),\"\",VI!BS146)","v":""},{"$f":"IF(ISBLANK(VI!CG146),\"\",VI!CG146)","v":""},{"$f":"IF(ISBLANK(VI!CR146),\"\",VI!CR146)","v":""},{"$f":"IF(ISBLANK(VI!DC146),\"\",VI!DC146)","v":""},{"$f":"IF(ISBLANK(VI!DN146),\"\",VI!DN146)","v":""},{"$f":"IF(ISBLANK(VI!DY146),\"\",VI!DY146)","v":""},{"$f":"IF(ISBLANK(VI!EJ146),\"\",VI!EJ146)","v":""},{"$f":"IF(ISBLANK(VI!EU146),\"\",VI!EU146)","v":""},{"$f":"IF(ISBLANK(VI!FF146),\"\",VI!FF146)","v":""},{"$f":"IF(ISBLANK(VI!FQ146),\"\",VI!FQ146)","v":""},{"$f":"IF(ISBLANK(VI!GB146),\"\",VI!GB146)","v":""},{"$f":"IF(ISBLANK(VI!GM146),\"\",VI!GM146)","v":""},{"$f":"IF(ISBLANK(VI!GX146),\"\",VI!GX146)","v":""},"",""]
["Dishwasher",{"$f":"IF(ISBLANK(II!AL147),\"\",II!AL147)","v":""},{"$f":"IF(ISBLANK(II!BD147),\"\",II!BD147)","v":""},{"$f":"IF(ISBLANK(II!BV147),\"\",II!BV147)","v":""},{"$f":"IF(ISBLANK(II!CN147),\"\",II!CN147)","v":""},{"$f":"IF(ISBLANK(II!DF147),\"\",II!DF147)","v":""},{"$f":"IF(ISBLANK(VI!AU147),\"\",VI!AU147)","v":""},{"$f":"IF(ISBLANK(VI!BG147),\"\",VI!BG147)","v":""},{"$f":"IF(ISBLANK(VI!BS147),\"\",VI!BS147)","v":""},{"$f":"IF(ISBLANK(VI!CG147),\"\",VI!CG147)","v":""},{"$f":"IF(ISBLANK(VI!CR147),\"\",VI!CR147)","v":""},{"$f":"IF(ISBLANK(VI!DC147),\"\",VI!DC147)","v":""},{"$f":"IF(ISBLANK(VI!DN147),\"\",VI!DN147)","v":""},{"$f":"IF(ISBLANK(VI!DY147),\"\",VI!DY147)","v":""},{"$f":"IF(ISBLANK(VI!EJ147),\"\",VI!EJ147)","v":""},{"$f":"IF(ISBLANK(VI!EU147),\"\",VI!EU147)","v":""},{"$f":"IF(ISBLANK(VI!FF147),\"\",VI!FF147)","v":""},{"$f":"IF(ISBLANK(VI!FQ147),\"\",VI!FQ147)","v":""},{"$f":"IF(ISBLANK(VI!GB147),\"\",VI!GB147)","v":""},{"$f":"IF(ISBLANK(VI!GM147),\"\",VI!GM147)","v":""},{"$f":"IF(ISBLANK(VI!GX147),\"\",VI!GX147)","v":""},"",""]
["Disposal",{"$f":"IF(ISBLANK(II!AL148),\"\",II!AL148)","v":""},{"$f":"IF(ISBLANK(II!BD148),\"\",II!BD148)","v":""},{"$f":"IF(ISBLANK(II!BV148),\"\",II!BV148)","v":""},{"$f":"IF(ISBLANK(II!CN148),\"\",II!CN148)","v":""},{"$f":"IF(ISBLANK(II!DF148),\"\",II!DF148)","v":""},{"$f":"IF(ISBLANK(VI!AU148),\"\",VI!AU148)","v":""},{"$f":"IF(ISBLANK(VI!BG148),\"\",VI!BG148)","v":""},{"$f":"IF(ISBLANK(VI!BS148),\"\",VI!BS148)","v":""},{"$f":"IF(ISBLANK(VI!CG148),\"\",VI!CG148)","v":""},{"$f":"IF(ISBLANK(VI!CR148),\"\",VI!CR148)","v":""},{"$f":"IF(ISBLANK(VI!DC148),\"\",VI!DC148)","v":""},{"$f":"IF(ISBLANK(VI!DN148),\"\",VI!DN148)","v":""},{"$f":"IF(ISBLANK(VI!DY148),\"\",VI!DY148)","v":""},{"$f":"IF(ISBLANK(VI!EJ148),\"\",VI!EJ148)","v":""},{"$f":"IF(ISBLANK(VI!EU148),\"\",VI!EU148)","v":""},{"$f":"IF(ISBLANK(VI!FF148),\"\",VI!FF148)","v":""},{"$f":"IF(ISBLANK(VI!FQ148),\"\",VI!FQ148)","v":""},{"$f":"IF(ISBLANK(VI!GB148),\"\",VI!GB148)","v":""},{"$f":"IF(ISBLANK(VI!GM148),\"\",VI!GM148)","v":""},{"$f":"IF(ISBLANK(VI!GX148),\"\",VI!GX148)","v":""},"",""]
["Microwave",{"$f":"IF(ISBLANK(II!AL149),\"\",II!AL149)","v":""},{"$f":"IF(ISBLANK(II!BD149),\"\",II!BD149)","v":""},{"$f":"IF(ISBLANK(II!BV149),\"\",II!BV149)","v":""},{"$f":"IF(ISBLANK(II!CN149),\"\",II!CN149)","v":""},{"$f":"IF(ISBLANK(II!DF149),\"\",II!DF149)","v":""},{"$f":"IF(ISBLANK(VI!AU149),\"\",VI!AU149)","v":""},{"$f":"IF(ISBLANK(VI!BG149),\"\",VI!BG149)","v":""},{"$f":"IF(ISBLANK(VI!BS149),\"\",VI!BS149)","v":""},{"$f":"IF(ISBLANK(VI!CG149),\"\",VI!CG149)","v":""},{"$f":"IF(ISBLANK(VI!CR149),\"\",VI!CR149)","v":""},{"$f":"IF(ISBLANK(VI!DC149),\"\",VI!DC149)","v":""},{"$f":"IF(ISBLANK(VI!DN149),\"\",VI!DN149)","v":""},{"$f":"IF(ISBLANK(VI!DY149),\"\",VI!DY149)","v":""},{"$f":"IF(ISBLANK(VI!EJ149),\"\",VI!EJ149)","v":""},{"$f":"IF(ISBLANK(VI!EU149),\"\",VI!EU149)","v":""},{"$f":"IF(ISBLANK(VI!FF149),\"\",VI!FF149)","v":""},{"$f":"IF(ISBLANK(VI!FQ149),\"\",VI!FQ149)","v":""},{"$f":"IF(ISBLANK(VI!GB149),\"\",VI!GB149)","v":""},{"$f":"IF(ISBLANK(VI!GM149),\"\",VI!GM149)","v":""},{"$f":"IF(ISBLANK(VI!GX149),\"\",VI!GX149)","v":""},"",""]
["Clothes washer",{"$f":"IF(ISBLANK(II!AL150),\"\",II!AL150)","v":""},{"$f":"IF(ISBLANK(II!BD150),\"\",II!BD150)","v":""},{"$f":"IF(ISBLANK(II!BV150),\"\",II!BV150)","v":""},{"$f":"IF(ISBLANK(II!CN150),\"\",II!CN150)","v":""},{"$f":"IF(ISBLANK(II!DF150),\"\",II!DF150)","v":""},{"$f":"IF(ISBLANK(VI!AU150),\"\",VI!AU150)","v":""},{"$f":"IF(ISBLANK(VI!BG150),\"\",VI!BG150)","v":""},{"$f":"IF(ISBLANK(VI!BS150),\"\",VI!BS150)","v":""},{"$f":"IF(ISBLANK(VI!CG150),\"\",VI!CG150)","v":""},{"$f":"IF(ISBLANK(VI!CR150),\"\",VI!CR150)","v":""},{"$f":"IF(ISBLANK(VI!DC150),\"\",VI!DC150)","v":""},{"$f":"IF(ISBLANK(VI!DN150),\"\",VI!DN150)","v":""},{"$f":"IF(ISBLANK(VI!DY150),\"\",VI!DY150)","v":""},{"$f":"IF(ISBLANK(VI!EJ150),\"\",VI!EJ150)","v":""},{"$f":"IF(ISBLANK(VI!EU150),\"\",VI!EU150)","v":""},{"$f":"IF(ISBLANK(VI!FF150),\"\",VI!FF150)","v":""},{"$f":"IF(ISBLANK(VI!FQ150),\"\",VI!FQ150)","v":""},{"$f":"IF(ISBLANK(VI!GB150),\"\",VI!GB150)","v":""},{"$f":"IF(ISBLANK(VI!GM150),\"\",VI!GM150)","v":""},{"$f":"IF(ISBLANK(VI!GX150),\"\",VI!GX150)","v":""},"",""]
["Clothes dryer",{"$f":"IF(ISBLANK(II!AL151),\"\",II!AL151)","v":""},{"$f":"IF(ISBLANK(II!BD151),\"\",II!BD151)","v":""},{"$f":"IF(ISBLANK(II!BV151),\"\",II!BV151)","v":""},{"$f":"IF(ISBLANK(II!CN151),\"\",II!CN151)","v":""},{"$f":"IF(ISBLANK(II!DF151),\"\",II!DF151)","v":""},{"$f":"IF(ISBLANK(VI!AU151),\"\",VI!AU151)","v":""},{"$f":"IF(ISBLANK(VI!BG151),\"\",VI!BG151)","v":""},{"$f":"IF(ISBLANK(VI!BS151),\"\",VI!BS151)","v":""},{"$f":"IF(ISBLANK(VI!CG151),\"\",VI!CG151)","v":""},{"$f":"IF(ISBLANK(VI!CR151),\"\",VI!CR151)","v":""},{"$f":"IF(ISBLANK(VI!DC151),\"\",VI!DC151)","v":""},{"$f":"IF(ISBLANK(VI!DN151),\"\",VI!DN151)","v":""},{"$f":"IF(ISBLANK(VI!DY151),\"\",VI!DY151)","v":""},{"$f":"IF(ISBLANK(VI!EJ151),\"\",VI!EJ151)","v":""},{"$f":"IF(ISBLANK(VI!EU151),\"\",VI!EU151)","v":""},{"$f":"IF(ISBLANK(VI!FF151),\"\",VI!FF151)","v":""},{"$f":"IF(ISBLANK(VI!FQ151),\"\",VI!FQ151)","v":""},{"$f":"IF(ISBLANK(VI!GB151),\"\",VI!GB151)","v":""},{"$f":"IF(ISBLANK(VI!GM151),\"\",VI!GM151)","v":""},{"$f":"IF(ISBLANK(VI!GX151),\"\",VI!GX151)","v":""},"",""]
["Bathroom fixtures",{"$f":"IF(ISBLANK(II!AL152),\"\",II!AL152)","v":""},{"$f":"IF(ISBLANK(II!BD152),\"\",II!BD152)","v":""},{"$f":"IF(ISBLANK(II!BV152),\"\",II!BV152)","v":""},{"$f":"IF(ISBLANK(II!CN152),\"\",II!CN152)","v":""},{"$f":"IF(ISBLANK(II!DF152),\"\",II!DF152)","v":""},{"$f":"IF(ISBLANK(VI!AU152),\"\",VI!AU152)","v":""},{"$f":"IF(ISBLANK(VI!BG152),\"\",VI!BG152)","v":""},{"$f":"IF(ISBLANK(VI!BS152),\"\",VI!BS152)","v":""},{"$f":"IF(ISBLANK(VI!CG152),\"\",VI!CG152)","v":""},{"$f":"IF(ISBLANK(VI!CR152),\"\",VI!CR152)","v":""},{"$f":"IF(ISBLANK(VI!DC152),\"\",VI!DC152)","v":""},{"$f":"IF(ISBLANK(VI!DN152),\"\",VI!DN152)","v":""},{"$f":"IF(ISBLANK(VI!DY152),\"\",VI!DY152)","v":""},{"$f":"IF(ISBLANK(VI!EJ152),\"\",VI!EJ152)","v":""},{"$f":"IF(ISBLANK(VI!EU152),\"\",VI!EU152)","v":""},{"$f":"IF(ISBLANK(VI!FF152),\"\",VI!FF152)","v":""},{"$f":"IF(ISBLANK(VI!FQ152),\"\",VI!FQ152)","v":""},{"$f":"IF(ISBLANK(VI!GB152),\"\",VI!GB152)","v":""},{"$f":"IF(ISBLANK(VI!GM152),\"\",VI!GM152)","v":""},{"$f":"IF(ISBLANK(VI!GX152),\"\",VI!GX152)","v":""},"",""]
["Toilet",{"$f":"IF(ISBLANK(II!AL153),\"\",II!AL153)","v":""},{"$f":"IF(ISBLANK(II!BD153),\"\",II!BD153)","v":""},{"$f":"IF(ISBLANK(II!BV153),\"\",II!BV153)","v":""},{"$f":"IF(ISBLANK(II!CN153),\"\",II!CN153)","v":""},{"$f":"IF(ISBLANK(II!DF153),\"\",II!DF153)","v":""},{"$f":"IF(ISBLANK(VI!AU153),\"\",VI!AU153)","v":""},{"$f":"IF(ISBLANK(VI!BG153),\"\",VI!BG153)","v":""},{"$f":"IF(ISBLANK(VI!BS153),\"\",VI!BS153)","v":""},{"$f":"IF(ISBLANK(VI!CG153),\"\",VI!CG153)","v":""},{"$f":"IF(ISBLANK(VI!CR153),\"\",VI!CR153)","v":""},{"$f":"IF(ISBLANK(VI!DC153),\"\",VI!DC153)","v":""},{"$f":"IF(ISBLANK(VI!DN153),\"\",VI!DN153)","v":""},{"$f":"IF(ISBLANK(VI!DY153),\"\",VI!DY153)","v":""},{"$f":"IF(ISBLANK(VI!EJ153),\"\",VI!EJ153)","v":""},{"$f":"IF(ISBLANK(VI!EU153),\"\",VI!EU153)","v":""},{"$f":"IF(ISBLANK(VI!FF153),\"\",VI!FF153)","v":""},{"$f":"IF(ISBLANK(VI!FQ153),\"\",VI!FQ153)","v":""},{"$f":"IF(ISBLANK(VI!GB153),\"\",VI!GB153)","v":""},{"$f":"IF(ISBLANK(VI!GM153),\"\",VI!GM153)","v":""},{"$f":"IF(ISBLANK(VI!GX153),\"\",VI!GX153)","v":""},"",""]
["Tub/shower and enclosures",{"$f":"IF(ISBLANK(II!AL154),\"\",II!AL154)","v":""},{"$f":"IF(ISBLANK(II!BD154),\"\",II!BD154)","v":""},{"$f":"IF(ISBLANK(II!BV154),\"\",II!BV154)","v":""},{"$f":"IF(ISBLANK(II!CN154),\"\",II!CN154)","v":""},{"$f":"IF(ISBLANK(II!DF154),\"\",II!DF154)","v":""},{"$f":"IF(ISBLANK(VI!AU154),\"\",VI!AU154)","v":""},{"$f":"IF(ISBLANK(VI!BG154),\"\",VI!BG154)","v":""},{"$f":"IF(ISBLANK(VI!BS154),\"\",VI!BS154)","v":""},{"$f":"IF(ISBLANK(VI!CG154),\"\",VI!CG154)","v":""},{"$f":"IF(ISBLANK(VI!CR154),\"\",VI!CR154)","v":""},{"$f":"IF(ISBLANK(VI!DC154),\"\",VI!DC154)","v":""},{"$f":"IF(ISBLANK(VI!DN154),\"\",VI!DN154)","v":""},{"$f":"IF(ISBLANK(VI!DY154),\"\",VI!DY154)","v":""},{"$f":"IF(ISBLANK(VI!EJ154),\"\",VI!EJ154)","v":""},{"$f":"IF(ISBLANK(VI!EU154),\"\",VI!EU154)","v":""},{"$f":"IF(ISBLANK(VI!FF154),\"\",VI!FF154)","v":""},{"$f":"IF(ISBLANK(VI!FQ154),\"\",VI!FQ154)","v":""},{"$f":"IF(ISBLANK(VI!GB154),\"\",VI!GB154)","v":""},{"$f":"IF(ISBLANK(VI!GM154),\"\",VI!GM154)","v":""},{"$f":"IF(ISBLANK(VI!GX154),\"\",VI!GX154)","v":""},"",""]
["Accessories",{"$f":"IF(ISBLANK(II!AL155),\"\",II!AL155)","v":""},{"$f":"IF(ISBLANK(II!BD155),\"\",II!BD155)","v":""},{"$f":"IF(ISBLANK(II!BV155),\"\",II!BV155)","v":""},{"$f":"IF(ISBLANK(II!CN155),\"\",II!CN155)","v":""},{"$f":"IF(ISBLANK(II!DF155),\"\",II!DF155)","v":""},{"$f":"IF(ISBLANK(VI!AU155),\"\",VI!AU155)","v":""},{"$f":"IF(ISBLANK(VI!BG155),\"\",VI!BG155)","v":""},{"$f":"IF(ISBLANK(VI!BS155),\"\",VI!BS155)","v":""},{"$f":"IF(ISBLANK(VI!CG155),\"\",VI!CG155)","v":""},{"$f":"IF(ISBLANK(VI!CR155),\"\",VI!CR155)","v":""},{"$f":"IF(ISBLANK(VI!DC155),\"\",VI!DC155)","v":""},{"$f":"IF(ISBLANK(VI!DN155),\"\",VI!DN155)","v":""},{"$f":"IF(ISBLANK(VI!DY155),\"\",VI!DY155)","v":""},{"$f":"IF(ISBLANK(VI!EJ155),\"\",VI!EJ155)","v":""},{"$f":"IF(ISBLANK(VI!EU155),\"\",VI!EU155)","v":""},{"$f":"IF(ISBLANK(VI!FF155),\"\",VI!FF155)","v":""},{"$f":"IF(ISBLANK(VI!FQ155),\"\",VI!FQ155)","v":""},{"$f":"IF(ISBLANK(VI!GB155),\"\",VI!GB155)","v":""},{"$f":"IF(ISBLANK(VI!GM155),\"\",VI!GM155)","v":""},{"$f":"IF(ISBLANK(VI!GX155),\"\",VI!GX155)","v":""},"",{"$f":"CONCATENATE(B31&C31&D31&E31&F31&G31&H31&I31)","v":""}]
[{"$f":"II!B156","v":"Other"},{"$f":"IF(ISBLANK(II!AL156),\"\",II!AL156)","v":""},{"$f":"IF(ISBLANK(II!BD156),\"\",II!BD156)","v":""},{"$f":"IF(ISBLANK(II!BV156),\"\",II!BV156)","v":""},{"$f":"IF(ISBLANK(II!CN156),\"\",II!CN156)","v":""},{"$f":"IF(ISBLANK(II!DF156),\"\",II!DF156)","v":""},{"$f":"IF(ISBLANK(VI!AU156),\"\",VI!AU156)","v":""},{"$f":"IF(ISBLANK(VI!BG156),\"\",VI!BG156)","v":""},{"$f":"IF(ISBLANK(VI!BS156),\"\",VI!BS156)","v":""},{"$f":"IF(ISBLANK(VI!CG156),\"\",VI!CG156)","v":""},{"$f":"IF(ISBLANK(VI!CR156),\"\",VI!CR156)","v":""},{"$f":"IF(ISBLANK(VI!DC156),\"\",VI!DC156)","v":""},{"$f":"IF(ISBLANK(VI!DN156),\"\",VI!DN156)","v":""},{"$f":"IF(ISBLANK(VI!DY156),\"\",VI!DY156)","v":""},{"$f":"IF(ISBLANK(VI!EJ156),\"\",VI!EJ156)","v":""},{"$f":"IF(ISBLANK(VI!EU156),\"\",VI!EU156)","v":""},{"$f":"IF(ISBLANK(VI!FF156),\"\",VI!FF156)","v":""},{"$f":"IF(ISBLANK(VI!FQ156),\"\",VI!FQ156)","v":""},{"$f":"IF(ISBLANK(VI!GB156),\"\",VI!GB156)","v":""},{"$f":"IF(ISBLANK(VI!GM156),\"\",VI!GM156)","v":""},{"$f":"IF(ISBLANK(VI!GX156),\"\",VI!GX156)","v":""},"",{"$f":"CONCATENATE(B32&C32&D32&E32&F32&G32&H32&I32)","v":""}]
[{"$f":"II!B157","v":"Other"},{"$f":"IF(ISBLANK(II!AL157),\"\",II!AL157)","v":""},{"$f":"IF(ISBLANK(II!BD157),\"\",II!BD157)","v":""},{"$f":"IF(ISBLANK(II!BV157),\"\",II!BV157)","v":""},{"$f":"IF(ISBLANK(II!CN157),\"\",II!CN157)","v":""},{"$f":"IF(ISBLANK(II!DF157),\"\",II!DF157)","v":""},{"$f":"IF(ISBLANK(VI!AU157),\"\",VI!AU157)","v":""},{"$f":"IF(ISBLANK(VI!BG157),\"\",VI!BG157)","v":""},{"$f":"IF(ISBLANK(VI!BS157),\"\",VI!BS157)","v":""},{"$f":"IF(ISBLANK(VI!CG157),\"\",VI!CG157)","v":""},{"$f":"IF(ISBLANK(VI!CR157),\"\",VI!CR157)","v":""},{"$f":"IF(ISBLANK(VI!DC157),\"\",VI!DC157)","v":""},{"$f":"IF(ISBLANK(VI!DN157),\"\",VI!DN157)","v":""},{"$f":"IF(ISBLANK(VI!DY157),\"\",VI!DY157)","v":""},{"$f":"IF(ISBLANK(VI!EJ157),\"\",VI!EJ157)","v":""},{"$f":"IF(ISBLANK(VI!EU157),\"\",VI!EU157)","v":""},{"$f":"IF(ISBLANK(VI!FF157),\"\",VI!FF157)","v":""},{"$f":"IF(ISBLANK(VI!FQ157),\"\",VI!FQ157)","v":""},{"$f":"IF(ISBLANK(VI!GB157),\"\",VI!GB157)","v":""},{"$f":"IF(ISBLANK(VI!GM157),\"\",VI!GM157)","v":""},{"$f":"IF(ISBLANK(VI!GX157),\"\",VI!GX157)","v":""},"",""]